Workbook

Sheet 00_使い方
B2: 常勤換算シートの使い方
B4: １．「01_勤務時間入力」シートに、常勤の従事者が勤務すべき１週間の時間数（所定労働時間）を入力してください。
B19: ２．「01_勤務時間入力」シートに、従事者１人につき１行で職種と１週間の所定労働時間を入力してください。
B20: ・施設の１週間の所定労働時間の全て勤務している方は、「フルタイム勤務の方」欄に「○」を入力してください。
B21: ・フルタイム勤務以外の方は、１週間の所定労働時間をまとめて入力するか、各曜日ごとに勤務時間を入力してください。
B22: 当直勤務のある方はその時間を分けて入力してください。
B36: ３．「02_計算」シートに、計算結果が自動で反映されます。
B37: ・「01_勤務時間入力」シートに、常勤の従事者が勤務すべき１週間の時間数（所定労働時間）の入力がない場合は計算されません。
B38: ・「01_勤務時間入力」シートに入力がない職種は空欄となります。

Sheet 01_勤務時間入力
B2: 勤務時間入力
B4: 常勤の従事者が勤務すべき１週間の時間数（所定労働時間） | I4: 常勤換算の分母となる数字
B5: ※30分未満は切り捨て、30分以上は切り上げて「時間」単位で入力してください。 | I5: ※施設で定める１週間の勤務時間が32時間未満の場合、「32」となります。
C7: 時間 | I7: =IF($B$7="","",MAX(32,ROUND($B$7,1))) | K7: 時間 （自動計算されます）
B8: =IF($B$7="","↑時間数を入力してください","") -> ↑時間数を入力してください
B11: 職員のお名前 （任意入力） | E11: 職種 （必須） | F11: フルタイム 勤務の方 | G11: フルタイム勤務以外の方 | M11: =IF($I$7="",CONCATENATE(" ※「有期雇用契約」、「パート」、「アルバイト」といった方でも、１週間の勤務時間が『 時間 』の方は「常勤」となります。"),CONCATENATE(" ※「有期雇用契約」、「パート」、「アルバイト」といった方でも、１週間の勤務時間が『 ",$B$7,"時間 』の方は「常勤」となります。")) -> ※「有期雇用契約」、「パート」、「アルバイト」といった方でも、１週間の勤務時間が『 時間 』の方は「常勤」となります。 | CB11: 入力の有無 | CC11: 職種 番号 | CD11: 分計算 | CE11: 常勤・ 非常勤
G12: =IF('01_勤務時間入力'!$B$7="",CONCATENATE("１週間の勤務時間が『 時間 』未満の方について、「１週間分まとめて入力」か「１日ごとに入力」のどちらかお好きな方に、１週間の勤務時間を入力してください。なお、残業等の所定外の労働時間や休憩時間は含めないでください。"),CONCATENATE("１週間の勤務時間が『 ",'01_勤務時間入力'!$B$7,"時間 』未満の方について、「１週間分まとめて入力」か「１日ごとに入力」のどちらかお好きな方に、１週間の勤務時間を入力してください。なお、残業等の所定外の労働時間や休憩時間は含めないでください。")) -> １週間の勤務時間が『 時間 』未満の方について、「１週間分まとめて入力」か「１日ごとに入力」のどちらかお好きな方に、１週間の勤務時間を入力してください。なお、残業等の所定外の労働時間や休憩時間は含めないでください。
G13: =IF('01_勤務時間入力'!$B$7="",CONCATENATE("当直勤務がある場合は、「当直の勤務時間」に入力してください。また、曜日によっては隔週で勤務している等の場合は、「所要の調整」欄を選択してください。（月２回の場合、計算結果が２分の１される等の所要の調整が行われます。）"),CONCATENATE("当直勤務がある場合は、「当直の勤務時間」に入力してください。また、曜日によっては隔週で勤務している等の場合は、「所要の調整」欄を選択してください。（月２回の場合、計算結果が２分の１される等の所要の調整が行われます。）")) -> 当直勤務がある場合は、「当直の勤務時間」に入力してください。また、曜日によっては隔週で勤務している等の場合は、「所要の調整」欄を選択してください。（月２回の場合、計算結果が２分の１される等の所要の調整が行われます。）
B14: ※入力がなくとも自動計算されます。 必要に応じてご使用ください。 | E14: 職種を選択してください。 複数の職種が当てはまる場合はその内の主たる業務を選択してください。 | F14: =IF('01_勤務時間入力'!$B$7="",CONCATENATE("施設の１週間の",CHAR(10),"所定労働時間の",CHAR(10),"『 時間 』",CHAR(10),"勤務している方を",CHAR(10),"「○」としてください。"),CONCATENATE("施設の１週間の",CHAR(10),"所定労働時間の",CHAR(10),"『 ",'01_勤務時間入力'!$B$7,"時間 』",CHAR(10),"勤務している方を",CHAR(10),"「○」としてください。")) -> 施設の１週間の 所定労働時間の 『 時間 』 勤務している方を 「○」としてください。 | H14: １週間分まとめて入力 | P14: １日ごとに入力
H15: 当直以外の勤務時間 | L15: 当直の勤務時間 | Q15: 月曜日 | Z15: 火曜日 | AI15: 水曜日 | AR15: 木曜日 | BA15: 金曜日 | BJ15: 土曜日 | BS15: 日曜日
Q16: 当直以外の勤務時間 | U16: 当直の勤務時間 | Y16: 所要の 調整 | Z16: 当直以外の勤務時間 | AD16: 当直の勤務時間 | AH16: 所要の 調整 | AI16: 当直以外の勤務時間 | AM16: 当直の勤務時間 | AQ16: 所要の 調整 | AR16: 当直以外の勤務時間 | AV16: 当直の勤務時間 | AZ16: 所要の 調整 | BA16: 当直以外の勤務時間 | BE16: 当直の勤務時間 | BI16: 所要の 調整 | BJ16: 当直以外の勤務時間 | BN16: 当直の勤務時間 | BR16: 所要の 調整 | BS16: 当直以外の勤務時間 | BW16: 当直の勤務時間 | CA16: 所要の 調整
B17: =CONCATENATE(ROW()-16,"人目") -> 1人目 | D17: さん | I17: 時間 | K17: 分 | M17: 時間 | O17: 分 | R17: 時間 | T17: 分 | V17: 時間 | X17: 分 | AA17: 時間 | AC17: 分 | AE17: 時間 | AG17: 分 | AJ17: 時間 | AL17: 分 | AN17: 時間 | AP17: 分 | AS17: 時間 | AU17: 分 | AW17: 時間 | AY17: 分 | BB17: 時間 | BD17: 分 | BF17: 時間 | BH17: 分 | BK17: 時間 | BM17: 分 | BO17: 時間 | BQ17: 分 | BT17: 時間 | BV17: 分 | BX17: 時間 | BZ17: 分 | CB17: =IF(AND(E17<>"",OR(F17="○",SUM(H17,J17,L17,N17,Q17,S17,U17,W17,Z17,AB17,AD17,AF17,AI17,AK17,AM17,AO17,AR17,AT17,AV17,AX17,BA17,BC17,BE17,BG17,BJ17,BL17,BN17,BP17,BS17,BU17,BW17,BY17)>0)),"入力あり","") | CC17: =IF(CB17="","",INDEX('99_職種リスト'!$A:$A,MATCH($E17,'99_職種リスト'!$B:$B,0))) | CD17: =IF(CB17="","",IF(F17="○",'01_勤務時間入力'!$B$7*60,IF(SUM(H17,J17,L17,N17)>0,MIN(SUM(VALUE(H17)*60,J17,VALUE(L17)*60/2,N17/2),'01_勤務時間入力'!$B$7*60,10080),MIN(SUM(MIN(SUM(VALUE(Q17)*60,S17,VALUE(U17)*60/2,W17/2),1440)*IF(OR(Y17="",Y17=" "),1,VALUE(MID(Y17,2,1)/4)),MIN(SUM(VALUE(Z17)*60,AB17,VALUE(AD17)*60/2,AF17/2),1440)*IF(OR(AH17="",AH17=" "),1,VALUE(MID(AH17,2,1)/4)),MIN(SUM(VALUE(AI17)*60,AK17,VALUE(AM17)*60/2,AO17/2),1440)*IF(OR(AQ17="",AQ17=" "),1,VALUE(MID(AQ17,2,1)/4)),MIN(SUM(VALUE(AR17)*60,AT17,VALUE(AV17)*60/2,AX17/2),1440)*IF(OR(AZ17="",AZ17=" "),1,VALUE(MID(AZ17,2,1)/4)),MIN(SUM(VALUE(BA17)*60,BC17,VALUE(BE17)*60/2,BG17/2),1440)*IF(OR(BI17="",BI17=" "),1,VALUE(MID(BI17,2,1)/4)),MIN(SUM(VALUE(BJ17)*60,BL17,VALUE(BN17)*60/2,BP17/2),1440)*IF(OR(BR17="",BR17=" "),1,VALUE(MID(BR17,2,1)/4)),MIN(SUM(VALUE(BS17)*60,BU17,VALUE(BW17)*60/2,BY17/2),1440)*IF(OR(CA17="",CA17=" "),1,VALUE(MID(CA17,2,1)/4))),'01_勤務時間入力'!$B$7*60,10080)))) | CE17: =IF(CB17="","",IF('01_勤務時間入力'!$I$7*60<='01_勤務時間入力'!CD17,"常勤","非常勤"))
B18: =CONCATENATE(ROW()-16,"人目") -> 2人目 | D18: さん | I18: 時間 | K18: 分 | M18: 時間 | O18: 分 | R18: 時間 | T18: 分 | V18: 時間 | X18: 分 | AA18: 時間 | AC18: 分 | AE18: 時間 | AG18: 分 | AJ18: 時間 | AL18: 分 | AN18: 時間 | AP18: 分 | AS18: 時間 | AU18: 分 | AW18: 時間 | AY18: 分 | BB18: 時間 | BD18: 分 | BF18: 時間 | BH18: 分 | BK18: 時間 | BM18: 分 | BO18: 時間 | BQ18: 分 | BT18: 時間 | BV18: 分 | BX18: 時間 | BZ18: 分 | CB18: =IF(AND(E18<>"",OR(F18="○",SUM(H18,J18,L18,N18,Q18,S18,U18,W18,Z18,AB18,AD18,AF18,AI18,AK18,AM18,AO18,AR18,AT18,AV18,AX18,BA18,BC18,BE18,BG18,BJ18,BL18,BN18,BP18,BS18,BU18,BW18,BY18)>0)),"入力あり","") | CC18: =IF(CB18="","",INDEX('99_職種リスト'!$A:$A,MATCH($E18,'99_職種リスト'!$B:$B,0))) | CD18: =IF(CB18="","",IF(F18="○",'01_勤務時間入力'!$B$7*60,IF(SUM(H18,J18,L18,N18)>0,MIN(SUM(VALUE(H18)*60,J18,VALUE(L18)*60/2,N18/2),'01_勤務時間入力'!$B$7*60,10080),MIN(SUM(MIN(SUM(VALUE(Q18)*60,S18,VALUE(U18)*60/2,W18/2),1440)*IF(OR(Y18="",Y18=" "),1,VALUE(MID(Y18,2,1)/4)),MIN(SUM(VALUE(Z18)*60,AB18,VALUE(AD18)*60/2,AF18/2),1440)*IF(OR(AH18="",AH18=" "),1,VALUE(MID(AH18,2,1)/4)),MIN(SUM(VALUE(AI18)*60,AK18,VALUE(AM18)*60/2,AO18/2),1440)*IF(OR(AQ18="",AQ18=" "),1,VALUE(MID(AQ18,2,1)/4)),MIN(SUM(VALUE(AR18)*60,AT18,VALUE(AV18)*60/2,AX18/2),1440)*IF(OR(AZ18="",AZ18=" "),1,VALUE(MID(AZ18,2,1)/4)),MIN(SUM(VALUE(BA18)*60,BC18,VALUE(BE18)*60/2,BG18/2),1440)*IF(OR(BI18="",BI18=" "),1,VALUE(MID(BI18,2,1)/4)),MIN(SUM(VALUE(BJ18)*60,BL18,VALUE(BN18)*60/2,BP18/2),1440)*IF(OR(BR18="",BR18=" "),1,VALUE(MID(BR18,2,1)/4)),MIN(SUM(VALUE(BS18)*60,BU18,VALUE(BW18)*60/2,BY18/2),1440)*IF(OR(CA18="",CA18=" "),1,VALUE(MID(CA18,2,1)/4))),'01_勤務時間入力'!$B$7*60,10080)))) | CE18: =IF(CB18="","",IF('01_勤務時間入力'!$I$7*60<='01_勤務時間入力'!CD18,"常勤","非常勤"))
B19: =CONCATENATE(ROW()-16,"人目") -> 3人目 | D19: さん | I19: 時間 | K19: 分 | M19: 時間 | O19: 分 | R19: 時間 | T19: 分 | V19: 時間 | X19: 分 | AA19: 時間 | AC19: 分 | AE19: 時間 | AG19: 分 | AJ19: 時間 | AL19: 分 | AN19: 時間 | AP19: 分 | AS19: 時間 | AU19: 分 | AW19: 時間 | AY19: 分 | BB19: 時間 | BD19: 分 | BF19: 時間 | BH19: 分 | BK19: 時間 | BM19: 分 | BO19: 時間 | BQ19: 分 | BT19: 時間 | BV19: 分 | BX19: 時間 | BZ19: 分 | CB19: =IF(AND(E19<>"",OR(F19="○",SUM(H19,J19,L19,N19,Q19,S19,U19,W19,Z19,AB19,AD19,AF19,AI19,AK19,AM19,AO19,AR19,AT19,AV19,AX19,BA19,BC19,BE19,BG19,BJ19,BL19,BN19,BP19,BS19,BU19,BW19,BY19)>0)),"入力あり","") | CC19: =IF(CB19="","",INDEX('99_職種リスト'!$A:$A,MATCH($E19,'99_職種リスト'!$B:$B,0))) | CD19: =IF(CB19="","",IF(F19="○",'01_勤務時間入力'!$B$7*60,IF(SUM(H19,J19,L19,N19)>0,MIN(SUM(VALUE(H19)*60,J19,VALUE(L19)*60/2,N19/2),'01_勤務時間入力'!$B$7*60,10080),MIN(SUM(MIN(SUM(VALUE(Q19)*60,S19,VALUE(U19)*60/2,W19/2),1440)*IF(OR(Y19="",Y19=" "),1,VALUE(MID(Y19,2,1)/4)),MIN(SUM(VALUE(Z19)*60,AB19,VALUE(AD19)*60/2,AF19/2),1440)*IF(OR(AH19="",AH19=" "),1,VALUE(MID(AH19,2,1)/4)),MIN(SUM(VALUE(AI19)*60,AK19,VALUE(AM19)*60/2,AO19/2),1440)*IF(OR(AQ19="",AQ19=" "),1,VALUE(MID(AQ19,2,1)/4)),MIN(SUM(VALUE(AR19)*60,AT19,VALUE(AV19)*60/2,AX19/2),1440)*IF(OR(AZ19="",AZ19=" "),1,VALUE(MID(AZ19,2,1)/4)),MIN(SUM(VALUE(BA19)*60,BC19,VALUE(BE19)*60/2,BG19/2),1440)*IF(OR(BI19="",BI19=" "),1,VALUE(MID(BI19,2,1)/4)),MIN(SUM(VALUE(BJ19)*60,BL19,VALUE(BN19)*60/2,BP19/2),1440)*IF(OR(BR19="",BR19=" "),1,VALUE(MID(BR19,2,1)/4)),MIN(SUM(VALUE(BS19)*60,BU19,VALUE(BW19)*60/2,BY19/2),1440)*IF(OR(CA19="",CA19=" "),1,VALUE(MID(CA19,2,1)/4))),'01_勤務時間入力'!$B$7*60,10080)))) | CE19: =IF(CB19="","",IF('01_勤務時間入力'!$I$7*60<='01_勤務時間入力'!CD19,"常勤","非常勤"))
B20: =CONCATENATE(ROW()-16,"人目") -> 4人目 | D20: さん | I20: 時間 | K20: 分 | M20: 時間 | O20: 分 | R20: 時間 | T20: 分 | V20: 時間 | X20: 分 | AA20: 時間 | AC20: 分 | AE20: 時間 | AG20: 分 | AJ20: 時間 | AL20: 分 | AN20: 時間 | AP20: 分 | AS20: 時間 | AU20: 分 | AW20: 時間 | AY20: 分 | BB20: 時間 | BD20: 分 | BF20: 時間 | BH20: 分 | BK20: 時間 | BM20: 分 | BO20: 時間 | BQ20: 分 | BT20: 時間 | BV20: 分 | BX20: 時間 | BZ20: 分 | CB20: =IF(AND(E20<>"",OR(F20="○",SUM(H20,J20,L20,N20,Q20,S20,U20,W20,Z20,AB20,AD20,AF20,AI20,AK20,AM20,AO20,AR20,AT20,AV20,AX20,BA20,BC20,BE20,BG20,BJ20,BL20,BN20,BP20,BS20,BU20,BW20,BY20)>0)),"入力あり","") | CC20: =IF(CB20="","",INDEX('99_職種リスト'!$A:$A,MATCH($E20,'99_職種リスト'!$B:$B,0))) | CD20: =IF(CB20="","",IF(F20="○",'01_勤務時間入力'!$B$7*60,IF(SUM(H20,J20,L20,N20)>0,MIN(SUM(VALUE(H20)*60,J20,VALUE(L20)*60/2,N20/2),'01_勤務時間入力'!$B$7*60,10080),MIN(SUM(MIN(SUM(VALUE(Q20)*60,S20,VALUE(U20)*60/2,W20/2),1440)*IF(OR(Y20="",Y20=" "),1,VALUE(MID(Y20,2,1)/4)),MIN(SUM(VALUE(Z20)*60,AB20,VALUE(AD20)*60/2,AF20/2),1440)*IF(OR(AH20="",AH20=" "),1,VALUE(MID(AH20,2,1)/4)),MIN(SUM(VALUE(AI20)*60,AK20,VALUE(AM20)*60/2,AO20/2),1440)*IF(OR(AQ20="",AQ20=" "),1,VALUE(MID(AQ20,2,1)/4)),MIN(SUM(VALUE(AR20)*60,AT20,VALUE(AV20)*60/2,AX20/2),1440)*IF(OR(AZ20="",AZ20=" "),1,VALUE(MID(AZ20,2,1)/4)),MIN(SUM(VALUE(BA20)*60,BC20,VALUE(BE20)*60/2,BG20/2),1440)*IF(OR(BI20="",BI20=" "),1,VALUE(MID(BI20,2,1)/4)),MIN(SUM(VALUE(BJ20)*60,BL20,VALUE(BN20)*60/2,BP20/2),1440)*IF(OR(BR20="",BR20=" "),1,VALUE(MID(BR20,2,1)/4)),MIN(SUM(VALUE(BS20)*60,BU20,VALUE(BW20)*60/2,BY20/2),1440)*IF(OR(CA20="",CA20=" "),1,VALUE(MID(CA20,2,1)/4))),'01_勤務時間入力'!$B$7*60,10080)))) | CE20: =IF(CB20="","",IF('01_勤務時間入力'!$I$7*60<='01_勤務時間入力'!CD20,"常勤","非常勤"))
B21: =CONCATENATE(ROW()-16,"人目") -> 5人目 | D21: さん | I21: 時間 | K21: 分 | M21: 時間 | O21: 分 | R21: 時間 | T21: 分 | V21: 時間 | X21: 分 | AA21: 時間 | AC21: 分 | AE21: 時間 | AG21: 分 | AJ21: 時間 | AL21: 分 | AN21: 時間 | AP21: 分 | AS21: 時間 | AU21: 分 | AW21: 時間 | AY21: 分 | BB21: 時間 | BD21: 分 | BF21: 時間 | BH21: 分 | BK21: 時間 | BM21: 分 | BO21: 時間 | BQ21: 分 | BT21: 時間 | BV21: 分 | BX21: 時間 | BZ21: 分 | CB21: =IF(AND(E21<>"",OR(F21="○",SUM(H21,J21,L21,N21,Q21,S21,U21,W21,Z21,AB21,AD21,AF21,AI21,AK21,AM21,AO21,AR21,AT21,AV21,AX21,BA21,BC21,BE21,BG21,BJ21,BL21,BN21,BP21,BS21,BU21,BW21,BY21)>0)),"入力あり","") | CC21: =IF(CB21="","",INDEX('99_職種リスト'!$A:$A,MATCH($E21,'99_職種リスト'!$B:$B,0))) | CD21: =IF(CB21="","",IF(F21="○",'01_勤務時間入力'!$B$7*60,IF(SUM(H21,J21,L21,N21)>0,MIN(SUM(VALUE(H21)*60,J21,VALUE(L21)*60/2,N21/2),'01_勤務時間入力'!$B$7*60,10080),MIN(SUM(MIN(SUM(VALUE(Q21)*60,S21,VALUE(U21)*60/2,W21/2),1440)*IF(OR(Y21="",Y21=" "),1,VALUE(MID(Y21,2,1)/4)),MIN(SUM(VALUE(Z21)*60,AB21,VALUE(AD21)*60/2,AF21/2),1440)*IF(OR(AH21="",AH21=" "),1,VALUE(MID(AH21,2,1)/4)),MIN(SUM(VALUE(AI21)*60,AK21,VALUE(AM21)*60/2,AO21/2),1440)*IF(OR(AQ21="",AQ21=" "),1,VALUE(MID(AQ21,2,1)/4)),MIN(SUM(VALUE(AR21)*60,AT21,VALUE(AV21)*60/2,AX21/2),1440)*IF(OR(AZ21="",AZ21=" "),1,VALUE(MID(AZ21,2,1)/4)),MIN(SUM(VALUE(BA21)*60,BC21,VALUE(BE21)*60/2,BG21/2),1440)*IF(OR(BI21="",BI21=" "),1,VALUE(MID(BI21,2,1)/4)),MIN(SUM(VALUE(BJ21)*60,BL21,VALUE(BN21)*60/2,BP21/2),1440)*IF(OR(BR21="",BR21=" "),1,VALUE(MID(BR21,2,1)/4)),MIN(SUM(VALUE(BS21)*60,BU21,VALUE(BW21)*60/2,BY21/2),1440)*IF(OR(CA21="",CA21=" "),1,VALUE(MID(CA21,2,1)/4))),'01_勤務時間入力'!$B$7*60,10080)))) | CE21: =IF(CB21="","",IF('01_勤務時間入力'!$I$7*60<='01_勤務時間入力'!CD21,"常勤","非常勤"))
B22: =CONCATENATE(ROW()-16,"人目") -> 6人目 | D22: さん | I22: 時間 | K22: 分 | M22: 時間 | O22: 分 | R22: 時間 | T22: 分 | V22: 時間 | X22: 分 | AA22: 時間 | AC22: 分 | AE22: 時間 | AG22: 分 | AJ22: 時間 | AL22: 分 | AN22: 時間 | AP22: 分 | AS22: 時間 | AU22: 分 | AW22: 時間 | AY22: 分 | BB22: 時間 | BD22: 分 | BF22: 時間 | BH22: 分 | BK22: 時間 | BM22: 分 | BO22: 時間 | BQ22: 分 | BT22: 時間 | BV22: 分 | BX22: 時間 | BZ22: 分 | CB22: =IF(AND(E22<>"",OR(F22="○",SUM(H22,J22,L22,N22,Q22,S22,U22,W22,Z22,AB22,AD22,AF22,AI22,AK22,AM22,AO22,AR22,AT22,AV22,AX22,BA22,BC22,BE22,BG22,BJ22,BL22,BN22,BP22,BS22,BU22,BW22,BY22)>0)),"入力あり","") | CC22: =IF(CB22="","",INDEX('99_職種リスト'!$A:$A,MATCH($E22,'99_職種リスト'!$B:$B,0))) | CD22: =IF(CB22="","",IF(F22="○",'01_勤務時間入力'!$B$7*60,IF(SUM(H22,J22,L22,N22)>0,MIN(SUM(VALUE(H22)*60,J22,VALUE(L22)*60/2,N22/2),'01_勤務時間入力'!$B$7*60,10080),MIN(SUM(MIN(SUM(VALUE(Q22)*60,S22,VALUE(U22)*60/2,W22/2),1440)*IF(OR(Y22="",Y22=" "),1,VALUE(MID(Y22,2,1)/4)),MIN(SUM(VALUE(Z22)*60,AB22,VALUE(AD22)*60/2,AF22/2),1440)*IF(OR(AH22="",AH22=" "),1,VALUE(MID(AH22,2,1)/4)),MIN(SUM(VALUE(AI22)*60,AK22,VALUE(AM22)*60/2,AO22/2),1440)*IF(OR(AQ22="",AQ22=" "),1,VALUE(MID(AQ22,2,1)/4)),MIN(SUM(VALUE(AR22)*60,AT22,VALUE(AV22)*60/2,AX22/2),1440)*IF(OR(AZ22="",AZ22=" "),1,VALUE(MID(AZ22,2,1)/4)),MIN(SUM(VALUE(BA22)*60,BC22,VALUE(BE22)*60/2,BG22/2),1440)*IF(OR(BI22="",BI22=" "),1,VALUE(MID(BI22,2,1)/4)),MIN(SUM(VALUE(BJ22)*60,BL22,VALUE(BN22)*60/2,BP22/2),1440)*IF(OR(BR22="",BR22=" "),1,VALUE(MID(BR22,2,1)/4)),MIN(SUM(VALUE(BS22)*60,BU22,VALUE(BW22)*60/2,BY22/2),1440)*IF(OR(CA22="",CA22=" "),1,VALUE(MID(CA22,2,1)/4))),'01_勤務時間入力'!$B$7*60,10080)))) | CE22: =IF(CB22="","",IF('01_勤務時間入力'!$I$7*60<='01_勤務時間入力'!CD22,"常勤","非常勤"))
B23: =CONCATENATE(ROW()-16,"人目") -> 7人目 | D23: さん | I23: 時間 | K23: 分 | M23: 時間 | O23: 分 | R23: 時間 | T23: 分 | V23: 時間 | X23: 分 | AA23: 時間 | AC23: 分 | AE23: 時間 | AG23: 分 | AJ23: 時間 | AL23: 分 | AN23: 時間 | AP23: 分 | AS23: 時間 | AU23: 分 | AW23: 時間 | AY23: 分 | BB23: 時間 | BD23: 分 | BF23: 時間 | BH23: 分 | BK23: 時間 | BM23: 分 | BO23: 時間 | BQ23: 分 | BT23: 時間 | BV23: 分 | BX23: 時間 | BZ23: 分 | CB23: =IF(AND(E23<>"",OR(F23="○",SUM(H23,J23,L23,N23,Q23,S23,U23,W23,Z23,AB23,AD23,AF23,AI23,AK23,AM23,AO23,AR23,AT23,AV23,AX23,BA23,BC23,BE23,BG23,BJ23,BL23,BN23,BP23,BS23,BU23,BW23,BY23)>0)),"入力あり","") | CC23: =IF(CB23="","",INDEX('99_職種リスト'!$A:$A,MATCH($E23,'99_職種リスト'!$B:$B,0))) | CD23: =IF(CB23="","",IF(F23="○",'01_勤務時間入力'!$B$7*60,IF(SUM(H23,J23,L23,N23)>0,MIN(SUM(VALUE(H23)*60,J23,VALUE(L23)*60/2,N23/2),'01_勤務時間入力'!$B$7*60,10080),MIN(SUM(MIN(SUM(VALUE(Q23)*60,S23,VALUE(U23)*60/2,W23/2),1440)*IF(OR(Y23="",Y23=" "),1,VALUE(MID(Y23,2,1)/4)),MIN(SUM(VALUE(Z23)*60,AB23,VALUE(AD23)*60/2,AF23/2),1440)*IF(OR(AH23="",AH23=" "),1,VALUE(MID(AH23,2,1)/4)),MIN(SUM(VALUE(AI23)*60,AK23,VALUE(AM23)*60/2,AO23/2),1440)*IF(OR(AQ23="",AQ23=" "),1,VALUE(MID(AQ23,2,1)/4)),MIN(SUM(VALUE(AR23)*60,AT23,VALUE(AV23)*60/2,AX23/2),1440)*IF(OR(AZ23="",AZ23=" "),1,VALUE(MID(AZ23,2,1)/4)),MIN(SUM(VALUE(BA23)*60,BC23,VALUE(BE23)*60/2,BG23/2),1440)*IF(OR(BI23="",BI23=" "),1,VALUE(MID(BI23,2,1)/4)),MIN(SUM(VALUE(BJ23)*60,BL23,VALUE(BN23)*60/2,BP23/2),1440)*IF(OR(BR23="",BR23=" "),1,VALUE(MID(BR23,2,1)/4)),MIN(SUM(VALUE(BS23)*60,BU23,VALUE(BW23)*60/2,BY23/2),1440)*IF(OR(CA23="",CA23=" "),1,VALUE(MID(CA23,2,1)/4))),'01_勤務時間入力'!$B$7*60,10080)))) | CE23: =IF(CB23="","",IF('01_勤務時間入力'!$I$7*60<='01_勤務時間入力'!CD23,"常勤","非常勤"))
B24: =CONCATENATE(ROW()-16,"人目") -> 8人目 | D24: さん | I24: 時間 | K24: 分 | M24: 時間 | O24: 分 | R24: 時間 | T24: 分 | V24: 時間 | X24: 分 | AA24: 時間 | AC24: 分 | AE24: 時間 | AG24: 分 | AJ24: 時間 | AL24: 分 | AN24: 時間 | AP24: 分 | AS24: 時間 | AU24: 分 | AW24: 時間 | AY24: 分 | BB24: 時間 | BD24: 分 | BF24: 時間 | BH24: 分 | BK24: 時間 | BM24: 分 | BO24: 時間 | BQ24: 分 | BT24: 時間 | BV24: 分 | BX24: 時間 | BZ24: 分 | CB24: =IF(AND(E24<>"",OR(F24="○",SUM(H24,J24,L24,N24,Q24,S24,U24,W24,Z24,AB24,AD24,AF24,AI24,AK24,AM24,AO24,AR24,AT24,AV24,AX24,BA24,BC24,BE24,BG24,BJ24,BL24,BN24,BP24,BS24,BU24,BW24,BY24)>0)),"入力あり","") | CC24: =IF(CB24="","",INDEX('99_職種リスト'!$A:$A,MATCH($E24,'99_職種リスト'!$B:$B,0))) | CD24: =IF(CB24="","",IF(F24="○",'01_勤務時間入力'!$B$7*60,IF(SUM(H24,J24,L24,N24)>0,MIN(SUM(VALUE(H24)*60,J24,VALUE(L24)*60/2,N24/2),'01_勤務時間入力'!$B$7*60,10080),MIN(SUM(MIN(SUM(VALUE(Q24)*60,S24,VALUE(U24)*60/2,W24/2),1440)*IF(OR(Y24="",Y24=" "),1,VALUE(MID(Y24,2,1)/4)),MIN(SUM(VALUE(Z24)*60,AB24,VALUE(AD24)*60/2,AF24/2),1440)*IF(OR(AH24="",AH24=" "),1,VALUE(MID(AH24,2,1)/4)),MIN(SUM(VALUE(AI24)*60,AK24,VALUE(AM24)*60/2,AO24/2),1440)*IF(OR(AQ24="",AQ24=" "),1,VALUE(MID(AQ24,2,1)/4)),MIN(SUM(VALUE(AR24)*60,AT24,VALUE(AV24)*60/2,AX24/2),1440)*IF(OR(AZ24="",AZ24=" "),1,VALUE(MID(AZ24,2,1)/4)),MIN(SUM(VALUE(BA24)*60,BC24,VALUE(BE24)*60/2,BG24/2),1440)*IF(OR(BI24="",BI24=" "),1,VALUE(MID(BI24,2,1)/4)),MIN(SUM(VALUE(BJ24)*60,BL24,VALUE(BN24)*60/2,BP24/2),1440)*IF(OR(BR24="",BR24=" "),1,VALUE(MID(BR24,2,1)/4)),MIN(SUM(VALUE(BS24)*60,BU24,VALUE(BW24)*60/2,BY24/2),1440)*IF(OR(CA24="",CA24=" "),1,VALUE(MID(CA24,2,1)/4))),'01_勤務時間入力'!$B$7*60,10080)))) | CE24: =IF(CB24="","",IF('01_勤務時間入力'!$I$7*60<='01_勤務時間入力'!CD24,"常勤","非常勤"))
B25: =CONCATENATE(ROW()-16,"人目") -> 9人目 | D25: さん | I25: 時間 | K25: 分 | M25: 時間 | O25: 分 | R25: 時間 | T25: 分 | V25: 時間 | X25: 分 | AA25: 時間 | AC25: 分 | AE25: 時間 | AG25: 分 | AJ25: 時間 | AL25: 分 | AN25: 時間 | AP25: 分 | AS25: 時間 | AU25: 分 | AW25: 時間 | AY25: 分 | BB25: 時間 | BD25: 分 | BF25: 時間 | BH25: 分 | BK25: 時間 | BM25: 分 | BO25: 時間 | BQ25: 分 | BT25: 時間 | BV25: 分 | BX25: 時間 | BZ25: 分 | CB25: =IF(AND(E25<>"",OR(F25="○",SUM(H25,J25,L25,N25,Q25,S25,U25,W25,Z25,AB25,AD25,AF25,AI25,AK25,AM25,AO25,AR25,AT25,AV25,AX25,BA25,BC25,BE25,BG25,BJ25,BL25,BN25,BP25,BS25,BU25,BW25,BY25)>0)),"入力あり","") | CC25: =IF(CB25="","",INDEX('99_職種リスト'!$A:$A,MATCH($E25,'99_職種リスト'!$B:$B,0))) | CD25: =IF(CB25="","",IF(F25="○",'01_勤務時間入力'!$B$7*60,IF(SUM(H25,J25,L25,N25)>0,MIN(SUM(VALUE(H25)*60,J25,VALUE(L25)*60/2,N25/2),'01_勤務時間入力'!$B$7*60,10080),MIN(SUM(MIN(SUM(VALUE(Q25)*60,S25,VALUE(U25)*60/2,W25/2),1440)*IF(OR(Y25="",Y25=" "),1,VALUE(MID(Y25,2,1)/4)),MIN(SUM(VALUE(Z25)*60,AB25,VALUE(AD25)*60/2,AF25/2),1440)*IF(OR(AH25="",AH25=" "),1,VALUE(MID(AH25,2,1)/4)),MIN(SUM(VALUE(AI25)*60,AK25,VALUE(AM25)*60/2,AO25/2),1440)*IF(OR(AQ25="",AQ25=" "),1,VALUE(MID(AQ25,2,1)/4)),MIN(SUM(VALUE(AR25)*60,AT25,VALUE(AV25)*60/2,AX25/2),1440)*IF(OR(AZ25="",AZ25=" "),1,VALUE(MID(AZ25,2,1)/4)),MIN(SUM(VALUE(BA25)*60,BC25,VALUE(BE25)*60/2,BG25/2),1440)*IF(OR(BI25="",BI25=" "),1,VALUE(MID(BI25,2,1)/4)),MIN(SUM(VALUE(BJ25)*60,BL25,VALUE(BN25)*60/2,BP25/2),1440)*IF(OR(BR25="",BR25=" "),1,VALUE(MID(BR25,2,1)/4)),MIN(SUM(VALUE(BS25)*60,BU25,VALUE(BW25)*60/2,BY25/2),1440)*IF(OR(CA25="",CA25=" "),1,VALUE(MID(CA25,2,1)/4))),'01_勤務時間入力'!$B$7*60,10080)))) | CE25: =IF(CB25="","",IF('01_勤務時間入力'!$I$7*60<='01_勤務時間入力'!CD25,"常勤","非常勤"))
B26: =CONCATENATE(ROW()-16,"人目") -> 10人目 | D26: さん | I26: 時間 | K26: 分 | M26: 時間 | O26: 分 | R26: 時間 | T26: 分 | V26: 時間 | X26: 分 | AA26: 時間 | AC26: 分 | AE26: 時間 | AG26: 分 | AJ26: 時間 | AL26: 分 | AN26: 時間 | AP26: 分 | AS26: 時間 | AU26: 分 | AW26: 時間 | AY26: 分 | BB26: 時間 | BD26: 分 | BF26: 時間 | BH26: 分 | BK26: 時間 | BM26: 分 | BO26: 時間 | BQ26: 分 | BT26: 時間 | BV26: 分 | BX26: 時間 | BZ26: 分 | CB26: =IF(AND(E26<>"",OR(F26="○",SUM(H26,J26,L26,N26,Q26,S26,U26,W26,Z26,AB26,AD26,AF26,AI26,AK26,AM26,AO26,AR26,AT26,AV26,AX26,BA26,BC26,BE26,BG26,BJ26,BL26,BN26,BP26,BS26,BU26,BW26,BY26)>0)),"入力あり","") | CC26: =IF(CB26="","",INDEX('99_職種リスト'!$A:$A,MATCH($E26,'99_職種リスト'!$B:$B,0))) | CD26: =IF(CB26="","",IF(F26="○",'01_勤務時間入力'!$B$7*60,IF(SUM(H26,J26,L26,N26)>0,MIN(SUM(VALUE(H26)*60,J26,VALUE(L26)*60/2,N26/2),'01_勤務時間入力'!$B$7*60,10080),MIN(SUM(MIN(SUM(VALUE(Q26)*60,S26,VALUE(U26)*60/2,W26/2),1440)*IF(OR(Y26="",Y26=" "),1,VALUE(MID(Y26,2,1)/4)),MIN(SUM(VALUE(Z26)*60,AB26,VALUE(AD26)*60/2,AF26/2),1440)*IF(OR(AH26="",AH26=" "),1,VALUE(MID(AH26,2,1)/4)),MIN(SUM(VALUE(AI26)*60,AK26,VALUE(AM26)*60/2,AO26/2),1440)*IF(OR(AQ26="",AQ26=" "),1,VALUE(MID(AQ26,2,1)/4)),MIN(SUM(VALUE(AR26)*60,AT26,VALUE(AV26)*60/2,AX26/2),1440)*IF(OR(AZ26="",AZ26=" "),1,VALUE(MID(AZ26,2,1)/4)),MIN(SUM(VALUE(BA26)*60,BC26,VALUE(BE26)*60/2,BG26/2),1440)*IF(OR(BI26="",BI26=" "),1,VALUE(MID(BI26,2,1)/4)),MIN(SUM(VALUE(BJ26)*60,BL26,VALUE(BN26)*60/2,BP26/2),1440)*IF(OR(BR26="",BR26=" "),1,VALUE(MID(BR26,2,1)/4)),MIN(SUM(VALUE(BS26)*60,BU26,VALUE(BW26)*60/2,BY26/2),1440)*IF(OR(CA26="",CA26=" "),1,VALUE(MID(CA26,2,1)/4))),'01_勤務時間入力'!$B$7*60,10080)))) | CE26: =IF(CB26="","",IF('01_勤務時間入力'!$I$7*60<='01_勤務時間入力'!CD26,"常勤","非常勤"))
B27: =CONCATENATE(ROW()-16,"人目") -> 11人目 | D27: さん | I27: 時間 | K27: 分 | M27: 時間 | O27: 分 | R27: 時間 | T27: 分 | V27: 時間 | X27: 分 | AA27: 時間 | AC27: 分 | AE27: 時間 | AG27: 分 | AJ27: 時間 | AL27: 分 | AN27: 時間 | AP27: 分 | AS27: 時間 | AU27: 分 | AW27: 時間 | AY27: 分 | BB27: 時間 | BD27: 分 | BF27: 時間 | BH27: 分 | BK27: 時間 | BM27: 分 | BO27: 時間 | BQ27: 分 | BT27: 時間 | BV27: 分 | BX27: 時間 | BZ27: 分 | CB27: =IF(AND(E27<>"",OR(F27="○",SUM(H27,J27,L27,N27,Q27,S27,U27,W27,Z27,AB27,AD27,AF27,AI27,AK27,AM27,AO27,AR27,AT27,AV27,AX27,BA27,BC27,BE27,BG27,BJ27,BL27,BN27,BP27,BS27,BU27,BW27,BY27)>0)),"入力あり","") | CC27: =IF(CB27="","",INDEX('99_職種リスト'!$A:$A,MATCH($E27,'99_職種リスト'!$B:$B,0))) | CD27: =IF(CB27="","",IF(F27="○",'01_勤務時間入力'!$B$7*60,IF(SUM(H27,J27,L27,N27)>0,MIN(SUM(VALUE(H27)*60,J27,VALUE(L27)*60/2,N27/2),'01_勤務時間入力'!$B$7*60,10080),MIN(SUM(MIN(SUM(VALUE(Q27)*60,S27,VALUE(U27)*60/2,W27/2),1440)*IF(OR(Y27="",Y27=" "),1,VALUE(MID(Y27,2,1)/4)),MIN(SUM(VALUE(Z27)*60,AB27,VALUE(AD27)*60/2,AF27/2),1440)*IF(OR(AH27="",AH27=" "),1,VALUE(MID(AH27,2,1)/4)),MIN(SUM(VALUE(AI27)*60,AK27,VALUE(AM27)*60/2,AO27/2),1440)*IF(OR(AQ27="",AQ27=" "),1,VALUE(MID(AQ27,2,1)/4)),MIN(SUM(VALUE(AR27)*60,AT27,VALUE(AV27)*60/2,AX27/2),1440)*IF(OR(AZ27="",AZ27=" "),1,VALUE(MID(AZ27,2,1)/4)),MIN(SUM(VALUE(BA27)*60,BC27,VALUE(BE27)*60/2,BG27/2),1440)*IF(OR(BI27="",BI27=" "),1,VALUE(MID(BI27,2,1)/4)),MIN(SUM(VALUE(BJ27)*60,BL27,VALUE(BN27)*60/2,BP27/2),1440)*IF(OR(BR27="",BR27=" "),1,VALUE(MID(BR27,2,1)/4)),MIN(SUM(VALUE(BS27)*60,BU27,VALUE(BW27)*60/2,BY27/2),1440)*IF(OR(CA27="",CA27=" "),1,VALUE(MID(CA27,2,1)/4))),'01_勤務時間入力'!$B$7*60,10080)))) | CE27: =IF(CB27="","",IF('01_勤務時間入力'!$I$7*60<='01_勤務時間入力'!CD27,"常勤","非常勤"))
B28: =CONCATENATE(ROW()-16,"人目") -> 12人目 | D28: さん | I28: 時間 | K28: 分 | M28: 時間 | O28: 分 | R28: 時間 | T28: 分 | V28: 時間 | X28: 分 | AA28: 時間 | AC28: 分 | AE28: 時間 | AG28: 分 | AJ28: 時間 | AL28: 分 | AN28: 時間 | AP28: 分 | AS28: 時間 | AU28: 分 | AW28: 時間 | AY28: 分 | BB28: 時間 | BD28: 分 | BF28: 時間 | BH28: 分 | BK28: 時間 | BM28: 分 | BO28: 時間 | BQ28: 分 | BT28: 時間 | BV28: 分 | BX28: 時間 | BZ28: 分 | CB28: =IF(AND(E28<>"",OR(F28="○",SUM(H28,J28,L28,N28,Q28,S28,U28,W28,Z28,AB28,AD28,AF28,AI28,AK28,AM28,AO28,AR28,AT28,AV28,AX28,BA28,BC28,BE28,BG28,BJ28,BL28,BN28,BP28,BS28,BU28,BW28,BY28)>0)),"入力あり","") | CC28: =IF(CB28="","",INDEX('99_職種リスト'!$A:$A,MATCH($E28,'99_職種リスト'!$B:$B,0))) | CD28: =IF(CB28="","",IF(F28="○",'01_勤務時間入力'!$B$7*60,IF(SUM(H28,J28,L28,N28)>0,MIN(SUM(VALUE(H28)*60,J28,VALUE(L28)*60/2,N28/2),'01_勤務時間入力'!$B$7*60,10080),MIN(SUM(MIN(SUM(VALUE(Q28)*60,S28,VALUE(U28)*60/2,W28/2),1440)*IF(OR(Y28="",Y28=" "),1,VALUE(MID(Y28,2,1)/4)),MIN(SUM(VALUE(Z28)*60,AB28,VALUE(AD28)*60/2,AF28/2),1440)*IF(OR(AH28="",AH28=" "),1,VALUE(MID(AH28,2,1)/4)),MIN(SUM(VALUE(AI28)*60,AK28,VALUE(AM28)*60/2,AO28/2),1440)*IF(OR(AQ28="",AQ28=" "),1,VALUE(MID(AQ28,2,1)/4)),MIN(SUM(VALUE(AR28)*60,AT28,VALUE(AV28)*60/2,AX28/2),1440)*IF(OR(AZ28="",AZ28=" "),1,VALUE(MID(AZ28,2,1)/4)),MIN(SUM(VALUE(BA28)*60,BC28,VALUE(BE28)*60/2,BG28/2),1440)*IF(OR(BI28="",BI28=" "),1,VALUE(MID(BI28,2,1)/4)),MIN(SUM(VALUE(BJ28)*60,BL28,VALUE(BN28)*60/2,BP28/2),1440)*IF(OR(BR28="",BR28=" "),1,VALUE(MID(BR28,2,1)/4)),MIN(SUM(VALUE(BS28)*60,BU28,VALUE(BW28)*60/2,BY28/2),1440)*IF(OR(CA28="",CA28=" "),1,VALUE(MID(CA28,2,1)/4))),'01_勤務時間入力'!$B$7*60,10080)))) | CE28: =IF(CB28="","",IF('01_勤務時間入力'!$I$7*60<='01_勤務時間入力'!CD28,"常勤","非常勤"))
... B1016: =CONCATENATE(ROW()-16,"人目") -> 1000人目 | D1016: さん | I1016: 時間 | K1016: 分 | M1016: 時間 | O1016: 分 | R1016: 時間 | T1016: 分 | V1016: 時間 | X1016: 分 | AA1016: 時間 | AC1016: 分 | AE1016: 時間 | AG1016: 分 | AJ1016: 時間 | AL1016: 分 | AN1016: 時間 | AP1016: 分 | AS1016: 時間 | AU1016: 分 | AW1016: 時間 | AY1016: 分 | BB1016: 時間 | BD1016: 分 | BF1016: 時間 | BH1016: 分 | BK1016: 時間 | BM1016: 分 | BO1016: 時間 | BQ1016: 分 | BT1016: 時間 | BV1016: 分 | BX1016: 時間 | BZ1016: 分 | CB1016: =IF(AND(E1016<>"",OR(F1016="○",SUM(H1016,J1016,L1016,N1016,Q1016,S1016,U1016,W1016,Z1016,AB1016,AD1016,AF1016,AI1016,AK1016,AM1016,AO1016,AR1016,AT1016,AV1016,AX1016,BA1016,BC1016,BE1016,BG1016,BJ1016,BL1016,BN1016,BP1016,BS1016,BU1016,BW1016,BY1016)>0)),"入力あり","") | CC1016: =IF(CB1016="","",INDEX('99_職種リスト'!$A:$A,MATCH($E1016,'99_職種リスト'!$B:$B,0))) | CD1016: =IF(CB1016="","",IF(F1016="○",'01_勤務時間入力'!$B$7*60,IF(SUM(H1016,J1016,L1016,N1016)>0,MIN(SUM(VALUE(H1016)*60,J1016,VALUE(L1016)*60/2,N1016/2),'01_勤務時間入力'!$B$7*60,10080),MIN(SUM(MIN(SUM(VALUE(Q1016)*60,S1016,VALUE(U1016)*60/2,W1016/2),1440)*IF(OR(Y1016="",Y1016=" "),1,VALUE(MID(Y1016,2,1)/4)),MIN(SUM(VALUE(Z1016)*60,AB1016,VALUE(AD1016)*60/2,AF1016/2),1440)*IF(OR(AH1016="",AH1016=" "),1,VALUE(MID(AH1016,2,1)/4)),MIN(SUM(VALUE(AI1016)*60,AK1016,VALUE(AM1016)*60/2,AO1016/2),1440)*IF(OR(AQ1016="",AQ1016=" "),1,VALUE(MID(AQ1016,2,1)/4)),MIN(SUM(VALUE(AR1016)*60,AT1016,VALUE(AV1016)*60/2,AX1016/2),1440)*IF(OR(AZ1016="",AZ1016=" "),1,VALUE(MID(AZ1016,2,1)/4)),MIN(SUM(VALUE(BA1016)*60,BC1016,VALUE(BE1016)*60/2,BG1016/2),1440)*IF(OR(BI1016="",BI1016=" "),1,VALUE(MID(BI1016,2,1)/4)),MIN(SUM(VALUE(BJ1016)*60,BL1016,VALUE(BN1016)*60/2,BP1016/2),1440)*IF(OR(BR1016="",BR1016=" "),1,VALUE(MID(BR1016,2,1)/4)),MIN(SUM(VALUE(BS1016)*60,BU1016,VALUE(BW1016)*60/2,BY1016/2),1440)*IF(OR(CA1016="",CA1016=" "),1,VALUE(MID(CA1016,2,1)/4))),'01_勤務時間入力'!$B$7*60,10080)))) | CE1016: =IF(CB1016="","",IF('01_勤務時間入力'!$I$7*60<='01_勤務時間入力'!CD1016,"常勤","非常勤"))

Sheet 02_計算
B2: 従事者数
B3: 注1） | E3: 雇用形態にかかわらず、医療機関が定める1週間の勤務時間（所定労働時間）の すべてを勤務している場合は「常勤」、勤務していない場合は「非常勤」としてください。
B5: 注2） | E5: 常勤換算については、下記の計算式により常勤換算数を計算し、それぞれの欄に記入。 ・ 小数点以下第２位を四捨五入して小数点以下第１位まで記入 ・ 得られた結果が0.1に満たない場合は、「0.1」と記入 ・ 「0.1」「1.0」等の場合、「0」を省略せずに記入 ・ 常勤換算の詳細は「調査の手引き」を参照してください
E9: 常勤換算数＝ | L9: 従事者の１週間の勤務延時間数（残業は除く）
L10: 医療機関において常勤の従事者が勤務すべき １週間の時間数（所定労働時間）
E12: ※ | F12: １週間の時間数が32時間を下回る場合は分母を32時間としてください。
B13: 職 種 | O13: 「常勤」 従事者の実人員 | T13: 「非常勤」 従事者の常勤換算した人数 （小数点以下第２位四捨五入）
W16: ↓小数点
B17: 01 | D17: 歯科医師 | O17: =IF(OR('01_勤務時間入力'!$B$7="",COUNTIFS('01_勤務時間入力'!$CB:$CB,"入力あり",'01_勤務時間入力'!$CC:$CC,TEXT(VALUE($B17),"00"),'01_勤務時間入力'!$CE:$CE,"常勤")=0),"",COUNTIFS('01_勤務時間入力'!$CB:$CB,"入力あり",'01_勤務時間入力'!$CC:$CC,TEXT(VALUE($B17),"00"),'01_勤務時間入力'!$CE:$CE,"常勤")) | S17: 人 | T17: =IF(OR('01_勤務時間入力'!$B$7="",COUNTIFS('01_勤務時間入力'!$CB:$CB,"入力あり",'01_勤務時間入力'!$CC:$CC,TEXT(VALUE($B17),"00"),'01_勤務時間入力'!$CE:$CE,"非常勤")=0),"",INT(ROUND(SUMIFS('01_勤務時間入力'!$CD:$CD,'01_勤務時間入力'!$CB:$CB,"入力あり",'01_勤務時間入力'!$CC:$CC,TEXT(VALUE($B17),"00"),'01_勤務時間入力'!$CE:$CE,"非常勤")/('01_勤務時間入力'!$I$7*60),1))) | W17: . | X17: =IF(OR('01_勤務時間入力'!$B$7="",COUNTIFS('01_勤務時間入力'!$CB:$CB,"入力あり",'01_勤務時間入力'!$CC:$CC,TEXT(VALUE($B17),"00"),'01_勤務時間入力'!$CE:$CE,"非常勤")=0),"",(ROUND(SUMIFS('01_勤務時間入力'!$CD:$CD,'01_勤務時間入力'!$CB:$CB,"入力あり",'01_勤務時間入力'!$CC:$CC,TEXT(VALUE($B17),"00"),'01_勤務時間入力'!$CE:$CE,"非常勤")/('01_勤務時間入力'!$I$7*60),1)-$T17)*10) | Y17: 人
B18: 02 | D18: 医師 | O18: =IF(OR('01_勤務時間入力'!$B$7="",COUNTIFS('01_勤務時間入力'!$CB:$CB,"入力あり",'01_勤務時間入力'!$CC:$CC,TEXT(VALUE($B18),"00"),'01_勤務時間入力'!$CE:$CE,"常勤")=0),"",COUNTIFS('01_勤務時間入力'!$CB:$CB,"入力あり",'01_勤務時間入力'!$CC:$CC,TEXT(VALUE($B18),"00"),'01_勤務時間入力'!$CE:$CE,"常勤")) | S18: 人 | T18: =IF(OR('01_勤務時間入力'!$B$7="",COUNTIFS('01_勤務時間入力'!$CB:$CB,"入力あり",'01_勤務時間入力'!$CC:$CC,TEXT(VALUE($B18),"00"),'01_勤務時間入力'!$CE:$CE,"非常勤")=0),"",INT(ROUND(SUMIFS('01_勤務時間入力'!$CD:$CD,'01_勤務時間入力'!$CB:$CB,"入力あり",'01_勤務時間入力'!$CC:$CC,TEXT(VALUE($B18),"00"),'01_勤務時間入力'!$CE:$CE,"非常勤")/('01_勤務時間入力'!$I$7*60),1))) | W18: . | X18: =IF(OR('01_勤務時間入力'!$B$7="",COUNTIFS('01_勤務時間入力'!$CB:$CB,"入力あり",'01_勤務時間入力'!$CC:$CC,TEXT(VALUE($B18),"00"),'01_勤務時間入力'!$CE:$CE,"非常勤")=0),"",(ROUND(SUMIFS('01_勤務時間入力'!$CD:$CD,'01_勤務時間入力'!$CB:$CB,"入力あり",'01_勤務時間入力'!$CC:$CC,TEXT(VALUE($B18),"00"),'01_勤務時間入力'!$CE:$CE,"非常勤")/('01_勤務時間入力'!$I$7*60),1)-$T18)*10) | Y18: 人
B19: 03 | D19: 歯科衛生士 | O19: =IF(OR('01_勤務時間入力'!$B$7="",COUNTIFS('01_勤務時間入力'!$CB:$CB,"入力あり",'01_勤務時間入力'!$CC:$CC,TEXT(VALUE($B19),"00"),'01_勤務時間入力'!$CE:$CE,"常勤")=0),"",COUNTIFS('01_勤務時間入力'!$CB:$CB,"入力あり",'01_勤務時間入力'!$CC:$CC,TEXT(VALUE($B19),"00"),'01_勤務時間入力'!$CE:$CE,"常勤")) | S19: 人 | T19: =IF(OR('01_勤務時間入力'!$B$7="",COUNTIFS('01_勤務時間入力'!$CB:$CB,"入力あり",'01_勤務時間入力'!$CC:$CC,TEXT(VALUE($B19),"00"),'01_勤務時間入力'!$CE:$CE,"非常勤")=0),"",INT(ROUND(SUMIFS('01_勤務時間入力'!$CD:$CD,'01_勤務時間入力'!$CB:$CB,"入力あり",'01_勤務時間入力'!$CC:$CC,TEXT(VALUE($B19),"00"),'01_勤務時間入力'!$CE:$CE,"非常勤")/('01_勤務時間入力'!$I$7*60),1))) | W19: . | X19: =IF(OR('01_勤務時間入力'!$B$7="",COUNTIFS('01_勤務時間入力'!$CB:$CB,"入力あり",'01_勤務時間入力'!$CC:$CC,TEXT(VALUE($B19),"00"),'01_勤務時間入力'!$CE:$CE,"非常勤")=0),"",(ROUND(SUMIFS('01_勤務時間入力'!$CD:$CD,'01_勤務時間入力'!$CB:$CB,"入力あり",'01_勤務時間入力'!$CC:$CC,TEXT(VALUE($B19),"00"),'01_勤務時間入力'!$CE:$CE,"非常勤")/('01_勤務時間入力'!$I$7*60),1)-$T19)*10) | Y19: 人
B20: 04 | D20: 歯科技工士 | O20: =IF(OR('01_勤務時間入力'!$B$7="",COUNTIFS('01_勤務時間入力'!$CB:$CB,"入力あり",'01_勤務時間入力'!$CC:$CC,TEXT(VALUE($B20),"00"),'01_勤務時間入力'!$CE:$CE,"常勤")=0),"",COUNTIFS('01_勤務時間入力'!$CB:$CB,"入力あり",'01_勤務時間入力'!$CC:$CC,TEXT(VALUE($B20),"00"),'01_勤務時間入力'!$CE:$CE,"常勤")) | S20: 人 | T20: =IF(OR('01_勤務時間入力'!$B$7="",COUNTIFS('01_勤務時間入力'!$CB:$CB,"入力あり",'01_勤務時間入力'!$CC:$CC,TEXT(VALUE($B20),"00"),'01_勤務時間入力'!$CE:$CE,"非常勤")=0),"",INT(ROUND(SUMIFS('01_勤務時間入力'!$CD:$CD,'01_勤務時間入力'!$CB:$CB,"入力あり",'01_勤務時間入力'!$CC:$CC,TEXT(VALUE($B20),"00"),'01_勤務時間入力'!$CE:$CE,"非常勤")/('01_勤務時間入力'!$I$7*60),1))) | W20: . | X20: =IF(OR('01_勤務時間入力'!$B$7="",COUNTIFS('01_勤務時間入力'!$CB:$CB,"入力あり",'01_勤務時間入力'!$CC:$CC,TEXT(VALUE($B20),"00"),'01_勤務時間入力'!$CE:$CE,"非常勤")=0),"",(ROUND(SUMIFS('01_勤務時間入力'!$CD:$CD,'01_勤務時間入力'!$CB:$CB,"入力あり",'01_勤務時間入力'!$CC:$CC,TEXT(VALUE($B20),"00"),'01_勤務時間入力'!$CE:$CE,"非常勤")/('01_勤務時間入力'!$I$7*60),1)-$T20)*10) | Y20: 人
B21: 職 種
O22: 「常勤」と「非常勤」 従事者の実人員 | T22: 「常勤」と「非常勤」 従事者の常勤換算した人数 （小数点以下第２位四捨五入）
W24: ↓小数点
B25: 05 | D25: 薬剤師 | T25: =IF(OR('01_勤務時間入力'!$B$7="",COUNTIFS('01_勤務時間入力'!$CB:$CB,"入力あり",'01_勤務時間入力'!$CC:$CC,TEXT(VALUE($B25),"00"))=0),"",INT(ROUND(SUMIFS('01_勤務時間入力'!$CD:$CD,'01_勤務時間入力'!$CB:$CB,"入力あり",'01_勤務時間入力'!$CC:$CC,TEXT(VALUE($B25),"00"))/('01_勤務時間入力'!$I$7*60),1))) | W25: . | X25: =IF(OR('01_勤務時間入力'!$B$7="",COUNTIFS('01_勤務時間入力'!$CB:$CB,"入力あり",'01_勤務時間入力'!$CC:$CC,TEXT(VALUE($B25),"00"))=0),"",(ROUND(SUMIFS('01_勤務時間入力'!$CD:$CD,'01_勤務時間入力'!$CB:$CB,"入力あり",'01_勤務時間入力'!$CC:$CC,TEXT(VALUE($B25),"00"))/('01_勤務時間入力'!$I$7*60),1)-$T25)*10) | Y25: 人
B26: 06 | D26: 看護師 | O26: =IF(OR('01_勤務時間入力'!$B$7="",COUNTIFS('01_勤務時間入力'!$CB:$CB,"入力あり",'01_勤務時間入力'!$CC:$CC,TEXT(VALUE($B26),"00"))=0),"",COUNTIFS('01_勤務時間入力'!$CB:$CB,"入力あり",'01_勤務時間入力'!$CC:$CC,TEXT(VALUE($B26),"00"))) | S26: 人 | T26: =IF(OR('01_勤務時間入力'!$B$7="",COUNTIFS('01_勤務時間入力'!$CB:$CB,"入力あり",'01_勤務時間入力'!$CC:$CC,TEXT(VALUE($B26),"00"))=0),"",INT(ROUND(SUMIFS('01_勤務時間入力'!$CD:$CD,'01_勤務時間入力'!$CB:$CB,"入力あり",'01_勤務時間入力'!$CC:$CC,TEXT(VALUE($B26),"00"))/('01_勤務時間入力'!$I$7*60),1))) | W26: . | X26: =IF(OR('01_勤務時間入力'!$B$7="",COUNTIFS('01_勤務時間入力'!$CB:$CB,"入力あり",'01_勤務時間入力'!$CC:$CC,TEXT(VALUE($B26),"00"))=0),"",(ROUND(SUMIFS('01_勤務時間入力'!$CD:$CD,'01_勤務時間入力'!$CB:$CB,"入力あり",'01_勤務時間入力'!$CC:$CC,TEXT(VALUE($B26),"00"))/('01_勤務時間入力'!$I$7*60),1)-$T26)*10) | Y26: 人
B27: 07 | D27: 准看護師 | O27: =IF(OR('01_勤務時間入力'!$B$7="",COUNTIFS('01_勤務時間入力'!$CB:$CB,"入力あり",'01_勤務時間入力'!$CC:$CC,TEXT(VALUE($B27),"00"))=0),"",COUNTIFS('01_勤務時間入力'!$CB:$CB,"入力あり",'01_勤務時間入力'!$CC:$CC,TEXT(VALUE($B27),"00"))) | S27: 人 | T27: =IF(OR('01_勤務時間入力'!$B$7="",COUNTIFS('01_勤務時間入力'!$CB:$CB,"入力あり",'01_勤務時間入力'!$CC:$CC,TEXT(VALUE($B27),"00"))=0),"",INT(ROUND(SUMIFS('01_勤務時間入力'!$CD:$CD,'01_勤務時間入力'!$CB:$CB,"入力あり",'01_勤務時間入力'!$CC:$CC,TEXT(VALUE($B27),"00"))/('01_勤務時間入力'!$I$7*60),1))) | W27: . | X27: =IF(OR('01_勤務時間入力'!$B$7="",COUNTIFS('01_勤務時間入力'!$CB:$CB,"入力あり",'01_勤務時間入力'!$CC:$CC,TEXT(VALUE($B27),"00"))=0),"",(ROUND(SUMIFS('01_勤務時間入力'!$CD:$CD,'01_勤務時間入力'!$CB:$CB,"入力あり",'01_勤務時間入力'!$CC:$CC,TEXT(VALUE($B27),"00"))/('01_勤務時間入力'!$I$7*60),1)-$T27)*10) | Y27: 人
B28: 08 | D28: 歯科業務補助者 | T28: =IF(OR('01_勤務時間入力'!$B$7="",COUNTIFS('01_勤務時間入力'!$CB:$CB,"入力あり",'01_勤務時間入力'!$CC:$CC,TEXT(VALUE($B28),"00"))=0),"",INT(ROUND(SUMIFS('01_勤務時間入力'!$CD:$CD,'01_勤務時間入力'!$CB:$CB,"入力あり",'01_勤務時間入力'!$CC:$CC,TEXT(VALUE($B28),"00"))/('01_勤務時間入力'!$I$7*60),1))) | W28: . | X28: =IF(OR('01_勤務時間入力'!$B$7="",COUNTIFS('01_勤務時間入力'!$CB:$CB,"入力あり",'01_勤務時間入力'!$CC:$CC,TEXT(VALUE($B28),"00"))=0),"",(ROUND(SUMIFS('01_勤務時間入力'!$CD:$CD,'01_勤務時間入力'!$CB:$CB,"入力あり",'01_勤務時間入力'!$CC:$CC,TEXT(VALUE($B28),"00"))/('01_勤務時間入力'!$I$7*60),1)-$T28)*10) | Y28: 人
B29: 09 | D29: 事務職員 | T29: =IF(OR('01_勤務時間入力'!$B$7="",COUNTIFS('01_勤務時間入力'!$CB:$CB,"入力あり",'01_勤務時間入力'!$CC:$CC,TEXT(VALUE($B29),"00"))=0),"",INT(ROUND(SUMIFS('01_勤務時間入力'!$CD:$CD,'01_勤務時間入力'!$CB:$CB,"入力あり",'01_勤務時間入力'!$CC:$CC,TEXT(VALUE($B29),"00"))/('01_勤務時間入力'!$I$7*60),1))) | W29: . | X29: =IF(OR('01_勤務時間入力'!$B$7="",COUNTIFS('01_勤務時間入力'!$CB:$CB,"入力あり",'01_勤務時間入力'!$CC:$CC,TEXT(VALUE($B29),"00"))=0),"",(ROUND(SUMIFS('01_勤務時間入力'!$CD:$CD,'01_勤務時間入力'!$CB:$CB,"入力あり",'01_勤務時間入力'!$CC:$CC,TEXT(VALUE($B29),"00"))/('01_勤務時間入力'!$I$7*60),1)-$T29)*10) | Y29: 人
B30: 10 | D30: その他の職員 | T30: =IF(OR('01_勤務時間入力'!$B$7="",COUNTIFS('01_勤務時間入力'!$CB:$CB,"入力あり",'01_勤務時間入力'!$CC:$CC,TEXT(VALUE($B30),"00"))=0),"",INT(ROUND(SUMIFS('01_勤務時間入力'!$CD:$CD,'01_勤務時間入力'!$CB:$CB,"入力あり",'01_勤務時間入力'!$CC:$CC,TEXT(VALUE($B30),"00"))/('01_勤務時間入力'!$I$7*60),1))) | W30: . | X30: =IF(OR('01_勤務時間入力'!$B$7="",COUNTIFS('01_勤務時間入力'!$CB:$CB,"入力あり",'01_勤務時間入力'!$CC:$CC,TEXT(VALUE($B30),"00"))=0),"",(ROUND(SUMIFS('01_勤務時間入力'!$CD:$CD,'01_勤務時間入力'!$CB:$CB,"入力あり",'01_勤務時間入力'!$CC:$CC,TEXT(VALUE($B30),"00"))/('01_勤務時間入力'!$I$7*60),1)-$T30)*10) | Y30: 人

Sheet 99_職種リスト
A1: 01 | B1: 歯科医師 | C1: =CONCATENATE("p?_k??_jokin_",VALUE($A1)) -> p?_k??_jokin_1 | D1: ='02_計算'!$O$17 | E1: =CONCATENATE("p?_k??_hijokin_i_",VALUE($A1)) -> p?_k??_hijokin_i_1 | F1: ='02_計算'!$T$17 | G1: =CONCATENATE("p?_k??_hijokin_d_",VALUE($A1)) -> p?_k??_hijokin_d_1 | H1: ='02_計算'!$X$17 | L1: authorized_by_mhlw
A2: 02 | B2: 医師 | C2: =CONCATENATE("p?_k??_jokin_",VALUE($A2)) -> p?_k??_jokin_2 | D2: ='02_計算'!$O$18 | E2: =CONCATENATE("p?_k??_hijokin_i_",VALUE($A2)) -> p?_k??_hijokin_i_2 | F2: ='02_計算'!$T$18 | G2: =CONCATENATE("p?_k??_hijokin_d_",VALUE($A2)) -> p?_k??_hijokin_d_2 | H2: ='02_計算'!$X$18 | L2: ↑このシートのL1セルに「authorized_by_mhlw」という文字があることで厚労省が発行したファイルであることを判定
A3: 03 | B3: 歯科衛生士 | C3: =CONCATENATE("p?_k??_jokin_",VALUE($A3)) -> p?_k??_jokin_3 | D3: ='02_計算'!$O$19 | E3: =CONCATENATE("p?_k??_hijokin_i_",VALUE($A3)) -> p?_k??_hijokin_i_3 | F3: ='02_計算'!$T$19 | G3: =CONCATENATE("p?_k??_hijokin_d_",VALUE($A3)) -> p?_k??_hijokin_d_3 | H3: ='02_計算'!$X$19 | L3: （ソースを解読すれば判定を突破するファイルを作成できてしまうのでお守り程度）
A4: 04 | B4: 歯科技工士 | C4: =CONCATENATE("p?_k??_jokin_",VALUE($A4)) -> p?_k??_jokin_4 | D4: ='02_計算'!$O$20 | E4: =CONCATENATE("p?_k??_hijokin_i_",VALUE($A4)) -> p?_k??_hijokin_i_4 | F4: ='02_計算'!$T$20 | G4: =CONCATENATE("p?_k??_hijokin_d_",VALUE($A4)) -> p?_k??_hijokin_d_4 | H4: ='02_計算'!$X$20
A5: 05 | B5: 薬剤師 | E5: =CONCATENATE("p?_k??_kansan_i_",VALUE($A5)) -> p?_k??_kansan_i_5 | F5: ='02_計算'!$T$25 | G5: =CONCATENATE("p?_k??_kansan_d_",VALUE($A5)) -> p?_k??_kansan_d_5 | H5: ='02_計算'!$X$25
A6: 06 | B6: 看護師 | C6: =CONCATENATE("p?_k??_jitsu_",VALUE($A6)) -> p?_k??_jitsu_6 | D6: ='02_計算'!$O$26 | E6: =CONCATENATE("p?_k??_kansan_i_",VALUE($A6)) -> p?_k??_kansan_i_6 | F6: ='02_計算'!$T$26 | G6: =CONCATENATE("p?_k??_kansan_d_",VALUE($A6)) -> p?_k??_kansan_d_6 | H6: ='02_計算'!$X$26
A7: 07 | B7: 准看護師 | C7: =CONCATENATE("p?_k??_jitsu_",VALUE($A7)) -> p?_k??_jitsu_7 | D7: ='02_計算'!$O$27 | E7: =CONCATENATE("p?_k??_kansan_i_",VALUE($A7)) -> p?_k??_kansan_i_7 | F7: ='02_計算'!$T$27 | G7: =CONCATENATE("p?_k??_kansan_d_",VALUE($A7)) -> p?_k??_kansan_d_7 | H7: ='02_計算'!$X$27
A8: 08 | B8: 歯科業務補助者 | E8: =CONCATENATE("p?_k??_kansan_i_",VALUE($A8)) -> p?_k??_kansan_i_8 | F8: ='02_計算'!$T$28 | G8: =CONCATENATE("p?_k??_kansan_d_",VALUE($A8)) -> p?_k??_kansan_d_8 | H8: ='02_計算'!$X$28
A9: 09 | B9: 事務職員 | E9: =CONCATENATE("p?_k??_kansan_i_",VALUE($A9)) -> p?_k??_kansan_i_9 | F9: ='02_計算'!$T$29 | G9: =CONCATENATE("p?_k??_kansan_d_",VALUE($A9)) -> p?_k??_kansan_d_9 | H9: ='02_計算'!$X$29
A10: 10 | B10: その他の職員 | E10: =CONCATENATE("p?_k??_kansan_i_",VALUE($A10)) -> p?_k??_kansan_i_10 | F10: ='02_計算'!$T$30 | G10: =CONCATENATE("p?_k??_kansan_d_",VALUE($A10)) -> p?_k??_kansan_d_10 | H10: ='02_計算'!$X$30
