{"text_format":"1","workbook":"xlsx","n_sheets":4,"sheets":["トップ画面","データ転記用","中間生成","分析結果"],"not_rendered":{"charts":1,"images":0,"macros":1,"external_links":0,"defined_names":3,"comments":0,"pivot_tables":0},"unopened":[],"bounds":{"document_bytes":16777216,"sheet_cells":100000,"rows_first":2000,"rows_last":500,"rows_between":2000,"halvings":0,"cell_chars":16384,"cell_head_chars":4096},"cells_cut":0,"cells_raw":0,"read":"whole","date_system":"1900"}

{"sheet":"トップ画面","index":0,"n_rows":23,"n_cols":3,"rows_kept":23,"cut":false,"hidden":false,"merged":[[5,2,5,3]]}
[]
["************************************************************************************************************************************************************************"]
[]
[null,null,"課題抽出グラフ生成ツール（職員向け課題把握シート集計ツール）"]
[]
[null,null,"指定訪問介護"]
["************************************************************************************************************************************************************************"]
[]
[]
[]
[]
[]
[]
[null,"1.説明"]
[null,null,"職員向け調査票を一つのフォルダに集めてください。その後、以下の2.使用方法に沿って作業してください。"]
[]
[null,"2.使用方法"]
[null,null,"(1)上記の左ボタン（\"データ抽出実行\"）をクリックする。"]
[null,null,"(2)調査票が格納してあるフォルダを選択する。"]
[null,null,"(3)データ転記用シートに回答が転記される。"]
[]
[null,"3.注意事項"]
[null,null,"続けて作業する場合は、本操作を実行する前に上記の右ボタン（\"全部消去\"）を押し、データを全て消去してください。"]

{"sheet":"データ転記用","index":1,"n_rows":9,"n_cols":40,"rows_kept":9,"cut":false,"hidden":false,"merged":[]}
[null,"事業所管理者用分析ツール"]
[]
[]
[null,null,null,"J6","J7","J8","J9","J10","J11","J12","J13","J14","J15","J16","J17","J18","J19","J20","J21","J22","J23","J24","J25","J26","J27","J28","J29","J30","J31","J32","J33","J34","J35","J36","J37","J38","J39","J40","J41","J42"]
[]
[null,"#","File_name","Q1","Q2","Q3","Q4","Q5","Q6","Q7","Q8","Q9","Q10","Q11","Q12","Q13","Q14","Q15","Q16","Q17","Q18","Q19","Q20","Q21","Q22","Q23","Q24","Q25","Q26","Q27","Q28","Q29","Q30","Q31","Q32","Q33","Q34","Q35","Q36","Q37"]
[]
[]
[null,null,"200212__自己点検ツール 職員用課題把握シート_サンプル１.xlsx",null,null,"✓","✓",null,"✓",null,null,null,null,null,null,null,"✓",null,null,"✓",null,null,"✓","✓",null,null,null,null,null,null,"✓"]

{"sheet":"中間生成","index":2,"n_rows":60,"n_cols":40,"rows_kept":60,"cut":false,"hidden":false,"merged":[]}
[null,"事業所管理者用分析ツール"]
[]
[]
[null,null,null,"J6","J7","J8","J9","J10","J11","J12","J13","J14","J15","J16","J17","J18","J19","J20","J21","J22","J23","J24","J25","J26","J27","J28","J29","J30","J31","J32","J33","J34","J35","J36","J37","J38","J39","J40","J41","J42"]
[null,null,null,"あなたはケアに必要な利用者情報（ケア内容・利用者の状況等）を把握した上で、\n利用者宅を訪問しているか","あなたは一日の訪問スケジュールを把握し、事業所を出発しているか","あなたは訪問スケジュールの作成を速やかに作成しているか","あなたの事業所では効率的な訪問ルート作成の方法・コツを共有しているか","あなたは訪問・移動に非効率が生じないよう、適切な訪問ルートを設計しているか","あなたは急な訪問スケジュール変更が発生した際にも、忘れず利用者宅を訪問しているか","あなたは休憩時間をしっかり確保しているか","急な訪問キャンセルや隙間時間が発生した場合も、時間を有効活用しているか","あなたは利用者宅でのサービス提供の開始・終了について随時、サービス提供責任者に共有しているか","あなたの事業所では、提供方法・内容にバラつきが生じることなく、サービスを提供しているか","あなたは法規制や契約内容に則ったサービスを提供しているか","あなたは利用者及び家族に対して、適切な頻度・手段・内容のコミュニケーションをとっているか","あなたの事業所では、書類作成にかかるフォーマットを規定しているか","あなたはITツール（PC・スマートフォンなど）を不便なく使い、記録を作成しているか","あなたの事業所では記録を作成するにあたり、転記作業が生じないよう工夫しているか","あなたの事業所では利用者の記録を、必要な時に検索・閲覧することができる仕組みを構築しているか","あなたは利用者に関する申し送り事項を、漏れなく共有しているか","あなたの事業所は緊急時に、即時の対応が可能な職員への連絡を行う体制を構築しているか","あなたは事業所へ連絡する内容に応じて、相手・頻度・手段（電話・メール・書類等）を把握し、連絡しているか","あなたは適切なタイミングで、管理者とコミュニケーションを取っているか","あなたは困ったことがあったら、気軽に事業所の同僚・管理者に相談しているか","あなたの事業所では、リスクマネジメント、ヒヤリハットに関わる情報共有を徹底しているか","あなたはケアマネジャーへの伝達内容に応じた適切な連絡頻度・連絡手段（電話・メール・書類等）を把握し、実行しているか","あなたはケアマネジャーへ連絡する内容に応じて、頻度・手段（電話・メール・書類等）を把握し、連絡しているか","あなたはケアマネジャーへの報告書について、記載する分量や内容に配慮して作成しているか","あなたは事業所外部へ連絡する内容に応じて、相手・頻度・手段（電話・メール・書類等）を把握し、連絡しているか","あなたの事業所では、事業所外部（居宅介護支援事業所等）と共有する書式について、できる限りフォーマットを揃えるなどの工夫をしているか","あなたの事業所では、各種間接業務について、特定の者に依存するなく、適切に役割分担しているか","あなたの事業所では、急遽職員のシフトに変更が生じた場合でも、支障なくサービス提供できる体制を構築しているか","あなたの事業所では、事業所の理念や方針を職員に浸透させる取り組みをしているか","あなたの事業所では、各自の業務スキル・効率性に差が出ないよう、実態に即した業務手順書を作成しているか","あなたの事業所では、スタッフのケアスキル向上のための、研修やワークショップを定期的に実施しているか","あなたの事業所では、新任の職員に対して効果的なOJTを実施しているか","あなたはサービス提供における安全管理の取り組みを徹底しているか","あなたの事業所では、物品管理のルールを徹底しているか","あなたは事業所内を常に整理整頓しているか","あなたは業務スペースを常に整理整頓しているか"]
[null,"#","File_name","Q1","Q2","Q3","Q4","Q5","Q6","Q7","Q8","Q9","Q10","Q11","Q12","Q13","Q14","Q15","Q16","Q17","Q18","Q19","Q20","Q21","Q22","Q23","Q24","Q25","Q26","Q27","Q28","Q29","Q30","Q31","Q32","Q33","Q34","Q35","Q36","Q37"]
[null,null,null,{"$f":"IF(データ転記用!D7<>\"\",1,\"\")","v":""},{"$f":"IF(データ転記用!E7<>\"\",1,\"\")","v":""},{"$f":"IF(データ転記用!F7<>\"\",1,\"\")","v":""},{"$f":"IF(データ転記用!G7<>\"\",1,\"\")","v":""},{"$f":"IF(データ転記用!H7<>\"\",1,\"\")","v":""},{"$f":"IF(データ転記用!I7<>\"\",1,\"\")","v":""},{"$f":"IF(データ転記用!J7<>\"\",1,\"\")","v":""},{"$f":"IF(データ転記用!K7<>\"\",1,\"\")","v":""},{"$f":"IF(データ転記用!L7<>\"\",1,\"\")","v":""},{"$f":"IF(データ転記用!M7<>\"\",1,\"\")","v":""},{"$f":"IF(データ転記用!N7<>\"\",1,\"\")","v":""},{"$f":"IF(データ転記用!O7<>\"\",1,\"\")","v":""},{"$f":"IF(データ転記用!P7<>\"\",1,\"\")","v":""},{"$f":"IF(データ転記用!Q7<>\"\",1,\"\")","v":""},{"$f":"IF(データ転記用!R7<>\"\",1,\"\")","v":""},{"$f":"IF(データ転記用!S7<>\"\",1,\"\")","v":""},{"$f":"IF(データ転記用!T7<>\"\",1,\"\")","v":""},{"$f":"IF(データ転記用!U7<>\"\",1,\"\")","v":""},{"$f":"IF(データ転記用!V7<>\"\",1,\"\")","v":""},{"$f":"IF(データ転記用!W7<>\"\",1,\"\")","v":""},{"$f":"IF(データ転記用!X7<>\"\",1,\"\")","v":""},{"$f":"IF(データ転記用!Y7<>\"\",1,\"\")","v":""},{"$f":"IF(データ転記用!Z7<>\"\",1,\"\")","v":""},{"$f":"IF(データ転記用!AA7<>\"\",1,\"\")","v":""},{"$f":"IF(データ転記用!AB7<>\"\",1,\"\")","v":""},{"$f":"IF(データ転記用!AC7<>\"\",1,\"\")","v":""},{"$f":"IF(データ転記用!AD7<>\"\",1,\"\")","v":""},{"$f":"IF(データ転記用!AE7<>\"\",1,\"\")","v":""},{"$f":"IF(データ転記用!AF7<>\"\",1,\"\")","v":""},{"$f":"IF(データ転記用!AG7<>\"\",1,\"\")","v":""},{"$f":"IF(データ転記用!AH7<>\"\",1,\"\")","v":""},{"$f":"IF(データ転記用!AI7<>\"\",1,\"\")","v":""},{"$f":"IF(データ転記用!AJ7<>\"\",1,\"\")","v":""},{"$f":"IF(データ転記用!AK7<>\"\",1,\"\")","v":""},{"$f":"IF(データ転記用!AL7<>\"\",1,\"\")","v":""},{"$f":"IF(データ転記用!AM7<>\"\",1,\"\")","v":""},{"$f":"IF(データ転記用!AN7<>\"\",1,\"\")","v":""}]
[null,null,null,{"$f":"IF(データ転記用!D8<>\"\",1,\"\")","v":""},{"$f":"IF(データ転記用!E8<>\"\",1,\"\")","v":""},{"$f":"IF(データ転記用!F8<>\"\",1,\"\")","v":""},{"$f":"IF(データ転記用!G8<>\"\",1,\"\")","v":""},{"$f":"IF(データ転記用!H8<>\"\",1,\"\")","v":""},{"$f":"IF(データ転記用!I8<>\"\",1,\"\")","v":""},{"$f":"IF(データ転記用!J8<>\"\",1,\"\")","v":""},{"$f":"IF(データ転記用!K8<>\"\",1,\"\")","v":""},{"$f":"IF(データ転記用!L8<>\"\",1,\"\")","v":""},{"$f":"IF(データ転記用!M8<>\"\",1,\"\")","v":""},{"$f":"IF(データ転記用!N8<>\"\",1,\"\")","v":""},{"$f":"IF(データ転記用!O8<>\"\",1,\"\")","v":""},{"$f":"IF(データ転記用!P8<>\"\",1,\"\")","v":""},{"$f":"IF(データ転記用!Q8<>\"\",1,\"\")","v":""},{"$f":"IF(データ転記用!R8<>\"\",1,\"\")","v":""},{"$f":"IF(データ転記用!S8<>\"\",1,\"\")","v":""},{"$f":"IF(データ転記用!T8<>\"\",1,\"\")","v":""},{"$f":"IF(データ転記用!U8<>\"\",1,\"\")","v":""},{"$f":"IF(データ転記用!V8<>\"\",1,\"\")","v":""},{"$f":"IF(データ転記用!W8<>\"\",1,\"\")","v":""},{"$f":"IF(データ転記用!X8<>\"\",1,\"\")","v":""},{"$f":"IF(データ転記用!Y8<>\"\",1,\"\")","v":""},{"$f":"IF(データ転記用!Z8<>\"\",1,\"\")","v":""},{"$f":"IF(データ転記用!AA8<>\"\",1,\"\")","v":""},{"$f":"IF(データ転記用!AB8<>\"\",1,\"\")","v":""},{"$f":"IF(データ転記用!AC8<>\"\",1,\"\")","v":""},{"$f":"IF(データ転記用!AD8<>\"\",1,\"\")","v":""},{"$f":"IF(データ転記用!AE8<>\"\",1,\"\")","v":""},{"$f":"IF(データ転記用!AF8<>\"\",1,\"\")","v":""},{"$f":"IF(データ転記用!AG8<>\"\",1,\"\")","v":""},{"$f":"IF(データ転記用!AH8<>\"\",1,\"\")","v":""},{"$f":"IF(データ転記用!AI8<>\"\",1,\"\")","v":""},{"$f":"IF(データ転記用!AJ8<>\"\",1,\"\")","v":""},{"$f":"IF(データ転記用!AK8<>\"\",1,\"\")","v":""},{"$f":"IF(データ転記用!AL8<>\"\",1,\"\")","v":""},{"$f":"IF(データ転記用!AM8<>\"\",1,\"\")","v":""},{"$f":"IF(データ転記用!AN8<>\"\",1,\"\")","v":""}]
[null,null,null,{"$f":"IF(データ転記用!D9<>\"\",1,\"\")","v":""},{"$f":"IF(データ転記用!E9<>\"\",1,\"\")","v":""},{"$f":"IF(データ転記用!F9<>\"\",1,\"\")","v":1},{"$f":"IF(データ転記用!G9<>\"\",1,\"\")","v":1},{"$f":"IF(データ転記用!H9<>\"\",1,\"\")","v":""},{"$f":"IF(データ転記用!I9<>\"\",1,\"\")","v":1},{"$f":"IF(データ転記用!J9<>\"\",1,\"\")","v":""},{"$f":"IF(データ転記用!K9<>\"\",1,\"\")","v":""},{"$f":"IF(データ転記用!L9<>\"\",1,\"\")","v":""},{"$f":"IF(データ転記用!M9<>\"\",1,\"\")","v":""},{"$f":"IF(データ転記用!N9<>\"\",1,\"\")","v":""},{"$f":"IF(データ転記用!O9<>\"\",1,\"\")","v":""},{"$f":"IF(データ転記用!P9<>\"\",1,\"\")","v":""},{"$f":"IF(データ転記用!Q9<>\"\",1,\"\")","v":1},{"$f":"IF(データ転記用!R9<>\"\",1,\"\")","v":""},{"$f":"IF(データ転記用!S9<>\"\",1,\"\")","v":""},{"$f":"IF(データ転記用!T9<>\"\",1,\"\")","v":1},{"$f":"IF(データ転記用!U9<>\"\",1,\"\")","v":""},{"$f":"IF(データ転記用!V9<>\"\",1,\"\")","v":""},{"$f":"IF(データ転記用!W9<>\"\",1,\"\")","v":1},{"$f":"IF(データ転記用!X9<>\"\",1,\"\")","v":1},{"$f":"IF(データ転記用!Y9<>\"\",1,\"\")","v":""},{"$f":"IF(データ転記用!Z9<>\"\",1,\"\")","v":""},{"$f":"IF(データ転記用!AA9<>\"\",1,\"\")","v":""},{"$f":"IF(データ転記用!AB9<>\"\",1,\"\")","v":""},{"$f":"IF(データ転記用!AC9<>\"\",1,\"\")","v":""},{"$f":"IF(データ転記用!AD9<>\"\",1,\"\")","v":""},{"$f":"IF(データ転記用!AE9<>\"\",1,\"\")","v":1},{"$f":"IF(データ転記用!AF9<>\"\",1,\"\")","v":""},{"$f":"IF(データ転記用!AG9<>\"\",1,\"\")","v":""},{"$f":"IF(データ転記用!AH9<>\"\",1,\"\")","v":""},{"$f":"IF(データ転記用!AI9<>\"\",1,\"\")","v":""},{"$f":"IF(データ転記用!AJ9<>\"\",1,\"\")","v":""},{"$f":"IF(データ転記用!AK9<>\"\",1,\"\")","v":""},{"$f":"IF(データ転記用!AL9<>\"\",1,\"\")","v":""},{"$f":"IF(データ転記用!AM9<>\"\",1,\"\")","v":""},{"$f":"IF(データ転記用!AN9<>\"\",1,\"\")","v":""}]
[null,null,null,{"$f":"IF(データ転記用!D10<>\"\",1,\"\")","v":""},{"$f":"IF(データ転記用!E10<>\"\",1,\"\")","v":""},{"$f":"IF(データ転記用!F10<>\"\",1,\"\")","v":""},{"$f":"IF(データ転記用!G10<>\"\",1,\"\")","v":""},{"$f":"IF(データ転記用!H10<>\"\",1,\"\")","v":""},{"$f":"IF(データ転記用!I10<>\"\",1,\"\")","v":""},{"$f":"IF(データ転記用!J10<>\"\",1,\"\")","v":""},{"$f":"IF(データ転記用!K10<>\"\",1,\"\")","v":""},{"$f":"IF(データ転記用!L10<>\"\",1,\"\")","v":""},{"$f":"IF(データ転記用!M10<>\"\",1,\"\")","v":""},{"$f":"IF(データ転記用!N10<>\"\",1,\"\")","v":""},{"$f":"IF(データ転記用!O10<>\"\",1,\"\")","v":""},{"$f":"IF(データ転記用!P10<>\"\",1,\"\")","v":""},{"$f":"IF(データ転記用!Q10<>\"\",1,\"\")","v":""},{"$f":"IF(データ転記用!R10<>\"\",1,\"\")","v":""},{"$f":"IF(データ転記用!S10<>\"\",1,\"\")","v":""},{"$f":"IF(データ転記用!T10<>\"\",1,\"\")","v":""},{"$f":"IF(データ転記用!U10<>\"\",1,\"\")","v":""},{"$f":"IF(データ転記用!V10<>\"\",1,\"\")","v":""},{"$f":"IF(データ転記用!W10<>\"\",1,\"\")","v":""},{"$f":"IF(データ転記用!X10<>\"\",1,\"\")","v":""},{"$f":"IF(データ転記用!Y10<>\"\",1,\"\")","v":""},{"$f":"IF(データ転記用!Z10<>\"\",1,\"\")","v":""},{"$f":"IF(データ転記用!AA10<>\"\",1,\"\")","v":""},{"$f":"IF(データ転記用!AB10<>\"\",1,\"\")","v":""},{"$f":"IF(データ転記用!AC10<>\"\",1,\"\")","v":""},{"$f":"IF(データ転記用!AD10<>\"\",1,\"\")","v":""},{"$f":"IF(データ転記用!AE10<>\"\",1,\"\")","v":""},{"$f":"IF(データ転記用!AF10<>\"\",1,\"\")","v":""},{"$f":"IF(データ転記用!AG10<>\"\",1,\"\")","v":""},{"$f":"IF(データ転記用!AH10<>\"\",1,\"\")","v":""},{"$f":"IF(データ転記用!AI10<>\"\",1,\"\")","v":""},{"$f":"IF(データ転記用!AJ10<>\"\",1,\"\")","v":""},{"$f":"IF(データ転記用!AK10<>\"\",1,\"\")","v":""},{"$f":"IF(データ転記用!AL10<>\"\",1,\"\")","v":""},{"$f":"IF(データ転記用!AM10<>\"\",1,\"\")","v":""},{"$f":"IF(データ転記用!AN10<>\"\",1,\"\")","v":""}]
[null,null,null,{"$f":"IF(データ転記用!D11<>\"\",1,\"\")","v":""},{"$f":"IF(データ転記用!E11<>\"\",1,\"\")","v":""},{"$f":"IF(データ転記用!F11<>\"\",1,\"\")","v":""},{"$f":"IF(データ転記用!G11<>\"\",1,\"\")","v":""},{"$f":"IF(データ転記用!H11<>\"\",1,\"\")","v":""},{"$f":"IF(データ転記用!I11<>\"\",1,\"\")","v":""},{"$f":"IF(データ転記用!J11<>\"\",1,\"\")","v":""},{"$f":"IF(データ転記用!K11<>\"\",1,\"\")","v":""},{"$f":"IF(データ転記用!L11<>\"\",1,\"\")","v":""},{"$f":"IF(データ転記用!M11<>\"\",1,\"\")","v":""},{"$f":"IF(データ転記用!N11<>\"\",1,\"\")","v":""},{"$f":"IF(データ転記用!O11<>\"\",1,\"\")","v":""},{"$f":"IF(データ転記用!P11<>\"\",1,\"\")","v":""},{"$f":"IF(データ転記用!Q11<>\"\",1,\"\")","v":""},{"$f":"IF(データ転記用!R11<>\"\",1,\"\")","v":""},{"$f":"IF(データ転記用!S11<>\"\",1,\"\")","v":""},{"$f":"IF(データ転記用!T11<>\"\",1,\"\")","v":""},{"$f":"IF(データ転記用!U11<>\"\",1,\"\")","v":""},{"$f":"IF(データ転記用!V11<>\"\",1,\"\")","v":""},{"$f":"IF(データ転記用!W11<>\"\",1,\"\")","v":""},{"$f":"IF(データ転記用!X11<>\"\",1,\"\")","v":""},{"$f":"IF(データ転記用!Y11<>\"\",1,\"\")","v":""},{"$f":"IF(データ転記用!Z11<>\"\",1,\"\")","v":""},{"$f":"IF(データ転記用!AA11<>\"\",1,\"\")","v":""},{"$f":"IF(データ転記用!AB11<>\"\",1,\"\")","v":""},{"$f":"IF(データ転記用!AC11<>\"\",1,\"\")","v":""},{"$f":"IF(データ転記用!AD11<>\"\",1,\"\")","v":""},{"$f":"IF(データ転記用!AE11<>\"\",1,\"\")","v":""},{"$f":"IF(データ転記用!AF11<>\"\",1,\"\")","v":""},{"$f":"IF(データ転記用!AG11<>\"\",1,\"\")","v":""},{"$f":"IF(データ転記用!AH11<>\"\",1,\"\")","v":""},{"$f":"IF(データ転記用!AI11<>\"\",1,\"\")","v":""},{"$f":"IF(データ転記用!AJ11<>\"\",1,\"\")","v":""},{"$f":"IF(データ転記用!AK11<>\"\",1,\"\")","v":""},{"$f":"IF(データ転記用!AL11<>\"\",1,\"\")","v":""},{"$f":"IF(データ転記用!AM11<>\"\",1,\"\")","v":""},{"$f":"IF(データ転記用!AN11<>\"\",1,\"\")","v":""}]
[null,null,null,{"$f":"IF(データ転記用!D12<>\"\",1,\"\")","v":""},{"$f":"IF(データ転記用!E12<>\"\",1,\"\")","v":""},{"$f":"IF(データ転記用!F12<>\"\",1,\"\")","v":""},{"$f":"IF(データ転記用!G12<>\"\",1,\"\")","v":""},{"$f":"IF(データ転記用!H12<>\"\",1,\"\")","v":""},{"$f":"IF(データ転記用!I12<>\"\",1,\"\")","v":""},{"$f":"IF(データ転記用!J12<>\"\",1,\"\")","v":""},{"$f":"IF(データ転記用!K12<>\"\",1,\"\")","v":""},{"$f":"IF(データ転記用!L12<>\"\",1,\"\")","v":""},{"$f":"IF(データ転記用!M12<>\"\",1,\"\")","v":""},{"$f":"IF(データ転記用!N12<>\"\",1,\"\")","v":""},{"$f":"IF(データ転記用!O12<>\"\",1,\"\")","v":""},{"$f":"IF(データ転記用!P12<>\"\",1,\"\")","v":""},{"$f":"IF(データ転記用!Q12<>\"\",1,\"\")","v":""},{"$f":"IF(データ転記用!R12<>\"\",1,\"\")","v":""},{"$f":"IF(データ転記用!S12<>\"\",1,\"\")","v":""},{"$f":"IF(データ転記用!T12<>\"\",1,\"\")","v":""},{"$f":"IF(データ転記用!U12<>\"\",1,\"\")","v":""},{"$f":"IF(データ転記用!V12<>\"\",1,\"\")","v":""},{"$f":"IF(データ転記用!W12<>\"\",1,\"\")","v":""},{"$f":"IF(データ転記用!X12<>\"\",1,\"\")","v":""},{"$f":"IF(データ転記用!Y12<>\"\",1,\"\")","v":""},{"$f":"IF(データ転記用!Z12<>\"\",1,\"\")","v":""},{"$f":"IF(データ転記用!AA12<>\"\",1,\"\")","v":""},{"$f":"IF(データ転記用!AB12<>\"\",1,\"\")","v":""},{"$f":"IF(データ転記用!AC12<>\"\",1,\"\")","v":""},{"$f":"IF(データ転記用!AD12<>\"\",1,\"\")","v":""},{"$f":"IF(データ転記用!AE12<>\"\",1,\"\")","v":""},{"$f":"IF(データ転記用!AF12<>\"\",1,\"\")","v":""},{"$f":"IF(データ転記用!AG12<>\"\",1,\"\")","v":""},{"$f":"IF(データ転記用!AH12<>\"\",1,\"\")","v":""},{"$f":"IF(データ転記用!AI12<>\"\",1,\"\")","v":""},{"$f":"IF(データ転記用!AJ12<>\"\",1,\"\")","v":""},{"$f":"IF(データ転記用!AK12<>\"\",1,\"\")","v":""},{"$f":"IF(データ転記用!AL12<>\"\",1,\"\")","v":""},{"$f":"IF(データ転記用!AM12<>\"\",1,\"\")","v":""},{"$f":"IF(データ転記用!AN12<>\"\",1,\"\")","v":""}]
[null,null,null,{"$f":"IF(データ転記用!D13<>\"\",1,\"\")","v":""},{"$f":"IF(データ転記用!E13<>\"\",1,\"\")","v":""},{"$f":"IF(データ転記用!F13<>\"\",1,\"\")","v":""},{"$f":"IF(データ転記用!G13<>\"\",1,\"\")","v":""},{"$f":"IF(データ転記用!H13<>\"\",1,\"\")","v":""},{"$f":"IF(データ転記用!I13<>\"\",1,\"\")","v":""},{"$f":"IF(データ転記用!J13<>\"\",1,\"\")","v":""},{"$f":"IF(データ転記用!K13<>\"\",1,\"\")","v":""},{"$f":"IF(データ転記用!L13<>\"\",1,\"\")","v":""},{"$f":"IF(データ転記用!M13<>\"\",1,\"\")","v":""},{"$f":"IF(データ転記用!N13<>\"\",1,\"\")","v":""},{"$f":"IF(データ転記用!O13<>\"\",1,\"\")","v":""},{"$f":"IF(データ転記用!P13<>\"\",1,\"\")","v":""},{"$f":"IF(データ転記用!Q13<>\"\",1,\"\")","v":""},{"$f":"IF(データ転記用!R13<>\"\",1,\"\")","v":""},{"$f":"IF(データ転記用!S13<>\"\",1,\"\")","v":""},{"$f":"IF(データ転記用!T13<>\"\",1,\"\")","v":""},{"$f":"IF(データ転記用!U13<>\"\",1,\"\")","v":""},{"$f":"IF(データ転記用!V13<>\"\",1,\"\")","v":""},{"$f":"IF(データ転記用!W13<>\"\",1,\"\")","v":""},{"$f":"IF(データ転記用!X13<>\"\",1,\"\")","v":""},{"$f":"IF(データ転記用!Y13<>\"\",1,\"\")","v":""},{"$f":"IF(データ転記用!Z13<>\"\",1,\"\")","v":""},{"$f":"IF(データ転記用!AA13<>\"\",1,\"\")","v":""},{"$f":"IF(データ転記用!AB13<>\"\",1,\"\")","v":""},{"$f":"IF(データ転記用!AC13<>\"\",1,\"\")","v":""},{"$f":"IF(データ転記用!AD13<>\"\",1,\"\")","v":""},{"$f":"IF(データ転記用!AE13<>\"\",1,\"\")","v":""},{"$f":"IF(データ転記用!AF13<>\"\",1,\"\")","v":""},{"$f":"IF(データ転記用!AG13<>\"\",1,\"\")","v":""},{"$f":"IF(データ転記用!AH13<>\"\",1,\"\")","v":""},{"$f":"IF(データ転記用!AI13<>\"\",1,\"\")","v":""},{"$f":"IF(データ転記用!AJ13<>\"\",1,\"\")","v":""},{"$f":"IF(データ転記用!AK13<>\"\",1,\"\")","v":""},{"$f":"IF(データ転記用!AL13<>\"\",1,\"\")","v":""},{"$f":"IF(データ転記用!AM13<>\"\",1,\"\")","v":""},{"$f":"IF(データ転記用!AN13<>\"\",1,\"\")","v":""}]
[null,null,null,{"$f":"IF(データ転記用!D14<>\"\",1,\"\")","v":""},{"$f":"IF(データ転記用!E14<>\"\",1,\"\")","v":""},{"$f":"IF(データ転記用!F14<>\"\",1,\"\")","v":""},{"$f":"IF(データ転記用!G14<>\"\",1,\"\")","v":""},{"$f":"IF(データ転記用!H14<>\"\",1,\"\")","v":""},{"$f":"IF(データ転記用!I14<>\"\",1,\"\")","v":""},{"$f":"IF(データ転記用!J14<>\"\",1,\"\")","v":""},{"$f":"IF(データ転記用!K14<>\"\",1,\"\")","v":""},{"$f":"IF(データ転記用!L14<>\"\",1,\"\")","v":""},{"$f":"IF(データ転記用!M14<>\"\",1,\"\")","v":""},{"$f":"IF(データ転記用!N14<>\"\",1,\"\")","v":""},{"$f":"IF(データ転記用!O14<>\"\",1,\"\")","v":""},{"$f":"IF(データ転記用!P14<>\"\",1,\"\")","v":""},{"$f":"IF(データ転記用!Q14<>\"\",1,\"\")","v":""},{"$f":"IF(データ転記用!R14<>\"\",1,\"\")","v":""},{"$f":"IF(データ転記用!S14<>\"\",1,\"\")","v":""},{"$f":"IF(データ転記用!T14<>\"\",1,\"\")","v":""},{"$f":"IF(データ転記用!U14<>\"\",1,\"\")","v":""},{"$f":"IF(データ転記用!V14<>\"\",1,\"\")","v":""},{"$f":"IF(データ転記用!W14<>\"\",1,\"\")","v":""},{"$f":"IF(データ転記用!X14<>\"\",1,\"\")","v":""},{"$f":"IF(データ転記用!Y14<>\"\",1,\"\")","v":""},{"$f":"IF(データ転記用!Z14<>\"\",1,\"\")","v":""},{"$f":"IF(データ転記用!AA14<>\"\",1,\"\")","v":""},{"$f":"IF(データ転記用!AB14<>\"\",1,\"\")","v":""},{"$f":"IF(データ転記用!AC14<>\"\",1,\"\")","v":""},{"$f":"IF(データ転記用!AD14<>\"\",1,\"\")","v":""},{"$f":"IF(データ転記用!AE14<>\"\",1,\"\")","v":""},{"$f":"IF(データ転記用!AF14<>\"\",1,\"\")","v":""},{"$f":"IF(データ転記用!AG14<>\"\",1,\"\")","v":""},{"$f":"IF(データ転記用!AH14<>\"\",1,\"\")","v":""},{"$f":"IF(データ転記用!AI14<>\"\",1,\"\")","v":""},{"$f":"IF(データ転記用!AJ14<>\"\",1,\"\")","v":""},{"$f":"IF(データ転記用!AK14<>\"\",1,\"\")","v":""},{"$f":"IF(データ転記用!AL14<>\"\",1,\"\")","v":""},{"$f":"IF(データ転記用!AM14<>\"\",1,\"\")","v":""},{"$f":"IF(データ転記用!AN14<>\"\",1,\"\")","v":""}]
[null,null,null,{"$f":"IF(データ転記用!D15<>\"\",1,\"\")","v":""},{"$f":"IF(データ転記用!E15<>\"\",1,\"\")","v":""},{"$f":"IF(データ転記用!F15<>\"\",1,\"\")","v":""},{"$f":"IF(データ転記用!G15<>\"\",1,\"\")","v":""},{"$f":"IF(データ転記用!H15<>\"\",1,\"\")","v":""},{"$f":"IF(データ転記用!I15<>\"\",1,\"\")","v":""},{"$f":"IF(データ転記用!J15<>\"\",1,\"\")","v":""},{"$f":"IF(データ転記用!K15<>\"\",1,\"\")","v":""},{"$f":"IF(データ転記用!L15<>\"\",1,\"\")","v":""},{"$f":"IF(データ転記用!M15<>\"\",1,\"\")","v":""},{"$f":"IF(データ転記用!N15<>\"\",1,\"\")","v":""},{"$f":"IF(データ転記用!O15<>\"\",1,\"\")","v":""},{"$f":"IF(データ転記用!P15<>\"\",1,\"\")","v":""},{"$f":"IF(データ転記用!Q15<>\"\",1,\"\")","v":""},{"$f":"IF(データ転記用!R15<>\"\",1,\"\")","v":""},{"$f":"IF(データ転記用!S15<>\"\",1,\"\")","v":""},{"$f":"IF(データ転記用!T15<>\"\",1,\"\")","v":""},{"$f":"IF(データ転記用!U15<>\"\",1,\"\")","v":""},{"$f":"IF(データ転記用!V15<>\"\",1,\"\")","v":""},{"$f":"IF(データ転記用!W15<>\"\",1,\"\")","v":""},{"$f":"IF(データ転記用!X15<>\"\",1,\"\")","v":""},{"$f":"IF(データ転記用!Y15<>\"\",1,\"\")","v":""},{"$f":"IF(データ転記用!Z15<>\"\",1,\"\")","v":""},{"$f":"IF(データ転記用!AA15<>\"\",1,\"\")","v":""},{"$f":"IF(データ転記用!AB15<>\"\",1,\"\")","v":""},{"$f":"IF(データ転記用!AC15<>\"\",1,\"\")","v":""},{"$f":"IF(データ転記用!AD15<>\"\",1,\"\")","v":""},{"$f":"IF(データ転記用!AE15<>\"\",1,\"\")","v":""},{"$f":"IF(データ転記用!AF15<>\"\",1,\"\")","v":""},{"$f":"IF(データ転記用!AG15<>\"\",1,\"\")","v":""},{"$f":"IF(データ転記用!AH15<>\"\",1,\"\")","v":""},{"$f":"IF(データ転記用!AI15<>\"\",1,\"\")","v":""},{"$f":"IF(データ転記用!AJ15<>\"\",1,\"\")","v":""},{"$f":"IF(データ転記用!AK15<>\"\",1,\"\")","v":""},{"$f":"IF(データ転記用!AL15<>\"\",1,\"\")","v":""},{"$f":"IF(データ転記用!AM15<>\"\",1,\"\")","v":""},{"$f":"IF(データ転記用!AN15<>\"\",1,\"\")","v":""}]
[null,null,null,{"$f":"IF(データ転記用!D16<>\"\",1,\"\")","v":""},{"$f":"IF(データ転記用!E16<>\"\",1,\"\")","v":""},{"$f":"IF(データ転記用!F16<>\"\",1,\"\")","v":""},{"$f":"IF(データ転記用!G16<>\"\",1,\"\")","v":""},{"$f":"IF(データ転記用!H16<>\"\",1,\"\")","v":""},{"$f":"IF(データ転記用!I16<>\"\",1,\"\")","v":""},{"$f":"IF(データ転記用!J16<>\"\",1,\"\")","v":""},{"$f":"IF(データ転記用!K16<>\"\",1,\"\")","v":""},{"$f":"IF(データ転記用!L16<>\"\",1,\"\")","v":""},{"$f":"IF(データ転記用!M16<>\"\",1,\"\")","v":""},{"$f":"IF(データ転記用!N16<>\"\",1,\"\")","v":""},{"$f":"IF(データ転記用!O16<>\"\",1,\"\")","v":""},{"$f":"IF(データ転記用!P16<>\"\",1,\"\")","v":""},{"$f":"IF(データ転記用!Q16<>\"\",1,\"\")","v":""},{"$f":"IF(データ転記用!R16<>\"\",1,\"\")","v":""},{"$f":"IF(データ転記用!S16<>\"\",1,\"\")","v":""},{"$f":"IF(データ転記用!T16<>\"\",1,\"\")","v":""},{"$f":"IF(データ転記用!U16<>\"\",1,\"\")","v":""},{"$f":"IF(データ転記用!V16<>\"\",1,\"\")","v":""},{"$f":"IF(データ転記用!W16<>\"\",1,\"\")","v":""},{"$f":"IF(データ転記用!X16<>\"\",1,\"\")","v":""},{"$f":"IF(データ転記用!Y16<>\"\",1,\"\")","v":""},{"$f":"IF(データ転記用!Z16<>\"\",1,\"\")","v":""},{"$f":"IF(データ転記用!AA16<>\"\",1,\"\")","v":""},{"$f":"IF(データ転記用!AB16<>\"\",1,\"\")","v":""},{"$f":"IF(データ転記用!AC16<>\"\",1,\"\")","v":""},{"$f":"IF(データ転記用!AD16<>\"\",1,\"\")","v":""},{"$f":"IF(データ転記用!AE16<>\"\",1,\"\")","v":""},{"$f":"IF(データ転記用!AF16<>\"\",1,\"\")","v":""},{"$f":"IF(データ転記用!AG16<>\"\",1,\"\")","v":""},{"$f":"IF(データ転記用!AH16<>\"\",1,\"\")","v":""},{"$f":"IF(データ転記用!AI16<>\"\",1,\"\")","v":""},{"$f":"IF(データ転記用!AJ16<>\"\",1,\"\")","v":""},{"$f":"IF(データ転記用!AK16<>\"\",1,\"\")","v":""},{"$f":"IF(データ転記用!AL16<>\"\",1,\"\")","v":""},{"$f":"IF(データ転記用!AM16<>\"\",1,\"\")","v":""},{"$f":"IF(データ転記用!AN16<>\"\",1,\"\")","v":""}]
[null,null,null,{"$f":"IF(データ転記用!D17<>\"\",1,\"\")","v":""},{"$f":"IF(データ転記用!E17<>\"\",1,\"\")","v":""},{"$f":"IF(データ転記用!F17<>\"\",1,\"\")","v":""},{"$f":"IF(データ転記用!G17<>\"\",1,\"\")","v":""},{"$f":"IF(データ転記用!H17<>\"\",1,\"\")","v":""},{"$f":"IF(データ転記用!I17<>\"\",1,\"\")","v":""},{"$f":"IF(データ転記用!J17<>\"\",1,\"\")","v":""},{"$f":"IF(データ転記用!K17<>\"\",1,\"\")","v":""},{"$f":"IF(データ転記用!L17<>\"\",1,\"\")","v":""},{"$f":"IF(データ転記用!M17<>\"\",1,\"\")","v":""},{"$f":"IF(データ転記用!N17<>\"\",1,\"\")","v":""},{"$f":"IF(データ転記用!O17<>\"\",1,\"\")","v":""},{"$f":"IF(データ転記用!P17<>\"\",1,\"\")","v":""},{"$f":"IF(データ転記用!Q17<>\"\",1,\"\")","v":""},{"$f":"IF(データ転記用!R17<>\"\",1,\"\")","v":""},{"$f":"IF(データ転記用!S17<>\"\",1,\"\")","v":""},{"$f":"IF(データ転記用!T17<>\"\",1,\"\")","v":""},{"$f":"IF(データ転記用!U17<>\"\",1,\"\")","v":""},{"$f":"IF(データ転記用!V17<>\"\",1,\"\")","v":""},{"$f":"IF(データ転記用!W17<>\"\",1,\"\")","v":""},{"$f":"IF(データ転記用!X17<>\"\",1,\"\")","v":""},{"$f":"IF(データ転記用!Y17<>\"\",1,\"\")","v":""},{"$f":"IF(データ転記用!Z17<>\"\",1,\"\")","v":""},{"$f":"IF(データ転記用!AA17<>\"\",1,\"\")","v":""},{"$f":"IF(データ転記用!AB17<>\"\",1,\"\")","v":""},{"$f":"IF(データ転記用!AC17<>\"\",1,\"\")","v":""},{"$f":"IF(データ転記用!AD17<>\"\",1,\"\")","v":""},{"$f":"IF(データ転記用!AE17<>\"\",1,\"\")","v":""},{"$f":"IF(データ転記用!AF17<>\"\",1,\"\")","v":""},{"$f":"IF(データ転記用!AG17<>\"\",1,\"\")","v":""},{"$f":"IF(データ転記用!AH17<>\"\",1,\"\")","v":""},{"$f":"IF(データ転記用!AI17<>\"\",1,\"\")","v":""},{"$f":"IF(データ転記用!AJ17<>\"\",1,\"\")","v":""},{"$f":"IF(データ転記用!AK17<>\"\",1,\"\")","v":""},{"$f":"IF(データ転記用!AL17<>\"\",1,\"\")","v":""},{"$f":"IF(データ転記用!AM17<>\"\",1,\"\")","v":""},{"$f":"IF(データ転記用!AN17<>\"\",1,\"\")","v":""}]
[null,null,null,{"$f":"IF(データ転記用!D18<>\"\",1,\"\")","v":""},{"$f":"IF(データ転記用!E18<>\"\",1,\"\")","v":""},{"$f":"IF(データ転記用!F18<>\"\",1,\"\")","v":""},{"$f":"IF(データ転記用!G18<>\"\",1,\"\")","v":""},{"$f":"IF(データ転記用!H18<>\"\",1,\"\")","v":""},{"$f":"IF(データ転記用!I18<>\"\",1,\"\")","v":""},{"$f":"IF(データ転記用!J18<>\"\",1,\"\")","v":""},{"$f":"IF(データ転記用!K18<>\"\",1,\"\")","v":""},{"$f":"IF(データ転記用!L18<>\"\",1,\"\")","v":""},{"$f":"IF(データ転記用!M18<>\"\",1,\"\")","v":""},{"$f":"IF(データ転記用!N18<>\"\",1,\"\")","v":""},{"$f":"IF(データ転記用!O18<>\"\",1,\"\")","v":""},{"$f":"IF(データ転記用!P18<>\"\",1,\"\")","v":""},{"$f":"IF(データ転記用!Q18<>\"\",1,\"\")","v":""},{"$f":"IF(データ転記用!R18<>\"\",1,\"\")","v":""},{"$f":"IF(データ転記用!S18<>\"\",1,\"\")","v":""},{"$f":"IF(データ転記用!T18<>\"\",1,\"\")","v":""},{"$f":"IF(データ転記用!U18<>\"\",1,\"\")","v":""},{"$f":"IF(データ転記用!V18<>\"\",1,\"\")","v":""},{"$f":"IF(データ転記用!W18<>\"\",1,\"\")","v":""},{"$f":"IF(データ転記用!X18<>\"\",1,\"\")","v":""},{"$f":"IF(データ転記用!Y18<>\"\",1,\"\")","v":""},{"$f":"IF(データ転記用!Z18<>\"\",1,\"\")","v":""},{"$f":"IF(データ転記用!AA18<>\"\",1,\"\")","v":""},{"$f":"IF(データ転記用!AB18<>\"\",1,\"\")","v":""},{"$f":"IF(データ転記用!AC18<>\"\",1,\"\")","v":""},{"$f":"IF(データ転記用!AD18<>\"\",1,\"\")","v":""},{"$f":"IF(データ転記用!AE18<>\"\",1,\"\")","v":""},{"$f":"IF(データ転記用!AF18<>\"\",1,\"\")","v":""},{"$f":"IF(データ転記用!AG18<>\"\",1,\"\")","v":""},{"$f":"IF(データ転記用!AH18<>\"\",1,\"\")","v":""},{"$f":"IF(データ転記用!AI18<>\"\",1,\"\")","v":""},{"$f":"IF(データ転記用!AJ18<>\"\",1,\"\")","v":""},{"$f":"IF(データ転記用!AK18<>\"\",1,\"\")","v":""},{"$f":"IF(データ転記用!AL18<>\"\",1,\"\")","v":""},{"$f":"IF(データ転記用!AM18<>\"\",1,\"\")","v":""},{"$f":"IF(データ転記用!AN18<>\"\",1,\"\")","v":""}]
[null,null,null,{"$f":"IF(データ転記用!D19<>\"\",1,\"\")","v":""},{"$f":"IF(データ転記用!E19<>\"\",1,\"\")","v":""},{"$f":"IF(データ転記用!F19<>\"\",1,\"\")","v":""},{"$f":"IF(データ転記用!G19<>\"\",1,\"\")","v":""},{"$f":"IF(データ転記用!H19<>\"\",1,\"\")","v":""},{"$f":"IF(データ転記用!I19<>\"\",1,\"\")","v":""},{"$f":"IF(データ転記用!J19<>\"\",1,\"\")","v":""},{"$f":"IF(データ転記用!K19<>\"\",1,\"\")","v":""},{"$f":"IF(データ転記用!L19<>\"\",1,\"\")","v":""},{"$f":"IF(データ転記用!M19<>\"\",1,\"\")","v":""},{"$f":"IF(データ転記用!N19<>\"\",1,\"\")","v":""},{"$f":"IF(データ転記用!O19<>\"\",1,\"\")","v":""},{"$f":"IF(データ転記用!P19<>\"\",1,\"\")","v":""},{"$f":"IF(データ転記用!Q19<>\"\",1,\"\")","v":""},{"$f":"IF(データ転記用!R19<>\"\",1,\"\")","v":""},{"$f":"IF(データ転記用!S19<>\"\",1,\"\")","v":""},{"$f":"IF(データ転記用!T19<>\"\",1,\"\")","v":""},{"$f":"IF(データ転記用!U19<>\"\",1,\"\")","v":""},{"$f":"IF(データ転記用!V19<>\"\",1,\"\")","v":""},{"$f":"IF(データ転記用!W19<>\"\",1,\"\")","v":""},{"$f":"IF(データ転記用!X19<>\"\",1,\"\")","v":""},{"$f":"IF(データ転記用!Y19<>\"\",1,\"\")","v":""},{"$f":"IF(データ転記用!Z19<>\"\",1,\"\")","v":""},{"$f":"IF(データ転記用!AA19<>\"\",1,\"\")","v":""},{"$f":"IF(データ転記用!AB19<>\"\",1,\"\")","v":""},{"$f":"IF(データ転記用!AC19<>\"\",1,\"\")","v":""},{"$f":"IF(データ転記用!AD19<>\"\",1,\"\")","v":""},{"$f":"IF(データ転記用!AE19<>\"\",1,\"\")","v":""},{"$f":"IF(データ転記用!AF19<>\"\",1,\"\")","v":""},{"$f":"IF(データ転記用!AG19<>\"\",1,\"\")","v":""},{"$f":"IF(データ転記用!AH19<>\"\",1,\"\")","v":""},{"$f":"IF(データ転記用!AI19<>\"\",1,\"\")","v":""},{"$f":"IF(データ転記用!AJ19<>\"\",1,\"\")","v":""},{"$f":"IF(データ転記用!AK19<>\"\",1,\"\")","v":""},{"$f":"IF(データ転記用!AL19<>\"\",1,\"\")","v":""},{"$f":"IF(データ転記用!AM19<>\"\",1,\"\")","v":""},{"$f":"IF(データ転記用!AN19<>\"\",1,\"\")","v":""}]
[null,null,null,{"$f":"IF(データ転記用!D20<>\"\",1,\"\")","v":""},{"$f":"IF(データ転記用!E20<>\"\",1,\"\")","v":""},{"$f":"IF(データ転記用!F20<>\"\",1,\"\")","v":""},{"$f":"IF(データ転記用!G20<>\"\",1,\"\")","v":""},{"$f":"IF(データ転記用!H20<>\"\",1,\"\")","v":""},{"$f":"IF(データ転記用!I20<>\"\",1,\"\")","v":""},{"$f":"IF(データ転記用!J20<>\"\",1,\"\")","v":""},{"$f":"IF(データ転記用!K20<>\"\",1,\"\")","v":""},{"$f":"IF(データ転記用!L20<>\"\",1,\"\")","v":""},{"$f":"IF(データ転記用!M20<>\"\",1,\"\")","v":""},{"$f":"IF(データ転記用!N20<>\"\",1,\"\")","v":""},{"$f":"IF(データ転記用!O20<>\"\",1,\"\")","v":""},{"$f":"IF(データ転記用!P20<>\"\",1,\"\")","v":""},{"$f":"IF(データ転記用!Q20<>\"\",1,\"\")","v":""},{"$f":"IF(データ転記用!R20<>\"\",1,\"\")","v":""},{"$f":"IF(データ転記用!S20<>\"\",1,\"\")","v":""},{"$f":"IF(データ転記用!T20<>\"\",1,\"\")","v":""},{"$f":"IF(データ転記用!U20<>\"\",1,\"\")","v":""},{"$f":"IF(データ転記用!V20<>\"\",1,\"\")","v":""},{"$f":"IF(データ転記用!W20<>\"\",1,\"\")","v":""},{"$f":"IF(データ転記用!X20<>\"\",1,\"\")","v":""},{"$f":"IF(データ転記用!Y20<>\"\",1,\"\")","v":""},{"$f":"IF(データ転記用!Z20<>\"\",1,\"\")","v":""},{"$f":"IF(データ転記用!AA20<>\"\",1,\"\")","v":""},{"$f":"IF(データ転記用!AB20<>\"\",1,\"\")","v":""},{"$f":"IF(データ転記用!AC20<>\"\",1,\"\")","v":""},{"$f":"IF(データ転記用!AD20<>\"\",1,\"\")","v":""},{"$f":"IF(データ転記用!AE20<>\"\",1,\"\")","v":""},{"$f":"IF(データ転記用!AF20<>\"\",1,\"\")","v":""},{"$f":"IF(データ転記用!AG20<>\"\",1,\"\")","v":""},{"$f":"IF(データ転記用!AH20<>\"\",1,\"\")","v":""},{"$f":"IF(データ転記用!AI20<>\"\",1,\"\")","v":""},{"$f":"IF(データ転記用!AJ20<>\"\",1,\"\")","v":""},{"$f":"IF(データ転記用!AK20<>\"\",1,\"\")","v":""},{"$f":"IF(データ転記用!AL20<>\"\",1,\"\")","v":""},{"$f":"IF(データ転記用!AM20<>\"\",1,\"\")","v":""},{"$f":"IF(データ転記用!AN20<>\"\",1,\"\")","v":""}]
[null,null,null,{"$f":"IF(データ転記用!D21<>\"\",1,\"\")","v":""},{"$f":"IF(データ転記用!E21<>\"\",1,\"\")","v":""},{"$f":"IF(データ転記用!F21<>\"\",1,\"\")","v":""},{"$f":"IF(データ転記用!G21<>\"\",1,\"\")","v":""},{"$f":"IF(データ転記用!H21<>\"\",1,\"\")","v":""},{"$f":"IF(データ転記用!I21<>\"\",1,\"\")","v":""},{"$f":"IF(データ転記用!J21<>\"\",1,\"\")","v":""},{"$f":"IF(データ転記用!K21<>\"\",1,\"\")","v":""},{"$f":"IF(データ転記用!L21<>\"\",1,\"\")","v":""},{"$f":"IF(データ転記用!M21<>\"\",1,\"\")","v":""},{"$f":"IF(データ転記用!N21<>\"\",1,\"\")","v":""},{"$f":"IF(データ転記用!O21<>\"\",1,\"\")","v":""},{"$f":"IF(データ転記用!P21<>\"\",1,\"\")","v":""},{"$f":"IF(データ転記用!Q21<>\"\",1,\"\")","v":""},{"$f":"IF(データ転記用!R21<>\"\",1,\"\")","v":""},{"$f":"IF(データ転記用!S21<>\"\",1,\"\")","v":""},{"$f":"IF(データ転記用!T21<>\"\",1,\"\")","v":""},{"$f":"IF(データ転記用!U21<>\"\",1,\"\")","v":""},{"$f":"IF(データ転記用!V21<>\"\",1,\"\")","v":""},{"$f":"IF(データ転記用!W21<>\"\",1,\"\")","v":""},{"$f":"IF(データ転記用!X21<>\"\",1,\"\")","v":""},{"$f":"IF(データ転記用!Y21<>\"\",1,\"\")","v":""},{"$f":"IF(データ転記用!Z21<>\"\",1,\"\")","v":""},{"$f":"IF(データ転記用!AA21<>\"\",1,\"\")","v":""},{"$f":"IF(データ転記用!AB21<>\"\",1,\"\")","v":""},{"$f":"IF(データ転記用!AC21<>\"\",1,\"\")","v":""},{"$f":"IF(データ転記用!AD21<>\"\",1,\"\")","v":""},{"$f":"IF(データ転記用!AE21<>\"\",1,\"\")","v":""},{"$f":"IF(データ転記用!AF21<>\"\",1,\"\")","v":""},{"$f":"IF(データ転記用!AG21<>\"\",1,\"\")","v":""},{"$f":"IF(データ転記用!AH21<>\"\",1,\"\")","v":""},{"$f":"IF(データ転記用!AI21<>\"\",1,\"\")","v":""},{"$f":"IF(データ転記用!AJ21<>\"\",1,\"\")","v":""},{"$f":"IF(データ転記用!AK21<>\"\",1,\"\")","v":""},{"$f":"IF(データ転記用!AL21<>\"\",1,\"\")","v":""},{"$f":"IF(データ転記用!AM21<>\"\",1,\"\")","v":""},{"$f":"IF(データ転記用!AN21<>\"\",1,\"\")","v":""}]
[null,null,null,{"$f":"IF(データ転記用!D22<>\"\",1,\"\")","v":""},{"$f":"IF(データ転記用!E22<>\"\",1,\"\")","v":""},{"$f":"IF(データ転記用!F22<>\"\",1,\"\")","v":""},{"$f":"IF(データ転記用!G22<>\"\",1,\"\")","v":""},{"$f":"IF(データ転記用!H22<>\"\",1,\"\")","v":""},{"$f":"IF(データ転記用!I22<>\"\",1,\"\")","v":""},{"$f":"IF(データ転記用!J22<>\"\",1,\"\")","v":""},{"$f":"IF(データ転記用!K22<>\"\",1,\"\")","v":""},{"$f":"IF(データ転記用!L22<>\"\",1,\"\")","v":""},{"$f":"IF(データ転記用!M22<>\"\",1,\"\")","v":""},{"$f":"IF(データ転記用!N22<>\"\",1,\"\")","v":""},{"$f":"IF(データ転記用!O22<>\"\",1,\"\")","v":""},{"$f":"IF(データ転記用!P22<>\"\",1,\"\")","v":""},{"$f":"IF(データ転記用!Q22<>\"\",1,\"\")","v":""},{"$f":"IF(データ転記用!R22<>\"\",1,\"\")","v":""},{"$f":"IF(データ転記用!S22<>\"\",1,\"\")","v":""},{"$f":"IF(データ転記用!T22<>\"\",1,\"\")","v":""},{"$f":"IF(データ転記用!U22<>\"\",1,\"\")","v":""},{"$f":"IF(データ転記用!V22<>\"\",1,\"\")","v":""},{"$f":"IF(データ転記用!W22<>\"\",1,\"\")","v":""},{"$f":"IF(データ転記用!X22<>\"\",1,\"\")","v":""},{"$f":"IF(データ転記用!Y22<>\"\",1,\"\")","v":""},{"$f":"IF(データ転記用!Z22<>\"\",1,\"\")","v":""},{"$f":"IF(データ転記用!AA22<>\"\",1,\"\")","v":""},{"$f":"IF(データ転記用!AB22<>\"\",1,\"\")","v":""},{"$f":"IF(データ転記用!AC22<>\"\",1,\"\")","v":""},{"$f":"IF(データ転記用!AD22<>\"\",1,\"\")","v":""},{"$f":"IF(データ転記用!AE22<>\"\",1,\"\")","v":""},{"$f":"IF(データ転記用!AF22<>\"\",1,\"\")","v":""},{"$f":"IF(データ転記用!AG22<>\"\",1,\"\")","v":""},{"$f":"IF(データ転記用!AH22<>\"\",1,\"\")","v":""},{"$f":"IF(データ転記用!AI22<>\"\",1,\"\")","v":""},{"$f":"IF(データ転記用!AJ22<>\"\",1,\"\")","v":""},{"$f":"IF(データ転記用!AK22<>\"\",1,\"\")","v":""},{"$f":"IF(データ転記用!AL22<>\"\",1,\"\")","v":""},{"$f":"IF(データ転記用!AM22<>\"\",1,\"\")","v":""},{"$f":"IF(データ転記用!AN22<>\"\",1,\"\")","v":""}]
[null,null,null,{"$f":"IF(データ転記用!D23<>\"\",1,\"\")","v":""},{"$f":"IF(データ転記用!E23<>\"\",1,\"\")","v":""},{"$f":"IF(データ転記用!F23<>\"\",1,\"\")","v":""},{"$f":"IF(データ転記用!G23<>\"\",1,\"\")","v":""},{"$f":"IF(データ転記用!H23<>\"\",1,\"\")","v":""},{"$f":"IF(データ転記用!I23<>\"\",1,\"\")","v":""},{"$f":"IF(データ転記用!J23<>\"\",1,\"\")","v":""},{"$f":"IF(データ転記用!K23<>\"\",1,\"\")","v":""},{"$f":"IF(データ転記用!L23<>\"\",1,\"\")","v":""},{"$f":"IF(データ転記用!M23<>\"\",1,\"\")","v":""},{"$f":"IF(データ転記用!N23<>\"\",1,\"\")","v":""},{"$f":"IF(データ転記用!O23<>\"\",1,\"\")","v":""},{"$f":"IF(データ転記用!P23<>\"\",1,\"\")","v":""},{"$f":"IF(データ転記用!Q23<>\"\",1,\"\")","v":""},{"$f":"IF(データ転記用!R23<>\"\",1,\"\")","v":""},{"$f":"IF(データ転記用!S23<>\"\",1,\"\")","v":""},{"$f":"IF(データ転記用!T23<>\"\",1,\"\")","v":""},{"$f":"IF(データ転記用!U23<>\"\",1,\"\")","v":""},{"$f":"IF(データ転記用!V23<>\"\",1,\"\")","v":""},{"$f":"IF(データ転記用!W23<>\"\",1,\"\")","v":""},{"$f":"IF(データ転記用!X23<>\"\",1,\"\")","v":""},{"$f":"IF(データ転記用!Y23<>\"\",1,\"\")","v":""},{"$f":"IF(データ転記用!Z23<>\"\",1,\"\")","v":""},{"$f":"IF(データ転記用!AA23<>\"\",1,\"\")","v":""},{"$f":"IF(データ転記用!AB23<>\"\",1,\"\")","v":""},{"$f":"IF(データ転記用!AC23<>\"\",1,\"\")","v":""},{"$f":"IF(データ転記用!AD23<>\"\",1,\"\")","v":""},{"$f":"IF(データ転記用!AE23<>\"\",1,\"\")","v":""},{"$f":"IF(データ転記用!AF23<>\"\",1,\"\")","v":""},{"$f":"IF(データ転記用!AG23<>\"\",1,\"\")","v":""},{"$f":"IF(データ転記用!AH23<>\"\",1,\"\")","v":""},{"$f":"IF(データ転記用!AI23<>\"\",1,\"\")","v":""},{"$f":"IF(データ転記用!AJ23<>\"\",1,\"\")","v":""},{"$f":"IF(データ転記用!AK23<>\"\",1,\"\")","v":""},{"$f":"IF(データ転記用!AL23<>\"\",1,\"\")","v":""},{"$f":"IF(データ転記用!AM23<>\"\",1,\"\")","v":""},{"$f":"IF(データ転記用!AN23<>\"\",1,\"\")","v":""}]
[null,null,null,{"$f":"IF(データ転記用!D24<>\"\",1,\"\")","v":""},{"$f":"IF(データ転記用!E24<>\"\",1,\"\")","v":""},{"$f":"IF(データ転記用!F24<>\"\",1,\"\")","v":""},{"$f":"IF(データ転記用!G24<>\"\",1,\"\")","v":""},{"$f":"IF(データ転記用!H24<>\"\",1,\"\")","v":""},{"$f":"IF(データ転記用!I24<>\"\",1,\"\")","v":""},{"$f":"IF(データ転記用!J24<>\"\",1,\"\")","v":""},{"$f":"IF(データ転記用!K24<>\"\",1,\"\")","v":""},{"$f":"IF(データ転記用!L24<>\"\",1,\"\")","v":""},{"$f":"IF(データ転記用!M24<>\"\",1,\"\")","v":""},{"$f":"IF(データ転記用!N24<>\"\",1,\"\")","v":""},{"$f":"IF(データ転記用!O24<>\"\",1,\"\")","v":""},{"$f":"IF(データ転記用!P24<>\"\",1,\"\")","v":""},{"$f":"IF(データ転記用!Q24<>\"\",1,\"\")","v":""},{"$f":"IF(データ転記用!R24<>\"\",1,\"\")","v":""},{"$f":"IF(データ転記用!S24<>\"\",1,\"\")","v":""},{"$f":"IF(データ転記用!T24<>\"\",1,\"\")","v":""},{"$f":"IF(データ転記用!U24<>\"\",1,\"\")","v":""},{"$f":"IF(データ転記用!V24<>\"\",1,\"\")","v":""},{"$f":"IF(データ転記用!W24<>\"\",1,\"\")","v":""},{"$f":"IF(データ転記用!X24<>\"\",1,\"\")","v":""},{"$f":"IF(データ転記用!Y24<>\"\",1,\"\")","v":""},{"$f":"IF(データ転記用!Z24<>\"\",1,\"\")","v":""},{"$f":"IF(データ転記用!AA24<>\"\",1,\"\")","v":""},{"$f":"IF(データ転記用!AB24<>\"\",1,\"\")","v":""},{"$f":"IF(データ転記用!AC24<>\"\",1,\"\")","v":""},{"$f":"IF(データ転記用!AD24<>\"\",1,\"\")","v":""},{"$f":"IF(データ転記用!AE24<>\"\",1,\"\")","v":""},{"$f":"IF(データ転記用!AF24<>\"\",1,\"\")","v":""},{"$f":"IF(データ転記用!AG24<>\"\",1,\"\")","v":""},{"$f":"IF(データ転記用!AH24<>\"\",1,\"\")","v":""},{"$f":"IF(データ転記用!AI24<>\"\",1,\"\")","v":""},{"$f":"IF(データ転記用!AJ24<>\"\",1,\"\")","v":""},{"$f":"IF(データ転記用!AK24<>\"\",1,\"\")","v":""},{"$f":"IF(データ転記用!AL24<>\"\",1,\"\")","v":""},{"$f":"IF(データ転記用!AM24<>\"\",1,\"\")","v":""},{"$f":"IF(データ転記用!AN24<>\"\",1,\"\")","v":""}]
[null,null,null,{"$f":"IF(データ転記用!D25<>\"\",1,\"\")","v":""},{"$f":"IF(データ転記用!E25<>\"\",1,\"\")","v":""},{"$f":"IF(データ転記用!F25<>\"\",1,\"\")","v":""},{"$f":"IF(データ転記用!G25<>\"\",1,\"\")","v":""},{"$f":"IF(データ転記用!H25<>\"\",1,\"\")","v":""},{"$f":"IF(データ転記用!I25<>\"\",1,\"\")","v":""},{"$f":"IF(データ転記用!J25<>\"\",1,\"\")","v":""},{"$f":"IF(データ転記用!K25<>\"\",1,\"\")","v":""},{"$f":"IF(データ転記用!L25<>\"\",1,\"\")","v":""},{"$f":"IF(データ転記用!M25<>\"\",1,\"\")","v":""},{"$f":"IF(データ転記用!N25<>\"\",1,\"\")","v":""},{"$f":"IF(データ転記用!O25<>\"\",1,\"\")","v":""},{"$f":"IF(データ転記用!P25<>\"\",1,\"\")","v":""},{"$f":"IF(データ転記用!Q25<>\"\",1,\"\")","v":""},{"$f":"IF(データ転記用!R25<>\"\",1,\"\")","v":""},{"$f":"IF(データ転記用!S25<>\"\",1,\"\")","v":""},{"$f":"IF(データ転記用!T25<>\"\",1,\"\")","v":""},{"$f":"IF(データ転記用!U25<>\"\",1,\"\")","v":""},{"$f":"IF(データ転記用!V25<>\"\",1,\"\")","v":""},{"$f":"IF(データ転記用!W25<>\"\",1,\"\")","v":""},{"$f":"IF(データ転記用!X25<>\"\",1,\"\")","v":""},{"$f":"IF(データ転記用!Y25<>\"\",1,\"\")","v":""},{"$f":"IF(データ転記用!Z25<>\"\",1,\"\")","v":""},{"$f":"IF(データ転記用!AA25<>\"\",1,\"\")","v":""},{"$f":"IF(データ転記用!AB25<>\"\",1,\"\")","v":""},{"$f":"IF(データ転記用!AC25<>\"\",1,\"\")","v":""},{"$f":"IF(データ転記用!AD25<>\"\",1,\"\")","v":""},{"$f":"IF(データ転記用!AE25<>\"\",1,\"\")","v":""},{"$f":"IF(データ転記用!AF25<>\"\",1,\"\")","v":""},{"$f":"IF(データ転記用!AG25<>\"\",1,\"\")","v":""},{"$f":"IF(データ転記用!AH25<>\"\",1,\"\")","v":""},{"$f":"IF(データ転記用!AI25<>\"\",1,\"\")","v":""},{"$f":"IF(データ転記用!AJ25<>\"\",1,\"\")","v":""},{"$f":"IF(データ転記用!AK25<>\"\",1,\"\")","v":""},{"$f":"IF(データ転記用!AL25<>\"\",1,\"\")","v":""},{"$f":"IF(データ転記用!AM25<>\"\",1,\"\")","v":""},{"$f":"IF(データ転記用!AN25<>\"\",1,\"\")","v":""}]
[null,null,null,{"$f":"IF(データ転記用!D26<>\"\",1,\"\")","v":""},{"$f":"IF(データ転記用!E26<>\"\",1,\"\")","v":""},{"$f":"IF(データ転記用!F26<>\"\",1,\"\")","v":""},{"$f":"IF(データ転記用!G26<>\"\",1,\"\")","v":""},{"$f":"IF(データ転記用!H26<>\"\",1,\"\")","v":""},{"$f":"IF(データ転記用!I26<>\"\",1,\"\")","v":""},{"$f":"IF(データ転記用!J26<>\"\",1,\"\")","v":""},{"$f":"IF(データ転記用!K26<>\"\",1,\"\")","v":""},{"$f":"IF(データ転記用!L26<>\"\",1,\"\")","v":""},{"$f":"IF(データ転記用!M26<>\"\",1,\"\")","v":""},{"$f":"IF(データ転記用!N26<>\"\",1,\"\")","v":""},{"$f":"IF(データ転記用!O26<>\"\",1,\"\")","v":""},{"$f":"IF(データ転記用!P26<>\"\",1,\"\")","v":""},{"$f":"IF(データ転記用!Q26<>\"\",1,\"\")","v":""},{"$f":"IF(データ転記用!R26<>\"\",1,\"\")","v":""},{"$f":"IF(データ転記用!S26<>\"\",1,\"\")","v":""},{"$f":"IF(データ転記用!T26<>\"\",1,\"\")","v":""},{"$f":"IF(データ転記用!U26<>\"\",1,\"\")","v":""},{"$f":"IF(データ転記用!V26<>\"\",1,\"\")","v":""},{"$f":"IF(データ転記用!W26<>\"\",1,\"\")","v":""},{"$f":"IF(データ転記用!X26<>\"\",1,\"\")","v":""},{"$f":"IF(データ転記用!Y26<>\"\",1,\"\")","v":""},{"$f":"IF(データ転記用!Z26<>\"\",1,\"\")","v":""},{"$f":"IF(データ転記用!AA26<>\"\",1,\"\")","v":""},{"$f":"IF(データ転記用!AB26<>\"\",1,\"\")","v":""},{"$f":"IF(データ転記用!AC26<>\"\",1,\"\")","v":""},{"$f":"IF(データ転記用!AD26<>\"\",1,\"\")","v":""},{"$f":"IF(データ転記用!AE26<>\"\",1,\"\")","v":""},{"$f":"IF(データ転記用!AF26<>\"\",1,\"\")","v":""},{"$f":"IF(データ転記用!AG26<>\"\",1,\"\")","v":""},{"$f":"IF(データ転記用!AH26<>\"\",1,\"\")","v":""},{"$f":"IF(データ転記用!AI26<>\"\",1,\"\")","v":""},{"$f":"IF(データ転記用!AJ26<>\"\",1,\"\")","v":""},{"$f":"IF(データ転記用!AK26<>\"\",1,\"\")","v":""},{"$f":"IF(データ転記用!AL26<>\"\",1,\"\")","v":""},{"$f":"IF(データ転記用!AM26<>\"\",1,\"\")","v":""},{"$f":"IF(データ転記用!AN26<>\"\",1,\"\")","v":""}]
[null,null,null,{"$f":"IF(データ転記用!D27<>\"\",1,\"\")","v":""},{"$f":"IF(データ転記用!E27<>\"\",1,\"\")","v":""},{"$f":"IF(データ転記用!F27<>\"\",1,\"\")","v":""},{"$f":"IF(データ転記用!G27<>\"\",1,\"\")","v":""},{"$f":"IF(データ転記用!H27<>\"\",1,\"\")","v":""},{"$f":"IF(データ転記用!I27<>\"\",1,\"\")","v":""},{"$f":"IF(データ転記用!J27<>\"\",1,\"\")","v":""},{"$f":"IF(データ転記用!K27<>\"\",1,\"\")","v":""},{"$f":"IF(データ転記用!L27<>\"\",1,\"\")","v":""},{"$f":"IF(データ転記用!M27<>\"\",1,\"\")","v":""},{"$f":"IF(データ転記用!N27<>\"\",1,\"\")","v":""},{"$f":"IF(データ転記用!O27<>\"\",1,\"\")","v":""},{"$f":"IF(データ転記用!P27<>\"\",1,\"\")","v":""},{"$f":"IF(データ転記用!Q27<>\"\",1,\"\")","v":""},{"$f":"IF(データ転記用!R27<>\"\",1,\"\")","v":""},{"$f":"IF(データ転記用!S27<>\"\",1,\"\")","v":""},{"$f":"IF(データ転記用!T27<>\"\",1,\"\")","v":""},{"$f":"IF(データ転記用!U27<>\"\",1,\"\")","v":""},{"$f":"IF(データ転記用!V27<>\"\",1,\"\")","v":""},{"$f":"IF(データ転記用!W27<>\"\",1,\"\")","v":""},{"$f":"IF(データ転記用!X27<>\"\",1,\"\")","v":""},{"$f":"IF(データ転記用!Y27<>\"\",1,\"\")","v":""},{"$f":"IF(データ転記用!Z27<>\"\",1,\"\")","v":""},{"$f":"IF(データ転記用!AA27<>\"\",1,\"\")","v":""},{"$f":"IF(データ転記用!AB27<>\"\",1,\"\")","v":""},{"$f":"IF(データ転記用!AC27<>\"\",1,\"\")","v":""},{"$f":"IF(データ転記用!AD27<>\"\",1,\"\")","v":""},{"$f":"IF(データ転記用!AE27<>\"\",1,\"\")","v":""},{"$f":"IF(データ転記用!AF27<>\"\",1,\"\")","v":""},{"$f":"IF(データ転記用!AG27<>\"\",1,\"\")","v":""},{"$f":"IF(データ転記用!AH27<>\"\",1,\"\")","v":""},{"$f":"IF(データ転記用!AI27<>\"\",1,\"\")","v":""},{"$f":"IF(データ転記用!AJ27<>\"\",1,\"\")","v":""},{"$f":"IF(データ転記用!AK27<>\"\",1,\"\")","v":""},{"$f":"IF(データ転記用!AL27<>\"\",1,\"\")","v":""},{"$f":"IF(データ転記用!AM27<>\"\",1,\"\")","v":""},{"$f":"IF(データ転記用!AN27<>\"\",1,\"\")","v":""}]
[null,null,null,{"$f":"IF(データ転記用!D28<>\"\",1,\"\")","v":""},{"$f":"IF(データ転記用!E28<>\"\",1,\"\")","v":""},{"$f":"IF(データ転記用!F28<>\"\",1,\"\")","v":""},{"$f":"IF(データ転記用!G28<>\"\",1,\"\")","v":""},{"$f":"IF(データ転記用!H28<>\"\",1,\"\")","v":""},{"$f":"IF(データ転記用!I28<>\"\",1,\"\")","v":""},{"$f":"IF(データ転記用!J28<>\"\",1,\"\")","v":""},{"$f":"IF(データ転記用!K28<>\"\",1,\"\")","v":""},{"$f":"IF(データ転記用!L28<>\"\",1,\"\")","v":""},{"$f":"IF(データ転記用!M28<>\"\",1,\"\")","v":""},{"$f":"IF(データ転記用!N28<>\"\",1,\"\")","v":""},{"$f":"IF(データ転記用!O28<>\"\",1,\"\")","v":""},{"$f":"IF(データ転記用!P28<>\"\",1,\"\")","v":""},{"$f":"IF(データ転記用!Q28<>\"\",1,\"\")","v":""},{"$f":"IF(データ転記用!R28<>\"\",1,\"\")","v":""},{"$f":"IF(データ転記用!S28<>\"\",1,\"\")","v":""},{"$f":"IF(データ転記用!T28<>\"\",1,\"\")","v":""},{"$f":"IF(データ転記用!U28<>\"\",1,\"\")","v":""},{"$f":"IF(データ転記用!V28<>\"\",1,\"\")","v":""},{"$f":"IF(データ転記用!W28<>\"\",1,\"\")","v":""},{"$f":"IF(データ転記用!X28<>\"\",1,\"\")","v":""},{"$f":"IF(データ転記用!Y28<>\"\",1,\"\")","v":""},{"$f":"IF(データ転記用!Z28<>\"\",1,\"\")","v":""},{"$f":"IF(データ転記用!AA28<>\"\",1,\"\")","v":""},{"$f":"IF(データ転記用!AB28<>\"\",1,\"\")","v":""},{"$f":"IF(データ転記用!AC28<>\"\",1,\"\")","v":""},{"$f":"IF(データ転記用!AD28<>\"\",1,\"\")","v":""},{"$f":"IF(データ転記用!AE28<>\"\",1,\"\")","v":""},{"$f":"IF(データ転記用!AF28<>\"\",1,\"\")","v":""},{"$f":"IF(データ転記用!AG28<>\"\",1,\"\")","v":""},{"$f":"IF(データ転記用!AH28<>\"\",1,\"\")","v":""},{"$f":"IF(データ転記用!AI28<>\"\",1,\"\")","v":""},{"$f":"IF(データ転記用!AJ28<>\"\",1,\"\")","v":""},{"$f":"IF(データ転記用!AK28<>\"\",1,\"\")","v":""},{"$f":"IF(データ転記用!AL28<>\"\",1,\"\")","v":""},{"$f":"IF(データ転記用!AM28<>\"\",1,\"\")","v":""},{"$f":"IF(データ転記用!AN28<>\"\",1,\"\")","v":""}]
[null,null,null,{"$f":"IF(データ転記用!D29<>\"\",1,\"\")","v":""},{"$f":"IF(データ転記用!E29<>\"\",1,\"\")","v":""},{"$f":"IF(データ転記用!F29<>\"\",1,\"\")","v":""},{"$f":"IF(データ転記用!G29<>\"\",1,\"\")","v":""},{"$f":"IF(データ転記用!H29<>\"\",1,\"\")","v":""},{"$f":"IF(データ転記用!I29<>\"\",1,\"\")","v":""},{"$f":"IF(データ転記用!J29<>\"\",1,\"\")","v":""},{"$f":"IF(データ転記用!K29<>\"\",1,\"\")","v":""},{"$f":"IF(データ転記用!L29<>\"\",1,\"\")","v":""},{"$f":"IF(データ転記用!M29<>\"\",1,\"\")","v":""},{"$f":"IF(データ転記用!N29<>\"\",1,\"\")","v":""},{"$f":"IF(データ転記用!O29<>\"\",1,\"\")","v":""},{"$f":"IF(データ転記用!P29<>\"\",1,\"\")","v":""},{"$f":"IF(データ転記用!Q29<>\"\",1,\"\")","v":""},{"$f":"IF(データ転記用!R29<>\"\",1,\"\")","v":""},{"$f":"IF(データ転記用!S29<>\"\",1,\"\")","v":""},{"$f":"IF(データ転記用!T29<>\"\",1,\"\")","v":""},{"$f":"IF(データ転記用!U29<>\"\",1,\"\")","v":""},{"$f":"IF(データ転記用!V29<>\"\",1,\"\")","v":""},{"$f":"IF(データ転記用!W29<>\"\",1,\"\")","v":""},{"$f":"IF(データ転記用!X29<>\"\",1,\"\")","v":""},{"$f":"IF(データ転記用!Y29<>\"\",1,\"\")","v":""},{"$f":"IF(データ転記用!Z29<>\"\",1,\"\")","v":""},{"$f":"IF(データ転記用!AA29<>\"\",1,\"\")","v":""},{"$f":"IF(データ転記用!AB29<>\"\",1,\"\")","v":""},{"$f":"IF(データ転記用!AC29<>\"\",1,\"\")","v":""},{"$f":"IF(データ転記用!AD29<>\"\",1,\"\")","v":""},{"$f":"IF(データ転記用!AE29<>\"\",1,\"\")","v":""},{"$f":"IF(データ転記用!AF29<>\"\",1,\"\")","v":""},{"$f":"IF(データ転記用!AG29<>\"\",1,\"\")","v":""},{"$f":"IF(データ転記用!AH29<>\"\",1,\"\")","v":""},{"$f":"IF(データ転記用!AI29<>\"\",1,\"\")","v":""},{"$f":"IF(データ転記用!AJ29<>\"\",1,\"\")","v":""},{"$f":"IF(データ転記用!AK29<>\"\",1,\"\")","v":""},{"$f":"IF(データ転記用!AL29<>\"\",1,\"\")","v":""},{"$f":"IF(データ転記用!AM29<>\"\",1,\"\")","v":""},{"$f":"IF(データ転記用!AN29<>\"\",1,\"\")","v":""}]
[null,null,null,{"$f":"IF(データ転記用!D30<>\"\",1,\"\")","v":""},{"$f":"IF(データ転記用!E30<>\"\",1,\"\")","v":""},{"$f":"IF(データ転記用!F30<>\"\",1,\"\")","v":""},{"$f":"IF(データ転記用!G30<>\"\",1,\"\")","v":""},{"$f":"IF(データ転記用!H30<>\"\",1,\"\")","v":""},{"$f":"IF(データ転記用!I30<>\"\",1,\"\")","v":""},{"$f":"IF(データ転記用!J30<>\"\",1,\"\")","v":""},{"$f":"IF(データ転記用!K30<>\"\",1,\"\")","v":""},{"$f":"IF(データ転記用!L30<>\"\",1,\"\")","v":""},{"$f":"IF(データ転記用!M30<>\"\",1,\"\")","v":""},{"$f":"IF(データ転記用!N30<>\"\",1,\"\")","v":""},{"$f":"IF(データ転記用!O30<>\"\",1,\"\")","v":""},{"$f":"IF(データ転記用!P30<>\"\",1,\"\")","v":""},{"$f":"IF(データ転記用!Q30<>\"\",1,\"\")","v":""},{"$f":"IF(データ転記用!R30<>\"\",1,\"\")","v":""},{"$f":"IF(データ転記用!S30<>\"\",1,\"\")","v":""},{"$f":"IF(データ転記用!T30<>\"\",1,\"\")","v":""},{"$f":"IF(データ転記用!U30<>\"\",1,\"\")","v":""},{"$f":"IF(データ転記用!V30<>\"\",1,\"\")","v":""},{"$f":"IF(データ転記用!W30<>\"\",1,\"\")","v":""},{"$f":"IF(データ転記用!X30<>\"\",1,\"\")","v":""},{"$f":"IF(データ転記用!Y30<>\"\",1,\"\")","v":""},{"$f":"IF(データ転記用!Z30<>\"\",1,\"\")","v":""},{"$f":"IF(データ転記用!AA30<>\"\",1,\"\")","v":""},{"$f":"IF(データ転記用!AB30<>\"\",1,\"\")","v":""},{"$f":"IF(データ転記用!AC30<>\"\",1,\"\")","v":""},{"$f":"IF(データ転記用!AD30<>\"\",1,\"\")","v":""},{"$f":"IF(データ転記用!AE30<>\"\",1,\"\")","v":""},{"$f":"IF(データ転記用!AF30<>\"\",1,\"\")","v":""},{"$f":"IF(データ転記用!AG30<>\"\",1,\"\")","v":""},{"$f":"IF(データ転記用!AH30<>\"\",1,\"\")","v":""},{"$f":"IF(データ転記用!AI30<>\"\",1,\"\")","v":""},{"$f":"IF(データ転記用!AJ30<>\"\",1,\"\")","v":""},{"$f":"IF(データ転記用!AK30<>\"\",1,\"\")","v":""},{"$f":"IF(データ転記用!AL30<>\"\",1,\"\")","v":""},{"$f":"IF(データ転記用!AM30<>\"\",1,\"\")","v":""},{"$f":"IF(データ転記用!AN30<>\"\",1,\"\")","v":""}]
[null,null,null,{"$f":"IF(データ転記用!D31<>\"\",1,\"\")","v":""},{"$f":"IF(データ転記用!E31<>\"\",1,\"\")","v":""},{"$f":"IF(データ転記用!F31<>\"\",1,\"\")","v":""},{"$f":"IF(データ転記用!G31<>\"\",1,\"\")","v":""},{"$f":"IF(データ転記用!H31<>\"\",1,\"\")","v":""},{"$f":"IF(データ転記用!I31<>\"\",1,\"\")","v":""},{"$f":"IF(データ転記用!J31<>\"\",1,\"\")","v":""},{"$f":"IF(データ転記用!K31<>\"\",1,\"\")","v":""},{"$f":"IF(データ転記用!L31<>\"\",1,\"\")","v":""},{"$f":"IF(データ転記用!M31<>\"\",1,\"\")","v":""},{"$f":"IF(データ転記用!N31<>\"\",1,\"\")","v":""},{"$f":"IF(データ転記用!O31<>\"\",1,\"\")","v":""},{"$f":"IF(データ転記用!P31<>\"\",1,\"\")","v":""},{"$f":"IF(データ転記用!Q31<>\"\",1,\"\")","v":""},{"$f":"IF(データ転記用!R31<>\"\",1,\"\")","v":""},{"$f":"IF(データ転記用!S31<>\"\",1,\"\")","v":""},{"$f":"IF(データ転記用!T31<>\"\",1,\"\")","v":""},{"$f":"IF(データ転記用!U31<>\"\",1,\"\")","v":""},{"$f":"IF(データ転記用!V31<>\"\",1,\"\")","v":""},{"$f":"IF(データ転記用!W31<>\"\",1,\"\")","v":""},{"$f":"IF(データ転記用!X31<>\"\",1,\"\")","v":""},{"$f":"IF(データ転記用!Y31<>\"\",1,\"\")","v":""},{"$f":"IF(データ転記用!Z31<>\"\",1,\"\")","v":""},{"$f":"IF(データ転記用!AA31<>\"\",1,\"\")","v":""},{"$f":"IF(データ転記用!AB31<>\"\",1,\"\")","v":""},{"$f":"IF(データ転記用!AC31<>\"\",1,\"\")","v":""},{"$f":"IF(データ転記用!AD31<>\"\",1,\"\")","v":""},{"$f":"IF(データ転記用!AE31<>\"\",1,\"\")","v":""},{"$f":"IF(データ転記用!AF31<>\"\",1,\"\")","v":""},{"$f":"IF(データ転記用!AG31<>\"\",1,\"\")","v":""},{"$f":"IF(データ転記用!AH31<>\"\",1,\"\")","v":""},{"$f":"IF(データ転記用!AI31<>\"\",1,\"\")","v":""},{"$f":"IF(データ転記用!AJ31<>\"\",1,\"\")","v":""},{"$f":"IF(データ転記用!AK31<>\"\",1,\"\")","v":""},{"$f":"IF(データ転記用!AL31<>\"\",1,\"\")","v":""},{"$f":"IF(データ転記用!AM31<>\"\",1,\"\")","v":""},{"$f":"IF(データ転記用!AN31<>\"\",1,\"\")","v":""}]
[null,null,null,{"$f":"IF(データ転記用!D32<>\"\",1,\"\")","v":""},{"$f":"IF(データ転記用!E32<>\"\",1,\"\")","v":""},{"$f":"IF(データ転記用!F32<>\"\",1,\"\")","v":""},{"$f":"IF(データ転記用!G32<>\"\",1,\"\")","v":""},{"$f":"IF(データ転記用!H32<>\"\",1,\"\")","v":""},{"$f":"IF(データ転記用!I32<>\"\",1,\"\")","v":""},{"$f":"IF(データ転記用!J32<>\"\",1,\"\")","v":""},{"$f":"IF(データ転記用!K32<>\"\",1,\"\")","v":""},{"$f":"IF(データ転記用!L32<>\"\",1,\"\")","v":""},{"$f":"IF(データ転記用!M32<>\"\",1,\"\")","v":""},{"$f":"IF(データ転記用!N32<>\"\",1,\"\")","v":""},{"$f":"IF(データ転記用!O32<>\"\",1,\"\")","v":""},{"$f":"IF(データ転記用!P32<>\"\",1,\"\")","v":""},{"$f":"IF(データ転記用!Q32<>\"\",1,\"\")","v":""},{"$f":"IF(データ転記用!R32<>\"\",1,\"\")","v":""},{"$f":"IF(データ転記用!S32<>\"\",1,\"\")","v":""},{"$f":"IF(データ転記用!T32<>\"\",1,\"\")","v":""},{"$f":"IF(データ転記用!U32<>\"\",1,\"\")","v":""},{"$f":"IF(データ転記用!V32<>\"\",1,\"\")","v":""},{"$f":"IF(データ転記用!W32<>\"\",1,\"\")","v":""},{"$f":"IF(データ転記用!X32<>\"\",1,\"\")","v":""},{"$f":"IF(データ転記用!Y32<>\"\",1,\"\")","v":""},{"$f":"IF(データ転記用!Z32<>\"\",1,\"\")","v":""},{"$f":"IF(データ転記用!AA32<>\"\",1,\"\")","v":""},{"$f":"IF(データ転記用!AB32<>\"\",1,\"\")","v":""},{"$f":"IF(データ転記用!AC32<>\"\",1,\"\")","v":""},{"$f":"IF(データ転記用!AD32<>\"\",1,\"\")","v":""},{"$f":"IF(データ転記用!AE32<>\"\",1,\"\")","v":""},{"$f":"IF(データ転記用!AF32<>\"\",1,\"\")","v":""},{"$f":"IF(データ転記用!AG32<>\"\",1,\"\")","v":""},{"$f":"IF(データ転記用!AH32<>\"\",1,\"\")","v":""},{"$f":"IF(データ転記用!AI32<>\"\",1,\"\")","v":""},{"$f":"IF(データ転記用!AJ32<>\"\",1,\"\")","v":""},{"$f":"IF(データ転記用!AK32<>\"\",1,\"\")","v":""},{"$f":"IF(データ転記用!AL32<>\"\",1,\"\")","v":""},{"$f":"IF(データ転記用!AM32<>\"\",1,\"\")","v":""},{"$f":"IF(データ転記用!AN32<>\"\",1,\"\")","v":""}]
[null,null,null,{"$f":"IF(データ転記用!D33<>\"\",1,\"\")","v":""},{"$f":"IF(データ転記用!E33<>\"\",1,\"\")","v":""},{"$f":"IF(データ転記用!F33<>\"\",1,\"\")","v":""},{"$f":"IF(データ転記用!G33<>\"\",1,\"\")","v":""},{"$f":"IF(データ転記用!H33<>\"\",1,\"\")","v":""},{"$f":"IF(データ転記用!I33<>\"\",1,\"\")","v":""},{"$f":"IF(データ転記用!J33<>\"\",1,\"\")","v":""},{"$f":"IF(データ転記用!K33<>\"\",1,\"\")","v":""},{"$f":"IF(データ転記用!L33<>\"\",1,\"\")","v":""},{"$f":"IF(データ転記用!M33<>\"\",1,\"\")","v":""},{"$f":"IF(データ転記用!N33<>\"\",1,\"\")","v":""},{"$f":"IF(データ転記用!O33<>\"\",1,\"\")","v":""},{"$f":"IF(データ転記用!P33<>\"\",1,\"\")","v":""},{"$f":"IF(データ転記用!Q33<>\"\",1,\"\")","v":""},{"$f":"IF(データ転記用!R33<>\"\",1,\"\")","v":""},{"$f":"IF(データ転記用!S33<>\"\",1,\"\")","v":""},{"$f":"IF(データ転記用!T33<>\"\",1,\"\")","v":""},{"$f":"IF(データ転記用!U33<>\"\",1,\"\")","v":""},{"$f":"IF(データ転記用!V33<>\"\",1,\"\")","v":""},{"$f":"IF(データ転記用!W33<>\"\",1,\"\")","v":""},{"$f":"IF(データ転記用!X33<>\"\",1,\"\")","v":""},{"$f":"IF(データ転記用!Y33<>\"\",1,\"\")","v":""},{"$f":"IF(データ転記用!Z33<>\"\",1,\"\")","v":""},{"$f":"IF(データ転記用!AA33<>\"\",1,\"\")","v":""},{"$f":"IF(データ転記用!AB33<>\"\",1,\"\")","v":""},{"$f":"IF(データ転記用!AC33<>\"\",1,\"\")","v":""},{"$f":"IF(データ転記用!AD33<>\"\",1,\"\")","v":""},{"$f":"IF(データ転記用!AE33<>\"\",1,\"\")","v":""},{"$f":"IF(データ転記用!AF33<>\"\",1,\"\")","v":""},{"$f":"IF(データ転記用!AG33<>\"\",1,\"\")","v":""},{"$f":"IF(データ転記用!AH33<>\"\",1,\"\")","v":""},{"$f":"IF(データ転記用!AI33<>\"\",1,\"\")","v":""},{"$f":"IF(データ転記用!AJ33<>\"\",1,\"\")","v":""},{"$f":"IF(データ転記用!AK33<>\"\",1,\"\")","v":""},{"$f":"IF(データ転記用!AL33<>\"\",1,\"\")","v":""},{"$f":"IF(データ転記用!AM33<>\"\",1,\"\")","v":""},{"$f":"IF(データ転記用!AN33<>\"\",1,\"\")","v":""}]
[null,null,null,{"$f":"IF(データ転記用!D34<>\"\",1,\"\")","v":""},{"$f":"IF(データ転記用!E34<>\"\",1,\"\")","v":""},{"$f":"IF(データ転記用!F34<>\"\",1,\"\")","v":""},{"$f":"IF(データ転記用!G34<>\"\",1,\"\")","v":""},{"$f":"IF(データ転記用!H34<>\"\",1,\"\")","v":""},{"$f":"IF(データ転記用!I34<>\"\",1,\"\")","v":""},{"$f":"IF(データ転記用!J34<>\"\",1,\"\")","v":""},{"$f":"IF(データ転記用!K34<>\"\",1,\"\")","v":""},{"$f":"IF(データ転記用!L34<>\"\",1,\"\")","v":""},{"$f":"IF(データ転記用!M34<>\"\",1,\"\")","v":""},{"$f":"IF(データ転記用!N34<>\"\",1,\"\")","v":""},{"$f":"IF(データ転記用!O34<>\"\",1,\"\")","v":""},{"$f":"IF(データ転記用!P34<>\"\",1,\"\")","v":""},{"$f":"IF(データ転記用!Q34<>\"\",1,\"\")","v":""},{"$f":"IF(データ転記用!R34<>\"\",1,\"\")","v":""},{"$f":"IF(データ転記用!S34<>\"\",1,\"\")","v":""},{"$f":"IF(データ転記用!T34<>\"\",1,\"\")","v":""},{"$f":"IF(データ転記用!U34<>\"\",1,\"\")","v":""},{"$f":"IF(データ転記用!V34<>\"\",1,\"\")","v":""},{"$f":"IF(データ転記用!W34<>\"\",1,\"\")","v":""},{"$f":"IF(データ転記用!X34<>\"\",1,\"\")","v":""},{"$f":"IF(データ転記用!Y34<>\"\",1,\"\")","v":""},{"$f":"IF(データ転記用!Z34<>\"\",1,\"\")","v":""},{"$f":"IF(データ転記用!AA34<>\"\",1,\"\")","v":""},{"$f":"IF(データ転記用!AB34<>\"\",1,\"\")","v":""},{"$f":"IF(データ転記用!AC34<>\"\",1,\"\")","v":""},{"$f":"IF(データ転記用!AD34<>\"\",1,\"\")","v":""},{"$f":"IF(データ転記用!AE34<>\"\",1,\"\")","v":""},{"$f":"IF(データ転記用!AF34<>\"\",1,\"\")","v":""},{"$f":"IF(データ転記用!AG34<>\"\",1,\"\")","v":""},{"$f":"IF(データ転記用!AH34<>\"\",1,\"\")","v":""},{"$f":"IF(データ転記用!AI34<>\"\",1,\"\")","v":""},{"$f":"IF(データ転記用!AJ34<>\"\",1,\"\")","v":""},{"$f":"IF(データ転記用!AK34<>\"\",1,\"\")","v":""},{"$f":"IF(データ転記用!AL34<>\"\",1,\"\")","v":""},{"$f":"IF(データ転記用!AM34<>\"\",1,\"\")","v":""},{"$f":"IF(データ転記用!AN34<>\"\",1,\"\")","v":""}]
[null,null,null,{"$f":"IF(データ転記用!D35<>\"\",1,\"\")","v":""},{"$f":"IF(データ転記用!E35<>\"\",1,\"\")","v":""},{"$f":"IF(データ転記用!F35<>\"\",1,\"\")","v":""},{"$f":"IF(データ転記用!G35<>\"\",1,\"\")","v":""},{"$f":"IF(データ転記用!H35<>\"\",1,\"\")","v":""},{"$f":"IF(データ転記用!I35<>\"\",1,\"\")","v":""},{"$f":"IF(データ転記用!J35<>\"\",1,\"\")","v":""},{"$f":"IF(データ転記用!K35<>\"\",1,\"\")","v":""},{"$f":"IF(データ転記用!L35<>\"\",1,\"\")","v":""},{"$f":"IF(データ転記用!M35<>\"\",1,\"\")","v":""},{"$f":"IF(データ転記用!N35<>\"\",1,\"\")","v":""},{"$f":"IF(データ転記用!O35<>\"\",1,\"\")","v":""},{"$f":"IF(データ転記用!P35<>\"\",1,\"\")","v":""},{"$f":"IF(データ転記用!Q35<>\"\",1,\"\")","v":""},{"$f":"IF(データ転記用!R35<>\"\",1,\"\")","v":""},{"$f":"IF(データ転記用!S35<>\"\",1,\"\")","v":""},{"$f":"IF(データ転記用!T35<>\"\",1,\"\")","v":""},{"$f":"IF(データ転記用!U35<>\"\",1,\"\")","v":""},{"$f":"IF(データ転記用!V35<>\"\",1,\"\")","v":""},{"$f":"IF(データ転記用!W35<>\"\",1,\"\")","v":""},{"$f":"IF(データ転記用!X35<>\"\",1,\"\")","v":""},{"$f":"IF(データ転記用!Y35<>\"\",1,\"\")","v":""},{"$f":"IF(データ転記用!Z35<>\"\",1,\"\")","v":""},{"$f":"IF(データ転記用!AA35<>\"\",1,\"\")","v":""},{"$f":"IF(データ転記用!AB35<>\"\",1,\"\")","v":""},{"$f":"IF(データ転記用!AC35<>\"\",1,\"\")","v":""},{"$f":"IF(データ転記用!AD35<>\"\",1,\"\")","v":""},{"$f":"IF(データ転記用!AE35<>\"\",1,\"\")","v":""},{"$f":"IF(データ転記用!AF35<>\"\",1,\"\")","v":""},{"$f":"IF(データ転記用!AG35<>\"\",1,\"\")","v":""},{"$f":"IF(データ転記用!AH35<>\"\",1,\"\")","v":""},{"$f":"IF(データ転記用!AI35<>\"\",1,\"\")","v":""},{"$f":"IF(データ転記用!AJ35<>\"\",1,\"\")","v":""},{"$f":"IF(データ転記用!AK35<>\"\",1,\"\")","v":""},{"$f":"IF(データ転記用!AL35<>\"\",1,\"\")","v":""},{"$f":"IF(データ転記用!AM35<>\"\",1,\"\")","v":""},{"$f":"IF(データ転記用!AN35<>\"\",1,\"\")","v":""}]
[null,null,null,{"$f":"IF(データ転記用!D36<>\"\",1,\"\")","v":""},{"$f":"IF(データ転記用!E36<>\"\",1,\"\")","v":""},{"$f":"IF(データ転記用!F36<>\"\",1,\"\")","v":""},{"$f":"IF(データ転記用!G36<>\"\",1,\"\")","v":""},{"$f":"IF(データ転記用!H36<>\"\",1,\"\")","v":""},{"$f":"IF(データ転記用!I36<>\"\",1,\"\")","v":""},{"$f":"IF(データ転記用!J36<>\"\",1,\"\")","v":""},{"$f":"IF(データ転記用!K36<>\"\",1,\"\")","v":""},{"$f":"IF(データ転記用!L36<>\"\",1,\"\")","v":""},{"$f":"IF(データ転記用!M36<>\"\",1,\"\")","v":""},{"$f":"IF(データ転記用!N36<>\"\",1,\"\")","v":""},{"$f":"IF(データ転記用!O36<>\"\",1,\"\")","v":""},{"$f":"IF(データ転記用!P36<>\"\",1,\"\")","v":""},{"$f":"IF(データ転記用!Q36<>\"\",1,\"\")","v":""},{"$f":"IF(データ転記用!R36<>\"\",1,\"\")","v":""},{"$f":"IF(データ転記用!S36<>\"\",1,\"\")","v":""},{"$f":"IF(データ転記用!T36<>\"\",1,\"\")","v":""},{"$f":"IF(データ転記用!U36<>\"\",1,\"\")","v":""},{"$f":"IF(データ転記用!V36<>\"\",1,\"\")","v":""},{"$f":"IF(データ転記用!W36<>\"\",1,\"\")","v":""},{"$f":"IF(データ転記用!X36<>\"\",1,\"\")","v":""},{"$f":"IF(データ転記用!Y36<>\"\",1,\"\")","v":""},{"$f":"IF(データ転記用!Z36<>\"\",1,\"\")","v":""},{"$f":"IF(データ転記用!AA36<>\"\",1,\"\")","v":""},{"$f":"IF(データ転記用!AB36<>\"\",1,\"\")","v":""},{"$f":"IF(データ転記用!AC36<>\"\",1,\"\")","v":""},{"$f":"IF(データ転記用!AD36<>\"\",1,\"\")","v":""},{"$f":"IF(データ転記用!AE36<>\"\",1,\"\")","v":""},{"$f":"IF(データ転記用!AF36<>\"\",1,\"\")","v":""},{"$f":"IF(データ転記用!AG36<>\"\",1,\"\")","v":""},{"$f":"IF(データ転記用!AH36<>\"\",1,\"\")","v":""},{"$f":"IF(データ転記用!AI36<>\"\",1,\"\")","v":""},{"$f":"IF(データ転記用!AJ36<>\"\",1,\"\")","v":""},{"$f":"IF(データ転記用!AK36<>\"\",1,\"\")","v":""},{"$f":"IF(データ転記用!AL36<>\"\",1,\"\")","v":""},{"$f":"IF(データ転記用!AM36<>\"\",1,\"\")","v":""},{"$f":"IF(データ転記用!AN36<>\"\",1,\"\")","v":""}]
[null,null,null,{"$f":"IF(データ転記用!D37<>\"\",1,\"\")","v":""},{"$f":"IF(データ転記用!E37<>\"\",1,\"\")","v":""},{"$f":"IF(データ転記用!F37<>\"\",1,\"\")","v":""},{"$f":"IF(データ転記用!G37<>\"\",1,\"\")","v":""},{"$f":"IF(データ転記用!H37<>\"\",1,\"\")","v":""},{"$f":"IF(データ転記用!I37<>\"\",1,\"\")","v":""},{"$f":"IF(データ転記用!J37<>\"\",1,\"\")","v":""},{"$f":"IF(データ転記用!K37<>\"\",1,\"\")","v":""},{"$f":"IF(データ転記用!L37<>\"\",1,\"\")","v":""},{"$f":"IF(データ転記用!M37<>\"\",1,\"\")","v":""},{"$f":"IF(データ転記用!N37<>\"\",1,\"\")","v":""},{"$f":"IF(データ転記用!O37<>\"\",1,\"\")","v":""},{"$f":"IF(データ転記用!P37<>\"\",1,\"\")","v":""},{"$f":"IF(データ転記用!Q37<>\"\",1,\"\")","v":""},{"$f":"IF(データ転記用!R37<>\"\",1,\"\")","v":""},{"$f":"IF(データ転記用!S37<>\"\",1,\"\")","v":""},{"$f":"IF(データ転記用!T37<>\"\",1,\"\")","v":""},{"$f":"IF(データ転記用!U37<>\"\",1,\"\")","v":""},{"$f":"IF(データ転記用!V37<>\"\",1,\"\")","v":""},{"$f":"IF(データ転記用!W37<>\"\",1,\"\")","v":""},{"$f":"IF(データ転記用!X37<>\"\",1,\"\")","v":""},{"$f":"IF(データ転記用!Y37<>\"\",1,\"\")","v":""},{"$f":"IF(データ転記用!Z37<>\"\",1,\"\")","v":""},{"$f":"IF(データ転記用!AA37<>\"\",1,\"\")","v":""},{"$f":"IF(データ転記用!AB37<>\"\",1,\"\")","v":""},{"$f":"IF(データ転記用!AC37<>\"\",1,\"\")","v":""},{"$f":"IF(データ転記用!AD37<>\"\",1,\"\")","v":""},{"$f":"IF(データ転記用!AE37<>\"\",1,\"\")","v":""},{"$f":"IF(データ転記用!AF37<>\"\",1,\"\")","v":""},{"$f":"IF(データ転記用!AG37<>\"\",1,\"\")","v":""},{"$f":"IF(データ転記用!AH37<>\"\",1,\"\")","v":""},{"$f":"IF(データ転記用!AI37<>\"\",1,\"\")","v":""},{"$f":"IF(データ転記用!AJ37<>\"\",1,\"\")","v":""},{"$f":"IF(データ転記用!AK37<>\"\",1,\"\")","v":""},{"$f":"IF(データ転記用!AL37<>\"\",1,\"\")","v":""},{"$f":"IF(データ転記用!AM37<>\"\",1,\"\")","v":""},{"$f":"IF(データ転記用!AN37<>\"\",1,\"\")","v":""}]
[null,null,null,{"$f":"IF(データ転記用!D38<>\"\",1,\"\")","v":""},{"$f":"IF(データ転記用!E38<>\"\",1,\"\")","v":""},{"$f":"IF(データ転記用!F38<>\"\",1,\"\")","v":""},{"$f":"IF(データ転記用!G38<>\"\",1,\"\")","v":""},{"$f":"IF(データ転記用!H38<>\"\",1,\"\")","v":""},{"$f":"IF(データ転記用!I38<>\"\",1,\"\")","v":""},{"$f":"IF(データ転記用!J38<>\"\",1,\"\")","v":""},{"$f":"IF(データ転記用!K38<>\"\",1,\"\")","v":""},{"$f":"IF(データ転記用!L38<>\"\",1,\"\")","v":""},{"$f":"IF(データ転記用!M38<>\"\",1,\"\")","v":""},{"$f":"IF(データ転記用!N38<>\"\",1,\"\")","v":""},{"$f":"IF(データ転記用!O38<>\"\",1,\"\")","v":""},{"$f":"IF(データ転記用!P38<>\"\",1,\"\")","v":""},{"$f":"IF(データ転記用!Q38<>\"\",1,\"\")","v":""},{"$f":"IF(データ転記用!R38<>\"\",1,\"\")","v":""},{"$f":"IF(データ転記用!S38<>\"\",1,\"\")","v":""},{"$f":"IF(データ転記用!T38<>\"\",1,\"\")","v":""},{"$f":"IF(データ転記用!U38<>\"\",1,\"\")","v":""},{"$f":"IF(データ転記用!V38<>\"\",1,\"\")","v":""},{"$f":"IF(データ転記用!W38<>\"\",1,\"\")","v":""},{"$f":"IF(データ転記用!X38<>\"\",1,\"\")","v":""},{"$f":"IF(データ転記用!Y38<>\"\",1,\"\")","v":""},{"$f":"IF(データ転記用!Z38<>\"\",1,\"\")","v":""},{"$f":"IF(データ転記用!AA38<>\"\",1,\"\")","v":""},{"$f":"IF(データ転記用!AB38<>\"\",1,\"\")","v":""},{"$f":"IF(データ転記用!AC38<>\"\",1,\"\")","v":""},{"$f":"IF(データ転記用!AD38<>\"\",1,\"\")","v":""},{"$f":"IF(データ転記用!AE38<>\"\",1,\"\")","v":""},{"$f":"IF(データ転記用!AF38<>\"\",1,\"\")","v":""},{"$f":"IF(データ転記用!AG38<>\"\",1,\"\")","v":""},{"$f":"IF(データ転記用!AH38<>\"\",1,\"\")","v":""},{"$f":"IF(データ転記用!AI38<>\"\",1,\"\")","v":""},{"$f":"IF(データ転記用!AJ38<>\"\",1,\"\")","v":""},{"$f":"IF(データ転記用!AK38<>\"\",1,\"\")","v":""},{"$f":"IF(データ転記用!AL38<>\"\",1,\"\")","v":""},{"$f":"IF(データ転記用!AM38<>\"\",1,\"\")","v":""},{"$f":"IF(データ転記用!AN38<>\"\",1,\"\")","v":""}]
[null,null,null,{"$f":"IF(データ転記用!D39<>\"\",1,\"\")","v":""},{"$f":"IF(データ転記用!E39<>\"\",1,\"\")","v":""},{"$f":"IF(データ転記用!F39<>\"\",1,\"\")","v":""},{"$f":"IF(データ転記用!G39<>\"\",1,\"\")","v":""},{"$f":"IF(データ転記用!H39<>\"\",1,\"\")","v":""},{"$f":"IF(データ転記用!I39<>\"\",1,\"\")","v":""},{"$f":"IF(データ転記用!J39<>\"\",1,\"\")","v":""},{"$f":"IF(データ転記用!K39<>\"\",1,\"\")","v":""},{"$f":"IF(データ転記用!L39<>\"\",1,\"\")","v":""},{"$f":"IF(データ転記用!M39<>\"\",1,\"\")","v":""},{"$f":"IF(データ転記用!N39<>\"\",1,\"\")","v":""},{"$f":"IF(データ転記用!O39<>\"\",1,\"\")","v":""},{"$f":"IF(データ転記用!P39<>\"\",1,\"\")","v":""},{"$f":"IF(データ転記用!Q39<>\"\",1,\"\")","v":""},{"$f":"IF(データ転記用!R39<>\"\",1,\"\")","v":""},{"$f":"IF(データ転記用!S39<>\"\",1,\"\")","v":""},{"$f":"IF(データ転記用!T39<>\"\",1,\"\")","v":""},{"$f":"IF(データ転記用!U39<>\"\",1,\"\")","v":""},{"$f":"IF(データ転記用!V39<>\"\",1,\"\")","v":""},{"$f":"IF(データ転記用!W39<>\"\",1,\"\")","v":""},{"$f":"IF(データ転記用!X39<>\"\",1,\"\")","v":""},{"$f":"IF(データ転記用!Y39<>\"\",1,\"\")","v":""},{"$f":"IF(データ転記用!Z39<>\"\",1,\"\")","v":""},{"$f":"IF(データ転記用!AA39<>\"\",1,\"\")","v":""},{"$f":"IF(データ転記用!AB39<>\"\",1,\"\")","v":""},{"$f":"IF(データ転記用!AC39<>\"\",1,\"\")","v":""},{"$f":"IF(データ転記用!AD39<>\"\",1,\"\")","v":""},{"$f":"IF(データ転記用!AE39<>\"\",1,\"\")","v":""},{"$f":"IF(データ転記用!AF39<>\"\",1,\"\")","v":""},{"$f":"IF(データ転記用!AG39<>\"\",1,\"\")","v":""},{"$f":"IF(データ転記用!AH39<>\"\",1,\"\")","v":""},{"$f":"IF(データ転記用!AI39<>\"\",1,\"\")","v":""},{"$f":"IF(データ転記用!AJ39<>\"\",1,\"\")","v":""},{"$f":"IF(データ転記用!AK39<>\"\",1,\"\")","v":""},{"$f":"IF(データ転記用!AL39<>\"\",1,\"\")","v":""},{"$f":"IF(データ転記用!AM39<>\"\",1,\"\")","v":""},{"$f":"IF(データ転記用!AN39<>\"\",1,\"\")","v":""}]
[null,null,null,{"$f":"IF(データ転記用!D40<>\"\",1,\"\")","v":""},{"$f":"IF(データ転記用!E40<>\"\",1,\"\")","v":""},{"$f":"IF(データ転記用!F40<>\"\",1,\"\")","v":""},{"$f":"IF(データ転記用!G40<>\"\",1,\"\")","v":""},{"$f":"IF(データ転記用!H40<>\"\",1,\"\")","v":""},{"$f":"IF(データ転記用!I40<>\"\",1,\"\")","v":""},{"$f":"IF(データ転記用!J40<>\"\",1,\"\")","v":""},{"$f":"IF(データ転記用!K40<>\"\",1,\"\")","v":""},{"$f":"IF(データ転記用!L40<>\"\",1,\"\")","v":""},{"$f":"IF(データ転記用!M40<>\"\",1,\"\")","v":""},{"$f":"IF(データ転記用!N40<>\"\",1,\"\")","v":""},{"$f":"IF(データ転記用!O40<>\"\",1,\"\")","v":""},{"$f":"IF(データ転記用!P40<>\"\",1,\"\")","v":""},{"$f":"IF(データ転記用!Q40<>\"\",1,\"\")","v":""},{"$f":"IF(データ転記用!R40<>\"\",1,\"\")","v":""},{"$f":"IF(データ転記用!S40<>\"\",1,\"\")","v":""},{"$f":"IF(データ転記用!T40<>\"\",1,\"\")","v":""},{"$f":"IF(データ転記用!U40<>\"\",1,\"\")","v":""},{"$f":"IF(データ転記用!V40<>\"\",1,\"\")","v":""},{"$f":"IF(データ転記用!W40<>\"\",1,\"\")","v":""},{"$f":"IF(データ転記用!X40<>\"\",1,\"\")","v":""},{"$f":"IF(データ転記用!Y40<>\"\",1,\"\")","v":""},{"$f":"IF(データ転記用!Z40<>\"\",1,\"\")","v":""},{"$f":"IF(データ転記用!AA40<>\"\",1,\"\")","v":""},{"$f":"IF(データ転記用!AB40<>\"\",1,\"\")","v":""},{"$f":"IF(データ転記用!AC40<>\"\",1,\"\")","v":""},{"$f":"IF(データ転記用!AD40<>\"\",1,\"\")","v":""},{"$f":"IF(データ転記用!AE40<>\"\",1,\"\")","v":""},{"$f":"IF(データ転記用!AF40<>\"\",1,\"\")","v":""},{"$f":"IF(データ転記用!AG40<>\"\",1,\"\")","v":""},{"$f":"IF(データ転記用!AH40<>\"\",1,\"\")","v":""},{"$f":"IF(データ転記用!AI40<>\"\",1,\"\")","v":""},{"$f":"IF(データ転記用!AJ40<>\"\",1,\"\")","v":""},{"$f":"IF(データ転記用!AK40<>\"\",1,\"\")","v":""},{"$f":"IF(データ転記用!AL40<>\"\",1,\"\")","v":""},{"$f":"IF(データ転記用!AM40<>\"\",1,\"\")","v":""},{"$f":"IF(データ転記用!AN40<>\"\",1,\"\")","v":""}]
[null,null,null,{"$f":"IF(データ転記用!D41<>\"\",1,\"\")","v":""},{"$f":"IF(データ転記用!E41<>\"\",1,\"\")","v":""},{"$f":"IF(データ転記用!F41<>\"\",1,\"\")","v":""},{"$f":"IF(データ転記用!G41<>\"\",1,\"\")","v":""},{"$f":"IF(データ転記用!H41<>\"\",1,\"\")","v":""},{"$f":"IF(データ転記用!I41<>\"\",1,\"\")","v":""},{"$f":"IF(データ転記用!J41<>\"\",1,\"\")","v":""},{"$f":"IF(データ転記用!K41<>\"\",1,\"\")","v":""},{"$f":"IF(データ転記用!L41<>\"\",1,\"\")","v":""},{"$f":"IF(データ転記用!M41<>\"\",1,\"\")","v":""},{"$f":"IF(データ転記用!N41<>\"\",1,\"\")","v":""},{"$f":"IF(データ転記用!O41<>\"\",1,\"\")","v":""},{"$f":"IF(データ転記用!P41<>\"\",1,\"\")","v":""},{"$f":"IF(データ転記用!Q41<>\"\",1,\"\")","v":""},{"$f":"IF(データ転記用!R41<>\"\",1,\"\")","v":""},{"$f":"IF(データ転記用!S41<>\"\",1,\"\")","v":""},{"$f":"IF(データ転記用!T41<>\"\",1,\"\")","v":""},{"$f":"IF(データ転記用!U41<>\"\",1,\"\")","v":""},{"$f":"IF(データ転記用!V41<>\"\",1,\"\")","v":""},{"$f":"IF(データ転記用!W41<>\"\",1,\"\")","v":""},{"$f":"IF(データ転記用!X41<>\"\",1,\"\")","v":""},{"$f":"IF(データ転記用!Y41<>\"\",1,\"\")","v":""},{"$f":"IF(データ転記用!Z41<>\"\",1,\"\")","v":""},{"$f":"IF(データ転記用!AA41<>\"\",1,\"\")","v":""},{"$f":"IF(データ転記用!AB41<>\"\",1,\"\")","v":""},{"$f":"IF(データ転記用!AC41<>\"\",1,\"\")","v":""},{"$f":"IF(データ転記用!AD41<>\"\",1,\"\")","v":""},{"$f":"IF(データ転記用!AE41<>\"\",1,\"\")","v":""},{"$f":"IF(データ転記用!AF41<>\"\",1,\"\")","v":""},{"$f":"IF(データ転記用!AG41<>\"\",1,\"\")","v":""},{"$f":"IF(データ転記用!AH41<>\"\",1,\"\")","v":""},{"$f":"IF(データ転記用!AI41<>\"\",1,\"\")","v":""},{"$f":"IF(データ転記用!AJ41<>\"\",1,\"\")","v":""},{"$f":"IF(データ転記用!AK41<>\"\",1,\"\")","v":""},{"$f":"IF(データ転記用!AL41<>\"\",1,\"\")","v":""},{"$f":"IF(データ転記用!AM41<>\"\",1,\"\")","v":""},{"$f":"IF(データ転記用!AN41<>\"\",1,\"\")","v":""}]
[null,null,null,{"$f":"IF(データ転記用!D42<>\"\",1,\"\")","v":""},{"$f":"IF(データ転記用!E42<>\"\",1,\"\")","v":""},{"$f":"IF(データ転記用!F42<>\"\",1,\"\")","v":""},{"$f":"IF(データ転記用!G42<>\"\",1,\"\")","v":""},{"$f":"IF(データ転記用!H42<>\"\",1,\"\")","v":""},{"$f":"IF(データ転記用!I42<>\"\",1,\"\")","v":""},{"$f":"IF(データ転記用!J42<>\"\",1,\"\")","v":""},{"$f":"IF(データ転記用!K42<>\"\",1,\"\")","v":""},{"$f":"IF(データ転記用!L42<>\"\",1,\"\")","v":""},{"$f":"IF(データ転記用!M42<>\"\",1,\"\")","v":""},{"$f":"IF(データ転記用!N42<>\"\",1,\"\")","v":""},{"$f":"IF(データ転記用!O42<>\"\",1,\"\")","v":""},{"$f":"IF(データ転記用!P42<>\"\",1,\"\")","v":""},{"$f":"IF(データ転記用!Q42<>\"\",1,\"\")","v":""},{"$f":"IF(データ転記用!R42<>\"\",1,\"\")","v":""},{"$f":"IF(データ転記用!S42<>\"\",1,\"\")","v":""},{"$f":"IF(データ転記用!T42<>\"\",1,\"\")","v":""},{"$f":"IF(データ転記用!U42<>\"\",1,\"\")","v":""},{"$f":"IF(データ転記用!V42<>\"\",1,\"\")","v":""},{"$f":"IF(データ転記用!W42<>\"\",1,\"\")","v":""},{"$f":"IF(データ転記用!X42<>\"\",1,\"\")","v":""},{"$f":"IF(データ転記用!Y42<>\"\",1,\"\")","v":""},{"$f":"IF(データ転記用!Z42<>\"\",1,\"\")","v":""},{"$f":"IF(データ転記用!AA42<>\"\",1,\"\")","v":""},{"$f":"IF(データ転記用!AB42<>\"\",1,\"\")","v":""},{"$f":"IF(データ転記用!AC42<>\"\",1,\"\")","v":""},{"$f":"IF(データ転記用!AD42<>\"\",1,\"\")","v":""},{"$f":"IF(データ転記用!AE42<>\"\",1,\"\")","v":""},{"$f":"IF(データ転記用!AF42<>\"\",1,\"\")","v":""},{"$f":"IF(データ転記用!AG42<>\"\",1,\"\")","v":""},{"$f":"IF(データ転記用!AH42<>\"\",1,\"\")","v":""},{"$f":"IF(データ転記用!AI42<>\"\",1,\"\")","v":""},{"$f":"IF(データ転記用!AJ42<>\"\",1,\"\")","v":""},{"$f":"IF(データ転記用!AK42<>\"\",1,\"\")","v":""},{"$f":"IF(データ転記用!AL42<>\"\",1,\"\")","v":""},{"$f":"IF(データ転記用!AM42<>\"\",1,\"\")","v":""},{"$f":"IF(データ転記用!AN42<>\"\",1,\"\")","v":""}]
[null,null,null,{"$f":"IF(データ転記用!D43<>\"\",1,\"\")","v":""},{"$f":"IF(データ転記用!E43<>\"\",1,\"\")","v":""},{"$f":"IF(データ転記用!F43<>\"\",1,\"\")","v":""},{"$f":"IF(データ転記用!G43<>\"\",1,\"\")","v":""},{"$f":"IF(データ転記用!H43<>\"\",1,\"\")","v":""},{"$f":"IF(データ転記用!I43<>\"\",1,\"\")","v":""},{"$f":"IF(データ転記用!J43<>\"\",1,\"\")","v":""},{"$f":"IF(データ転記用!K43<>\"\",1,\"\")","v":""},{"$f":"IF(データ転記用!L43<>\"\",1,\"\")","v":""},{"$f":"IF(データ転記用!M43<>\"\",1,\"\")","v":""},{"$f":"IF(データ転記用!N43<>\"\",1,\"\")","v":""},{"$f":"IF(データ転記用!O43<>\"\",1,\"\")","v":""},{"$f":"IF(データ転記用!P43<>\"\",1,\"\")","v":""},{"$f":"IF(データ転記用!Q43<>\"\",1,\"\")","v":""},{"$f":"IF(データ転記用!R43<>\"\",1,\"\")","v":""},{"$f":"IF(データ転記用!S43<>\"\",1,\"\")","v":""},{"$f":"IF(データ転記用!T43<>\"\",1,\"\")","v":""},{"$f":"IF(データ転記用!U43<>\"\",1,\"\")","v":""},{"$f":"IF(データ転記用!V43<>\"\",1,\"\")","v":""},{"$f":"IF(データ転記用!W43<>\"\",1,\"\")","v":""},{"$f":"IF(データ転記用!X43<>\"\",1,\"\")","v":""},{"$f":"IF(データ転記用!Y43<>\"\",1,\"\")","v":""},{"$f":"IF(データ転記用!Z43<>\"\",1,\"\")","v":""},{"$f":"IF(データ転記用!AA43<>\"\",1,\"\")","v":""},{"$f":"IF(データ転記用!AB43<>\"\",1,\"\")","v":""},{"$f":"IF(データ転記用!AC43<>\"\",1,\"\")","v":""},{"$f":"IF(データ転記用!AD43<>\"\",1,\"\")","v":""},{"$f":"IF(データ転記用!AE43<>\"\",1,\"\")","v":""},{"$f":"IF(データ転記用!AF43<>\"\",1,\"\")","v":""},{"$f":"IF(データ転記用!AG43<>\"\",1,\"\")","v":""},{"$f":"IF(データ転記用!AH43<>\"\",1,\"\")","v":""},{"$f":"IF(データ転記用!AI43<>\"\",1,\"\")","v":""},{"$f":"IF(データ転記用!AJ43<>\"\",1,\"\")","v":""},{"$f":"IF(データ転記用!AK43<>\"\",1,\"\")","v":""},{"$f":"IF(データ転記用!AL43<>\"\",1,\"\")","v":""},{"$f":"IF(データ転記用!AM43<>\"\",1,\"\")","v":""},{"$f":"IF(データ転記用!AN43<>\"\",1,\"\")","v":""}]
[null,null,null,{"$f":"IF(データ転記用!D44<>\"\",1,\"\")","v":""},{"$f":"IF(データ転記用!E44<>\"\",1,\"\")","v":""},{"$f":"IF(データ転記用!F44<>\"\",1,\"\")","v":""},{"$f":"IF(データ転記用!G44<>\"\",1,\"\")","v":""},{"$f":"IF(データ転記用!H44<>\"\",1,\"\")","v":""},{"$f":"IF(データ転記用!I44<>\"\",1,\"\")","v":""},{"$f":"IF(データ転記用!J44<>\"\",1,\"\")","v":""},{"$f":"IF(データ転記用!K44<>\"\",1,\"\")","v":""},{"$f":"IF(データ転記用!L44<>\"\",1,\"\")","v":""},{"$f":"IF(データ転記用!M44<>\"\",1,\"\")","v":""},{"$f":"IF(データ転記用!N44<>\"\",1,\"\")","v":""},{"$f":"IF(データ転記用!O44<>\"\",1,\"\")","v":""},{"$f":"IF(データ転記用!P44<>\"\",1,\"\")","v":""},{"$f":"IF(データ転記用!Q44<>\"\",1,\"\")","v":""},{"$f":"IF(データ転記用!R44<>\"\",1,\"\")","v":""},{"$f":"IF(データ転記用!S44<>\"\",1,\"\")","v":""},{"$f":"IF(データ転記用!T44<>\"\",1,\"\")","v":""},{"$f":"IF(データ転記用!U44<>\"\",1,\"\")","v":""},{"$f":"IF(データ転記用!V44<>\"\",1,\"\")","v":""},{"$f":"IF(データ転記用!W44<>\"\",1,\"\")","v":""},{"$f":"IF(データ転記用!X44<>\"\",1,\"\")","v":""},{"$f":"IF(データ転記用!Y44<>\"\",1,\"\")","v":""},{"$f":"IF(データ転記用!Z44<>\"\",1,\"\")","v":""},{"$f":"IF(データ転記用!AA44<>\"\",1,\"\")","v":""},{"$f":"IF(データ転記用!AB44<>\"\",1,\"\")","v":""},{"$f":"IF(データ転記用!AC44<>\"\",1,\"\")","v":""},{"$f":"IF(データ転記用!AD44<>\"\",1,\"\")","v":""},{"$f":"IF(データ転記用!AE44<>\"\",1,\"\")","v":""},{"$f":"IF(データ転記用!AF44<>\"\",1,\"\")","v":""},{"$f":"IF(データ転記用!AG44<>\"\",1,\"\")","v":""},{"$f":"IF(データ転記用!AH44<>\"\",1,\"\")","v":""},{"$f":"IF(データ転記用!AI44<>\"\",1,\"\")","v":""},{"$f":"IF(データ転記用!AJ44<>\"\",1,\"\")","v":""},{"$f":"IF(データ転記用!AK44<>\"\",1,\"\")","v":""},{"$f":"IF(データ転記用!AL44<>\"\",1,\"\")","v":""},{"$f":"IF(データ転記用!AM44<>\"\",1,\"\")","v":""},{"$f":"IF(データ転記用!AN44<>\"\",1,\"\")","v":""}]
[null,null,null,{"$f":"IF(データ転記用!D45<>\"\",1,\"\")","v":""},{"$f":"IF(データ転記用!E45<>\"\",1,\"\")","v":""},{"$f":"IF(データ転記用!F45<>\"\",1,\"\")","v":""},{"$f":"IF(データ転記用!G45<>\"\",1,\"\")","v":""},{"$f":"IF(データ転記用!H45<>\"\",1,\"\")","v":""},{"$f":"IF(データ転記用!I45<>\"\",1,\"\")","v":""},{"$f":"IF(データ転記用!J45<>\"\",1,\"\")","v":""},{"$f":"IF(データ転記用!K45<>\"\",1,\"\")","v":""},{"$f":"IF(データ転記用!L45<>\"\",1,\"\")","v":""},{"$f":"IF(データ転記用!M45<>\"\",1,\"\")","v":""},{"$f":"IF(データ転記用!N45<>\"\",1,\"\")","v":""},{"$f":"IF(データ転記用!O45<>\"\",1,\"\")","v":""},{"$f":"IF(データ転記用!P45<>\"\",1,\"\")","v":""},{"$f":"IF(データ転記用!Q45<>\"\",1,\"\")","v":""},{"$f":"IF(データ転記用!R45<>\"\",1,\"\")","v":""},{"$f":"IF(データ転記用!S45<>\"\",1,\"\")","v":""},{"$f":"IF(データ転記用!T45<>\"\",1,\"\")","v":""},{"$f":"IF(データ転記用!U45<>\"\",1,\"\")","v":""},{"$f":"IF(データ転記用!V45<>\"\",1,\"\")","v":""},{"$f":"IF(データ転記用!W45<>\"\",1,\"\")","v":""},{"$f":"IF(データ転記用!X45<>\"\",1,\"\")","v":""},{"$f":"IF(データ転記用!Y45<>\"\",1,\"\")","v":""},{"$f":"IF(データ転記用!Z45<>\"\",1,\"\")","v":""},{"$f":"IF(データ転記用!AA45<>\"\",1,\"\")","v":""},{"$f":"IF(データ転記用!AB45<>\"\",1,\"\")","v":""},{"$f":"IF(データ転記用!AC45<>\"\",1,\"\")","v":""},{"$f":"IF(データ転記用!AD45<>\"\",1,\"\")","v":""},{"$f":"IF(データ転記用!AE45<>\"\",1,\"\")","v":""},{"$f":"IF(データ転記用!AF45<>\"\",1,\"\")","v":""},{"$f":"IF(データ転記用!AG45<>\"\",1,\"\")","v":""},{"$f":"IF(データ転記用!AH45<>\"\",1,\"\")","v":""},{"$f":"IF(データ転記用!AI45<>\"\",1,\"\")","v":""},{"$f":"IF(データ転記用!AJ45<>\"\",1,\"\")","v":""},{"$f":"IF(データ転記用!AK45<>\"\",1,\"\")","v":""},{"$f":"IF(データ転記用!AL45<>\"\",1,\"\")","v":""},{"$f":"IF(データ転記用!AM45<>\"\",1,\"\")","v":""},{"$f":"IF(データ転記用!AN45<>\"\",1,\"\")","v":""}]
[null,null,null,{"$f":"IF(データ転記用!D46<>\"\",1,\"\")","v":""},{"$f":"IF(データ転記用!E46<>\"\",1,\"\")","v":""},{"$f":"IF(データ転記用!F46<>\"\",1,\"\")","v":""},{"$f":"IF(データ転記用!G46<>\"\",1,\"\")","v":""},{"$f":"IF(データ転記用!H46<>\"\",1,\"\")","v":""},{"$f":"IF(データ転記用!I46<>\"\",1,\"\")","v":""},{"$f":"IF(データ転記用!J46<>\"\",1,\"\")","v":""},{"$f":"IF(データ転記用!K46<>\"\",1,\"\")","v":""},{"$f":"IF(データ転記用!L46<>\"\",1,\"\")","v":""},{"$f":"IF(データ転記用!M46<>\"\",1,\"\")","v":""},{"$f":"IF(データ転記用!N46<>\"\",1,\"\")","v":""},{"$f":"IF(データ転記用!O46<>\"\",1,\"\")","v":""},{"$f":"IF(データ転記用!P46<>\"\",1,\"\")","v":""},{"$f":"IF(データ転記用!Q46<>\"\",1,\"\")","v":""},{"$f":"IF(データ転記用!R46<>\"\",1,\"\")","v":""},{"$f":"IF(データ転記用!S46<>\"\",1,\"\")","v":""},{"$f":"IF(データ転記用!T46<>\"\",1,\"\")","v":""},{"$f":"IF(データ転記用!U46<>\"\",1,\"\")","v":""},{"$f":"IF(データ転記用!V46<>\"\",1,\"\")","v":""},{"$f":"IF(データ転記用!W46<>\"\",1,\"\")","v":""},{"$f":"IF(データ転記用!X46<>\"\",1,\"\")","v":""},{"$f":"IF(データ転記用!Y46<>\"\",1,\"\")","v":""},{"$f":"IF(データ転記用!Z46<>\"\",1,\"\")","v":""},{"$f":"IF(データ転記用!AA46<>\"\",1,\"\")","v":""},{"$f":"IF(データ転記用!AB46<>\"\",1,\"\")","v":""},{"$f":"IF(データ転記用!AC46<>\"\",1,\"\")","v":""},{"$f":"IF(データ転記用!AD46<>\"\",1,\"\")","v":""},{"$f":"IF(データ転記用!AE46<>\"\",1,\"\")","v":""},{"$f":"IF(データ転記用!AF46<>\"\",1,\"\")","v":""},{"$f":"IF(データ転記用!AG46<>\"\",1,\"\")","v":""},{"$f":"IF(データ転記用!AH46<>\"\",1,\"\")","v":""},{"$f":"IF(データ転記用!AI46<>\"\",1,\"\")","v":""},{"$f":"IF(データ転記用!AJ46<>\"\",1,\"\")","v":""},{"$f":"IF(データ転記用!AK46<>\"\",1,\"\")","v":""},{"$f":"IF(データ転記用!AL46<>\"\",1,\"\")","v":""},{"$f":"IF(データ転記用!AM46<>\"\",1,\"\")","v":""},{"$f":"IF(データ転記用!AN46<>\"\",1,\"\")","v":""}]
[null,null,null,{"$f":"IF(データ転記用!D47<>\"\",1,\"\")","v":""},{"$f":"IF(データ転記用!E47<>\"\",1,\"\")","v":""},{"$f":"IF(データ転記用!F47<>\"\",1,\"\")","v":""},{"$f":"IF(データ転記用!G47<>\"\",1,\"\")","v":""},{"$f":"IF(データ転記用!H47<>\"\",1,\"\")","v":""},{"$f":"IF(データ転記用!I47<>\"\",1,\"\")","v":""},{"$f":"IF(データ転記用!J47<>\"\",1,\"\")","v":""},{"$f":"IF(データ転記用!K47<>\"\",1,\"\")","v":""},{"$f":"IF(データ転記用!L47<>\"\",1,\"\")","v":""},{"$f":"IF(データ転記用!M47<>\"\",1,\"\")","v":""},{"$f":"IF(データ転記用!N47<>\"\",1,\"\")","v":""},{"$f":"IF(データ転記用!O47<>\"\",1,\"\")","v":""},{"$f":"IF(データ転記用!P47<>\"\",1,\"\")","v":""},{"$f":"IF(データ転記用!Q47<>\"\",1,\"\")","v":""},{"$f":"IF(データ転記用!R47<>\"\",1,\"\")","v":""},{"$f":"IF(データ転記用!S47<>\"\",1,\"\")","v":""},{"$f":"IF(データ転記用!T47<>\"\",1,\"\")","v":""},{"$f":"IF(データ転記用!U47<>\"\",1,\"\")","v":""},{"$f":"IF(データ転記用!V47<>\"\",1,\"\")","v":""},{"$f":"IF(データ転記用!W47<>\"\",1,\"\")","v":""},{"$f":"IF(データ転記用!X47<>\"\",1,\"\")","v":""},{"$f":"IF(データ転記用!Y47<>\"\",1,\"\")","v":""},{"$f":"IF(データ転記用!Z47<>\"\",1,\"\")","v":""},{"$f":"IF(データ転記用!AA47<>\"\",1,\"\")","v":""},{"$f":"IF(データ転記用!AB47<>\"\",1,\"\")","v":""},{"$f":"IF(データ転記用!AC47<>\"\",1,\"\")","v":""},{"$f":"IF(データ転記用!AD47<>\"\",1,\"\")","v":""},{"$f":"IF(データ転記用!AE47<>\"\",1,\"\")","v":""},{"$f":"IF(データ転記用!AF47<>\"\",1,\"\")","v":""},{"$f":"IF(データ転記用!AG47<>\"\",1,\"\")","v":""},{"$f":"IF(データ転記用!AH47<>\"\",1,\"\")","v":""},{"$f":"IF(データ転記用!AI47<>\"\",1,\"\")","v":""},{"$f":"IF(データ転記用!AJ47<>\"\",1,\"\")","v":""},{"$f":"IF(データ転記用!AK47<>\"\",1,\"\")","v":""},{"$f":"IF(データ転記用!AL47<>\"\",1,\"\")","v":""},{"$f":"IF(データ転記用!AM47<>\"\",1,\"\")","v":""},{"$f":"IF(データ転記用!AN47<>\"\",1,\"\")","v":""}]
[null,null,null,{"$f":"IF(データ転記用!D48<>\"\",1,\"\")","v":""},{"$f":"IF(データ転記用!E48<>\"\",1,\"\")","v":""},{"$f":"IF(データ転記用!F48<>\"\",1,\"\")","v":""},{"$f":"IF(データ転記用!G48<>\"\",1,\"\")","v":""},{"$f":"IF(データ転記用!H48<>\"\",1,\"\")","v":""},{"$f":"IF(データ転記用!I48<>\"\",1,\"\")","v":""},{"$f":"IF(データ転記用!J48<>\"\",1,\"\")","v":""},{"$f":"IF(データ転記用!K48<>\"\",1,\"\")","v":""},{"$f":"IF(データ転記用!L48<>\"\",1,\"\")","v":""},{"$f":"IF(データ転記用!M48<>\"\",1,\"\")","v":""},{"$f":"IF(データ転記用!N48<>\"\",1,\"\")","v":""},{"$f":"IF(データ転記用!O48<>\"\",1,\"\")","v":""},{"$f":"IF(データ転記用!P48<>\"\",1,\"\")","v":""},{"$f":"IF(データ転記用!Q48<>\"\",1,\"\")","v":""},{"$f":"IF(データ転記用!R48<>\"\",1,\"\")","v":""},{"$f":"IF(データ転記用!S48<>\"\",1,\"\")","v":""},{"$f":"IF(データ転記用!T48<>\"\",1,\"\")","v":""},{"$f":"IF(データ転記用!U48<>\"\",1,\"\")","v":""},{"$f":"IF(データ転記用!V48<>\"\",1,\"\")","v":""},{"$f":"IF(データ転記用!W48<>\"\",1,\"\")","v":""},{"$f":"IF(データ転記用!X48<>\"\",1,\"\")","v":""},{"$f":"IF(データ転記用!Y48<>\"\",1,\"\")","v":""},{"$f":"IF(データ転記用!Z48<>\"\",1,\"\")","v":""},{"$f":"IF(データ転記用!AA48<>\"\",1,\"\")","v":""},{"$f":"IF(データ転記用!AB48<>\"\",1,\"\")","v":""},{"$f":"IF(データ転記用!AC48<>\"\",1,\"\")","v":""},{"$f":"IF(データ転記用!AD48<>\"\",1,\"\")","v":""},{"$f":"IF(データ転記用!AE48<>\"\",1,\"\")","v":""},{"$f":"IF(データ転記用!AF48<>\"\",1,\"\")","v":""},{"$f":"IF(データ転記用!AG48<>\"\",1,\"\")","v":""},{"$f":"IF(データ転記用!AH48<>\"\",1,\"\")","v":""},{"$f":"IF(データ転記用!AI48<>\"\",1,\"\")","v":""},{"$f":"IF(データ転記用!AJ48<>\"\",1,\"\")","v":""},{"$f":"IF(データ転記用!AK48<>\"\",1,\"\")","v":""},{"$f":"IF(データ転記用!AL48<>\"\",1,\"\")","v":""},{"$f":"IF(データ転記用!AM48<>\"\",1,\"\")","v":""},{"$f":"IF(データ転記用!AN48<>\"\",1,\"\")","v":""}]
[null,null,null,{"$f":"IF(データ転記用!D49<>\"\",1,\"\")","v":""},{"$f":"IF(データ転記用!E49<>\"\",1,\"\")","v":""},{"$f":"IF(データ転記用!F49<>\"\",1,\"\")","v":""},{"$f":"IF(データ転記用!G49<>\"\",1,\"\")","v":""},{"$f":"IF(データ転記用!H49<>\"\",1,\"\")","v":""},{"$f":"IF(データ転記用!I49<>\"\",1,\"\")","v":""},{"$f":"IF(データ転記用!J49<>\"\",1,\"\")","v":""},{"$f":"IF(データ転記用!K49<>\"\",1,\"\")","v":""},{"$f":"IF(データ転記用!L49<>\"\",1,\"\")","v":""},{"$f":"IF(データ転記用!M49<>\"\",1,\"\")","v":""},{"$f":"IF(データ転記用!N49<>\"\",1,\"\")","v":""},{"$f":"IF(データ転記用!O49<>\"\",1,\"\")","v":""},{"$f":"IF(データ転記用!P49<>\"\",1,\"\")","v":""},{"$f":"IF(データ転記用!Q49<>\"\",1,\"\")","v":""},{"$f":"IF(データ転記用!R49<>\"\",1,\"\")","v":""},{"$f":"IF(データ転記用!S49<>\"\",1,\"\")","v":""},{"$f":"IF(データ転記用!T49<>\"\",1,\"\")","v":""},{"$f":"IF(データ転記用!U49<>\"\",1,\"\")","v":""},{"$f":"IF(データ転記用!V49<>\"\",1,\"\")","v":""},{"$f":"IF(データ転記用!W49<>\"\",1,\"\")","v":""},{"$f":"IF(データ転記用!X49<>\"\",1,\"\")","v":""},{"$f":"IF(データ転記用!Y49<>\"\",1,\"\")","v":""},{"$f":"IF(データ転記用!Z49<>\"\",1,\"\")","v":""},{"$f":"IF(データ転記用!AA49<>\"\",1,\"\")","v":""},{"$f":"IF(データ転記用!AB49<>\"\",1,\"\")","v":""},{"$f":"IF(データ転記用!AC49<>\"\",1,\"\")","v":""},{"$f":"IF(データ転記用!AD49<>\"\",1,\"\")","v":""},{"$f":"IF(データ転記用!AE49<>\"\",1,\"\")","v":""},{"$f":"IF(データ転記用!AF49<>\"\",1,\"\")","v":""},{"$f":"IF(データ転記用!AG49<>\"\",1,\"\")","v":""},{"$f":"IF(データ転記用!AH49<>\"\",1,\"\")","v":""},{"$f":"IF(データ転記用!AI49<>\"\",1,\"\")","v":""},{"$f":"IF(データ転記用!AJ49<>\"\",1,\"\")","v":""},{"$f":"IF(データ転記用!AK49<>\"\",1,\"\")","v":""},{"$f":"IF(データ転記用!AL49<>\"\",1,\"\")","v":""},{"$f":"IF(データ転記用!AM49<>\"\",1,\"\")","v":""},{"$f":"IF(データ転記用!AN49<>\"\",1,\"\")","v":""}]
[null,null,null,{"$f":"IF(データ転記用!D50<>\"\",1,\"\")","v":""},{"$f":"IF(データ転記用!E50<>\"\",1,\"\")","v":""},{"$f":"IF(データ転記用!F50<>\"\",1,\"\")","v":""},{"$f":"IF(データ転記用!G50<>\"\",1,\"\")","v":""},{"$f":"IF(データ転記用!H50<>\"\",1,\"\")","v":""},{"$f":"IF(データ転記用!I50<>\"\",1,\"\")","v":""},{"$f":"IF(データ転記用!J50<>\"\",1,\"\")","v":""},{"$f":"IF(データ転記用!K50<>\"\",1,\"\")","v":""},{"$f":"IF(データ転記用!L50<>\"\",1,\"\")","v":""},{"$f":"IF(データ転記用!M50<>\"\",1,\"\")","v":""},{"$f":"IF(データ転記用!N50<>\"\",1,\"\")","v":""},{"$f":"IF(データ転記用!O50<>\"\",1,\"\")","v":""},{"$f":"IF(データ転記用!P50<>\"\",1,\"\")","v":""},{"$f":"IF(データ転記用!Q50<>\"\",1,\"\")","v":""},{"$f":"IF(データ転記用!R50<>\"\",1,\"\")","v":""},{"$f":"IF(データ転記用!S50<>\"\",1,\"\")","v":""},{"$f":"IF(データ転記用!T50<>\"\",1,\"\")","v":""},{"$f":"IF(データ転記用!U50<>\"\",1,\"\")","v":""},{"$f":"IF(データ転記用!V50<>\"\",1,\"\")","v":""},{"$f":"IF(データ転記用!W50<>\"\",1,\"\")","v":""},{"$f":"IF(データ転記用!X50<>\"\",1,\"\")","v":""},{"$f":"IF(データ転記用!Y50<>\"\",1,\"\")","v":""},{"$f":"IF(データ転記用!Z50<>\"\",1,\"\")","v":""},{"$f":"IF(データ転記用!AA50<>\"\",1,\"\")","v":""},{"$f":"IF(データ転記用!AB50<>\"\",1,\"\")","v":""},{"$f":"IF(データ転記用!AC50<>\"\",1,\"\")","v":""},{"$f":"IF(データ転記用!AD50<>\"\",1,\"\")","v":""},{"$f":"IF(データ転記用!AE50<>\"\",1,\"\")","v":""},{"$f":"IF(データ転記用!AF50<>\"\",1,\"\")","v":""},{"$f":"IF(データ転記用!AG50<>\"\",1,\"\")","v":""},{"$f":"IF(データ転記用!AH50<>\"\",1,\"\")","v":""},{"$f":"IF(データ転記用!AI50<>\"\",1,\"\")","v":""},{"$f":"IF(データ転記用!AJ50<>\"\",1,\"\")","v":""},{"$f":"IF(データ転記用!AK50<>\"\",1,\"\")","v":""},{"$f":"IF(データ転記用!AL50<>\"\",1,\"\")","v":""},{"$f":"IF(データ転記用!AM50<>\"\",1,\"\")","v":""},{"$f":"IF(データ転記用!AN50<>\"\",1,\"\")","v":""}]
[null,null,null,{"$f":"IF(データ転記用!D51<>\"\",1,\"\")","v":""},{"$f":"IF(データ転記用!E51<>\"\",1,\"\")","v":""},{"$f":"IF(データ転記用!F51<>\"\",1,\"\")","v":""},{"$f":"IF(データ転記用!G51<>\"\",1,\"\")","v":""},{"$f":"IF(データ転記用!H51<>\"\",1,\"\")","v":""},{"$f":"IF(データ転記用!I51<>\"\",1,\"\")","v":""},{"$f":"IF(データ転記用!J51<>\"\",1,\"\")","v":""},{"$f":"IF(データ転記用!K51<>\"\",1,\"\")","v":""},{"$f":"IF(データ転記用!L51<>\"\",1,\"\")","v":""},{"$f":"IF(データ転記用!M51<>\"\",1,\"\")","v":""},{"$f":"IF(データ転記用!N51<>\"\",1,\"\")","v":""},{"$f":"IF(データ転記用!O51<>\"\",1,\"\")","v":""},{"$f":"IF(データ転記用!P51<>\"\",1,\"\")","v":""},{"$f":"IF(データ転記用!Q51<>\"\",1,\"\")","v":""},{"$f":"IF(データ転記用!R51<>\"\",1,\"\")","v":""},{"$f":"IF(データ転記用!S51<>\"\",1,\"\")","v":""},{"$f":"IF(データ転記用!T51<>\"\",1,\"\")","v":""},{"$f":"IF(データ転記用!U51<>\"\",1,\"\")","v":""},{"$f":"IF(データ転記用!V51<>\"\",1,\"\")","v":""},{"$f":"IF(データ転記用!W51<>\"\",1,\"\")","v":""},{"$f":"IF(データ転記用!X51<>\"\",1,\"\")","v":""},{"$f":"IF(データ転記用!Y51<>\"\",1,\"\")","v":""},{"$f":"IF(データ転記用!Z51<>\"\",1,\"\")","v":""},{"$f":"IF(データ転記用!AA51<>\"\",1,\"\")","v":""},{"$f":"IF(データ転記用!AB51<>\"\",1,\"\")","v":""},{"$f":"IF(データ転記用!AC51<>\"\",1,\"\")","v":""},{"$f":"IF(データ転記用!AD51<>\"\",1,\"\")","v":""},{"$f":"IF(データ転記用!AE51<>\"\",1,\"\")","v":""},{"$f":"IF(データ転記用!AF51<>\"\",1,\"\")","v":""},{"$f":"IF(データ転記用!AG51<>\"\",1,\"\")","v":""},{"$f":"IF(データ転記用!AH51<>\"\",1,\"\")","v":""},{"$f":"IF(データ転記用!AI51<>\"\",1,\"\")","v":""},{"$f":"IF(データ転記用!AJ51<>\"\",1,\"\")","v":""},{"$f":"IF(データ転記用!AK51<>\"\",1,\"\")","v":""},{"$f":"IF(データ転記用!AL51<>\"\",1,\"\")","v":""},{"$f":"IF(データ転記用!AM51<>\"\",1,\"\")","v":""},{"$f":"IF(データ転記用!AN51<>\"\",1,\"\")","v":""}]
[null,null,null,{"$f":"IF(データ転記用!D52<>\"\",1,\"\")","v":""},{"$f":"IF(データ転記用!E52<>\"\",1,\"\")","v":""},{"$f":"IF(データ転記用!F52<>\"\",1,\"\")","v":""},{"$f":"IF(データ転記用!G52<>\"\",1,\"\")","v":""},{"$f":"IF(データ転記用!H52<>\"\",1,\"\")","v":""},{"$f":"IF(データ転記用!I52<>\"\",1,\"\")","v":""},{"$f":"IF(データ転記用!J52<>\"\",1,\"\")","v":""},{"$f":"IF(データ転記用!K52<>\"\",1,\"\")","v":""},{"$f":"IF(データ転記用!L52<>\"\",1,\"\")","v":""},{"$f":"IF(データ転記用!M52<>\"\",1,\"\")","v":""},{"$f":"IF(データ転記用!N52<>\"\",1,\"\")","v":""},{"$f":"IF(データ転記用!O52<>\"\",1,\"\")","v":""},{"$f":"IF(データ転記用!P52<>\"\",1,\"\")","v":""},{"$f":"IF(データ転記用!Q52<>\"\",1,\"\")","v":""},{"$f":"IF(データ転記用!R52<>\"\",1,\"\")","v":""},{"$f":"IF(データ転記用!S52<>\"\",1,\"\")","v":""},{"$f":"IF(データ転記用!T52<>\"\",1,\"\")","v":""},{"$f":"IF(データ転記用!U52<>\"\",1,\"\")","v":""},{"$f":"IF(データ転記用!V52<>\"\",1,\"\")","v":""},{"$f":"IF(データ転記用!W52<>\"\",1,\"\")","v":""},{"$f":"IF(データ転記用!X52<>\"\",1,\"\")","v":""},{"$f":"IF(データ転記用!Y52<>\"\",1,\"\")","v":""},{"$f":"IF(データ転記用!Z52<>\"\",1,\"\")","v":""},{"$f":"IF(データ転記用!AA52<>\"\",1,\"\")","v":""},{"$f":"IF(データ転記用!AB52<>\"\",1,\"\")","v":""},{"$f":"IF(データ転記用!AC52<>\"\",1,\"\")","v":""},{"$f":"IF(データ転記用!AD52<>\"\",1,\"\")","v":""},{"$f":"IF(データ転記用!AE52<>\"\",1,\"\")","v":""},{"$f":"IF(データ転記用!AF52<>\"\",1,\"\")","v":""},{"$f":"IF(データ転記用!AG52<>\"\",1,\"\")","v":""},{"$f":"IF(データ転記用!AH52<>\"\",1,\"\")","v":""},{"$f":"IF(データ転記用!AI52<>\"\",1,\"\")","v":""},{"$f":"IF(データ転記用!AJ52<>\"\",1,\"\")","v":""},{"$f":"IF(データ転記用!AK52<>\"\",1,\"\")","v":""},{"$f":"IF(データ転記用!AL52<>\"\",1,\"\")","v":""},{"$f":"IF(データ転記用!AM52<>\"\",1,\"\")","v":""},{"$f":"IF(データ転記用!AN52<>\"\",1,\"\")","v":""}]
[null,null,null,{"$f":"IF(データ転記用!D53<>\"\",1,\"\")","v":""},{"$f":"IF(データ転記用!E53<>\"\",1,\"\")","v":""},{"$f":"IF(データ転記用!F53<>\"\",1,\"\")","v":""},{"$f":"IF(データ転記用!G53<>\"\",1,\"\")","v":""},{"$f":"IF(データ転記用!H53<>\"\",1,\"\")","v":""},{"$f":"IF(データ転記用!I53<>\"\",1,\"\")","v":""},{"$f":"IF(データ転記用!J53<>\"\",1,\"\")","v":""},{"$f":"IF(データ転記用!K53<>\"\",1,\"\")","v":""},{"$f":"IF(データ転記用!L53<>\"\",1,\"\")","v":""},{"$f":"IF(データ転記用!M53<>\"\",1,\"\")","v":""},{"$f":"IF(データ転記用!N53<>\"\",1,\"\")","v":""},{"$f":"IF(データ転記用!O53<>\"\",1,\"\")","v":""},{"$f":"IF(データ転記用!P53<>\"\",1,\"\")","v":""},{"$f":"IF(データ転記用!Q53<>\"\",1,\"\")","v":""},{"$f":"IF(データ転記用!R53<>\"\",1,\"\")","v":""},{"$f":"IF(データ転記用!S53<>\"\",1,\"\")","v":""},{"$f":"IF(データ転記用!T53<>\"\",1,\"\")","v":""},{"$f":"IF(データ転記用!U53<>\"\",1,\"\")","v":""},{"$f":"IF(データ転記用!V53<>\"\",1,\"\")","v":""},{"$f":"IF(データ転記用!W53<>\"\",1,\"\")","v":""},{"$f":"IF(データ転記用!X53<>\"\",1,\"\")","v":""},{"$f":"IF(データ転記用!Y53<>\"\",1,\"\")","v":""},{"$f":"IF(データ転記用!Z53<>\"\",1,\"\")","v":""},{"$f":"IF(データ転記用!AA53<>\"\",1,\"\")","v":""},{"$f":"IF(データ転記用!AB53<>\"\",1,\"\")","v":""},{"$f":"IF(データ転記用!AC53<>\"\",1,\"\")","v":""},{"$f":"IF(データ転記用!AD53<>\"\",1,\"\")","v":""},{"$f":"IF(データ転記用!AE53<>\"\",1,\"\")","v":""},{"$f":"IF(データ転記用!AF53<>\"\",1,\"\")","v":""},{"$f":"IF(データ転記用!AG53<>\"\",1,\"\")","v":""},{"$f":"IF(データ転記用!AH53<>\"\",1,\"\")","v":""},{"$f":"IF(データ転記用!AI53<>\"\",1,\"\")","v":""},{"$f":"IF(データ転記用!AJ53<>\"\",1,\"\")","v":""},{"$f":"IF(データ転記用!AK53<>\"\",1,\"\")","v":""},{"$f":"IF(データ転記用!AL53<>\"\",1,\"\")","v":""},{"$f":"IF(データ転記用!AM53<>\"\",1,\"\")","v":""},{"$f":"IF(データ転記用!AN53<>\"\",1,\"\")","v":""}]
[null,null,null,{"$f":"IF(データ転記用!D54<>\"\",1,\"\")","v":""},{"$f":"IF(データ転記用!E54<>\"\",1,\"\")","v":""},{"$f":"IF(データ転記用!F54<>\"\",1,\"\")","v":""},{"$f":"IF(データ転記用!G54<>\"\",1,\"\")","v":""},{"$f":"IF(データ転記用!H54<>\"\",1,\"\")","v":""},{"$f":"IF(データ転記用!I54<>\"\",1,\"\")","v":""},{"$f":"IF(データ転記用!J54<>\"\",1,\"\")","v":""},{"$f":"IF(データ転記用!K54<>\"\",1,\"\")","v":""},{"$f":"IF(データ転記用!L54<>\"\",1,\"\")","v":""},{"$f":"IF(データ転記用!M54<>\"\",1,\"\")","v":""},{"$f":"IF(データ転記用!N54<>\"\",1,\"\")","v":""},{"$f":"IF(データ転記用!O54<>\"\",1,\"\")","v":""},{"$f":"IF(データ転記用!P54<>\"\",1,\"\")","v":""},{"$f":"IF(データ転記用!Q54<>\"\",1,\"\")","v":""},{"$f":"IF(データ転記用!R54<>\"\",1,\"\")","v":""},{"$f":"IF(データ転記用!S54<>\"\",1,\"\")","v":""},{"$f":"IF(データ転記用!T54<>\"\",1,\"\")","v":""},{"$f":"IF(データ転記用!U54<>\"\",1,\"\")","v":""},{"$f":"IF(データ転記用!V54<>\"\",1,\"\")","v":""},{"$f":"IF(データ転記用!W54<>\"\",1,\"\")","v":""},{"$f":"IF(データ転記用!X54<>\"\",1,\"\")","v":""},{"$f":"IF(データ転記用!Y54<>\"\",1,\"\")","v":""},{"$f":"IF(データ転記用!Z54<>\"\",1,\"\")","v":""},{"$f":"IF(データ転記用!AA54<>\"\",1,\"\")","v":""},{"$f":"IF(データ転記用!AB54<>\"\",1,\"\")","v":""},{"$f":"IF(データ転記用!AC54<>\"\",1,\"\")","v":""},{"$f":"IF(データ転記用!AD54<>\"\",1,\"\")","v":""},{"$f":"IF(データ転記用!AE54<>\"\",1,\"\")","v":""},{"$f":"IF(データ転記用!AF54<>\"\",1,\"\")","v":""},{"$f":"IF(データ転記用!AG54<>\"\",1,\"\")","v":""},{"$f":"IF(データ転記用!AH54<>\"\",1,\"\")","v":""},{"$f":"IF(データ転記用!AI54<>\"\",1,\"\")","v":""},{"$f":"IF(データ転記用!AJ54<>\"\",1,\"\")","v":""},{"$f":"IF(データ転記用!AK54<>\"\",1,\"\")","v":""},{"$f":"IF(データ転記用!AL54<>\"\",1,\"\")","v":""},{"$f":"IF(データ転記用!AM54<>\"\",1,\"\")","v":""},{"$f":"IF(データ転記用!AN54<>\"\",1,\"\")","v":""}]
[null,null,null,{"$f":"IF(データ転記用!D55<>\"\",1,\"\")","v":""},{"$f":"IF(データ転記用!E55<>\"\",1,\"\")","v":""},{"$f":"IF(データ転記用!F55<>\"\",1,\"\")","v":""},{"$f":"IF(データ転記用!G55<>\"\",1,\"\")","v":""},{"$f":"IF(データ転記用!H55<>\"\",1,\"\")","v":""},{"$f":"IF(データ転記用!I55<>\"\",1,\"\")","v":""},{"$f":"IF(データ転記用!J55<>\"\",1,\"\")","v":""},{"$f":"IF(データ転記用!K55<>\"\",1,\"\")","v":""},{"$f":"IF(データ転記用!L55<>\"\",1,\"\")","v":""},{"$f":"IF(データ転記用!M55<>\"\",1,\"\")","v":""},{"$f":"IF(データ転記用!N55<>\"\",1,\"\")","v":""},{"$f":"IF(データ転記用!O55<>\"\",1,\"\")","v":""},{"$f":"IF(データ転記用!P55<>\"\",1,\"\")","v":""},{"$f":"IF(データ転記用!Q55<>\"\",1,\"\")","v":""},{"$f":"IF(データ転記用!R55<>\"\",1,\"\")","v":""},{"$f":"IF(データ転記用!S55<>\"\",1,\"\")","v":""},{"$f":"IF(データ転記用!T55<>\"\",1,\"\")","v":""},{"$f":"IF(データ転記用!U55<>\"\",1,\"\")","v":""},{"$f":"IF(データ転記用!V55<>\"\",1,\"\")","v":""},{"$f":"IF(データ転記用!W55<>\"\",1,\"\")","v":""},{"$f":"IF(データ転記用!X55<>\"\",1,\"\")","v":""},{"$f":"IF(データ転記用!Y55<>\"\",1,\"\")","v":""},{"$f":"IF(データ転記用!Z55<>\"\",1,\"\")","v":""},{"$f":"IF(データ転記用!AA55<>\"\",1,\"\")","v":""},{"$f":"IF(データ転記用!AB55<>\"\",1,\"\")","v":""},{"$f":"IF(データ転記用!AC55<>\"\",1,\"\")","v":""},{"$f":"IF(データ転記用!AD55<>\"\",1,\"\")","v":""},{"$f":"IF(データ転記用!AE55<>\"\",1,\"\")","v":""},{"$f":"IF(データ転記用!AF55<>\"\",1,\"\")","v":""},{"$f":"IF(データ転記用!AG55<>\"\",1,\"\")","v":""},{"$f":"IF(データ転記用!AH55<>\"\",1,\"\")","v":""},{"$f":"IF(データ転記用!AI55<>\"\",1,\"\")","v":""},{"$f":"IF(データ転記用!AJ55<>\"\",1,\"\")","v":""},{"$f":"IF(データ転記用!AK55<>\"\",1,\"\")","v":""},{"$f":"IF(データ転記用!AL55<>\"\",1,\"\")","v":""},{"$f":"IF(データ転記用!AM55<>\"\",1,\"\")","v":""},{"$f":"IF(データ転記用!AN55<>\"\",1,\"\")","v":""}]
[null,null,null,{"$f":"IF(データ転記用!D56<>\"\",1,\"\")","v":""},{"$f":"IF(データ転記用!E56<>\"\",1,\"\")","v":""},{"$f":"IF(データ転記用!F56<>\"\",1,\"\")","v":""},{"$f":"IF(データ転記用!G56<>\"\",1,\"\")","v":""},{"$f":"IF(データ転記用!H56<>\"\",1,\"\")","v":""},{"$f":"IF(データ転記用!I56<>\"\",1,\"\")","v":""},{"$f":"IF(データ転記用!J56<>\"\",1,\"\")","v":""},{"$f":"IF(データ転記用!K56<>\"\",1,\"\")","v":""},{"$f":"IF(データ転記用!L56<>\"\",1,\"\")","v":""},{"$f":"IF(データ転記用!M56<>\"\",1,\"\")","v":""},{"$f":"IF(データ転記用!N56<>\"\",1,\"\")","v":""},{"$f":"IF(データ転記用!O56<>\"\",1,\"\")","v":""},{"$f":"IF(データ転記用!P56<>\"\",1,\"\")","v":""},{"$f":"IF(データ転記用!Q56<>\"\",1,\"\")","v":""},{"$f":"IF(データ転記用!R56<>\"\",1,\"\")","v":""},{"$f":"IF(データ転記用!S56<>\"\",1,\"\")","v":""},{"$f":"IF(データ転記用!T56<>\"\",1,\"\")","v":""},{"$f":"IF(データ転記用!U56<>\"\",1,\"\")","v":""},{"$f":"IF(データ転記用!V56<>\"\",1,\"\")","v":""},{"$f":"IF(データ転記用!W56<>\"\",1,\"\")","v":""},{"$f":"IF(データ転記用!X56<>\"\",1,\"\")","v":""},{"$f":"IF(データ転記用!Y56<>\"\",1,\"\")","v":""},{"$f":"IF(データ転記用!Z56<>\"\",1,\"\")","v":""},{"$f":"IF(データ転記用!AA56<>\"\",1,\"\")","v":""},{"$f":"IF(データ転記用!AB56<>\"\",1,\"\")","v":""},{"$f":"IF(データ転記用!AC56<>\"\",1,\"\")","v":""},{"$f":"IF(データ転記用!AD56<>\"\",1,\"\")","v":""},{"$f":"IF(データ転記用!AE56<>\"\",1,\"\")","v":""},{"$f":"IF(データ転記用!AF56<>\"\",1,\"\")","v":""},{"$f":"IF(データ転記用!AG56<>\"\",1,\"\")","v":""},{"$f":"IF(データ転記用!AH56<>\"\",1,\"\")","v":""},{"$f":"IF(データ転記用!AI56<>\"\",1,\"\")","v":""},{"$f":"IF(データ転記用!AJ56<>\"\",1,\"\")","v":""},{"$f":"IF(データ転記用!AK56<>\"\",1,\"\")","v":""},{"$f":"IF(データ転記用!AL56<>\"\",1,\"\")","v":""},{"$f":"IF(データ転記用!AM56<>\"\",1,\"\")","v":""},{"$f":"IF(データ転記用!AN56<>\"\",1,\"\")","v":""}]
[null,null,null,{"$f":"IF(データ転記用!D57<>\"\",1,\"\")","v":""},{"$f":"IF(データ転記用!E57<>\"\",1,\"\")","v":""},{"$f":"IF(データ転記用!F57<>\"\",1,\"\")","v":""},{"$f":"IF(データ転記用!G57<>\"\",1,\"\")","v":""},{"$f":"IF(データ転記用!H57<>\"\",1,\"\")","v":""},{"$f":"IF(データ転記用!I57<>\"\",1,\"\")","v":""},{"$f":"IF(データ転記用!J57<>\"\",1,\"\")","v":""},{"$f":"IF(データ転記用!K57<>\"\",1,\"\")","v":""},{"$f":"IF(データ転記用!L57<>\"\",1,\"\")","v":""},{"$f":"IF(データ転記用!M57<>\"\",1,\"\")","v":""},{"$f":"IF(データ転記用!N57<>\"\",1,\"\")","v":""},{"$f":"IF(データ転記用!O57<>\"\",1,\"\")","v":""},{"$f":"IF(データ転記用!P57<>\"\",1,\"\")","v":""},{"$f":"IF(データ転記用!Q57<>\"\",1,\"\")","v":""},{"$f":"IF(データ転記用!R57<>\"\",1,\"\")","v":""},{"$f":"IF(データ転記用!S57<>\"\",1,\"\")","v":""},{"$f":"IF(データ転記用!T57<>\"\",1,\"\")","v":""},{"$f":"IF(データ転記用!U57<>\"\",1,\"\")","v":""},{"$f":"IF(データ転記用!V57<>\"\",1,\"\")","v":""},{"$f":"IF(データ転記用!W57<>\"\",1,\"\")","v":""},{"$f":"IF(データ転記用!X57<>\"\",1,\"\")","v":""},{"$f":"IF(データ転記用!Y57<>\"\",1,\"\")","v":""},{"$f":"IF(データ転記用!Z57<>\"\",1,\"\")","v":""},{"$f":"IF(データ転記用!AA57<>\"\",1,\"\")","v":""},{"$f":"IF(データ転記用!AB57<>\"\",1,\"\")","v":""},{"$f":"IF(データ転記用!AC57<>\"\",1,\"\")","v":""},{"$f":"IF(データ転記用!AD57<>\"\",1,\"\")","v":""},{"$f":"IF(データ転記用!AE57<>\"\",1,\"\")","v":""},{"$f":"IF(データ転記用!AF57<>\"\",1,\"\")","v":""},{"$f":"IF(データ転記用!AG57<>\"\",1,\"\")","v":""},{"$f":"IF(データ転記用!AH57<>\"\",1,\"\")","v":""},{"$f":"IF(データ転記用!AI57<>\"\",1,\"\")","v":""},{"$f":"IF(データ転記用!AJ57<>\"\",1,\"\")","v":""},{"$f":"IF(データ転記用!AK57<>\"\",1,\"\")","v":""},{"$f":"IF(データ転記用!AL57<>\"\",1,\"\")","v":""},{"$f":"IF(データ転記用!AM57<>\"\",1,\"\")","v":""},{"$f":"IF(データ転記用!AN57<>\"\",1,\"\")","v":""}]
[null,null,null,{"$f":"IF(データ転記用!D58<>\"\",1,\"\")","v":""},{"$f":"IF(データ転記用!E58<>\"\",1,\"\")","v":""},{"$f":"IF(データ転記用!F58<>\"\",1,\"\")","v":""},{"$f":"IF(データ転記用!G58<>\"\",1,\"\")","v":""},{"$f":"IF(データ転記用!H58<>\"\",1,\"\")","v":""},{"$f":"IF(データ転記用!I58<>\"\",1,\"\")","v":""},{"$f":"IF(データ転記用!J58<>\"\",1,\"\")","v":""},{"$f":"IF(データ転記用!K58<>\"\",1,\"\")","v":""},{"$f":"IF(データ転記用!L58<>\"\",1,\"\")","v":""},{"$f":"IF(データ転記用!M58<>\"\",1,\"\")","v":""},{"$f":"IF(データ転記用!N58<>\"\",1,\"\")","v":""},{"$f":"IF(データ転記用!O58<>\"\",1,\"\")","v":""},{"$f":"IF(データ転記用!P58<>\"\",1,\"\")","v":""},{"$f":"IF(データ転記用!Q58<>\"\",1,\"\")","v":""},{"$f":"IF(データ転記用!R58<>\"\",1,\"\")","v":""},{"$f":"IF(データ転記用!S58<>\"\",1,\"\")","v":""},{"$f":"IF(データ転記用!T58<>\"\",1,\"\")","v":""},{"$f":"IF(データ転記用!U58<>\"\",1,\"\")","v":""},{"$f":"IF(データ転記用!V58<>\"\",1,\"\")","v":""},{"$f":"IF(データ転記用!W58<>\"\",1,\"\")","v":""},{"$f":"IF(データ転記用!X58<>\"\",1,\"\")","v":""},{"$f":"IF(データ転記用!Y58<>\"\",1,\"\")","v":""},{"$f":"IF(データ転記用!Z58<>\"\",1,\"\")","v":""},{"$f":"IF(データ転記用!AA58<>\"\",1,\"\")","v":""},{"$f":"IF(データ転記用!AB58<>\"\",1,\"\")","v":""},{"$f":"IF(データ転記用!AC58<>\"\",1,\"\")","v":""},{"$f":"IF(データ転記用!AD58<>\"\",1,\"\")","v":""},{"$f":"IF(データ転記用!AE58<>\"\",1,\"\")","v":""},{"$f":"IF(データ転記用!AF58<>\"\",1,\"\")","v":""},{"$f":"IF(データ転記用!AG58<>\"\",1,\"\")","v":""},{"$f":"IF(データ転記用!AH58<>\"\",1,\"\")","v":""},{"$f":"IF(データ転記用!AI58<>\"\",1,\"\")","v":""},{"$f":"IF(データ転記用!AJ58<>\"\",1,\"\")","v":""},{"$f":"IF(データ転記用!AK58<>\"\",1,\"\")","v":""},{"$f":"IF(データ転記用!AL58<>\"\",1,\"\")","v":""},{"$f":"IF(データ転記用!AM58<>\"\",1,\"\")","v":""},{"$f":"IF(データ転記用!AN58<>\"\",1,\"\")","v":""}]
[null,null,null,{"$f":"IF(データ転記用!D59<>\"\",1,\"\")","v":""},{"$f":"IF(データ転記用!E59<>\"\",1,\"\")","v":""},{"$f":"IF(データ転記用!F59<>\"\",1,\"\")","v":""},{"$f":"IF(データ転記用!G59<>\"\",1,\"\")","v":""},{"$f":"IF(データ転記用!H59<>\"\",1,\"\")","v":""},{"$f":"IF(データ転記用!I59<>\"\",1,\"\")","v":""},{"$f":"IF(データ転記用!J59<>\"\",1,\"\")","v":""},{"$f":"IF(データ転記用!K59<>\"\",1,\"\")","v":""},{"$f":"IF(データ転記用!L59<>\"\",1,\"\")","v":""},{"$f":"IF(データ転記用!M59<>\"\",1,\"\")","v":""},{"$f":"IF(データ転記用!N59<>\"\",1,\"\")","v":""},{"$f":"IF(データ転記用!O59<>\"\",1,\"\")","v":""},{"$f":"IF(データ転記用!P59<>\"\",1,\"\")","v":""},{"$f":"IF(データ転記用!Q59<>\"\",1,\"\")","v":""},{"$f":"IF(データ転記用!R59<>\"\",1,\"\")","v":""},{"$f":"IF(データ転記用!S59<>\"\",1,\"\")","v":""},{"$f":"IF(データ転記用!T59<>\"\",1,\"\")","v":""},{"$f":"IF(データ転記用!U59<>\"\",1,\"\")","v":""},{"$f":"IF(データ転記用!V59<>\"\",1,\"\")","v":""},{"$f":"IF(データ転記用!W59<>\"\",1,\"\")","v":""},{"$f":"IF(データ転記用!X59<>\"\",1,\"\")","v":""},{"$f":"IF(データ転記用!Y59<>\"\",1,\"\")","v":""},{"$f":"IF(データ転記用!Z59<>\"\",1,\"\")","v":""},{"$f":"IF(データ転記用!AA59<>\"\",1,\"\")","v":""},{"$f":"IF(データ転記用!AB59<>\"\",1,\"\")","v":""},{"$f":"IF(データ転記用!AC59<>\"\",1,\"\")","v":""},{"$f":"IF(データ転記用!AD59<>\"\",1,\"\")","v":""},{"$f":"IF(データ転記用!AE59<>\"\",1,\"\")","v":""},{"$f":"IF(データ転記用!AF59<>\"\",1,\"\")","v":""},{"$f":"IF(データ転記用!AG59<>\"\",1,\"\")","v":""},{"$f":"IF(データ転記用!AH59<>\"\",1,\"\")","v":""},{"$f":"IF(データ転記用!AI59<>\"\",1,\"\")","v":""},{"$f":"IF(データ転記用!AJ59<>\"\",1,\"\")","v":""},{"$f":"IF(データ転記用!AK59<>\"\",1,\"\")","v":""},{"$f":"IF(データ転記用!AL59<>\"\",1,\"\")","v":""},{"$f":"IF(データ転記用!AM59<>\"\",1,\"\")","v":""},{"$f":"IF(データ転記用!AN59<>\"\",1,\"\")","v":""}]
[null,null,null,{"$f":"IF(データ転記用!D60<>\"\",1,\"\")","v":""},{"$f":"IF(データ転記用!E60<>\"\",1,\"\")","v":""},{"$f":"IF(データ転記用!F60<>\"\",1,\"\")","v":""},{"$f":"IF(データ転記用!G60<>\"\",1,\"\")","v":""},{"$f":"IF(データ転記用!H60<>\"\",1,\"\")","v":""},{"$f":"IF(データ転記用!I60<>\"\",1,\"\")","v":""},{"$f":"IF(データ転記用!J60<>\"\",1,\"\")","v":""},{"$f":"IF(データ転記用!K60<>\"\",1,\"\")","v":""},{"$f":"IF(データ転記用!L60<>\"\",1,\"\")","v":""},{"$f":"IF(データ転記用!M60<>\"\",1,\"\")","v":""},{"$f":"IF(データ転記用!N60<>\"\",1,\"\")","v":""},{"$f":"IF(データ転記用!O60<>\"\",1,\"\")","v":""},{"$f":"IF(データ転記用!P60<>\"\",1,\"\")","v":""},{"$f":"IF(データ転記用!Q60<>\"\",1,\"\")","v":""},{"$f":"IF(データ転記用!R60<>\"\",1,\"\")","v":""},{"$f":"IF(データ転記用!S60<>\"\",1,\"\")","v":""},{"$f":"IF(データ転記用!T60<>\"\",1,\"\")","v":""},{"$f":"IF(データ転記用!U60<>\"\",1,\"\")","v":""},{"$f":"IF(データ転記用!V60<>\"\",1,\"\")","v":""},{"$f":"IF(データ転記用!W60<>\"\",1,\"\")","v":""},{"$f":"IF(データ転記用!X60<>\"\",1,\"\")","v":""},{"$f":"IF(データ転記用!Y60<>\"\",1,\"\")","v":""},{"$f":"IF(データ転記用!Z60<>\"\",1,\"\")","v":""},{"$f":"IF(データ転記用!AA60<>\"\",1,\"\")","v":""},{"$f":"IF(データ転記用!AB60<>\"\",1,\"\")","v":""},{"$f":"IF(データ転記用!AC60<>\"\",1,\"\")","v":""},{"$f":"IF(データ転記用!AD60<>\"\",1,\"\")","v":""},{"$f":"IF(データ転記用!AE60<>\"\",1,\"\")","v":""},{"$f":"IF(データ転記用!AF60<>\"\",1,\"\")","v":""},{"$f":"IF(データ転記用!AG60<>\"\",1,\"\")","v":""},{"$f":"IF(データ転記用!AH60<>\"\",1,\"\")","v":""},{"$f":"IF(データ転記用!AI60<>\"\",1,\"\")","v":""},{"$f":"IF(データ転記用!AJ60<>\"\",1,\"\")","v":""},{"$f":"IF(データ転記用!AK60<>\"\",1,\"\")","v":""},{"$f":"IF(データ転記用!AL60<>\"\",1,\"\")","v":""},{"$f":"IF(データ転記用!AM60<>\"\",1,\"\")","v":""},{"$f":"IF(データ転記用!AN60<>\"\",1,\"\")","v":""}]

{"sheet":"分析結果","index":3,"n_rows":3,"n_cols":2,"rows_kept":3,"cut":false,"hidden":false,"merged":[]}
[]
[]
[null,"事業所課題候補　抽出結果"]