Workbook

Sheet 様式熊特第５号（１）
A1: 様式熊特第５号（１）（R8.8）
C3: 雇用調整助成金（休業等）支給申請書（令和８年熊本地震特例用） | T3: ※受付番号
C4: ※熊本県の区域内の事業所以外は、通常の様式を使用してください
A5: 雇用調整助成金（休業・教育訓練）の支給を受けたいので、裏面記載の注意事項を了解し、次のとおり申請します。
A6: なお、この申請書の記載事項に係る確認を安定所（労働局）が行う場合には協力します。
C8: 年 | E8: 月 | G8: 日 | J8: 事業主 | L8: 住所 | M8: 〒 | P8: －
J9: 又は
L10: 名称
J11: 代理人 | L11: 氏名
L12: 申請者が代理人の場合、上欄に代理人の記載を、下欄に事業主の住所、名称及び氏名の記載（押印不要）を、申請者が社会保険労務士法施行規則第16条第2項に規定する提出代行者又は同令第16条の3に規定する事務代理者の場合、上欄に事業主の記載を、下欄に申請者の記載をしてください。
D14: 労働局長 殿 | I14: 事業主 | L14: 住所 | M14: 〒 | P14: －
B15: （ | D15: 公共職業安定所経由） | I15: 又は
I16: （提出代行者・事務代理者） | L16: 名称 | R16: 連絡先（TEL）： - -
I17: 社会保険労務士 | L17: 氏名 | R17: 連絡先（TEL）： - -
A19: ①申請区分 | B19: (雇用関係助成金ポータルにおいて申請した場合のみ回答） オンラインで提出した書類は、原本と相違ない。 | T19: （はい・いいえ）
A20: ②休業等実施事業所 | B20: (1)名称 | J20: (2)所在地 | M20: 〒 | P20: － | T20: (3)対象労働者数
T21: （裏面記載要領３参照）
B22: 事業所番号
B23: 労働保険番号 | J23: 電話番号 | V23: 人
B24: (4)事務担当者職氏名 | J24: (5)賃金締切日 | M24: a.毎月 | O24: 日 | P24: b.その他 | R24: （ ）
A25: ③休業等の規模 | B25: (1)月間休業等延日数 | M25: (2)月間所定労働延日数
B26: [様式熊特第5号(2)の(4)⑤＋様式熊特第5号(2)の(4)⑥] | M26: [裏面記載要領５参照]
B27: =IF(AND('様式熊特第５号（２）'!L21="",'様式熊特第５号（２）'!R21=""),"",SUM('様式熊特第５号（２）'!L21,'様式熊特第５号（２）'!R21)) | K27: 人・日 | U27: 人・日
B28: (3)月間平均所定労働日数 | M28: (4)休業規模
B29: [③(2)÷②(3)]（小数点第2位以下切り捨て） | M29: [（ ③(1)÷③(2) ）×100]（小数点第2位以下切り捨て）
B30: =IFERROR(ROUNDDOWN(M27/T22,1),"") | K30: 人・日 | M30: =IFERROR(ROUNDDOWN(B27/M27*100,1),"")
A31: ④助成額の算定 | B31: (1)助成対象となる月間休業等延日数 | M31: (2)支給を受けようとする合計額
B32: [様式熊特第5号(2)の(5)⑪＋様式熊特第5号(2)の(5)⑫] | M32: [様式第5号(2)の(11)]
B33: =IF(AND('様式熊特第５号（２）'!L25="",'様式熊特第５号（２）'!R25=""),"",SUM('様式熊特第５号（２）'!L25,'様式熊特第５号（２）'!R25)) | K33: 人・日 | M33: =IF('様式熊特第５号（２）'!K32="","",'様式熊特第５号（２）'!K32) | V33: 円
B34: （参考） | C34: 対象労働者一人当たりの月間休業等延日数 | I34: [④(1)／②(3)] | M34: =IFERROR(ROUNDDOWN(B33/T22,1),"") | O34: 日 | P34: ※支給限度日数100日の算出で使用します。
A35: ◆判定基礎期間 | E35: =IF('様式熊特第５号（２）'!E5="","",'様式熊特第５号（２）'!E5) | G35: 年 | H35: =IF(E35="","",MONTH(E35))&"月" -> 月 | I35: =IF(E35="","",DAY(E35))&"日" -> 日 | J35: ～ | K35: =IF('様式熊特第５号（２）'!M5="","",'様式熊特第５号（２）'!M5) | M35: 年 | N35: =IF(K35="","",MONTH(K35))&"月" -> 月 | O35: =IF(K35="","",DAY(K35))&"日" -> 日
A36: ※対象期間 | G36: 年 | H36: =IF(E36="","",MONTH(E36))&"月" -> 月 | I36: =IF(E36="","",DAY(E36))&"日" -> 日 | J36: ～ | M36: 年 | N36: =IF(K36="","",MONTH(K36))&"月" -> 月 | O36: =IF(K36="","",DAY(K36))&"日" -> 日
A38: ※労働局処理欄 | B38: [G]労働保険料の滞納状況 | I38: [H]過去の不正受給 | P38: [I]労働関係法令違反の有無
B41: ●助成金支給番号 | N41: ●支給決定年月日
B42: 労働局決裁欄 | F42: (局長) | H42: (部長・ ) | K42: (課長・ ) | N42: (補佐・ ) | Q42: (係長・ ) | T42: ( )
A44: ※安定所処理欄 | B44: 区分 | E44: [A]判定基礎期間 | I44: [B]判定基礎期間 | M44: [C] [A]/[B] | Q44: [D]前判定基礎期間 | T44: [E]残日数
E45: 助成対象休業等延日数 | I45: 暦月末日対象労働者数 | Q45: 後残日数 | T45: [D]-[C]
B46: 休業等助成金 | H46: 人・日
B47: 教育訓練分助成金 | H47: 人・日 | L47: 人 | P47: 日 | S47: 日 | V47: 日
C48: [F]支給判定金額 | I48: (休業) | U48: 円
I49: (教育訓練) | U49: 円
B50: 安定所決裁欄 | F50: (所長) | H50: (部長・次長) | K50: (課長・統括) | N50: (上席・係長) | Q50: (職業指導官) | T50: (担当)
A53: 注意事項
A54: 【記載要領】
A55: 1 | B55: 本様式は一つの判定基礎期間ごとに別葉にして記載してください。二又は三の連続する判定基礎期間について支給申請する場合、２か月目又は３か月目の判定基礎期間の分については、①欄、②(3)欄、③欄、④欄及び◆判定基礎期間欄のみの記載で差し支えありません。
A56: 2 | B56: ①欄が「いいえ」となる場合は、本助成金の支給を受けることはできません。
A57: 3 | B57: ②(3)欄には、判定基礎期間内の暦月の末日時点の「対象労働者」（※）の数を記載してください。なお、判定基礎期間内に暦月の末日がない場合は、当該判定基礎期間の末日時点の数を記載してください。また、２つの判定基礎期間を通算した期間を一の判定基礎期間として申請する事業所において当該一の判定基礎期間内に暦月の末日が２つある場合、いずれか遅い方の暦月の末日時点の数を記載してください。
B58: （※）「対象労働者」とは、休業・教育訓練実施事業所に雇用される雇用保険被保険者のうち、次を除いた者をいいます。
B59: a | C59: 判定基礎期間の初日の前日まで申請事業主に引き続き被保険者として雇用された期間が６か月未満である被保険者
B60: b | C60: 解雇を予告されている被保険者、退職を申し出た被保険者、事業主による退職勧奨に応じた被保険者（当該解雇その他離職の日の翌日において安定した職業に就くことが明らかな者を除く）
B61: c | C61: 雇用保険法第37条の５第１項の申出をして高年齢被保険者となった者。(特例高年齢被保険者。複数の事業主に雇用される65歳以上の労働者について、本人の申出に基づき、雇用保険の高年齢被保険者となることができるもの。)
B62: d | C62: 日雇労働被保険者である者
B63: e | C63: 判定基礎期間において雇用調整助成金と重複して受給することができない助成金等（具体的には「雇用調整助成金ガイドブック」の「併給調整」をご覧ください。）の支給の対象となる被保険者
B64: f | C64: 以下のいずれかに該当する場合その他の資本的、経済的、組織的関連性等からみて、雇用調整助成金の支給において独立性を認めることが適当でないと判断される事業主から、当該事業主において雇用保険業務に関する業務取扱要領20351（1）に規定する雇用される労働者に該当しない者を雇い入れている場合における、当該雇入れ者
C65: (1) | D65: 他の事業主の総株主又は総社員の議決権の過半数を有する事業主を親会社、当該他の事業主を子会社とする場合における、親会社又は子会社であること。
C66: (2) | D66: 取締役会の構成員について、代表取締役が同一人物であること、又は取締役を兼務しているものがいずれかの取締役会の過半数を占めていること。
B67: g | C67: 事業主が、その事業所において雇用保険業務に関する業務取扱要領20351（1）に規定する雇用される労働者に該当しない者を２以上の事業主間で交換し雇い入れている場合における、当該雇入れ者
B68: h | C68: 出入国管理及び難民認定法（昭和26年政令第319号）の定めるところにより国内で就労することができない者
A69: 4 | B69: ③(1)欄には、様式熊特第5号(2)の（４）⑤欄と⑥欄の日数の計を記載してください。
A70: 5 | B70: ③(2)欄には、休業・教育訓練実施事業所のすべての対象労働者の判定基礎期間における所定労働日の数の合計を記載してください。
A71: 6 | B71: ④(1)欄には、様式熊特第5号(2)の（5）⑪欄と⑫欄の日数の計を、④(2)欄には、様式熊特第5号(2)の（11）の額を記載してください。
A72: 【支給申請にあたっての注意事項】
B73: 雇用調整助成金の支給申請は、本様式及び「雇用調整助成金ガイドブック」の「支給申請に必要な書類」に示す添付書類を用いて次によって提出してください。
A74: 1 | B74: 既に様式第１号(1)「休業等実施計画（変更）届」を提出した事業主が、休業又は教育訓練を実施し、当該休業に係る手当（労働基準法第26条の規定に違反していない場合）又は当該教育訓練に係る賃金を休業等協定どおりに支払った場合に提出してください。
A75: 2 | B75: 休業又は教育訓練を実施した事業所（以下「休業・教育訓練実施事業所」という。）ごとに提出してください。
A76: 3 | B76: 様式第１号(1)によって事前に届け出ている、一つの判定基礎期間又は二つ又は三つの連続した判定基礎期間（支給対象期間）と同一の期間分について提出してください。なお、事前の計画届において一の支給対象期間を二つ又は三つの連続した判定基礎期間とした場合にあっては、当該支給対象期間中の一又は二の連続する判定基礎期間を新たな支給対象期間とみなして支給申請を行うことができます。ただし、その場合は当該新たな支給対象期間の末日の翌日から起算して２か月以内（支給申請に係る休業手当又は賃金の支払日以降に限る）に支給申請を行ってください。
A77: 4 | B77: 支給対象期間の末日の翌日から起算して２か月以内（支給申請に係る休業手当又は賃金の支払日以降に限る）に（ただし、天災その他その期間内に申請しなかったことについてやむを得ない理由があるときは、当該理由のやんだ後１か月が経過する日までにその理由を記載した書面を添えて）提出してください。なお、一の支給対象期間を二つ又は三つの連続した判定基礎期間とした場合にあっては、当該支給対象期間中の一又は二の連続する判定基礎期間を新たな支給対象期間とみなして支給申請を行うことができます。ただし、その場合は当該新たな支給対象期間の末日の翌日から起算して２か月以内（支給申請に係る休業手当又は賃金の支払日以降に限る）に支給申請を行ってください。
A78: 5 | B78: 代理人が申請する場合にあっては、委任状（原本）を添付してください。
A79: 【受給にあたっての注意事項】
A80: 1 | B80: 雇用調整助成金の対象期間（通常１年間）の所定労働日数が、合理的な理由なくその直前の１年間より増加している場合、当該増加日数分に当該事業所の年間平均被保険者数を乗じて12で除した数を、④(1)欄の「助成対象となる月間休業等延日数」から差し引いて計算した額を支給します。
A81: 2 | B81: 雇用調整助成金は、併給調整の対象となる助成金等（具体的には、「雇用調整助成金ガイドブック」の「併給調整」をご覧ください。）と同時に支給対象となりません。またそれ以外の助成金等についても、本支給申請の対象となる休業等について支給を受けている場合は支給対象とならない場合があります。
A82: 3 | B82: 偽りその他不正の行為により本来受けることのできない助成金の支給を受け又は受けようとしたことが判明した場合には、不正行為により本来受けることのできない助成金を受け又は受けようとした最初の判定基礎期間以降に支給したすべての助成金を返還していただくとともに、当該期間以降に受けようとした助成金については不支給とさせていただきます。
A83: 4 | B83: ３によらず、助成金の支給すべき額を超えて助成金の支給を受けた場合には、その支給すべき額を超えて支払われた部分の額を返還していただきます。
A84: 5 | B84: 労働基準法第２６条の規定に違反して支払った手当について助成金の支給を受けた場合には、助成金のうち当該違反して支払った手当に係る部分の額を返還していただきます。
A85: 6 | B85: 助成金の受給に当たっては、リーフレット等に記載されているもののほか、各種要件がありますので、本支給申請前に都道府県労働局又は公共職業安定所に確認してください。

Sheet 様式熊特第５号（２）
A1: 様式熊特第５号（２）（R8.8）
A3: 雇用調整助成金 助成額算定書（令和８年熊本地震特例用）
A4: ※熊本県の区域内の事業所以外は、通常の様式を使用してください
A5: 判定基礎期間 | G5: 年 | H5: =IF(E5="","",MONTH(E5)) | I5: 月 | J5: =IF(E5="","",DAY(E5)) | K5: 日 | L5: ～ | O5: 年 | P5: =IF(M5="","",MONTH(M5)) | Q5: 月 | R5: =IF(M5="","",DAY(M5)) | S5: 日
A6: (事業所名） | N6: (事業所番号）
A8: （１）休業手当等の算定基礎となる賃金について、支給対象期間中に 引き上げていない | Q8: はい・いいえ
A9: ※「いいえ」の場合、その理由を記載してください。(定期昇給、最低賃金の引上げに伴う昇給等)
K11: 様式熊特第5号(3)⑯欄から転記 | Q11: 様式熊特第5号(3)⑰欄から転記
A12: （２）判定基礎期間中の休業等に対して実際に 支払った休業手当等の総額 | P12: 円 | V12: 円
K14: 休業 | Q14: 教育訓練
A16: （３）（２）×助成率 ※助成率の選択は裏面３を参照。 | F16: ( | J16: ) | K16: =IF(AND(K12<>"",G16<>""),ROUNDUP(K12*Y16,0),"") | P16: 円 | Q16: =IF(AND(Q12<>"",G16<>""),ROUNDUP(Q12*Y16,0),"") | V16: 円 | X16: 助成率 | Y16: =IF($G16="",0,IF(LEFT($G16,1)="①",2/3,IF(LEFT($G16,1)="②",1/2,IF(LEFT($G16,1)="③",1/2,IF(LEFT($G16,1)="④",1/4))))) -> 0
A17: （４）月間休業等延日数 | K17: 全日 | N17: 短時間 | Q17: 全日 | T17: 短時間 | AC17: 判定基礎期間初日 | AD17: =IF(E5="",na,E5) -> #NAME?
K18: ① | N18: ② | Q18: ③ | T18: ④ | Y18: 基本手当日額 | Z18: =IF(AD17<DATE(2023,4,1),NA(),VLOOKUP("T",AC20:AF124,4,FALSE)) -> #NAME? | AC18: 基本手当日額マスタ
B19: ※様式熊特第5号(3)の⑫、⑲、⑭、⑳欄から転記。 | AC19: 該当 | AD19: 適用期間初日 | AE19: 適用期間末日 | AF19: 基本手当日額
K20: 人・日 | N20: 人・日 | Q20: 人・日 | T20: 人・日 | AC20: =IF(AND(AD$17>=AD20,AD$17<=AE20),"T","") -> #NAME? | AD20: 44774 | AE20: 45138 | AF20: 8355
K21: ⑤ | L21: =IF(AND(K19="",N19=""),"",SUM(K19,N19)) | P21: 人・日 | Q21: ⑥ | R21: =IF(AND(Q19="",T19=""),"",SUM(Q19,T19)) | V21: 人・日 | AC21: =IF(AND(AD$17>=AD21,AD$17<=AE21),"T","") -> #NAME? | AD21: 45139 | AE21: 45504 | AF21: 8490
A22: （５）助成対象となる月間休業等延日数 | K22: ⑦ | L22: 全日 | N22: ⑧ | O22: 短時間 | Q22: ⑨ | R22: 全日 | T22: ⑩ | U22: 短時間 | AC22: =IF(AND(AD$17>=AD22,AD$17<=AE22),"T","") -> #NAME? | AD22: 45505 | AE22: 45869 | AF22: 8635
K23: =IF(K19="","",K19) | N23: =IF(N19="","",N19) | Q23: =IF(Q19="","",Q19) | T23: =IF(T19="","",T19) | Y23: ①<⑤ | Z23: ②＜⑤ | AA23: ③<⑤ | AC23: =IF(AND(AD$17>=AD23,AD$17<=AE23),"T","") -> #NAME? | AD23: 45870 | AE23: 46234 | AF23: 8870
A24: ※①～④を⑦～⑩へ転記。 | K24: 人・日 | N24: 人・日 | Q24: 人・日 | T24: 人・日 | Y24: =IF(#REF!-K19>0,#REF!-K19,#REF!) -> #REF! | Z24: =IF(#REF!-K19>0,#REF!-K19,0) -> #REF! | AA24: =IF(#REF!-K19-N19>0,#REF!-K19-N19,0) -> #REF! | AC24: =IF(AND(AD$17>=AD24,AD$17<=AE24),"T","") -> #NAME? | AD24: 46235 | AE24: 46599 | AF24: 9110
K25: ⑪ | L25: =IF(AND(K23="",N23=""),"",SUM(K23,N23)) | O25: 人・日 | Q25: ⑫ | R25: =IF(AND(Q23="",T23=""),"",SUM(Q23,T23)) | U25: 人・日 | AC25: =IF(AND(AD$17>=AD25,AD$17<=AE25),"T","") -> #NAME?
A26: （６）教育訓練に係る加算額 ※一定割合以上実施している場合は加算額が上乗せとなる 場合があるため、裏面６を参照。 | Q26: =IF(R25="","",R25*E27) | AA26: ④<⑤ | AC26: =IF(AND(AD$17>=AD26,AD$17<=AE26),"T","") -> #NAME?
B27: [（５）⑫× | H27: 円] | V27: 円 | AA27: =IF(#REF!-K19-N19-Q19>0,#REF!-K19-N19-Q19,0) -> #REF! | AC27: =IF(AND(AD$17>=AD27,AD$17<=AE27),"T","") -> #NAME?
A28: （７）助成額単価（上限比較前） 左欄：（３）÷（４）⑤ 右欄：（３）÷（４）⑥ | K28: =IF(OR(K16="",L21="",K16=0,L21=0),"",ROUNDUP(K16/L21,0)) | P28: 円 | Q28: =IF(OR(Q16="",R21="",Q16=0,R21=0),"",ROUNDUP(Q16/R21,0)) | V28: 円 | Y28: 1200 | Z28: 1800 | AC28: =IF(AND(AD$17>=AD28,AD$17<=AE28),"T","") -> #NAME?
A29: （８）助成対象額 左欄：（３）と、（７）×（５）⑪いずれか小さい方 右欄：（３）と、（７）×（５）⑫いずれか小さい方 | K29: =IF(OR(K28="",L21=""),"",MIN(K16,K28*L25)) | P29: 円 | Q29: =IF(OR(Q28="",R21=""),"",MIN(Q16,Q28*R25)) | V29: 円 | AC29: =IF(AND(AD$17>=AD29,AD$17<=AE29),"T","") -> #NAME?
A30: （９）日額上限額×月間休業等延日数 左欄：日額上限額×（５）⑪ 右欄：日額上限額×（５）⑫ | K30: =IF(L25="","",L25*Z18) | P30: 円 | Q30: =IF(R25="","",R25*Z18) | V30: 円 | AC30: =IF(AND(AD$17>=AD30,AD$17<=AE30),"T","") -> #NAME?
A31: （10）支給を受けようとする助成額 左欄：（８）と（９）いずれか小さい方 右欄：（８）と（９）いずれか小さい方＋（６） | K31: ⑬ | L31: =IF(OR(K29="",K30=""),"",MIN(K29,K30)) | P31: 円 | Q31: ⑭ | R31: =IF(OR(Q29="",Q30=""),"",SUM(MIN(Q29,Q30),Q26)) | V31: 円 | AC31: =IF(AND(AD$17>=AD31,AD$17<=AE31),"T","") -> #NAME?
A32: （11）(10）の合計 | K32: =IF(AND(L31="",R31=""),"",SUM(L31,R31)) | V32: 円 | AC32: =IF(AND(AD$17>=AD32,AD$17<=AE32),"T","") -> #NAME?
B33: ※（３）及び（７）欄は小数点以下の端数を切り上げた値を記入してください。 | AC33: =IF(AND(AD$17>=AD33,AD$17<=AE33),"T","") -> #NAME?
A34: 【記入要領】 | AC34: =IF(AND(AD$17>=AD34,AD$17<=AE34),"T","") -> #NAME?
AC35: =IF(AND(AD$17>=AD35,AD$17<=AE35),"T","") -> #NAME?
A36: 1 | B36: （１）は、休業手当等の算定基礎となる賃金について、支給対象期間中に引き上げているかどうかを回答してください。（１）がいいえの場合、引き上げた額について助成対象とならないことがあります。 | AC36: =IF(AND(AD$17>=AD36,AD$17<=AE36),"T","") -> #NAME?
A37: =A36+1 -> 2 | B37: （２）欄には、判定基礎期間中における助成対象となる休業等について、助成金を申請する対象労働者に支払われた休業手当等の総額を様式熊特第５号（３）から転記して記入してください。 | AC37: =IF(AND(AD$17>=AD37,AD$17<=AE37),"T","") -> #NAME?
A38: =A37+1 -> 3 | B38: （３）欄には、表タイトル中の（）内に助成率を記載した上で、（２）×記載した助成率（小数点以下切り上げ）を記入してください。 助成率は、中小企業：２／３、大企業：１／２です。 | AC38: =IF(AND(AD$17>=AD38,AD$17<=AE38),"T","") -> #NAME?
A39: =A38+1 -> 4 | B39: （４）①～④欄にはそれぞれ、様式熊特第5号（３）の⑫、⑲、⑭、⑳欄を転記してください。 | AC39: =IF(AND(AD$17>=AD39,AD$17<=AE39),"T","") -> #NAME?
A40: =A39+1 -> 5 | B40: （４）⑤欄には、①＋②の値を記入してください。（４）⑥欄には③＋④の値を記入してください。 | AC40: =IF(AND(AD$17>=AD40,AD$17<=AE40),"T","") -> #NAME?
A41: =A40+1 -> 6 | B41: （６）欄には、雇用調整助成金を受給される事業主の方が教育訓練を行った場合において、加算額について1200円を選択し、（５）⑫×1200円の値を記入してください。なお、支給日数が30日に達した判定基礎期間の翌判定基礎期間より、当該判定基礎期間における休業等の日数の１／５以上教育訓練を実施する場合（※）は訓練加算が上乗せになりますので、加算額について1800円を選択し、（５）⑫×1800円の値を記入してください。 （※）様式熊特第５号（３）「休業・教育訓練実績一覧表及び所定外労働等の実施状況の申出書」の【教育訓練実施率】の（i）欄が１/５以上の数値となっている場合をいいますので参照してください。 | AC41: =IF(AND(AD$17>=AD41,AD$17<=AE41),"T","") -> #NAME?
A42: =A41+1 -> 7 | B42: （７）欄には、左欄に（３）÷（４）⑤の額（小数点以下切り上げ）を、右欄に（３）÷（４）⑥の額（小数点以下切り上げ）を記入してください。 | AC42: =IF(AND(AD$17>=AD42,AD$17<=AE42),"T","") -> #NAME?
A43: =A42+1 -> 8 | B43: （８）欄には、左欄に（３）と（７）×（５）⑪欄のうちいずれか小さい方の額を、右欄に（３）と（７）×（５）⑫欄のうちいずれか小さい方の額を記入してください。 | AC43: =IF(AND(AD$17>=AD43,AD$17<=AE43),"T","") -> #NAME?
A44: =A43+1 -> 9 | B44: （９）欄には、左欄に雇用保険の基本手当の日額上限額（※）×（５）⑪を、右欄に雇用保険の基本手当の日額上限額（※）×（５）⑫を記入してください。 （※）基本手当の日額上限額 ・判定基礎期間の初日が令和８年７月31日まで 8,870円 ・判定基礎期間の初日が令和８年８月１日以降 9,110円 | AC44: =IF(AND(AD$17>=AD44,AD$17<=AE44),"T","") -> #NAME?
A45: =A44+1 -> 10 | B45: （10）欄の左欄には、（８）又は（９）欄のうちいずれか小さい方を、右欄には（８）又は（９）欄のうちいずれか小さい方＋（６）を記入してください。この額が支給を受けようとする助成金額になります。 | AC45: =IF(AND(AD$17>=AD45,AD$17<=AE45),"T","") -> #NAME?
A46: =A45+1 -> 11 | B46: 支給額は最終的に労働局において雇用保険データを基に算出された額によって決定され、本様式で算出された金額と異なる場合がありますのでご了承ください。 | AC46: =IF(AND(AD$17>=AD46,AD$17<=AE46),"T","") -> #NAME?
A47: =A46+1 -> 12 | B47: 雇用調整助成金の対象期間（通常１年間）の所定労働日数が、合理的な理由なくその直前の１年間より増加している場合、当該増加日数分に当該事業所の年間平均被保険者数を乗じて12で除した数を、（５）欄の「助成対象となる月間休業等延日数」から差し引いて計算した額を支給します。 | AC47: =IF(AND(AD$17>=AD47,AD$17<=AE47),"T","") -> #NAME?
A48: =A47+1 -> 13 | B48: 本様式については、支給審査を妨げないものであって、かつ、所定の事項が記載されていれば、任意の様式を用いても差し支えありません。 | AC48: =IF(AND(AD$17>=AD48,AD$17<=AE48),"T","") -> #NAME?
AC49: =IF(AND(AD$17>=AD49,AD$17<=AE49),"T","") -> #NAME?
AC50: =IF(AND(AD$17>=AD50,AD$17<=AE50),"T","") -> #NAME?
AC51: =IF(AND(AD$17>=AD51,AD$17<=AE51),"T","") -> #NAME?
AC52: =IF(AND(AD$17>=AD52,AD$17<=AE52),"T","") -> #NAME?
AC53: =IF(AND(AD$17>=AD53,AD$17<=AE53),"T","") -> #NAME?
AC54: =IF(AND(AD$17>=AD54,AD$17<=AE54),"T","") -> #NAME?
AC55: =IF(AND(AD$17>=AD55,AD$17<=AE55),"T","") -> #NAME?
AC56: =IF(AND(AD$17>=AD56,AD$17<=AE56),"T","") -> #NAME?
AC57: =IF(AND(AD$17>=AD57,AD$17<=AE57),"T","") -> #NAME?
AC58: =IF(AND(AD$17>=AD58,AD$17<=AE58),"T","") -> #NAME?
AC59: =IF(AND(AD$17>=AD59,AD$17<=AE59),"T","") -> #NAME?
AC60: =IF(AND(AD$17>=AD60,AD$17<=AE60),"T","") -> #NAME?
... AC124: =IF(AND(AD$17>=AD124,AD$17<=AE124),"T","") -> #NAME?

Sheet プルダウン
A1: 小売業・サービス業・飲食店・卸売業・その他 | B1: 事業所内／事業所外 | C1: 普通
A2: 小売業 | B2: 事業所内 | C2: 当座
A3: サービス業 | B3: 事業所外 | C3: その他
A4: 飲食店
A5: 卸売業
A6: その他
