Workbook

Sheet Sheet1
B1: 提出書類一覧
C2: 交付申請 | G2: 実績報告 | K2: 消費税
C3: 第2号様式 | F3: 基準額 算出内訳 | G3: 第4号様式 | J3: 基準額 算出内訳 | K3: 第3号様式
D4: 別紙1 | E4: 別紙2 | H4: 別紙1 | I4: 別紙2
B5: （１）医療関係者研修費等補助金
B6: ア 中央ナースセンター事業（医療従事者等確保対策費） | C6: ◯ | D6: ◯ | E6: ◯ | G6: ◯ | H6: ◯ | I6: ◯ | K6: ◯
B7: イ 看護職員確保対策特別事業（医療従事者等確保対策費） | C7: ◯ | D7: ◯ | E7: ◯ | G7: ◯ | H7: ◯ | I7: ◯ | K7: ◯
B8: ウ 看護教員教務主任養成講習会事業（医療従事者資質向上対策費） | C8: ◯ | D8: ◯ | E8: ◯ | G8: ◯ | H8: ◯ | I8: ◯ | K8: ◯
B9: エ 看護師の特定行為に係る研修機関支援事業（医療従事者資質向上対策費）
B10: （ア）看護師の特定行為に係る研修機関導入促進支援事業 | C10: ◯ | D10: ◯ | E10: ◯ | G10: ◯ | H10: ◯ | I10: ◯ | K10: ◯
B11: （イ）看護師の特定行為に係る指定研修機関運営事業 | C11: ◯ | D11: ◯ | E11: ◯ | F11: ◯ | G11: ◯ | H11: ◯ | I11: ◯ | J11: ◯ | K11: ◯
B12: オ プログラム責任者養成講習会事業（医療従事者資質向上対策費） | C12: ◯ | D12: ◯ | E12: ◯ | G12: ◯ | H12: ◯ | I12: ◯ | K12: ◯
B13: カ 歯科医師臨床研修指導医講習会事業（医療従事者資質向上対策費）
B14: （ア）プログラム責任者講習会 | C14: ◯ | D14: ◯ | E14: ◯ | G14: ◯ | H14: ◯ | I14: ◯ | K14: ◯
B15: （イ）臨床研修活性化推進特別事業 | C15: ◯ | D15: ◯ | E15: ◯ | G15: ◯ | H15: ◯ | I15: ◯ | K15: ◯
B16: キ 医療関係職種実習施設指導者等養成講習会事業（医療従事者資質向上対策費） | C16: ◯ | D16: ◯ | E16: ◯ | G16: ◯ | H16: ◯ | I16: ◯ | K16: ◯
B17: ク 薬剤師生涯教育推進事業（医薬品適正使用推進費） | C17: ◯ | D17: ◯ | E17: ◯ | G17: ◯ | H17: ◯ | I17: ◯ | K17: ◯
B18: ケ 遠隔医療従事者研修事業（医療従事者資質向上対策費） | C18: ◯ | D18: ◯ | E18: ◯ | G18: ◯ | H18: ◯ | I18: ◯ | K18: ◯
B19: コ 災害医療コーディネーター研修事業（医療従事者資質向上対策費）
B20: （ア）都道府県災害医療コーディネーター研修事業 | C20: ◯ | D20: ◯ | E20: ◯ | G20: ◯ | H20: ◯ | I20: ◯ | K20: ◯
B21: （イ）地域災害医療コーディネーター研修事業 | C21: ◯ | D21: ◯ | E21: ◯ | G21: ◯ | H21: ◯ | I21: ◯ | K21: ◯
B22: サ 外傷外科医養成研修事業（医療従事者資質向上対策費） | C22: ◯ | D22: ◯ | E22: ◯ | G22: ◯ | H22: ◯ | I22: ◯ | K22: ◯
B24: （２）臨床研修費等補助金
B25: 臨床研修事業等（医療提供体制確保対策費）
B26: ア 医師 | C26: ◯ | D26: ◯ | E26: ◯ | F26: ◯ | G26: ◯ | H26: ◯ | I26: ◯ | J26: ◯ | K26: ◯
B27: イ 歯科医師 | C27: ◯ | D27: ◯ | E27: ◯ | F27: ◯ | G27: ◯ | H27: ◯ | I27: ◯ | J27: ◯ | K27: ◯

Sheet 様式リスト
B1: 1 | C1: 2 | D1: 3 | E1: 4 | F1: 5 | G1: 6 | H1: 7 | I1: 8 | J1: 9 | K1: 10 | L1: 11 | M1: 12 | N1: 13 | O1: 14 | P1: 15 | Q1: 16 | R1: 17 | S1: 18 | T1: 19 | U1: 20 | V1: 21 | W1: 22 | X1: 23 | Y1: 24 | Z1: 25 | AA1: 26 | AB1: 27 | AC1: 28 | AD1: 29 | AE1: 30 | AF1: 31 | AG1: 32 | AH1: 33 | AI1: 34 | AJ1: 35 | AK1: 36 | AL1: 37 | AM1: 38 | AN1: 39 | AO1: 40 | AP1: 41 | AQ1: 42 | AR1: 43 | AS1: 44 | AT1: 45 | AU1: 46 | AV1: 47 | AW1: 48 | AX1: 49 | AY1: 50 | AZ1: 51 | BA1: 52 | BB1: 53 | BC1: 54 | BD1: 55 | BE1: 56 | BF1: 57 | BG1: 58 | BH1: 59 | BI1: 60 | BJ1: 61 | BK1: 62 | BL1: 63 | BM1: 64 | BN1: 65 | BO1: 66 | BP1: 67 | BQ1: 68 | BR1: 69 | BS1: 70 | BT1: 71 | BU1: 72 | BV1: 73 | BW1: 74 | BX1: 75 | CC1: 76 | CD1: 77 | CE1: 78 | CF1: 78 | CG1: 79
B2: 事業名 | C2: 送付先 | D2: 補助金名 | E2: 費目列挙 | CB2: 最終列 | CC2: 区分１ | CD2: 区分２ | CF2: 基準額（区分１） | CG2: 基準額（区分２）
B3: 一般用医薬品適正使用推進のための研修事業 | C3: 厚生労働大臣 殿 | D3: 年度医療関係者研修費等補助金の（変更）交付申請書 | E3: 諸謝金 | G3: 旅費 | I3: 消耗品費 | K3: 印刷製本費 | M3: 通信運搬費 | O3: 借料及び損料（会場借料、機器借料） | Q3: 会議費 | CF3: 5048000 | CM3: 事業計画書
B4: 臨床研修事業 | C4: 地方厚生局長 殿 | D4: 年度臨床研修費等補助金の（変更）交付申請書 | E4: （Ⅰ 教育指導経費） | F4: １ 研修管理委員会等経費 | G4: 諸謝金 | H4: 旅費 | I4: 消耗品費 | J4: 印刷製本費 | K4: 通信運搬費 | L4: 会議費 | N4: ２ プログラム責任者人件費（プログラム管理に係るもの） | O4: 職員基本給 | P4: 職員諸手当 | R4: ３ 指導医及びプログラム責任者の補助者雇上経費 | S4: 職員諸手当（非常勤） | T4: 非常勤職員手当 | V4: ４ 通信運搬費 | X4: ５ 指導医、プログラム責任者（研修医指導分）にかかる経費 | Y4: 職員基本給 | Z4: 職員諸手当 | AA4: 非常勤職員手当 | AB4: 諸謝金 | AD4: ６ 情報収集及び学会等出席経費 | AE4: 旅費 | AF4: 備品費（図書） | AG4: 消耗品（教材等材料費を含む） | AI4: ７ 剖検経費 | AJ4: 諸謝金（臨床研修病院のみ） | AK4: 旅費（臨床研修病院のみ） | AL4: 消耗品費 | AN4: ８へき地診療所等の研修経費 | AO4: 旅費 | AQ4: ９ 産婦人科宿日直研修事業費、小児科宿日直研修事業費 | AR4: 宿日直手当 | AS4: （１）産婦人科 | AT4: （２）小児科 | AU4: 【オンコール手当】 | AW4: 10 広域連携型プログラム作成経費 | AX4: 職員基本給 | AY4: 職員諸手当（非常勤含む） | AZ4: 非常勤職員諸手当（事務補助者雇上経費） | BA4: 諸謝金 | BB4: 旅費 | BC4: 消耗品費 | BD4: 印刷製本費 | BE4: 通信運搬費 | BF4: 会議費 | BH4: 11 研修移動滞在経費 | BI4: 旅費 | BJ4: 賃借料 | BK4: 通信運搬費 | BL4: 雑役務費 | BN4: 12 連携先病院指導医経費 | BO4: 職員基本給 | BP4: 職員諸手当 | BQ4: 非常勤職員手当 | BR4: 諸謝金 | BT4: 13 第三者評価受審経費 | BU4: 雑役務費（手数料等） | BW4: （Ⅱ 協議会開催経費） | BX4: 職員諸手当（非常勤） | BY4: 非常勤職員手当（事務補助者雇上経費） | BZ4: 諸謝金 | CA4: 旅費 | CB4: 会議費 | CC4: 教育指導経費 | CD4: 地域協議会経費 | CF4: "手入力して下さい"
B5: 歯科医師臨床研修事業 | C5: 厚生労働大臣 殿 | D5: 年度臨床研修費等補助金の（変更）交付申請書 | E5: （Ⅰ 教育指導経費） | F5: １ 研修管理委員会等経費 | G5: 諸謝金 | H5: 旅費 | I5: 消耗品費 | J5: 印刷製本費 | K5: 通信運搬費 | L5: 会議費 | N5: ２ プログラム責任者人件費（プログラム管理に係るもの） | O5: 職員基本給 | P5: 職員諸手当 | Q5: 社会保険料 | S5: ３ 通信運搬費 | U5: ４ 指導歯科医、指導医（医科・歯科連携に資する科目分） | V5: プログラム責任者（研修歯科医指導分）に係る経費 | W5: 職員基本給 | X5: 職員諸手当 | Y5: 非常勤職員手当 | Z5: 諸謝金 | AA5: 社会保険料 | AC5: ５ 消耗品費（歯科医学研究材料費含む） | AD5: 消耗品費 | AE5: 印刷製本費 | AF5: 光熱水料 | AH5: ６ 情報収集及び学会等出席経費 | AI5: 旅費 | AJ5: 備品費（図書） | AK5: 消耗品（教材等材料費を含む） | AM5: ７ へき地診療所等の研修経費 | AN5: 旅費 | AP5: ８ 指導歯科医資質向上推進事業に必要な経費 | AQ5: 諸謝金 | AR5: 旅費 | AS5: 消耗品費 | AT5: 印刷製本費 | AU5: 通信運搬費 | AV5: 会議費 | AX5: ９ 在宅歯科医療等研修推進事業に必要な経費 | AY5: 職員諸手当（非常勤） | AZ5: 非常勤職員手当 | BA5: 諸謝金 | BB5: 旅費 | BC5: 消耗品費 | BD5: 印刷製本費 | BE5: 社会保険料（非常勤） | CF5: 1932000
B6: 一般用医薬品適正使用推進のための研修事業 | C6: 厚生労働大臣 殿 | D6: 年度医療関係者研修費等補助金の事業実績報告書 | E6: 諸謝金 | G6: 旅費 | I6: 消耗品費 | K6: 印刷製本費 | M6: 通信運搬費 | O6: 借料及び損料（会場借料、機器借料） | Q6: 会議費 | CF6: 5048000
B7: 臨床研修事業 | C7: 地方厚生局長 殿 | D7: 年度臨床研修費等補助金の事業実績報告書 | E7: （Ⅰ 教育指導経費） | F7: １ 研修管理委員会等経費 | G7: 諸謝金 | H7: 旅費 | I7: 消耗品費 | J7: 印刷製本費 | K7: 通信運搬費 | L7: 会議費 | N7: ２ プログラム責任者人件費（プログラム管理に係るもの） | O7: 職員基本給 | P7: 職員諸手当 | R7: ３ 指導医及びプログラム責任者の補助者雇上経費 | S7: 職員諸手当（非常勤） | T7: 非常勤職員手当 | V7: ４ 通信運搬費 | X7: ５ 指導医、プログラム責任者（研修医指導分）にかかる経費 | Y7: 職員基本給 | Z7: 職員諸手当 | AA7: 非常勤職員手当 | AB7: 諸謝金 | AD7: ６ 情報収集及び学会等出席経費 | AE7: 旅費 | AF7: 備品費（図書） | AG7: 消耗品（教材等材料費を含む） | AI7: ７ 剖検経費 | AJ7: 諸謝金（臨床研修病院のみ） | AK7: 旅費（臨床研修病院のみ） | AL7: 消耗品費 | AN7: ８へき地診療所等の研修経費 | AO7: 旅費 | AQ7: ９ 産婦人科宿日直研修事業費、小児科宿日直研修事業費 | AR7: 宿日直手当 | AS7: （１）産婦人科 | AT7: （２）小児科 | AU7: 【オンコール手当】 | AW7: 10 広域連携型プログラム作成経費 | AX7: 職員基本給 | AY7: 職員諸手当（非常勤含む） | AZ7: 非常勤職員諸手当（事務補助者雇上経費） | BA7: 諸謝金 | BB7: 旅費 | BC7: 消耗品費 | BD7: 印刷製本費 | BE7: 通信運搬費 | BF7: 会議費 | BH7: 11 研修移動滞在経費 | BI7: 旅費 | BJ7: 賃借料 | BK7: 通信運搬費 | BL7: 雑役務費 | BN7: 12 連携先病院指導医経費 | BO7: 職員基本給 | BP7: 職員諸手当 | BQ7: 非常勤職員手当 | BR7: 諸謝金 | BT7: 13 第三者評価受審経費 | BU7: 雑役務費（手数料等） | BW7: （Ⅱ 協議会開催経費） | BX7: 職員諸手当（非常勤） | BY7: 非常勤職員手当（事務補助者雇上経費） | BZ7: 諸謝金 | CA7: 旅費 | CB7: 会議費 | CC7: 教育指導経費 | CD7: 地域協議会経費 | CF7: "手入力して下さい"
B8: 歯科医師臨床研修事業 | C8: 厚生労働大臣 殿 | D8: 年度臨床研修費等補助金の事業実績報告書 | E8: （Ⅰ 教育指導経費） | F8: １ 研修管理委員会等経費 | G8: 諸謝金 | H8: 旅費 | I8: 消耗品費 | J8: 印刷製本費 | K8: 通信運搬費 | L8: 会議費 | N8: ２ プログラム責任者人件費（プログラム管理に係るもの） | O8: 職員基本給 | P8: 職員諸手当 | Q8: 社会保険料 | S8: ３ 通信運搬費 | U8: ４ 指導歯科医、指導医（医科・歯科連携に資する科目分） | V8: プログラム責任者（研修歯科医指導分）に係る経費 | W8: 職員基本給 | X8: 職員諸手当 | Y8: 非常勤職員手当 | Z8: 諸謝金 | AA8: 社会保険料 | AC8: ５ 消耗品費（歯科医学研究材料費含む） | AD8: 消耗品費 | AE8: 印刷製本費 | AF8: 光熱水料 | AH8: ６ 情報収集及び学会等出席経費 | AI8: 旅費 | AJ8: 備品費（図書） | AK8: 消耗品（教材等材料費を含む） | AM8: ７ へき地診療所等の研修経費 | AN8: 旅費 | AP8: ８ 指導歯科医資質向上推進事業に必要な経費 | AQ8: 諸謝金 | AR8: 旅費 | AS8: 消耗品費 | AT8: 印刷製本費 | AU8: 通信運搬費 | AV8: 会議費 | AX8: ９ 在宅歯科医療等研修推進事業に必要な経費 | AY8: 職員諸手当（非常勤） | AZ8: 非常勤職員手当 | BA8: 諸謝金 | BB8: 旅費 | BC8: 消耗品費 | BD8: 印刷製本費 | BE8: 社会保険料（非常勤） | CF8: 1932000
B9: ※オレンジは基準額内訳の書類がある。

Sheet 申請書様式⇒

Sheet 第2号様式
A1: 第2号様式
I2: 番 号 | K2: 事業名選択欄 | L2: 臨床研修事業
I3: 年 月 日
A5: =VLOOKUP($L$2,様式リスト!$B$3:$D$5,2,0) -> 地方厚生局長 殿
F8: 所在地
F9: 事業者名
F10: 代表者名
D16: =VLOOKUP($L$2,様式リスト!$B$3:$D$5,3,0) -> 年度臨床研修費等補助金の（変更）交付申請書
A23: 標記について、次により国庫補助金を交付されるよう関係書類を添えて申請する。
B27: 1 | C27: 申請額 金 | E27: ='第2号様式別紙1（所要額調書、対象経費内訳）'!L11+'第2号様式別紙1（所要額調書、対象経費内訳）'!L12 -> 0 | G27: 円
B29: ２ 所要額調書（別紙１）
B31: ３ 事業計画書（別紙２）
B33: ４ 収入支出予算書抄本
B35: 5 | C35: 変更申請の場合は、１にかかわらず次のとおりとする。
C36: 申請額 金 | E36: - | G36: 円 | H36: (Ａ)
C38: 前回までの交付決定額 金 | E38: - | G38: 円 | H38: (Ｂ)
C40: 差引今回変更増減額 金 | E40: - | G40: 円 | H40: (Ａ)－(Ｂ)

Sheet 基準額算出（特定行為）
AA1: ○
A3: 看護師の特定行為に係る指定医療研修機関運営事業基準額算出内訳
N5: （指定研修機関名）
C8: 研修を実施する特定行為区分数 | N8: 区分
C9: ※「別紙１７－２の(１)」の（Ａ）の値を入力してください。
C11: １ 指導者経費 | T11: （ | U11: =IF(AND(L8>=1,L8<8),ROUNDDOWN(E16*P16,0),IF(AND(L8>=8,L8<15),ROUNDDOWN(E19*P19,0),IF(AND(L8>=15,L8<22),ROUNDDOWN(E22*P22,0),0))) -> 0 | Y11: 円）
D12: 「研修を実施する特定行為区分数」に応じて以下の該当する記号欄に、「別紙１７－２の(１)」の（Ｂ）の値を入力してください。
D15: ア １以上８未満の特定行為区分に係る特定行為研修を行う場合
E16: 5175 | H16: 円 | J16: × | L16: 研修時間数 | R16: 時間
D18: イ ８以上15未満の特定行為区分に係る特定行為研修を行う場合
E19: 5750 | H19: 円 | J19: × | L19: 研修時間数 | R19: 時間
D21: ウ 15以上の特定行為区分に係る特定行為研修を行う場合
E22: 6325 | H22: 円 | J22: × | L22: 研修時間数 | R22: 時間
C25: ２ 事務職員経費 | L25: １施設 | P25: 298000 | S25: 円 | T25: （ | U25: =IF(D26="○",P25,0) -> 0 | Y25: 円）
D27: ↑特定行為研修の運営に当たり、賃金職員を雇用する場合は「○」を入力すること。
C29: ３ eラーニング体制整備経費 | N29: １施設 | P29: 725500 | S29: 円 | T29: （ | U29: =IF(D30="○",P29,0) -> 0 | Y29: 円）
D31: ↑講義又は演習を通信によって受講できる体制を整備している場合は「○」を入力すること。
C33: ４ 代替職員確保支援体制整備経費 | N33: １施設 | P33: 104000 | S33: 円 | T33: （ | U33: =IF(D34="○",P33,0) -> 0 | Y33: 円）
D35: ↑研修受講者の所属先の医療機関等が、当該受講者の研修受講中に代替職員を確保できるよう、交代要員を紹介するためのコーディネーターを指定研修機関に設置している場合は「○」を入力すること。
C37: ５ 診療の補助行為技術向上体制整備経費 | N37: １施設 | P37: 187000 | S37: 円 | T37: （ | U37: =IF(D38="○",P37,0) -> 0 | Y37: 円）
D39: ↑特定行為に相当する診療の補助行為（手順書によらない場合）を適切に行うための研修を地域において実施している場合は「○」を入力すること。
C40: ６ 訪問看護ステーション等研修支援経費 | N40: １日あたり | Q40: 11800 | S40: 円 | T40: （ | U40: =IF(D41="○",Q40*H41,0) -> 0 | Y40: 円）
E41: 実施日数 | J41: 日
D42: ↑協力施設（※）と連携協力して特定行為研修を行う場合であって、当該協力施設において、特定行為研修に係る講義、演習又は実習を実施している場合は「○」を入力し、実施日数を記載すること。 （※）対象となる協力施設は訪問看護ステーション、介護施設及び診療所に限る
P44: 合計額 | T44: （ | U44: =SUM(U11,U25,U29,U33,U37,U40) -> 0 | Y44: 円）
B46: （注）各項目毎の基準額の端数については、小数点以下を切り捨てて得た額とします。

Sheet 【記載例】第2号様式別紙1（所要額調書、対象経費内訳）
B1: 別紙１
B3: 所要額調書
B5: 1 ○○事業所要額
C6: 総事業費 | D6: 寄 付 金 | E6: 差 引 額 | F6: 対象経費 | G6: 基 準 額 | H6: 選 定 額 | I6: 国庫補助基本額 | J6: 国庫補助所要額 | K6: 交付決定額 | L6: 差引追加交付 （一部取消） 申 請 額 | O6: 中央ナースセンター事業
B7: 区 分 | D7: そ の 他 の | F7: の 支 出
D8: 収 入 額 | F8: 予 定 額
C9: Ａ | D9: Ｂ | E9: Ｃ | F9: Ｄ | G9: Ｅ | H9: Ｆ | I9: Ｇ | J9: H | K9: I | L9: J
C10: 円 | D10: 円 | E10: 円 | F10: 円 | G10: 円 | H10: 円 | I10: 円 | J10: 円 | K10: 円 | L10: 円
C11: 5600000 | D11: 0 | E11: 5600000 | F11: 3970000 | G11: 3500000 | H11: 3500000 | I11: 3500000 | J11: 3500000 | M11: 76
M12: 77
B13: 合 計 | C13: 5600000 | E13: 5600000 | F13: 3970000 | G13: 3500000 | H13: 3500000 | I13: 3500000 | J13: 3500000 | K13: =IF(SUM(K11:K11)=0,"",SUM(K11:K11)) | L13: =IF(SUM(L11:L11)=0,"",SUM(L11:L11))
B15: ２ 対象経費の支出予定額算出内訳
B16: 区 分 | E16: 支 出 予 定 額 | G16: 算 出 内 訳
F17: 円
B18: 職員諸手当（非常勤） | F18: 1000000 | G18: ○○×○＝○○○円 | M18: 4
M19: 5
B20: 非常勤職員手当 | F20: 500000 | G20: ○○×○＝○○○円 | M20: 6
M21: 7
B22: 諸謝金 | F22: 250000 | G22: ××謝金×円 | M22: 8
G23: ××謝金×円
G24: ××謝金×円
M25: 9
B26: 旅費 | F26: 200000 | G26: △△旅費△円 | M26: 10
M27: 11
B28: 備品費 | F28: 1000000 | G28: ○○等○円 | M28: 12
M29: 13
B30: 消耗品費 | F30: 250000 | G30: ××等×円 | M30: 14
M31: 15
B32: 印刷製本費 | F32: 50000 | G32: △△等△円 | M32: 16
M33: 17
B34: 通信運搬費 | F34: 20000 | G34: ××等×円 | M34: 18
M35: 19
B36: 光熱水料 | M36: 20
M37: 21
B38: 借料及び損料 | F38: 450000 | G38: ○○会場使用料○○円 | M38: 22
M39: 23
B40: 会議費 | M40: 24
M41: 25
B42: 社会保険料（非常勤） | F42: 100000 | G42: ○○×○＝○○○円 | M42: 26
M43: 27
...

Sheet 第2号様式別紙1（所要額調書、対象経費内訳）
B1: 別紙１
B3: 所要額調書
B5: =CONCATENATE(1," ",第2号様式!L2,"所要額") -> 1 臨床研修事業所要額
C6: 総事業費 | D6: 寄 付 金 | E6: 差 引 額 | F6: 対象経費 | G6: 基 準 額 | H6: 選 定 額 | I6: 国庫補助基本額 | J6: 国庫補助所要額 | K6: 仕入れに係る 消費税等相当額 | L6: 要国庫補助額 （H）-（I） | M6: 交付決定額 | N6: 差引追加交付 （一部取消） 申 請 額 | Q6: =第2号様式!L2 -> 臨床研修事業
B7: 区 分 | D7: そ の 他 の | F7: の 支 出
D8: 収 入 額 | F8: 予 定 額
C9: Ａ | D9: Ｂ | E9: Ｃ | F9: Ｄ | G9: Ｅ | H9: Ｆ | I9: Ｇ | J9: H | K9: I | L9: J | M9: K | N9: L
C10: 円 | D10: 円 | E10: 円 | F10: 円 | G10: 円 | H10: 円 | I10: 円 | J10: 円 | M10: 円 | N10: 円
B11: 教育指導経費 | E11: =IF(C11="","",C11-D11) | F11: =F94 -> 0 | H11: =IF(G11="","",MIN(F11:G11)) | I11: =MIN(E11,H11) -> 0 | J11: =IF(I11="","0",IFERROR(ROUNDDOWN(I11,-3),"")) -> 0 | L11: =J11-K11 -> 0 | O11: 76
B12: 地域協議会経費 | E12: =IF(C12="","",C12-D12) | H12: =IF(G12="","",MIN(F12:G12)) | I12: =MIN(E12,H12) -> 0 | J12: =IF(I12="","0",IFERROR(ROUNDDOWN(I12,-3),"")) -> 0 | L12: =J12-K12 -> 0 | O12: 77
B13: 合 計 | C13: =IF(SUM(C11:C12)=0,"",SUM(C11:C12)) | D13: =IF(SUM(D11:D12)=0,"",SUM(D11:D12)) | E13: =IF(SUM(E11:E12)=0,"",SUM(E11:E12)) | F13: =IF(SUM(F11:F12)=0,"",SUM(F11:F12)) | G13: =IF(SUM(G11:G12)=0,"",SUM(G11:G12)) | H13: =IF(SUM(H11:H12)=0,"",SUM(H11:H12)) | I13: =IF(SUM(I11:I12)=0,"",SUM(I11:I12)) | J13: =IF(SUM(J11:J12)=0,"",SUM(J11:J12)) | M13: =IF(SUM(M11:M11)=0,"",SUM(M11:M11)) | N13: =IF(SUM(N11:N11)=0,"",SUM(N11:N11))
B15: ２ 対象経費の支出予定額算出内訳
B16: 区 分 | E16: 支 出 予 定 額 | G16: 算 出 内 訳
F17: 円
B18: =IFERROR(VLOOKUP(第2号様式!$L$2,様式リスト!$B$3:$CD$8,O18,0),"") -> （Ⅰ 教育指導経費） | O18: 4
B19: =IFERROR(VLOOKUP(第2号様式!$L$2,様式リスト!$B$3:$CD$8,O19,0),"") -> １ 研修管理委員会等経費 | O19: 5
B20: =IFERROR(VLOOKUP(第2号様式!$L$2,様式リスト!$B$3:$CD$8,O20,0),"") -> 諸謝金 | O20: 6
B21: =IFERROR(VLOOKUP(第2号様式!$L$2,様式リスト!$B$3:$CD$8,O21,0),"") -> 旅費 | O21: 7
B22: =IFERROR(VLOOKUP(第2号様式!$L$2,様式リスト!$B$3:$CD$8,O22,0),"") -> 消耗品費 | O22: 8
B23: =IFERROR(VLOOKUP(第2号様式!$L$2,様式リスト!$B$3:$CD$8,O23,0),"") -> 印刷製本費 | O23: 9
B24: =IFERROR(VLOOKUP(第2号様式!$L$2,様式リスト!$B$3:$CD$8,O24,0),"") -> 通信運搬費 | O24: 10
B25: =IFERROR(VLOOKUP(第2号様式!$L$2,様式リスト!$B$3:$CD$8,O25,0),"") -> 会議費 | O25: 11
B26: =IFERROR(VLOOKUP(第2号様式!$L$2,様式リスト!$B$3:$CD$8,O26,0),"") | O26: 12
B27: =IFERROR(VLOOKUP(第2号様式!$L$2,様式リスト!$B$3:$CD$8,O27,0),"") -> ２ プログラム責任者人件費（プログラム管理に係るもの） | O27: 13
B28: =IFERROR(VLOOKUP(第2号様式!$L$2,様式リスト!$B$3:$CD$8,O28,0),"") -> 職員基本給 | O28: 14
B29: =IFERROR(VLOOKUP(第2号様式!$L$2,様式リスト!$B$3:$CD$8,O29,0),"") -> 職員諸手当 | O29: 15
... B60: =IFERROR(VLOOKUP(第2号様式!$L$2,様式リスト!$B$3:$CD$8,O60,0),"") -> 【オンコール手当】 | O60: 46
O61: 47
B62: =IFERROR(VLOOKUP(第2号様式!$L$2,様式リスト!$B$3:$CD$8,O62,0),"") -> 10 広域連携型プログラム作成経費 | O62: 48
B63: =IFERROR(VLOOKUP(第2号様式!$L$2,様式リスト!$B$3:$CD$8,O63,0),"") -> 職員基本給 | O63: 49
B64: =IFERROR(VLOOKUP(第2号様式!$L$2,様式リスト!$B$3:$CD$8,O64,0),"") -> 職員諸手当（非常勤含む） | O64: 50
B65: =IFERROR(VLOOKUP(第2号様式!$L$2,様式リスト!$B$3:$CD$8,O65,0),"") -> 非常勤職員諸手当（事務補助者雇上経費） | O65: 51
B66: =IFERROR(VLOOKUP(第2号様式!$L$2,様式リスト!$B$3:$CD$8,O66,0),"") -> 諸謝金 | O66: 52
B67: =IFERROR(VLOOKUP(第2号様式!$L$2,様式リスト!$B$3:$CD$8,O67,0),"") -> 旅費 | O67: 53
B68: =IFERROR(VLOOKUP(第2号様式!$L$2,様式リスト!$B$3:$CD$8,O68,0),"") -> 消耗品費 | O68: 54
B69: =IFERROR(VLOOKUP(第2号様式!$L$2,様式リスト!$B$3:$CD$8,O69,0),"") -> 印刷製本費 | O69: 55
B70: =IFERROR(VLOOKUP(第2号様式!$L$2,様式リスト!$B$3:$CD$8,O70,0),"") -> 通信運搬費 | O70: 56
B71: =IFERROR(VLOOKUP(第2号様式!$L$2,様式リスト!$B$3:$CD$8,O71,0),"") -> 会議費 | O71: 57
B72: =IFERROR(VLOOKUP(第2号様式!$L$2,様式リスト!$B$3:$CD$8,O72,0),"")
B73: 11 研修移動滞在経費
...

Sheet 第2号様式別紙2-1（臨床研修（医師）事業計画書）
A1: 別紙２-１
A2: 臨床研修事業事業計画書（総括表）
A3: １年次生又は再開者
A5: １年次生又は再開者 | D5: 補助対象 | F5: 宿日直研修計画月数
F6: 産婦人科 | J6: 小児科
D7: 対象 | E7: 対象外 | F7: 月１回 | G7: 月２回 | H7: 月３回 | I7: 月４回 以上 | J7: 月１回 | K7: 月２回 | L7: 月３回 | M7: 月４回 以上
A8: 合計 | B8: 分野 | C8: =SUM(D8:E8) -> 0 | F8: A | G8: B | H8: C | I8: D | J8: E | K8: F | L8: G | M8: H
B9: 宿日直 | C9: =SUM(D9:E9) -> 0
D11: 産婦人科 | H11: 小児科
A12: １年次生又は再開者 | B12: 事業延月数 (月４回以上) | D12: Ｄ | E12: =I9 -> 0 | G12: 月 | H12: Ｈ | I12: =M9 -> 0 | K12: 月
B13: 事業延日数 (月４回未満) | D13: I | E13: A+(B×2)+(C×3) | H13: J | I13: E+(F×2)+(G×3)
E14: =F9+(G9*2)+(H9*3) -> 0 | G14: 日 | I14: =J9+(K9*2)+(L9*3) -> 0 | K14: 日
A16: ２年次生又は再開者
A18: ２年次生 又は 再開者 | D18: 補助対象 | F18: 宿日直研修計画月数
F19: 産婦人科 | J19: 小児科
D20: 対象 | E20: 対象外 | F20: 月１回 | G20: 月２回 | H20: 月３回 | I20: 月４回 以上 | J20: 月１回 | K20: 月２回 | L20: 月３回 | M20: 月４回 以上
A21: 合計 | B21: 分野 | C21: =SUM(D21:E21) -> 0 | F21: A | G21: B | H21: C | I21: D | J21: E | K21: F | L21: G | M21: H
B22: 宿日直 | C22: =SUM(D22:E22) -> 0
B23: オンコール | C23: =SUM(D23:E23) -> 0 | F23: K | G23: L | H23: M | I23: N | J23: O | K23: P | L23: Q | M23: R
A26: 指導医等が研修医と当直 | D26: 産婦人科 | H26: 小児科 | M26: 指導医等がオンコール体制 | P26: 産婦人科 | T26: 小児科
A27: ２年次生 又は 再開者 | B27: 事業延月数 (月４回以上) | D27: Ｄ | E27: =I22 -> 0 | G27: 月 | H27: Ｈ | I27: =M22 -> 0 | K27: 月 | M27: ２年次生 又は 再開者 | N27: 事業延月数 (月４回以上) | P27: N | Q27: =I24 -> 0 | S27: 月 | T27: R | U27: =M24 -> 0 | W27: 月
B28: 事業延日数 (月４回未満) | D28: I | E28: A+(B×2)+(C×3) | H28: J | I28: E+(F×2)+(G×3) | N28: 事業延日数 (月４回未満) | P28: S | Q28: K+(L×2)+(M×3) | T28: T | U28: O+(P×2)+(Q×3)
E29: =F22+(G22*2)+(H22*3) -> 0 | G29: 日 | I29: =J22+(K22*2)+(L22*3) -> 0 | K29: 日 | Q29: =F24+(G24*2)+(H24*3) -> 0 | S29: 日 | U29: =J24+(K24*2)+(L24*3) -> 0 | W29: 日
A31: 総 計
A33: 総 計 | D33: 補助対象 | F33: 宿日直研修計画月数
F34: 産婦人科 | J34: 小児科
D35: 対象 | E35: 対象外 | F35: 月１回 | G35: 月２回 | H35: 月３回 | I35: 月４回 以上 | J35: 月１回 | K35: 月２回 | L35: 月３回 | M35: 月４回 以上
A36: 合計 | B36: 分野 | C36: =C8+C21 -> 0 | D36: =D8+D21 -> 0 | E36: =E8+E21 -> 0 | F36: A | G36: B | H36: C | I36: D | J36: E | K36: F | L36: G | M36: H
B37: 宿日直 | C37: =C9+C22 -> 0 | D37: =D9+D22 -> 0 | E37: =E9+E22 -> 0 | F37: =F9+F22 -> 0 | G37: =G9+G22 -> 0 | H37: =H9+H22 -> 0 | I37: =I9+I22 -> 0 | J37: =J9+J22 -> 0 | ... M37: =M9+M22 -> 0
B38: オンコール | C38: =C23 -> 0 | D38: =D23 -> 0 | E38: =E23 -> 0 | F38: K | G38: L | H38: M | I38: N | J38: O | K38: P | L38: Q | M38: R
F39: =F24 -> 0 | G39: =G24 -> 0 | H39: =H24 -> 0 | I39: =I24 -> 0 | J39: =J24 -> 0 | K39: =K24 -> 0 | L39: =L24 -> 0 | M39: =M24 -> 0
A41: 指導医等が研修医と当直 | D41: 産婦人科 | H41: 小児科 | M41: 指導医等がオンコール体制 | P41: 産婦人科 | T41: 小児科
A42: 合計 | B42: 事業延月数 (月４回以上) | D42: Ｄ | E42: =I37 -> 0 | G42: 月 | H42: Ｈ | I42: =M37 -> 0 | K42: 月 | M42: 合計 | N42: 事業延月数 (月４回以上) | P42: N | Q42: =I39 -> 0 | S42: 月 | T42: R | U42: =M39 -> 0 | W42: 月
B43: 事業延日数 (月４回未満) | D43: I | E43: A+(B×2)+(C×3) | H43: J | I43: E+(F×2)+(G×3) | N43: 事業延日数 (月４回未満) | P43: S | Q43: K+(L×2)+(M×3) | T43: T | U43: O+(P×2)+(Q×3)
E44: =E14+E29 -> 0 | G44: 日 | I44: =I14+I29 -> 0 | K44: 日 | Q44: =Q29 -> 0 | S44: 日 | U44: =U29 -> 0 | W44: 日

Sheet 第2号様式別紙2-1附表A1（１年次）（研修医厚生）
A1: 別紙２－１ 附表Ａ１
C3: 臨 床 研 修 履 修 計 画 及 び 宿 日 直 研 修 計 画 調 書
A5: １年次生又は再開者
A7: 施設番号 | B7: 030xx1
A8: 基幹型病院名 | B8: =第2号様式!G9 -> 0 | F8: 地域種別 | G8: 第２種 | I8: 地元大学出身 | K8: ○
A9: 研修医氏名 | B9: 厚生 一郎 | I9: 地元出身 | K9: ○
A10: 研修開始年月日 | B10: R8 | C10: 年 | D10: 4 | E10: 月 | F10: 1 | G10: 日
A11: プログラム番号 | B11: 030xx1103 | C11: プログラム名 | D11: 県立〇〇病院臨床研修プログラムＣ
A13: 施設番号 | B13: 研修実施施設名 | D13: 都道府県 | E13: 市区町村 | F13: 地域種別 | G13: 分野及 び宿日 直回数 | H13: 臨 床 研 修 履 修 計 画 | U13: 補助対象 | W13: 宿日直研修計画月数 | AE13: 備 考
W14: 産婦人科 | AA14: 小児科 | AI14: 第3種 | AJ14: 第4種 | AK14: 第5種
H15: ４月 | I15: ５月 | J15: ６月 | K15: ７月 | L15: ８月 | M15: ９月 | N15: 10月 | O15: 11月 | P15: 12月 | Q15: １月 | R15: ２月 | S15: ３月 | T15: 計 | U15: 対象 | V15: 対象外 | W15: 月１回 | X15: 月２回 | Y15: 月３回 | Z15: 月４回 以上 | AA15: 月１回 | AB15: 月２回 | AC15: 月３回 | AD15: 月４回 以上 | AI15: =IF(G8="第３種","○","×") -> × | AJ15: =IF(G8="第４種","○","×") -> × | AK15: =IF(G8="第５種","○","×") -> ×
A16: 030xx1 | B16: 県立○○病院 | D16: ○○県 | E16: △△市 | F16: 第2種 | G16: 分野 | H16: 内 | I16: → | J16: → | K16: → | L16: → | M16: → | N16: → | O16: 救 | P16: → | Q16: → | T16: =COUNTA(H16:S16) -> 10 | U16: 10
G17: 宿日直 | H17: 2 | I17: 2 | J17: 2 | K17: 3 | L17: 3 | M17: 3 | N17: 3 | O17: 4 | P17: 4 | Q17: 4 | T17: =SUM(H17:S17) -> 30 | U17: 30 | AJ17: =IF(COUNTIF(AI15:AK15,"○"),"入力不可","入力可") -> 入力可
A18: 031xx2 | B18: 県立××病院 | D18: ○○県 | E18: ××市 | F18: 第3種 | G18: 分野 | R18: 小 | S18: → | T18: =COUNTA(H18:S18) -> 2 | U18: 2 | AB18: 1 | AC18: 1 | AE18: ３月の当直のうち１回は救急研修として実施
G19: 宿日直 | R19: 3 | S19: 3 | T19: =SUM(H19:S19) -> 6 | U19: 6
G20: 分野 | T20: =COUNTA(H20:S20) -> 0 | AI20: 事業延月数(月４回以上)D | AJ20: 事業延月数(月４回以上)H
G21: 宿日直 | T21: =SUM(H21:S21) -> 0 | AI21: =X27 -> 0 | AJ21: =AB27 -> 0
G22: 分野 | T22: =COUNTA(H22:S22) -> 0 | AI22: 事業延日数 (月４回未満)I | AJ22: 事業延日数 (月４回未満)J
G23: 宿日直 | T23: =SUM(H23:S23) -> 0 | AI23: =X29 -> 0 | AJ23: =AB29 -> 5
P24: 合計 | R24: 分野 | T24: =T16+T18+T20+T22 -> 12 | U24: =U16+U18+U20+U22 -> 12 | V24: =V16+V18+V20+V22 -> 0 | W24: A | X24: B | Y24: C | Z24: D | AA24: E | AB24: F | AC24: G | AD24: H
R25: 宿日直 | T25: =T17+T19+T21+T23 -> 36 | U25: =U17+U19+U21+U23 -> 36 | V25: =V17+V19+V21+V23 -> 0 | W25: =SUM(W16:W23) -> 0 | X25: =SUM(X16:X23) -> 0 | Y25: =SUM(Y16:Y23) -> 0 | Z25: =SUM(Z16:Z23) -> 0 | AA25: =SUM(AA16:AA23) -> 0 | AB25: =SUM(AB16:AB23) -> 1 | AC25: =SUM(AC16:AC23) -> 1 | AD25: =SUM(AD16:AD23) -> 0
A27: 注１）研修開始年月日欄には、当該研修医が最初に臨床研修を開始した年月日を記入すること。 注２）研修開始年月日から２年を経過した月以降は記入しないこと。ただし、正当な理由により臨床研修を 休止又は中断した後に再開する研修医を受け入れた場合はその限りでない。 注３）臨床研修履修計画の計を①【補助対象】と【補助対象外（国立等）】に分けること。 注４）臨床研修履修計画は、各月末時点における研修実施施設を基準に記入すること。 | T27: 事業延月数 (月４回以上) | W27: Ｄ | X27: =Z25 -> 0 | Z27: 月 | AA27: Ｈ | AB27: =AD25 -> 0 | AD27: 月
T28: 事業延日数 (月４回未満) | W28: I | X28: A+(B×2)+(C×3) | AA28: J | AB28: E+(F×2)+(G×3)
X29: =W25+(X25*2)+(Y25*3) -> 0 | Z29: 日 | AB29: =AA25+(AB25*2)+(AC25*3) -> 5 | AD29: 日

Sheet 第2号様式別紙2-1（臨床研修（医師）事業計画書）附表A2
A1: 別紙２－１ 附表Ａ２
B3: 臨 床 研 修 履 修 計 画 及 び 宿 日 直 研 修 計 画 調 書
A5: ２年次生又は再開者
A7: 施設番号 | B7: 030xx01
A8: 基幹型病院名 | B8: =第2号様式!G9 -> 0 | F8: 地域種別 | G8: 第２種 | I8: 地元大学出身 | K8: ○
A9: 研修医氏名 | B9: =第2号様式!G9 -> 0 | I9: 地元出身 | K9: ○
A10: 研修開始年月日 | B10: R7 | C10: 年 | D10: 4 | E10: 月 | F10: 1 | G10: 日
A11: プログラム番号 | B11: 030xx1101 | C11: プログラム名 | D11: 県立〇〇病院研修プログラムＡ
A13: 施設番号 | B13: 研修実施施設名 | D13: 都道府県 | E13: 市区町村 | F13: 地域種別 | G13: 分野及 び宿日 直回数 | H13: 臨 床 研 修 履 修 計 画 | U13: 補助対象 | W13: 宿日直研修計画月数 | AE13: 備 考
W14: 産婦人科 | AA14: 小児科 | AH14: 第3種 | AI14: 第4種 | AJ14: 第5種
H15: ４月 | I15: ５月 | J15: ６月 | K15: ７月 | L15: ８月 | M15: ９月 | N15: 10月 | O15: 11月 | P15: 12月 | Q15: １月 | R15: ２月 | S15: ３月 | T15: 計 | U15: 対象 | V15: 対象外 | W15: 月１回 | X15: 月２回 | Y15: 月３回 | Z15: 月４回 以上 | AA15: 月１回 | AB15: 月２回 | AC15: 月３回 | AD15: 月４回 以上 | AH15: =IF(G8="第３種","○","×") -> × | AI15: =IF(G8="第４種","○","×") -> × | AJ15: =IF(G8="第５種","○","×") -> ×
A16: 030xx1 | B16: 県立○○病院 | D16: ○○県 | E16: △△市 | F16: 第2種 | G16: 分野 | J16: 外 | K16: → | T16: =COUNTA(H16:S16) -> 2 | U16: 2 | V16: 0 | AE16: R4年6月～R5年5月 育児休業取得
G17: 宿日直 | J17: 3 | K17: 3 | T17: =SUM(H17:S17) -> 6 | U17: 6 | V17: 0 | AE17: R5年6月再開 | AI17: =IF(COUNTIF(AH15:AJ15,"○"),"入力不可","入力可") -> 入力可
G18: ｵﾝｺｰﾙ | T18: =SUM(H18:S18) -> 0
G19: 合計 | H19: =IF(H17+H18<4,H17+H18,4) -> 0 | I19: =IF(I17+I18<4,I17+I18,4) -> 0 | J19: =IF(J17+J18<4,J17+J18,4) -> 3 | K19: =IF(K17+K18<4,K17+K18,4) -> 3 | L19: =IF(L17+L18<4,L17+L18,4) -> 0 | M19: =IF(M17+M18<4,M17+M18,4) -> 0 | N19: =IF(N17+N18<4,N17+N18,4) -> 0 | O19: =IF(O17+O18<4,O17+O18,4) -> 0 | ... S19: =IF(S17+S18<4,S17+S18,4) -> 0 | T19: =SUM(H19:S19) -> 6
A20: 031xx2 | B20: 県立××病院 | D20: ○○県 | E20: ××市 | F20: 第3種 | G20: 分野 | L20: 産 | M20: → | N20: → | Q20: 小 | R20: → | S20: → | T20: =COUNTA(H20:S20) -> 6 | U20: 6 | V20: 0
G21: 宿日直 | T21: =SUM(H21:S21) -> 0
G22: ｵﾝｺｰﾙ | L22: 3 | M22: 4 | N22: 4 | Q22: 3 | R22: 4 | S22: 3 | T22: =SUM(H22:S22) -> 21 | U22: 21 | V22: 0
G23: 合計 | H23: =IF(H21+H22<4,H21+H22,4) -> 0 | I23: =IF(I21+I22<4,I21+I22,4) -> 0 | J23: =IF(J21+J22<4,J21+J22,4) -> 0 | K23: =IF(K21+K22<4,K21+K22,4) -> 0 | L23: =IF(L21+L22<4,L21+L22,4) -> 3 | M23: =IF(M21+M22<4,M21+M22,4) -> 4 | N23: =IF(N21+N22<4,N21+N22,4) -> 4 | O23: =IF(O21+O22<4,O21+O22,4) -> 0 | ... S23: =IF(S21+S22<4,S21+S22,4) -> 3 | T23: =SUM(H23:S23) -> 21
A24: 033xx4 | B24: ○○診療所 | D24: ○○県 | E24: □□市 | F24: 第1種 | G24: 分野 | O24: 地 | P24: → | T24: =COUNTA(H24:S24) -> 2 | U24: 2 | V24: 0
G25: 宿日直 | O25: 2 | P25: 2 | T25: =SUM(H25:S25) -> 4 | U25: 4 | V25: 0
G26: ｵﾝｺｰﾙ | O26: 2 | P26: 2 | T26: =SUM(H26:S26) -> 4 | U26: 4 | V26: 0
G27: 合計 | H27: =IF(H25+H26<4,H25+H26,4) -> 0 | I27: =IF(I25+I26<4,I25+I26,4) -> 0 | J27: =IF(J25+J26<4,J25+J26,4) -> 0 | K27: =IF(K25+K26<4,K25+K26,4) -> 0 | L27: =IF(L25+L26<4,L25+L26,4) -> 0 | M27: =IF(M25+M26<4,M25+M26,4) -> 0 | N27: =IF(N25+N26<4,N25+N26,4) -> 0 | O27: =IF(O25+O26<4,O25+O26,4) -> 4 | ... S27: =IF(S25+S26<4,S25+S26,4) -> 0 | T27: =SUM(H27:S27) -> 8
G28: 分野 | T28: =COUNTA(H28:S28) -> 0
G29: 宿日直 | T29: =SUM(H29:S29) -> 0
G30: ｵﾝｺｰﾙ | T30: =SUM(H30:S30) -> 0
G31: 合計 | H31: =IF(H29+H30<4,H29+H30,4) -> 0 | I31: =IF(I29+I30<4,I29+I30,4) -> 0 | J31: =IF(J29+J30<4,J29+J30,4) -> 0 | K31: =IF(K29+K30<4,K29+K30,4) -> 0 | L31: =IF(L29+L30<4,L29+L30,4) -> 0 | M31: =IF(M29+M30<4,M29+M30,4) -> 0 | N31: =IF(N29+N30<4,N29+N30,4) -> 0 | O31: =IF(O29+O30<4,O29+O30,4) -> 0 | ... S31: =IF(S29+S30<4,S29+S30,4) -> 0 | T31: =SUM(H31:S31) -> 0
P32: 合計 | R32: 分野 | T32: =T16+T20+T24+T28 -> 10 | U32: =U16+U20+U24+U28 -> 10 | V32: =V16+V20+V24+V28 -> 0 | W32: A | X32: B | Y32: C | Z32: D | AA32: E | AB32: F | AC32: G | AD32: H
R33: 宿日直 | T33: =T17+T21+T25+T29 -> 10 | U33: =U17+U21+U25+U29 -> 10 | V33: =V17+V21+V25+V29 -> 0 | W33: =W17+W21+W25+W29 -> 0 | X33: =X17+X21+X25+X29 -> 0 | Y33: =Y17+Y21+Y25+Y29 -> 0 | Z33: =Z17+Z21+Z25+Z29 -> 0 | AA33: =AA17+AA21+AA25+AA29 -> 0 | ... AD33: =AD17+AD21+AD25+AD29 -> 0 | AH33: オンコール | AI33: =T34 -> 25 | AJ33: =U34 -> 25 | AK33: =V34 -> 0
R34: オン コール | T34: =T18+T22+T26+T30 -> 25 | U34: =U18+U22+U26+U30 -> 25 | V34: =V18+V22+V26+V30 -> 0 | W34: K | X34: L | Y34: M | Z34: N | AA34: O | AB34: P | AC34: Q | AD34: R
W35: =W18+W22+W26+W30 -> 0 | X35: =X18+X22+X26+X30 -> 0 | Y35: =Y18+Y22+Y26+Y30 -> 0 | Z35: =Z18+Z22+Z26+Z30 -> 0 | AA35: =AA18+AA22+AA26+AA30 -> 0 | AB35: =AB18+AB22+AB26+AB30 -> 0 | AC35: =AC18+AC22+AC26+AC30 -> 0 | AD35: =AD18+AD22+AD26+AD30 -> 0
AH36: 事業延月数(月４回以上)D | AI36: 事業延月数(月４回以上)H
T37: 指導医等が研修医と当直 | AH37: =X38 -> 0 | AI37: =AB38 -> 0
A38: 注１）研修開始年月日欄には、当該研修医が最初に臨床研修を開始した年月日を記入すること。 注２）研修開始年月日から２年を経過した月以降は記入しないこと。ただし、正当な理由により臨床研修を休止又は中断した後に 再開する研修医を受け入れた場合はその限りでない。 注３）産婦人科又は小児科での宿日直研修の際に指導医（上級医を含む。）が研修医と当直した場合は、宿日直の欄に記入し、 指導医等がオンコールによる指導体制にあった場合は、オンコールの欄に記入すること。その際に１月当たり回数合計を 計の欄に記入すること。（１ヶ月月当たり宿日直、オンコールを合計して４回を超えて記入することは不可） 注４）臨床研修履修計画の計を【補助対象】と【補助対象外（国立等）】に分けること。 注５）臨床研修履修計画は、各月末時点における研修実施施設を基準に記入すること。 | T38: 事業延月数 (月４回以上) | W38: Ｄ | X38: =Z33 -> 0 | Z38: 月 | AA38: Ｈ | AB38: =AD33 -> 0 | AD38: 月 | AH38: 事業延日数 (月４回未満)I | AI38: 事業延日数 (月４回未満)J
T39: 事業延日数 (月４回未満) | W39: I | X39: A+(B×2)+(C×3) | AA39: J | AB39: E+(F×2)+(G×3) | AH39: =X40 -> 0 | AI39: =AB40 -> 0
X40: =W33+(X33*2)+(Y33*3) -> 0 | Z40: 日 | AB40: =AA33+(AB33*2)+(AC33*3) -> 0 | AD40: 日
T42: 指導医等がオンコール体制
T43: 事業延月数 (月４回以上) | W43: N | X43: =Z35 -> 0 | Z43: 月 | AA43: R | AB43: =AD35 -> 0 | AD43: 月 | AH43: 事業延月数(月４回以上)N | AI43: 事業延月数(月４回以上)R
T44: 事業延日数 (月４回未満) | W44: S | X44: K+(L×2)+(M×3) | AA44: T | AB44: O+(P×2)+(Q×3) | AH44: =X43 -> 0 | AI44: =AB43 -> 0
X45: =W35+(X35*2)+(Y35*3) -> 0 | Z45: 日 | AB45: =AA35+(AB35*2)+(AC35*3) -> 0 | AD45: 日 | AH45: 事業延日数 (月４回未満)S | AI45: 事業延日数(月４回未満)T
...

Sheet 第2号様式別紙2-2（臨床研修（医師）事業計画書）
A1: 別紙２-２
A3: へき地診療所等研修支援事業計画調書
A8: 診療所等名称 | B8: 研修医氏名 | C8: 期 間 | F8: 研修実日数 | G8: 備 考
G11: 所在地市町村名 ◎◎村
G12: 病床数 １４床
G13: 該当の法律等
A14: ■■診療所 | B14: 赤川 六郎 | C14: 42491 | D14: ～ | E14: 42521 | F14: 24 | G14: 「へき地保健対策実施要綱」
G15: 平日１９日 土日５日
B36: 合 計 | F36: =SUM(F9:F35) -> 24
A37: （注）実日数の内訳を備考欄に記入すること。（例：平日△日、土日×日）

Sheet 第2号様式別紙2-3（臨床研修（医師）事業計画書）
A1: 別紙２－３
A3: 研修医の処遇について
G4: （単位:円）
A5: 病 院 名 | B5: 当該年度４月１日現在の１年次研修医受入数 | C5: 研修医の種別(常勤・非常勤） | D5: 当該年度に研修を開始する研修医 ※都道府県の要請等により受け入れた自治医科大学 医学部卒の研修医を除く。 | G5: 備考
D6: １年次（当該年度）
D8: ①基本給月給（決定ベース） | E8: ②年額賞与(決定ベース） | F8: 推計年収（①×12+②)
F9: α
A10: 県立○○病院 | B10: 4 | C10: 非常勤 | D10: 550000 | E10: 900000 | F10: 7500000
A11: 【記載要領】
A12: （１）本調査には都道府県の要請等により受け入れた自治医科大学医学部卒の研修医は含めないこと。
A13: （２）当該年度４月１日現在の１年次研修医受入数は、基幹型臨床研修病院における当該年度４月１日現在の１年次研修医受入数を記載してください。
A14: （３）研修医の常勤・非常勤の別は、基幹型臨床研修病院で研修している際の種別を選択してください。
A15: （４）当該年度に研修を開始する研修医の欄は、基幹型臨床研修病院の処遇を記載してください。
A16: （５）①基本給月給、②年額賞与の欄は以下の通り記載して下さい。
A17: ①基本給月給
A18: 「基本給」は、研修医の業務量、住居、通勤経路、家族構成にかかわらず研修医に決まって支払われる給与とします。国家公務員の給与では、
A19: 「職員俸給」、「地域手当」、「初任給調整手当」、「寒冷地手当」、「特地勤務手当」などが該当します。「超過勤務手当」、「当直手当」、「住居手当」、
A20: 「通勤手当」、「扶養手当」などは該当しません。
A22: ②年額賞与
A23: 年額賞与（国家公務員の給与では「期末手当」、「勤勉手当」が該当）は、各年度で支払われる賞与（年度で複数回ならその合計金額）を記載して下さい。
... A27: 注）受入人数が０人であっても、１年次研修医に支払われる推計年収が６３０万円を超える場合は、定められた申請する金額に係数を乗じることとなります。

Sheet 基準額算出（臨床研修（医師））
AA1: ✔
A3: 臨床研修事業基準額算出内訳 | AA3: ○
N5: （基幹型病院名）
A7: 基準額算出に係る条件確認 | J7: （チェック欄）
B8: 医師臨床研修費補助金に係る基準額の算出条件として、病院と臨床研修医の間において、原則として雇用契約の中にアルバイト診療を行わない旨を明らかにされていること。
A11: １ 教育指導経費
A12: （１）研修医延人数 【附表Ａ】
B13: 補助対象・補助対象外 | M13: 研 修 医 延 人 数
M14: １年次 | Q14: ２年次 | U14: 計
B15: 【補助対象】計 | P15: 人 | T15: 人 | U15: a | V15: =SUM(M15+Q15) -> 0 | Y15: 人
B16: 【補助対象外】計 | P16: 人 | T16: 人 | V16: =SUM(M16+Q16) -> 0 | Y16: 人
B17: 合 計 | M17: =SUM(M15:O16) -> 0 | P17: 人 | Q17: =SUM(Q15:S16) -> 0 | T17: 人 | U17: b | V17: =SUM(V15:X16) -> 0 | Y17: 人
B18: （注１）研修医延人数は、当該年度内における各月の末日に在籍する研修医数の総和であること。
B19: （注２）当該年度に研修を開始した研修医については１年次、それより前に研修を開始した研修医については２年次
C20: とすること。
A22: （２）研修医数
B23: ① 病院群全体
B24: １年次生研修医延人数 | J24: =M17 -> 0 | N24: 人 | O24: 研修医数 | S24: c | T24: =ROUND(J24/12,3) -> 0 | Y24: 人
B25: ２年次生研修医延人数 | J25: =Q17 -> 0 | N25: 人 | O25: 研修医数 | S25: d | T25: =ROUND(J25/12,3) -> 0 | Y25: 人
P26: 計 | U26: =SUM(T24:X25) -> 0 | Y26: 人
M27: １学年平均研修医数 | T27: e | U27: =ROUND(IF(T24=0,IF(J25=0,0,T25),IF(J25=0,T24,(T24+T25)/2)),0) -> 0 | Y27: 人
B29: ② 補助対象
B30: １年次生研修医延人数 | J30: =M15 -> 0 | N30: 人 | O30: 研修医数 | S30: f | T30: =ROUND(J30/12,3) -> 0 | Y30: 人
B31: ２年次生研修医延人数 | J31: =Q15 -> 0 | N31: 人 | O31: 研修医数 | S31: g | T31: =ROUND(J31/12,3) -> 0 | Y31: 人
B32: （注１）ｃ、d、f及びgの研修医数は、研修医延人数を１２で除して、小数点以下第３位を四捨五入して得た数とす る。
B34: （注２）eの１学年平均研修医数は、研修医数（cとdの和）を研修を実施している学年数で除して、小数点以下を四捨 五入して得た数とする。
A37: （３）地元出身研修医の採用数（4月１日現在）
B38: １年次生研修医数 | N38: 人 | O38: うち地元出身研修医の採用数 | Y38: 人
B39: ２年次生研修医数 | N39: 人 | O39: うち地元出身研修医の採用数 | Y39: 人
P40: 計 | U40: =SUM(U38:X39) -> 0 | Y40: 人
M41: 地元出身研修医の採用割合 | U41: =ROUNDDOWN(U40/(J38+J39),3) -> #DIV/0!
B43: ※協力型病院が申請する場合は、基幹型病院の研修医数及び採用数を記載すること。
A45: （４）地元出身研修医延人数
B46: 補助対象・補助対象外 | M46: 研 修 医 延 人 数
M47: １年次 | Q47: ２年次 | U47: 計
B48: 【補助対象】計 | M48: =M15 -> 0 | P48: 人 | Q48: =Q15 -> 0 | T48: 人 | U48: a | V48: =V15 -> 0 | Y48: 人
B49: 【補助対象（うち、地元出身）】計 | P49: 人 | T49: 人 | U49: a' | V49: =M49+Q49 -> 0 | Y49: 人
B50: （注１）研修医延人数は、当該年度内における各月の末日に在籍する研修医数の総和であること。
B51: （注２）当該年度に研修を開始した研修医については１年次、それより前に研修を開始した研修医については２年次
C52: とすること。
...

Sheet 第2号様式別紙2-4（臨床研修（医師）事業計画書）
A1: 別紙２－４ | AA1: ✔
A3: 基準額算出内訳（国立大学病院以外） | AA3: ○
N5: （基幹型病院名）
N6: =第2号様式!G9 -> 0
A7: 基準額算出に係る条件確認 | J7: （チェック欄）
B8: 医師臨床研修費補助金に係る基準額の算出条件として、病院と臨床研修医の間において、原則として雇用契約の中にアルバイト診療を行わない旨を明らかにされていること。
A11: １ 教育指導経費
A12: （１）研修医延人数 【別紙２－１】 | AC12: ※数式部分白文字
B13: 補助対象・補助対象外 | M13: 研 修 医 延 人 数
M14: １年次 | Q14: ２年次 | U14: 計
B15: 【補助対象】計 | M15: ='第2号様式別紙2-1（臨床研修（医師）事業計画書）'!D8 -> 0 | P15: 人 | Q15: ='第2号様式別紙2-1（臨床研修（医師）事業計画書）'!D21 -> 0 | T15: 人 | U15: a | V15: =SUM(M15+Q15) -> 0 | Y15: 人
B16: 【補助対象外】計 | M16: ='第2号様式別紙2-1（臨床研修（医師）事業計画書）'!E8 -> 0 | P16: 人 | Q16: ='第2号様式別紙2-1（臨床研修（医師）事業計画書）'!E21 -> 0 | T16: 人 | V16: =SUM(M16+Q16) -> 0 | Y16: 人
B17: 合 計 | M17: =SUM(M15:O16) -> 0 | P17: 人 | Q17: =SUM(Q15:S16) -> 0 | T17: 人 | U17: b | V17: =SUM(V15:X16) -> 0 | Y17: 人
B18: （注１）研修医延人数は、当該年度内における各月の末日に在籍する研修医数の総和であること。
B19: （注２）各月の末日に国（国立高度専門医療研究センター及び国立健康危機管理研究機構を含む。）が開設する病院に在籍する場合は対象外とすること。
B20: （注３）当該年度に研修を開始した研修医については１年次、それより前に研修を開始した研修医については２年次
C21: とすること。
A23: （２）研修医数
B24: ① 病院群全体
B25: １年次生研修医延人数 | J25: =M17 -> 0 | N25: 人 | O25: 研修医数 | S25: c | T25: =ROUND(J25/12,3) -> 0 | Y25: 人
B26: ２年次生研修医延人数 | J26: =Q17 -> 0 | N26: 人 | O26: 研修医数 | S26: d | T26: =ROUND(J26/12,3) -> 0 | Y26: 人
P27: 計 | U27: =SUM(T25:X26) -> 0 | Y27: 人
M28: １学年平均研修医数 | T28: e | U28: =ROUND(IF(T25=0,IF(J26=0,0,T26),IF(J26=0,T25,(T25+T26)/2)),0) -> 0 | Y28: 人
B30: ② 補助対象
B31: １年次生研修医延人数 | J31: =M15 -> 0 | N31: 人 | O31: 研修医数 | S31: f | T31: =ROUND(J31/12,3) -> 0 | Y31: 人
B32: ２年次生研修医延人数 | J32: =Q15 -> 0 | N32: 人 | O32: 研修医数 | S32: g | T32: =ROUND(J32/12,3) -> 0 | Y32: 人
B33: （注１）ｃ、d、f及びgの研修医数は、研修医延人数を１２で除して、小数点以下第３位を四捨五入して得た数とす る。 | AH33: =IF('第2号様式別紙2-1附表A1（１年次）（研修医厚生）'!AI17="入力不可",FALSE,TRUE) -> TRUE
B35: （注２）eの１学年平均研修医数は、研修医数（cとdの和）を研修を実施している学年数で除して、小数点以下を四捨 五入して得た数とする。
A38: （３）地元出身研修医の採用数（4月１日現在）
B39: １年次生研修医数 | N39: 人 | O39: うち地元出身研修医の採用数 | Y39: 人
B40: ２年次生研修医数 | N40: 人 | O40: うち地元出身研修医の採用数 | Y40: 人
P41: 計 | U41: =SUM(U39:X40) -> 0 | Y41: 人
M42: 地元出身研修医の採用割合 | U42: =ROUNDDOWN(U41/(J39+J40),3) -> #DIV/0!
B44: ※協力型病院が申請する場合は、基幹型病院の研修医数及び採用数を記載すること。
A46: （４）地元出身研修医延人数
B47: １年次 | F47: ２年次 | J47: 計
E48: 人 | I48: 人 | J48: a' | K48: =B48+F48 -> 0 | N48: 人
B49: （注１）地元出身研修医延人数は、当該年度内における各月の末日に在籍する地元出身研修医数の総和であること。
B50: （注２）各月の末日に国（国立高度専門医療研究センター及び国立健康危機管理研究機構を含む。）が開設する病院に在籍する場合は対象外とすること。
B51: （注３）当該年度に研修を開始した研修医については１年次、それより前に研修を開始した研修医については２年次
...

Sheet 第2号様式別紙2-5（臨床研修（医師）事業計画書）
A1: 別紙２－５ | AA1: ✔
A3: 基準額算出内訳（国立大学病院） | AA3: ○
N5: （基幹型病院名）
N6: =第2号様式!G9 -> 0
A7: 基準額算出に係る条件確認 | J7: （チェック欄）
B8: 医師臨床研修費補助金に係る基準額の算出条件として、病院と臨床研修医の間において、原則として雇用契約の中にアルバイト診療を行わない旨を明らかにされていること。
A11: １ 教育指導経費
A12: （１）研修医延人数 【別紙２－１】 | AC12: ※数式部分白文字
B13: 補助対象・補助対象外 | M13: 研 修 医 延 人 数
M14: １年次 | Q14: ２年次 | U14: 計
B15: 【補助対象】計 | M15: ='第2号様式別紙2-1（臨床研修（医師）事業計画書）'!D8 -> 0 | P15: 人 | Q15: ='第2号様式別紙2-1（臨床研修（医師）事業計画書）'!D21 -> 0 | T15: 人 | U15: a | V15: =SUM(M15+Q15) -> 0 | Y15: 人
B16: 【補助対象外】計 | M16: ='第2号様式別紙2-1（臨床研修（医師）事業計画書）'!E8 -> 0 | P16: 人 | Q16: ='第2号様式別紙2-1（臨床研修（医師）事業計画書）'!E21 -> 0 | T16: 人 | V16: =SUM(M16+Q16) -> 0 | Y16: 人
B17: 合 計 | M17: =SUM(M15:O16) -> 0 | P17: 人 | Q17: =SUM(Q15:S16) -> 0 | T17: 人 | U17: b | V17: =SUM(V15:X16) -> 0 | Y17: 人
B18: （注１）研修医延人数は、当該年度内における各月の末日に在籍する研修医数の総和であること。
B19: （注２）各月の末日に国（国立高度専門医療研究センター及び国立健康危機管理研究機構を含む。）が開設する病院に在籍する場合は対象外とすること。
B20: （注３）当該年度に研修を開始した研修医については１年次、それより前に研修を開始した研修医については２年次
C21: とすること。
A23: （２）研修医数
B24: ① 病院群全体
B25: １年次生研修医延人数 | J25: =M17 -> 0 | N25: 人 | O25: 研修医数 | S25: c | T25: =ROUND(J25/12,3) -> 0 | Y25: 人
B26: ２年次生研修医延人数 | J26: =Q17 -> 0 | N26: 人 | O26: 研修医数 | S26: d | T26: =ROUND(J26/12,3) -> 0 | Y26: 人
P27: 計 | U27: =SUM(T25:X26) -> 0 | Y27: 人
M28: １学年平均研修医数 | T28: e | U28: =ROUND(IF(T25=0,IF(J26=0,0,T26),IF(J26=0,T25,(T25+T26)/2)),0) -> 0 | Y28: 人
B30: ② 補助対象
B31: １年次生研修医延人数 | J31: =M15 -> 0 | N31: 人 | O31: 研修医数 | S31: f | T31: =ROUND(J31/12,3) -> 0 | Y31: 人
B32: ２年次生研修医延人数 | J32: =Q15 -> 0 | N32: 人 | O32: 研修医数 | S32: g | T32: =ROUND(J32/12,3) -> 0 | Y32: 人
B33: （注１）ｃ、d、f及びgの研修医数は、研修医延人数を１２で除して、小数点以下第３位を四捨五入して得た数とす る。
B35: （注２）eの１学年平均研修医数は、研修医数（cとdの和）を研修を実施している学年数で除して、小数点以下を四捨 五入して得た数とする。
A38: （３）地元出身研修医の採用数（4月１日現在） | AH38: =IF('第2号様式別紙2-1（臨床研修（医師）事業計画書）附表A2'!AI17="入力不可",FALSE,TRUE) -> TRUE
B39: １年次生研修医数 | N39: 人 | O39: うち地元出身研修医の採用数 | Y39: 人
B40: ２年次生研修医数 | N40: 人 | O40: うち地元出身研修医の採用数 | Y40: 人
P41: 計 | U41: =SUM(U39:X40) -> 0 | Y41: 人
M42: 地元出身研修医の採用割合 | U42: =ROUNDDOWN(U41/(J39+J40),3) -> #DIV/0!
B44: ※協力型病院が申請する場合は、基幹型病院の研修医数及び採用数を記載すること。
A46: （４）地元出身研修医延人数
B47: １年次 | F47: ２年次 | J47: 計
E48: 人 | I48: 人 | J48: a' | K48: =B48+F48 -> 0 | N48: 人
B49: （注１）地元出身研修医延人数は、当該年度内における各月の末日に在籍する地元出身研修医数の総和であること。
B50: （注２）各月の末日に国（国立高度専門医療研究センター及び国立健康危機管理研究機構を含む。）が開設する病院に在籍する場合は対象外とすること。
B51: （注３）当該年度に研修を開始した研修医については１年次、それより前に研修を開始した研修医については２年次
...

Sheet 第3号様式
A1: 第３号様式
V2: 0 | W2: ←下記１～３より選択してください
T3: 番 号
T4: 年 月 日
A7: =VLOOKUP($V$2,$U$7:$X$10,2,0) -> 殿 | U7: 0 | V7: 殿 | X7: 補助金
U8: 1 | V8: 厚生労働大臣 殿 | X8: 医療関係者研修費等補助金
U9: 2 | V9: 地方厚生局長 殿 | X9: 臨床研修費等補助金
N10: 所在地 | U10: 3 | V10: 厚生労働大臣 殿 | X10: 臨床研修費等補助金
N11: 名 称
N12: 代表者
A17: 年度消費税及び地方消費税に係る仕入控除税額報告書
B23: 年 月 日厚生労働省発医政 第 号 | M23: により交付決定があった
B24: =CONCATENATE(VLOOKUP(V2,$U$7:$X$10,4,0),"について、当該交付要綱第５の（９）の規定に基づき") -> 補助金について、当該交付要綱第５の（９）の規定に基づき
B25: 次のとおり報告する。
B29: １ 補助金等に係る予算の執行の適正化に関する法律（昭和30 年法律第179 号）
B30: 第15 条の規定による確定額又は事業実績報告による精算額
O32: 金 | S32: 円
B35: ２ 確定時に減額した仕入れに係る消費税額
O37: 金 | S37: 円
B40: ３ 消費税及び地方消費税の申告により確定した消費税及び地方消費税に係る
B41: 仕入控除税額（要国庫補助金返還相当額）
O43: 金 | S43: 円
B46: ４ 補助金返還相当額
O48: 金 | S48: 円
B51: ５ 添付書類
B52: 記載内容を確認するための書類（確定申告書の写し、課税売上割合等が把握
B53: できる資料、特定収入の割合を確認できる資料）を添付する。
B56: （注）交付要綱の３（交付対象）の（１）のクに係る事業に関しては下線部を
B57: 厚生労働省発薬生 第 号に置き換えるものとする

Sheet 精算書様式⇒

Sheet 第4号様式
A1: 第４号様式
H2: 番 号 | K2: 事業名選択欄 | L2: 臨床研修事業
H3: 年 月 日
A5: 地方厚生局長 殿
F8: 所在地
F9: 事業者名
D16: 年度臨床研修費等補助金の事業実績報告書
A23: 年 月 日厚生労働省発医政 第 号で交付決定を受けた標記補助金に係る
A24: 事業実績について、次の書類を添えて報告する。
B28: １ 所要額精算書（別紙１）
B30: ２ 実績報告書（別紙２）
B32: ３ 収入支出決算書抄本

Sheet 第4号様式別紙1-1（精算書、対象経費内訳）
B1: ="別紙１"&IF(第4号様式!L2="臨床研修事業","ー１","") -> 別紙１ー１
B3: 所要額精算書
P4: =第4号様式!L2 -> 臨床研修事業
B5: =CONCATENATE(1," ",第4号様式!L2,"所要額") -> 1 臨床研修事業所要額
B6: 区分 | C6: 総事業費 | D6: 寄 付 金 | E6: 差引額 | F6: 対象経費 | G6: 基準額 | H6: 選 定 額 | I6: 国庫補助 基 本 額 | J6: 国庫補助 所 要 額 | K6: 仕入れに係る 消費税等相当額 | L6: 要国庫補助額 （H）-（I） | M6: 交 付 決 定 額 | N6: 国庫補助 受入済額 | O6: 差 引 過 △不足額
D7: そ の 他 | F7: の 支 出
D8: の収入額 | F8: 済 額
C9: Ａ | D9: Ｂ | E9: Ｃ | F9: Ｄ | G9: Ｅ | H9: Ｆ | I9: Ｇ | J9: Ｈ | K9: I | L9: J | M9: K | N9: L | O9: M
C10: 円 | D10: 円 | E10: 円 | F10: 円 | G10: 円 | H10: 円 | I10: 円 | J10: 円 | K10: 円 | L10: 円 | M10: 円 | N10: 円 | O10: 円
B11: 教育指導経費 | E11: =IF(C11="","",C11-D11) | F11: =F90 -> 0 | H11: =IF(G11="","",MIN(G11,E11)) | I11: =IF(H11="","",IF(OR($P$4=#REF!,$P$4=#REF!),MIN(H11,F11)*0.5,MIN(H11,F11))) | J11: =IF(I11="","",IFERROR(ROUNDDOWN(I11,-3),"")) | L11: =J11-K11 -> #VALUE! | O11: =IF(M11="","",N11-(MIN(J11,M11))) | P11: 76
B12: 地域協議会経費 | E12: =IF(C12="","",C12-D12) | H12: =IF(G12="","",MIN(G12,E12)) | I12: =IF(H12="","",IF(OR($P$4=#REF!,$P$4=#REF!),MIN(H12,F12)*0.5,MIN(H12,F12))) | J12: =IF(I12="","",IFERROR(ROUNDDOWN(I12,-3),"")) | L12: =J12-K12 -> #VALUE! | O12: =IF(M12="","",N12-(MIN(J12,M12))) | P12: 77
B13: 合計 | C13: =IF(SUM(C11:C12)=0,"",SUM(C11:C12)) | D13: =IF(SUM(D11:D12)=0,"",SUM(D11:D12)) | E13: =IF(SUM(E11:E12)=0,"",SUM(E11:E12)) | F13: =IF(SUM(F11:F12)=0,"",SUM(F11:F12)) | G13: =IF(SUM(G11:G12)=0,"",SUM(G11:G12)) | H13: =IF(SUM(H11:H12)=0,"",SUM(H11:H12)) | I13: =IF(SUM(I11:I12)=0,"",SUM(I11:I12)) | J13: =IF(SUM(J11:J12)=0,"",SUM(J11:J12)) | M13: =IF(SUM(M11:M12)=0,"",SUM(M11:M12)) | N13: =IF(SUM(N11:N12)=0,"",SUM(N11:N12)) | O13: =IF(SUM(O11:O12)=0,"",SUM(O11:O12))
B15: ２ 対象経費の支出済額算出内訳
B16: 区 分 | E16: 支 出 済 額 | G16: 支 出 内 訳
F17: 円
B18: （Ⅰ 教育指導経費） | P18: 4
B19: １ 研修管理委員会等経費 | P19: 5
B20: 諸謝金 | P20: 6
B21: 旅費 | P21: 7
B22: 消耗品費 | P22: 8
B23: 印刷製本費 | P23: 9
B24: 通信運搬費 | P24: 10
B25: 会議費 | P25: 11
P26: 12
B27: ２ プログラム責任者人件費（プログラム管理に係るもの） | P27: 13
B28: 職員基本給 | P28: 14
B29: 職員諸手当 | P29: 15
P30: 16
B31: ３ 指導医及びプログラム責任者の補助者雇上経費 | P31: 17
B32: 職員諸手当（非常勤） | P32: 18
B33: 非常勤職員手当 | P33: 19
P34: 20
B35: ４ 通信運搬費 | P35: 21
P36: 22
B37: ５ 指導医、プログラム責任者（研修医指導分）にかかる経費 | P37: 23
B38: 職員基本給 | P38: 24
B39: 職員諸手当 | P39: 25
B40: 非常勤職員手当 | P40: 26
B41: 諸謝金 | P41: 27
P42: 28
...

Sheet 第4号様式別紙1-2（精算書、対象経費内訳 ）（医師）
B1: 別紙１－２
B3: 所要額調書
B5: １ 臨床研修事業 所要額
C6: 総事業費 | D6: 寄 付 金 | E6: 差 引 額 | F6: 対象経費 | G6: 基 準 額 | J6: 選 定 額 | K6: 国庫補助基本額 | L6: 国庫補助所要額 | M6: 交付決定額 | N6: 仕入れに係る 消費税等相当額 | O6: 要国庫補助額 （H）-（J） | P6: 国庫補助 受入済額 | Q6: 差 引 過 △不足額 | T6: 臨床研修事業
B7: 区 分 | D7: そ の 他 の | F7: の 支 出
D8: 収 入 額 | F8: 予 定 額
C9: Ａ | D9: Ｂ | E9: Ｃ | F9: Ｄ | G9: Ｅ | J9: Ｆ | K9: Ｇ | L9: H | M9: I | N9: J | O9: K | P9: L | Q9: M
G10: 単価 | H10: 広域連携型プログラム数 | I10: 金額
C11: 円 | D11: 円 | E11: 円 | F11: 円 | I11: 円 | J11: 円 | K11: 円 | L11: 円 | M11: 円 | N11: 円 | O11: 円 | P11: 円 | Q11: 円
B12: 広域連携プログラム作成経費 | E12: =IF(C12="","",C12-D12) | G12: 538000 | I12: =G12*H12 -> 0 | J12: =IF(I12="","",MIN(F12:I12)) -> 0 | K12: =IF(E12="","",IF(OR($T$6=#REF!,$T$6=#REF!),MIN(E12,J12)*0.5,MIN(E12,J12))) | L12: =IF(K12="","0",IFERROR(ROUNDDOWN(K12,-3),"")) -> 0 | O12: =L12-N12 -> 0 | R12: 78
B13: 第三者評価受審経費 | E13: =IF(C13="","",C13-D13) | G13: 250000 | I13: 250000 | J13: =IF(I13="","",MIN(F13:I13)) -> 250000 | K13: =IF(E13="","",IF(OR($T$6=#REF!,$T$6=#REF!),MIN(E13,J13)*0.5,MIN(E13,J13))) | L13: =IF(K13="","0",IFERROR(ROUNDDOWN(K13,-3),"")) -> 0 | O13: =L13-N13 -> 0 | R13: gg
B14: 合 計 | C14: =IF(SUM(C12:C13)=0,"",SUM(C12:C13)) | D14: =IF(SUM(D12:D13)=0,"",SUM(D12:D13)) | E14: =IF(SUM(E12:E13)=0,"",SUM(E12:E13)) | F14: =IF(SUM(F12:F13)=0,"",SUM(F12:F13)) | I14: =IF(SUM(I12:I13)=0,"",SUM(I12:I13)) -> 250000 | J14: =IF(SUM(J12:J13)=0,"",SUM(J12:J13)) -> 250000 | K14: =IF(SUM(K12:K13)=0,"",SUM(K12:K13)) | L14: =IF(SUM(L12:L13)=0,"",SUM(L12:L13)) | M14: =IF(SUM(M12:M12)=0,"",SUM(M12:M12)) | P14: =IF(SUM(P12:P12)=0,"",SUM(P12:P12)) | Q14: =SUM(Q12:Q13) -> 0
B16: ２ 対象経費の支出予定額算出内訳
B17: 区 分 | E17: 支 出 予 定 額 | G17: 算 出 内 訳
F18: 円
B19: １ 広域連携型プログラム作成経費 | R19: 58
B20: 職員基本給 | R20: 59
B21: 職員諸手当（非常勤含む） | R21: 60
B22: 非常勤職員諸手当（事務補助者雇上経費） | R22: 61
B23: 諸謝金 | R23: 62
B24: 旅費 | R24: 63
B25: 消耗品費 | R25: 64
B26: 印刷製本費 | R26: 65
B27: 通信運搬費 | R27: 66
B28: 会議費 | R28: 67
B30: ２ 第三者評価受審経費 | R30: 68
B31: 雑役務費（手数料等） | R31: 69
B91: 合 計 | F91: =SUM(F19:F90) -> 0

Sheet 【記載例】第4号様式別紙1（精算書、対象経費内訳）
A1: 別紙１
A3: 所要額精算書
M4: 看護職員確保対策特別事業
A5: 1 ○○所要額
A6: 区分 | B6: 総事業費 | C6: 寄 付 金 | D6: 差引額 | E6: 対象経費 | F6: 基準額 | G6: 選 定 額 | H6: 国庫補助 基 本 額 | I6: 国庫補助 所 要 額 | J6: 交 付 決 定 額 | K6: 国庫補助 受入済額 | L6: 差 引 過 △不足額
C7: そ の 他 | E7: の 支 出
C8: の収入額 | E8: 済 額
B9: Ａ | C9: Ｂ | D9: Ｃ | E9: Ｄ | F9: Ｅ | G9: Ｆ | H9: Ｇ | I9: Ｈ | J9: Ｉ | K9: Ｊ | L9: Ｋ
B10: 円 | C10: 円 | D10: 円 | E10: 円 | F10: 円 | G10: 円 | H10: 円 | I10: 円 | J10: 円 | K10: 円 | L10: 円
B11: 3970000 | C11: 0 | D11: 3970000 | E11: 3970000 | F11: 3500000 | G11: 3500000 | H11: 3500000 | I11: 3500000 | J11: 3500000 | K11: 0 | L11: -3500000 | M11: 76
M12: 77
A13: 合計 | B13: 3970000 | D13: 3970000 | E13: 3970000 | F13: 3500000 | G13: 3500000 | H13: 3500000 | I13: 3500000 | J13: 3500000 | L13: -3500000
A15: ２ 対象経費の支出済額算出内訳
A16: 区 分 | D16: 支 出 済 額 | F16: 支 出 内 訳
E17: 円
A18: 職員諸手当（非常勤） | E18: 1000000 | F18: ○○×○＝○○○円 | M18: 4
M19: 5
A20: 非常勤職員手当 | E20: 500000 | F20: ○○×○＝○○○円 | M20: 6
M21: 7
A22: 諸謝金 | E22: 250000 | F22: ××謝金×円 | M22: 8
F23: ××謝金×円 | M23: 9
A24: 旅費 | F24: ××謝金×円 | M24: 10
M25: 11
A26: 備品費 | E26: 200000 | F26: △△旅費△円 | M26: 12
M27: 13
A28: 消耗品費 | E28: 1000000 | F28: ○○等○円 | M28: 14
M29: 15
A30: 印刷製本費 | E30: 250000 | F30: ××等×円 | M30: 16
M31: 17
A32: 通信運搬費 | E32: 50000 | F32: △△等△円 | M32: 18
M33: 19
A34: 光熱水料 | E34: 20000 | F34: ××等×円 | M34: 20
M35: 21
A36: 借料及び損料 | M36: 22
M37: 23
A38: 会議費 | E38: 450000 | F38: ○○会場使用料○○円 | M38: 24
M39: 25
A40: 社会保険料（非常勤） | M40: 26
M41: 27
A42: 雑役務費 | E42: 100000 | F42: ○○×○＝○○○円 | M42: 28
...

Sheet 第4号様式別紙2-1（臨床研修（医師）実績報告）
A1: 別紙２－１
A2: 臨床研修事業事業計画書（総括表）
A3: １年次生又は再開者
A5: １年次生又は再開者 | D5: 補助対象 | F5: 宿日直研修計画月数
F6: 産婦人科 | J6: 小児科
D7: 対象 | E7: 対象外 | F7: 月１回 | G7: 月２回 | H7: 月３回 | I7: 月４回 以上 | J7: 月１回 | K7: 月２回 | L7: 月３回 | M7: 月４回 以上
A8: 合計 | B8: 分野 | C8: ='第4号様式別紙2-1（臨床研修（医師）実績報告）附表 A1'!T24 -> 0 | D8: ='第4号様式別紙2-1（臨床研修（医師）実績報告）附表 A1'!U24 -> 0 | E8: ='第4号様式別紙2-1（臨床研修（医師）実績報告）附表 A1'!V24 -> 0 | F8: A | G8: B | H8: C | I8: D | J8: E | K8: F | L8: G | M8: H
B9: 宿日直 | C9: ='第4号様式別紙2-1（臨床研修（医師）実績報告）附表 A1'!T25 -> 0 | D9: ='第4号様式別紙2-1（臨床研修（医師）実績報告）附表 A1'!U25 -> 0 | E9: ='第4号様式別紙2-1（臨床研修（医師）実績報告）附表 A1'!V25 -> 0 | F9: ='第4号様式別紙2-1（臨床研修（医師）実績報告）附表 A1'!W25 -> 0 | G9: ='第4号様式別紙2-1（臨床研修（医師）実績報告）附表 A1'!X25 -> 0 | H9: ='第4号様式別紙2-1（臨床研修（医師）実績報告）附表 A1'!Y25 -> 0 | I9: ='第4号様式別紙2-1（臨床研修（医師）実績報告）附表 A1'!Z25 -> 0 | J9: ='第4号様式別紙2-1（臨床研修（医師）実績報告）附表 A1'!AA25 -> 0 | ... M9: ='第4号様式別紙2-1（臨床研修（医師）実績報告）附表 A1'!AD25 -> 0
D11: 産婦人科 | H11: 小児科
A12: １年次生又は再開者 | B12: 事業延月数 (月４回以上) | D12: Ｄ | E12: ='第4号様式別紙2-1（臨床研修（医師）実績報告）附表 A1'!AI21 -> 0 | G12: 月 | H12: Ｈ | I12: ='第4号様式別紙2-1（臨床研修（医師）実績報告）附表 A1'!AJ21 -> 0 | K12: 月
B13: 事業延日数 (月４回未満) | D13: I | E13: A+(B×2)+(C×3) | H13: J | I13: E+(F×2)+(G×3)
E14: ='第4号様式別紙2-1（臨床研修（医師）実績報告）附表 A1'!AI23 -> 0 | G14: 日 | I14: ='第4号様式別紙2-1（臨床研修（医師）実績報告）附表 A1'!AJ23 -> 0 | K14: 日
A16: ２年次生又は再開者
A18: ２年次生 又は 再開者 | D18: 補助対象 | F18: 宿日直研修計画月数
F19: 産婦人科 | J19: 小児科
D20: 対象 | E20: 対象外 | F20: 月１回 | G20: 月２回 | H20: 月３回 | I20: 月４回 以上 | J20: 月１回 | K20: 月２回 | L20: 月３回 | M20: 月４回 以上
A21: 合計 | B21: 分野 | C21: ='第4号様式別紙2-1（臨床研修（医師）実績報告）附表 A2'!T32 -> 0 | D21: ='第4号様式別紙2-1（臨床研修（医師）実績報告）附表 A2'!U32 -> 0 | E21: ='第4号様式別紙2-1（臨床研修（医師）実績報告）附表 A2'!V32 -> 0 | F21: A | G21: B | H21: C | I21: D | J21: E | K21: F | L21: G | M21: H
B22: 宿日直 | C22: ='第4号様式別紙2-1（臨床研修（医師）実績報告）附表 A2'!T33 -> 0 | D22: ='第4号様式別紙2-1（臨床研修（医師）実績報告）附表 A2'!U33 -> 0 | E22: ='第4号様式別紙2-1（臨床研修（医師）実績報告）附表 A2'!V33 -> 0 | F22: ='第4号様式別紙2-1（臨床研修（医師）実績報告）附表 A2'!W33 -> 0 | G22: ='第4号様式別紙2-1（臨床研修（医師）実績報告）附表 A2'!X33 -> 0 | H22: ='第4号様式別紙2-1（臨床研修（医師）実績報告）附表 A2'!Y33 -> 0 | I22: ='第4号様式別紙2-1（臨床研修（医師）実績報告）附表 A2'!Z33 -> 0 | J22: ='第4号様式別紙2-1（臨床研修（医師）実績報告）附表 A2'!AA33 -> 0 | ... M22: ='第4号様式別紙2-1（臨床研修（医師）実績報告）附表 A2'!AD33 -> 0
B23: オンコール | C23: ='第4号様式別紙2-1（臨床研修（医師）実績報告）附表 A2'!AI33 -> 0 | D23: ='第4号様式別紙2-1（臨床研修（医師）実績報告）附表 A2'!AJ33 -> 0 | E23: ='第4号様式別紙2-1（臨床研修（医師）実績報告）附表 A2'!AK33 -> 0 | F23: K | G23: L | H23: M | I23: N | J23: O | K23: P | L23: Q | M23: R
F24: ='第4号様式別紙2-1（臨床研修（医師）実績報告）附表 A2'!W35 -> 0 | G24: ='第4号様式別紙2-1（臨床研修（医師）実績報告）附表 A2'!X35 -> 0 | H24: ='第4号様式別紙2-1（臨床研修（医師）実績報告）附表 A2'!Y35 -> 0 | I24: ='第4号様式別紙2-1（臨床研修（医師）実績報告）附表 A2'!Z35 -> 0 | J24: ='第4号様式別紙2-1（臨床研修（医師）実績報告）附表 A2'!AA35 -> 0 | K24: ='第4号様式別紙2-1（臨床研修（医師）実績報告）附表 A2'!AB35 -> 0 | L24: ='第4号様式別紙2-1（臨床研修（医師）実績報告）附表 A2'!AC35 -> 0 | M24: ='第4号様式別紙2-1（臨床研修（医師）実績報告）附表 A2'!AD35 -> 0
A26: 指導医等が研修医と当直 | D26: 産婦人科 | H26: 小児科 | M26: 指導医等がオンコール体制 | P26: 産婦人科 | T26: 小児科
A27: ２年次生 又は 再開者 | B27: 事業延月数 (月４回以上) | D27: Ｄ | E27: ='第4号様式別紙2-1（臨床研修（医師）実績報告）附表 A2'!AH37 -> 0 | G27: 月 | H27: Ｈ | I27: ='第4号様式別紙2-1（臨床研修（医師）実績報告）附表 A2'!AI37 -> 0 | K27: 月 | M27: ２年次生 又は 再開者 | N27: 事業延月数 (月４回以上) | P27: N | Q27: ='第4号様式別紙2-1（臨床研修（医師）実績報告）附表 A2'!AH44 -> 0 | S27: 月 | T27: R | U27: ='第4号様式別紙2-1（臨床研修（医師）実績報告）附表 A2'!AI44 -> 0 | W27: 月
B28: 事業延日数 (月４回未満) | D28: I | E28: A+(B×2)+(C×3) | H28: J | I28: E+(F×2)+(G×3) | N28: 事業延日数 (月４回未満) | P28: S | Q28: K+(L×2)+(M×3) | T28: T | U28: O+(P×2)+(Q×3)
E29: ='第4号様式別紙2-1（臨床研修（医師）実績報告）附表 A2'!AH39 -> 0 | G29: 日 | I29: ='第4号様式別紙2-1（臨床研修（医師）実績報告）附表 A2'!AI39 -> 0 | K29: 日 | Q29: ='第4号様式別紙2-1（臨床研修（医師）実績報告）附表 A2'!AH46 -> 0 | S29: 日 | U29: ='第4号様式別紙2-1（臨床研修（医師）実績報告）附表 A2'!AI46 -> 0 | W29: 日
A31: 総 計
A33: 総 計 | D33: 補助対象 | F33: 宿日直研修計画月数
F34: 産婦人科 | J34: 小児科
D35: 対象 | E35: 対象外 | F35: 月１回 | G35: 月２回 | H35: 月３回 | I35: 月４回 以上 | J35: 月１回 | K35: 月２回 | L35: 月３回 | M35: 月４回 以上
A36: 合計 | B36: 分野 | C36: =C8+C21 -> 0 | D36: =D8+D21 -> 0 | E36: =E8+E21 -> 0 | F36: A | G36: B | H36: C | I36: D | J36: E | K36: F | L36: G | M36: H
B37: 宿日直 | C37: =C9+C22 -> 0 | D37: =D9+D22 -> 0 | E37: =E9+E22 -> 0 | F37: =F9+F22 -> 0 | G37: =G9+G22 -> 0 | H37: =H9+H22 -> 0 | I37: =I9+I22 -> 0 | J37: =J9+J22 -> 0 | ... M37: =M9+M22 -> 0
B38: オンコール | C38: =C23 -> 0 | D38: =D23 -> 0 | E38: =E23 -> 0 | F38: K | G38: L | H38: M | I38: N | J38: O | K38: P | L38: Q | M38: R
F39: =F24 -> 0 | G39: =G24 -> 0 | H39: =H24 -> 0 | I39: =I24 -> 0 | J39: =J24 -> 0 | K39: =K24 -> 0 | L39: =L24 -> 0 | M39: =M24 -> 0
A41: 指導医等が研修医と当直 | D41: 産婦人科 | H41: 小児科 | M41: 指導医等がオンコール体制 | P41: 産婦人科 | T41: 小児科
A42: 合計 | B42: 事業延月数 (月４回以上) | D42: Ｄ | E42: =I37 -> 0 | G42: 月 | H42: Ｈ | I42: =M37 -> 0 | K42: 月 | M42: 合計 | N42: 事業延月数 (月４回以上) | P42: N | Q42: =I39 -> 0 | S42: 月 | T42: R | U42: =M39 -> 0 | W42: 月
B43: 事業延日数 (月４回未満) | D43: I | E43: A+(B×2)+(C×3) | H43: J | I43: E+(F×2)+(G×3) | N43: 事業延日数 (月４回未満) | P43: S | Q43: K+(L×2)+(M×3) | T43: T | U43: O+(P×2)+(Q×3)
E44: =E14+E29 -> 0 | G44: 日 | I44: =I14+I29 -> 0 | K44: 日 | Q44: =Q29 -> 0 | S44: 日 | U44: =U29 -> 0 | W44: 日

Sheet 第4号様式別紙2-1（臨床研修（医師）実績報告）附表 A1
A1: 別紙２－１ 附表Ａ１
C3: 臨 床 研 修 履 修 計 画 及 び 宿 日 直 研 修 計 画 調 書
A5: １年次生又は再開者
A7: 施設番号
A8: 基幹型病院名 | F8: 地域種別 | I8: 地元大学出身
A9: 研修医氏名 | I9: 地元出身
A10: 研修開始年月日 | C10: 年 | E10: 月 | G10: 日
A11: プログラム番号 | C11: プログラム名
A13: 施設番号 | B13: 研修実施施設名 | D13: 都道府県 | E13: 市区町村 | F13: 地域種別 | G13: 分野及 び宿日 直回数 | H13: 臨 床 研 修 履 修 計 画 | U13: 補助対象 | W13: 宿日直研修計画月数 | AE13: 備 考
W14: 産婦人科 | AA14: 小児科 | AI14: 第3種 | AJ14: 第4種 | AK14: 第5種
H15: ４月 | I15: ５月 | J15: ６月 | K15: ７月 | L15: ８月 | M15: ９月 | N15: 10月 | O15: 11月 | P15: 12月 | Q15: １月 | R15: ２月 | S15: ３月 | T15: 計 | U15: 対象 | V15: 対象外 | W15: 月１回 | X15: 月２回 | Y15: 月３回 | Z15: 月４回 以上 | AA15: 月１回 | AB15: 月２回 | AC15: 月３回 | AD15: 月４回 以上 | AI15: =IF(G8="第３種","○","×") -> × | AJ15: =IF(G8="第４種","○","×") -> × | AK15: =IF(G8="第５種","○","×") -> ×
G16: 分野 | T16: =COUNTA(H16:S16) -> 0
G17: 宿日直 | T17: =SUM(H17:S17) -> 0 | AJ17: =IF(COUNTIF(AI15:AK15,"○"),"入力不可","入力可") -> 入力可
G18: 分野 | T18: =COUNTA(H18:S18) -> 0
G19: 宿日直 | T19: =SUM(H19:S19) -> 0
G20: 分野 | T20: =COUNTA(H20:S20) -> 0 | AI20: 事業延月数(月４回以上)D | AJ20: 事業延月数(月４回以上)H
G21: 宿日直 | T21: =SUM(H21:S21) -> 0 | AI21: =X27 -> 0 | AJ21: =AB27 -> 0
G22: 分野 | T22: =COUNTA(H22:S22) -> 0 | AI22: 事業延日数 (月４回未満)I | AJ22: 事業延日数 (月４回未満)J
G23: 宿日直 | T23: =SUM(H23:S23) -> 0 | AI23: =X29 -> 0 | AJ23: =AB29 -> 0
P24: 合計 | R24: 分野 | T24: =T16+T18+T20+T22 -> 0 | U24: =U16+U18+U20+U22 -> 0 | V24: =V16+V18+V20+V22 -> 0 | W24: A | X24: B | Y24: C | Z24: D | AA24: E | AB24: F | AC24: G | AD24: H
R25: 宿日直 | T25: =T17+T19+T21+T23 -> 0 | U25: =U17+U19+U21+U23 -> 0 | V25: =V17+V19+V21+V23 -> 0 | W25: =SUM(W16:W23) -> 0 | X25: =SUM(X16:X23) -> 0 | Y25: =SUM(Y16:Y23) -> 0 | Z25: =SUM(Z16:Z23) -> 0 | AA25: =SUM(AA16:AA23) -> 0 | AB25: =SUM(AB16:AB23) -> 0 | AC25: =SUM(AC16:AC23) -> 0 | AD25: =SUM(AD16:AD23) -> 0
A27: 注１）研修開始年月日欄には、当該研修医が最初に臨床研修を開始した年月日を記入すること。 注２）研修開始年月日から２年を経過した月以降は記入しないこと。ただし、正当な理由により臨床研修を 休止又は中断した後に再開する研修医を受け入れた場合はその限りでない。 注３）臨床研修履修計画の計を①【補助対象】と【補助対象外（国立等）】に分けること。 注４）臨床研修履修計画は、各月末時点における研修実施施設を基準に記入すること。 | T27: 事業延月数 (月４回以上) | W27: Ｄ | X27: =Z25 -> 0 | Z27: 月 | AA27: Ｈ | AB27: =AD25 -> 0 | AD27: 月
T28: 事業延日数 (月４回未満) | W28: I | X28: A+(B×2)+(C×3) | AA28: J | AB28: E+(F×2)+(G×3)
X29: =W25+(X25*2)+(Y25*3) -> 0 | Z29: 日 | AB29: =AA25+(AB25*2)+(AC25*3) -> 0 | AD29: 日

Sheet 第4号様式別紙2-1（臨床研修（医師）実績報告）附表 A2
A1: 別紙２－１ 附表Ａ２
B3: 臨 床 研 修 履 修 計 画 及 び 宿 日 直 研 修 計 画 調 書
A5: ２年次生又は再開者
A7: 施設番号
A8: 基幹型病院名 | F8: 地域種別 | I8: 地元大学出身
A9: 研修医氏名 | I9: 地元出身
A10: 研修開始年月日 | C10: 年 | E10: 月 | G10: 日
A11: プログラム番号 | C11: プログラム名
A13: 施設番号 | B13: 研修実施施設名 | D13: 都道府県 | E13: 市区町村 | F13: 地域種別 | G13: 分野及 び宿日 直回数 | H13: 臨 床 研 修 履 修 計 画 | U13: 補助対象 | W13: 宿日直研修計画月数 | AE13: 備 考
W14: 産婦人科 | AA14: 小児科 | AH14: 第3種 | AI14: 第4種 | AJ14: 第5種
H15: ４月 | I15: ５月 | J15: ６月 | K15: ７月 | L15: ８月 | M15: ９月 | N15: 10月 | O15: 11月 | P15: 12月 | Q15: １月 | R15: ２月 | S15: ３月 | T15: 計 | U15: 対象 | V15: 対象外 | W15: 月１回 | X15: 月２回 | Y15: 月３回 | Z15: 月４回 以上 | AA15: 月１回 | AB15: 月２回 | AC15: 月３回 | AD15: 月４回 以上 | AH15: =IF(G8="第３種","○","×") -> × | AI15: =IF(G8="第４種","○","×") -> × | AJ15: =IF(G8="第５種","○","×") -> ×
G16: 分野 | T16: =COUNTA(H16:S16) -> 0
G17: 宿日直 | T17: =SUM(H17:S17) -> 0 | AI17: =IF(COUNTIF(AH15:AJ15,"○"),"入力不可","入力可") -> 入力可
G18: ｵﾝｺｰﾙ | T18: =SUM(H18:S18) -> 0
G19: 合計 | H19: =IF(H17+H18<4,H17+H18,4) -> 0 | I19: =IF(I17+I18<4,I17+I18,4) -> 0 | J19: =IF(J17+J18<4,J17+J18,4) -> 0 | K19: =IF(K17+K18<4,K17+K18,4) -> 0 | L19: =IF(L17+L18<4,L17+L18,4) -> 0 | M19: =IF(M17+M18<4,M17+M18,4) -> 0 | N19: =IF(N17+N18<4,N17+N18,4) -> 0 | O19: =IF(O17+O18<4,O17+O18,4) -> 0 | ... S19: =IF(S17+S18<4,S17+S18,4) -> 0 | T19: =SUM(H19:S19) -> 0
G20: 分野 | T20: =COUNTA(H20:S20) -> 0
G21: 宿日直 | T21: =SUM(H21:S21) -> 0
G22: ｵﾝｺｰﾙ | T22: =SUM(H22:S22) -> 0
G23: 合計 | H23: =IF(H21+H22<4,H21+H22,4) -> 0 | I23: =IF(I21+I22<4,I21+I22,4) -> 0 | J23: =IF(J21+J22<4,J21+J22,4) -> 0 | K23: =IF(K21+K22<4,K21+K22,4) -> 0 | L23: =IF(L21+L22<4,L21+L22,4) -> 0 | M23: =IF(M21+M22<4,M21+M22,4) -> 0 | N23: =IF(N21+N22<4,N21+N22,4) -> 0 | O23: =IF(O21+O22<4,O21+O22,4) -> 0 | ... S23: =IF(S21+S22<4,S21+S22,4) -> 0 | T23: =SUM(H23:S23) -> 0
G24: 分野 | T24: =COUNTA(H24:S24) -> 0
G25: 宿日直 | T25: =SUM(H25:S25) -> 0
G26: ｵﾝｺｰﾙ | T26: =SUM(H26:S26) -> 0
G27: 合計 | H27: =IF(H25+H26<4,H25+H26,4) -> 0 | I27: =IF(I25+I26<4,I25+I26,4) -> 0 | J27: =IF(J25+J26<4,J25+J26,4) -> 0 | K27: =IF(K25+K26<4,K25+K26,4) -> 0 | L27: =IF(L25+L26<4,L25+L26,4) -> 0 | M27: =IF(M25+M26<4,M25+M26,4) -> 0 | N27: =IF(N25+N26<4,N25+N26,4) -> 0 | O27: =IF(O25+O26<4,O25+O26,4) -> 0 | ... S27: =IF(S25+S26<4,S25+S26,4) -> 0 | T27: =SUM(H27:S27) -> 0
G28: 分野 | T28: =COUNTA(H28:S28) -> 0
G29: 宿日直 | T29: =SUM(H29:S29) -> 0
G30: ｵﾝｺｰﾙ | T30: =SUM(H30:S30) -> 0
G31: 合計 | H31: =IF(H29+H30<4,H29+H30,4) -> 0 | I31: =IF(I29+I30<4,I29+I30,4) -> 0 | J31: =IF(J29+J30<4,J29+J30,4) -> 0 | K31: =IF(K29+K30<4,K29+K30,4) -> 0 | L31: =IF(L29+L30<4,L29+L30,4) -> 0 | M31: =IF(M29+M30<4,M29+M30,4) -> 0 | N31: =IF(N29+N30<4,N29+N30,4) -> 0 | O31: =IF(O29+O30<4,O29+O30,4) -> 0 | ... S31: =IF(S29+S30<4,S29+S30,4) -> 0 | T31: =SUM(H31:S31) -> 0
P32: 合計 | R32: 分野 | T32: =T16+T20+T24+T28 -> 0 | U32: =U16+U20+U24+U28 -> 0 | V32: =V16+V20+V24+V28 -> 0 | W32: A | X32: B | Y32: C | Z32: D | AA32: E | AB32: F | AC32: G | AD32: H
R33: 宿日直 | T33: =T17+T21+T25+T29 -> 0 | U33: =U17+U21+U25+U29 -> 0 | V33: =V17+V21+V25+V29 -> 0 | W33: =W17+W21+W25+W29 -> 0 | X33: =X17+X21+X25+X29 -> 0 | Y33: =Y17+Y21+Y25+Y29 -> 0 | Z33: =Z17+Z21+Z25+Z29 -> 0 | AA33: =AA17+AA21+AA25+AA29 -> 0 | ... AD33: =AD17+AD21+AD25+AD29 -> 0 | AH33: オンコール | AI33: =T34 -> 0 | AJ33: =U34 -> 0 | AK33: =V34 -> 0
R34: オン コール | T34: =T18+T22+T26+T30 -> 0 | U34: =U18+U22+U26+U30 -> 0 | V34: =V18+V22+V26+V30 -> 0 | W34: K | X34: L | Y34: M | Z34: N | AA34: O | AB34: P | AC34: Q | AD34: R
W35: =W18+W22+W26+W30 -> 0 | X35: =X18+X22+X26+X30 -> 0 | Y35: =Y18+Y22+Y26+Y30 -> 0 | Z35: =Z18+Z22+Z26+Z30 -> 0 | AA35: =AA18+AA22+AA26+AA30 -> 0 | AB35: =AB18+AB22+AB26+AB30 -> 0 | AC35: =AC18+AC22+AC26+AC30 -> 0 | AD35: =AD18+AD22+AD26+AD30 -> 0
AH36: 事業延月数(月４回以上)D | AI36: 事業延月数(月４回以上)H
T37: 指導医等が研修医と当直 | AH37: =X38 -> 0 | AI37: =AB38 -> 0
A38: 注１）研修開始年月日欄には、当該研修医が最初に臨床研修を開始した年月日を記入すること。 注２）研修開始年月日から２年を経過した月以降は記入しないこと。ただし、正当な理由により臨床研修を休止又は中断した後に 再開する研修医を受け入れた場合はその限りでない。 注３）産婦人科又は小児科での宿日直研修の際に指導医（上級医を含む。）が研修医と当直した場合は、宿日直の欄に記入し、 指導医等がオンコールによる指導体制にあった場合は、オンコールの欄に記入すること。その際に１月当たり回数合計を 計の欄に記入すること。（１ヶ月月当たり宿日直、オンコールを合計して４回を超えて記入することは不可） 注４）臨床研修履修計画の計を【補助対象】と【補助対象外（国立等）】に分けること。 注５）臨床研修履修計画は、各月末時点における研修実施施設を基準に記入すること。 | T38: 事業延月数 (月４回以上) | W38: Ｄ | X38: =Z33 -> 0 | Z38: 月 | AA38: Ｈ | AB38: =AD33 -> 0 | AD38: 月 | AH38: 事業延日数 (月４回未満)I | AI38: 事業延日数 (月４回未満)J
T39: 事業延日数 (月４回未満) | W39: I | X39: A+(B×2)+(C×3) | AA39: J | AB39: E+(F×2)+(G×3) | AH39: =X40 -> 0 | AI39: =AB40 -> 0
X40: =W33+(X33*2)+(Y33*3) -> 0 | Z40: 日 | AB40: =AA33+(AB33*2)+(AC33*3) -> 0 | AD40: 日
T42: 指導医等がオンコール体制
T43: 事業延月数 (月４回以上) | W43: N | X43: =Z35 -> 0 | Z43: 月 | AA43: R | AB43: =AD35 -> 0 | AD43: 月 | AH43: 事業延月数(月４回以上)N | AI43: 事業延月数(月４回以上)R
T44: 事業延日数 (月４回未満) | W44: S | X44: K+(L×2)+(M×3) | AA44: T | AB44: O+(P×2)+(Q×3) | AH44: =X43 -> 0 | AI44: =AB43 -> 0
X45: =W35+(X35*2)+(Y35*3) -> 0 | Z45: 日 | AB45: =AA35+(AB35*2)+(AC35*3) -> 0 | AD45: 日 | AH45: 事業延日数 (月４回未満)S | AI45: 事業延日数(月４回未満)T
...

Sheet 第4号様式別紙2-2（臨床研修（医師）実績報告）
A1: 別紙２－２
A3: へき地診療所等研修支援事業実績報告書
A5: 診療所等名称 | B5: 研修医氏名 | C5: 期 間 | F5: 研修実日数 | G5: 備 考
B34: 合 計 | F34: =SUM(F6:F33) -> 0
A35: （注）実日数の内訳を備考欄に記入すること。（例：平日△日、土日×日）

Sheet 第4号様式別紙2-3（臨床研修（医師）実績報告）
A1: 別紙２－３
A3: 研修医の処遇について
G4: （単位:円）
A5: 病 院 名 | B5: 当該年度４月１日現在の１年次研修医受入数 | C5: 研修医の種別(常勤・非常勤） | D5: 当該年度に研修を開始する研修医 ※都道府県の要請等により受け入れた自治医科大学 医学部卒の研修医を除く。 | G5: 備考
D6: １年次（当該年度）
D8: ①基本給月給（決定ベース） | E8: ②年額賞与(決定ベース） | F8: 推計年収（①×12+②)
F9: α
F10: =(D10*12)+E10 -> 0
A11: 【記載要領】
A12: （１）本調査には都道府県の要請等により受け入れた自治医科大学医学部卒の研修医は含めないこと。
A13: （２）当該年度４月１日現在の１年次研修医受入数は、基幹型臨床研修病院における当該年度４月１日現在の１年次研修医受入数を記載してください。
A14: （３）研修医の常勤・非常勤の別は、基幹型臨床研修病院で研修している際の種別を選択してください。
A15: （４）当該年度に研修を開始する研修医の欄は、基幹型臨床研修病院の処遇を記載してください。
A16: （５）①基本給月給、②年額賞与の欄は以下の通り記載して下さい。
A17: ①基本給月給
A18: 「基本給」は、研修医の業務量、住居、通勤経路、家族構成にかかわらず研修医に決まって支払われる給与とします。国家公務員の給与では、
A19: 「職員俸給」、「地域手当」、「初任給調整手当」、「寒冷地手当」、「特地勤務手当」などが該当します。「超過勤務手当」、「当直手当」、「住居手当」、
A20: 「通勤手当」、「扶養手当」などは該当しません。
A22: ②年額賞与
A23: 年額賞与（国家公務員の給与では「期末手当」、「勤勉手当」が該当）は、各年度で支払われる賞与（年度で複数回ならその合計金額）を記載して下さい。
... A27: 注）受入人数が０人であっても、１年次研修医に支払われる推計年収が６３０万円以上の場合は、定められた申請する金額に係数を乗じることとなります。

Sheet 第4号様式別紙2-4（臨床研修（医師）実績報告）
A1: 別紙２－４ | AA1: ✔
A3: 基準額算出内訳（国立大学病院以外） | AA3: ○
N5: （基幹型病院名）
A7: 基準額算出に係る条件確認 | J7: （チェック欄）
B8: 医師臨床研修費補助金に係る基準額の算出条件として、病院と臨床研修医の間において、原則として雇用契約の中にアルバイト診療を行わない旨を明らかにされていること。
A11: １ 教育指導経費
A12: （１）研修医延人数 【別紙２－１】 | AC12: ※数式部分白文字
B13: 補助対象・補助対象外 | M13: 研 修 医 延 人 数
M14: １年次 | Q14: ２年次 | U14: 計
B15: 【補助対象】計 | M15: ='第4号様式別紙2-1（臨床研修（医師）実績報告）'!D8 -> 0 | P15: 人 | Q15: ='第4号様式別紙2-1（臨床研修（医師）実績報告）'!D21 -> 0 | T15: 人 | U15: a | V15: =SUM(M15+Q15) -> 0 | Y15: 人
B16: 【補助対象外】計 | M16: ='第4号様式別紙2-1（臨床研修（医師）実績報告）'!E8 -> 0 | P16: 人 | Q16: ='第4号様式別紙2-1（臨床研修（医師）実績報告）'!E21 -> 0 | T16: 人 | V16: =SUM(M16+Q16) -> 0 | Y16: 人
B17: 合 計 | M17: =SUM(M15:O16) -> 0 | P17: 人 | Q17: =SUM(Q15:S16) -> 0 | T17: 人 | U17: b | V17: =SUM(V15:X16) -> 0 | Y17: 人
B18: （注１） | D18: 研修医延人数は、当該年度内における各月の末日に在籍する研修医数の総和であること。
B19: （注２） | D19: 各月の末日に国（国立高度専門医療研究センター及び国立健康危機管理研究機構を含む。）が開設する病院に在籍する場合は対象外とすること。
B20: （注３） | D20: 当該年度に研修を開始した研修医については１年次、それより前に研修を開始した研修医については２年次とすること。
A23: （２）研修医数
B24: ① 病院群全体
B25: １年次生研修医延人数 | J25: =M17 -> 0 | N25: 人 | O25: 研修医数 | S25: c | T25: =ROUND(J25/12,3) -> 0 | Y25: 人
B26: ２年次生研修医延人数 | J26: =Q17 -> 0 | N26: 人 | O26: 研修医数 | S26: d | T26: =ROUND(J26/12,3) -> 0 | Y26: 人
P27: 計 | U27: =SUM(T25:X26) -> 0 | Y27: 人
M28: １学年平均研修医数 | T28: e | U28: =ROUND(IF(T25=0,IF(J26=0,0,T26),IF(J26=0,T25,(T25+T26)/2)),0) -> 0 | Y28: 人
B30: ② 補助対象
B31: １年次生研修医延人数 | J31: =M15 -> 0 | N31: 人 | O31: 研修医数 | S31: f | T31: =ROUND(J31/12,3) -> 0 | Y31: 人
B32: ２年次生研修医延人数 | J32: =Q15 -> 0 | N32: 人 | O32: 研修医数 | S32: g | T32: =ROUND(J32/12,3) -> 0 | Y32: 人
B33: （注１）ｃ、d、f及びgの研修医数は、研修医延人数を１２で除して、小数点以下第３位を四捨五入して得た数とす る。 | AH33: =IF('第4号様式別紙2-1（臨床研修（医師）実績報告）附表 A1'!AI17="入力不可",FALSE,TRUE) -> TRUE
B35: （注２）eの１学年平均研修医数は、研修医数（cとdの和）を研修を実施している学年数で除して、小数点以下を四捨 五入して得た数とする。
A38: （３）地元出身研修医の採用数（4月１日現在）
B39: １年次生研修医数 | N39: 人 | O39: うち地元出身研修医の採用数 | Y39: 人
B40: ２年次生研修医数 | N40: 人 | O40: うち地元出身研修医の採用数 | Y40: 人
P41: 計 | U41: =SUM(U39:X40) -> 0 | Y41: 人
M42: 地元出身研修医の採用割合 | U42: =ROUNDDOWN(U41/(J39+J40),3) -> #DIV/0!
B44: ※協力型病院が申請する場合は、基幹型病院の研修医数及び採用数を記載すること。
A46: （４）地元出身研修医延人数
B47: １年次 | F47: ２年次 | J47: 計
E48: 人 | I48: 人 | J48: a' | K48: =B48+F48 -> 0 | N48: 人
B49: （注１） | D49: 地元出身研修医延人数は、当該年度内における各月の末日に在籍する地元出身研修医数の総和であること。
B50: （注２） | D50: 各月の末日に国（国立高度専門医療研究センター及び国立健康危機管理研究機構を含む。）が開設する病院に在籍する場合は対象外とすること。
B51: （注３） | D51: 当該年度に研修を開始した研修医については１年次、それより前に研修を開始した研修医については２年次とすること。
A54: （５）へき地診療所等研修支援事業延日数 【別紙２－２】の研修実日数合計と一致
Q55: 事業延日数 | T55: h | U55: ='第4号様式別紙2-2（臨床研修（医師）実績報告）'!F34 -> 0 | Y55: 日
...

Sheet 第4号様式別紙2-5（臨床研修（医師）実績報告）
A1: 別紙２－５ | AA1: ✔
A3: 基準額算出内訳（国立大学病院） | AA3: ○
N5: （基幹型病院名）
A7: 基準額算出に係る条件確認 | J7: （チェック欄）
B8: 医師臨床研修費補助金に係る基準額の算出条件として、病院と臨床研修医の間において、原則として雇用契約の中にアルバイト診療を行わない旨を明らかにされていること。
A11: １ 教育指導経費
A12: （１）研修医延人数 【別紙２－１】 | AC12: ※数式部分白文字
B13: 補助対象・補助対象外 | M13: 研 修 医 延 人 数
M14: １年次 | Q14: ２年次 | U14: 計
B15: 【補助対象】計 | M15: ='第4号様式別紙2-1（臨床研修（医師）実績報告）'!D8 -> 0 | P15: 人 | Q15: ='第4号様式別紙2-1（臨床研修（医師）実績報告）'!D21 -> 0 | T15: 人 | U15: a | V15: =SUM(M15+Q15) -> 0 | Y15: 人
B16: 【補助対象外】計 | M16: ='第4号様式別紙2-1（臨床研修（医師）実績報告）'!E8 -> 0 | P16: 人 | Q16: ='第4号様式別紙2-1（臨床研修（医師）実績報告）'!E21 -> 0 | T16: 人 | V16: =SUM(M16+Q16) -> 0 | Y16: 人
B17: 合 計 | M17: =SUM(M15:O16) -> 0 | P17: 人 | Q17: =SUM(Q15:S16) -> 0 | T17: 人 | U17: b | V17: =SUM(V15:X16) -> 0 | Y17: 人
B18: （注１） | D18: 研修医延人数は、当該年度内における各月の末日に在籍する研修医数の総和であること。
B19: （注２） | D19: 各月の末日に国（国立高度専門医療研究センター及び国立健康危機管理研究機構を含む。）が開設する病院に在籍する場合は対象外とすること。
B20: （注３） | D20: 当該年度に研修を開始した研修医については１年次、それより前に研修を開始した研修医については２年次とすること。
A23: （２）研修医数
B24: ① 病院群全体
B25: １年次生研修医延人数 | J25: =M17 -> 0 | N25: 人 | O25: 研修医数 | S25: c | T25: =ROUND(J25/12,3) -> 0 | Y25: 人
B26: ２年次生研修医延人数 | J26: =Q17 -> 0 | N26: 人 | O26: 研修医数 | S26: d | T26: =ROUND(J26/12,3) -> 0 | Y26: 人
P27: 計 | U27: =SUM(T25:X26) -> 0 | Y27: 人
M28: １学年平均研修医数 | T28: e | U28: =ROUND(IF(T25=0,IF(J26=0,0,T26),IF(J26=0,T25,(T25+T26)/2)),0) -> 0 | Y28: 人
B30: ② 補助対象
B31: １年次生研修医延人数 | J31: =M15 -> 0 | N31: 人 | O31: 研修医数 | S31: f | T31: =ROUND(J31/12,3) -> 0 | Y31: 人
B32: ２年次生研修医延人数 | J32: =Q15 -> 0 | N32: 人 | O32: 研修医数 | S32: g | T32: =ROUND(J32/12,3) -> 0 | Y32: 人
B33: （注１）ｃ、d、f及びgの研修医数は、研修医延人数を１２で除して、小数点以下第３位を四捨五入して得た数とす る。
B35: （注２）eの１学年平均研修医数は、研修医数（cとdの和）を研修を実施している学年数で除して、小数点以下を四捨 五入して得た数とする。
A38: （３）地元出身研修医の採用数（4月１日現在） | AH38: =IF('第4号様式別紙2-1（臨床研修（医師）実績報告）附表 A2'!AI17="入力不可",FALSE,TRUE) -> TRUE
B39: １年次生研修医数 | N39: 人 | O39: うち地元出身研修医の採用数 | Y39: 人
B40: ２年次生研修医数 | N40: 人 | O40: うち地元出身研修医の採用数 | Y40: 人
P41: 計 | U41: =SUM(U39:X40) -> 0 | Y41: 人
M42: 地元出身研修医の採用割合 | U42: =ROUNDDOWN(U41/(J39+J40),3) -> #DIV/0!
B44: ※協力型病院が申請する場合は、基幹型病院の研修医数及び採用数を記載すること。
A46: （４）地元出身研修医延人数
B47: １年次 | F47: ２年次 | J47: 計
E48: 人 | I48: 人 | J48: a' | K48: =B48+F48 -> 0 | N48: 人
B49: （注１） | D49: 地元出身研修医延人数は、当該年度内における各月の末日に在籍する地元出身研修医数の総和であること。
B50: （注２） | D50: 各月の末日に国（国立高度専門医療研究センター及び国立健康危機管理研究機構を含む。）が開設する病院に在籍する場合は対象外とすること。
B51: （注３） | D51: 当該年度に研修を開始した研修医については１年次、それより前に研修を開始した研修医については２年次とすること。
A54: （５）へき地診療所等研修支援事業延日数 【別紙２－２】の研修実日数合計と一致
Q55: 事業延日数 | T55: h | U55: ='第4号様式別紙2-2（臨床研修（医師）実績報告）'!F34 -> 0 | Y55: 日
...

Sheet 基準額算出（臨床研修（歯科））
A1: 別紙４
A3: 基 準 額 算 出 内 訳
N5: 【単独型・管理型臨床研修施設名】
A7: １ 教育指導経費及び指導歯科医資質向上推進経費
A8: （１）研修歯科医延人数 【附表Ａ】
B9: 補助対象・補助対象外 | N9: 研 修 歯 科 医 延 人 数
B11: 【補助対象】指導経費（歯科）計 | N11: a | X11: 人
E12: 指導経費（医科）計 | N12: ｂ | X12: 人
B13: 【補助対象外】計 | N13: c | X13: 人
B14: 合 計 | N14: d（a+b+c） | P14: =O11+O12+O13 -> 0 | X14: 人 | AB14: ※数式のあるセルの文字を白色に変更中
B15: （注）研修歯科医延人数は、当該年度内における各月の末日に在籍する診療科の研修歯科医数の総和であること。
A17: （２）研修歯科医数
B18: 施設群全体
B19: 研修歯科医延人数 | G19: d | H19: =P14 -> 0 | K19: 人 | M19: 研修歯科医数 | P19: e | R19: =ROUND(H19/12,0) -> 0 | U19: 人
B20: （注）研修歯科医数は、研修歯科医延人数を12(月)で除して、小数点以下を四捨五入して得た数とする。
A22: （３）へき地診療所研修支援事業実施研修歯科医数 【附表Ｂ】 | P22: 事業実施研修歯科医数 | T22: f | X22: 人
A25: （４）指導歯科医資質向上推進事業 【附表Ｃ】 | N25: 施設の指導歯科医数 | X25: 人
A28: ２ 基準額適用
C31: 教育指導経費
C33: （１）指導経費
D34: １） | E34: 歯課分
