{"text_format":"1","workbook":"xlsx","n_sheets":12,"sheets":["大学院以外","大学院","都道府県番号 (2)","入力方法","Sheet1","属性別（都道府県別）","基本データ","集計結果（都道府県別指定研修機関数）","受講料","都道府県番号","ホームページ用","Sheet2"],"not_rendered":{"charts":0,"images":0,"macros":1,"external_links":1,"defined_names":27,"comments":2,"pivot_tables":0},"unopened":[],"bounds":{"document_bytes":16777216,"sheet_cells":100000,"rows_first":2000,"rows_last":500,"rows_between":2000,"halvings":0,"cell_chars":16384,"cell_head_chars":4096},"cells_cut":0,"cells_raw":0,"read":"whole","date_system":"1900"}

{"sheet":"大学院以外","index":0,"n_rows":19,"n_cols":27,"rows_kept":19,"cut":false,"hidden":true,"merged":[]}
["特定行為区分別定員一覧（その他指定機関）",null,null,null,null,null,null,null,null,null,null,null,null,null,null,null,null,null,null,null,null,null,null,null,null,"2016/04/13　現在"]
["指定研修機関","施設名","都道府県","指定日","年間募集回数","共通科目","呼吸器（気道確保に係るもの）","呼吸器（人工呼吸療法に係るもの）","呼吸器（長期呼吸療法に係るもの）","循環器","心嚢ドレーン管理","胸腔ドレーン管理","腹腔ドレーン管理","ろう孔管理","栄養に係るカテーテル管理（中心静脈カテーテル管理）","栄養に係るカテーテル管理（末梢留置型中心静脈注射用カテーテル管理）","創傷管理","創部ドレーン管理","動脈血液ガス\n分析","透析管理","栄養及び水分管理に係る薬剤投与","感染に係る薬剤投与","血糖コントロールに係る薬剤投与","術後疼痛管理","循環動態に係る薬剤投与","精神及び神経症状に係る薬剤投与","皮膚損傷に係る薬剤投与"]
["学校法人岩手医科大学岩手医科大学附属病院高度看護研修センター(岩手)","岩手医科大学附属病院高度看護研修センター\n","岩手","平成27年10月",1,3,null,null,null,null,null,null,null,null,null,null,3]
["公益財団法人星総合病院","公益財団法人星総合病院","福島","平成28年2月",1,3,null,null,null,null,null,null,null,null,null,null,3]
["学校法人自治医科大学","自治医科大学","栃木","平成27年10月",2,30,5,5,5,5,null,5,5,5,5,5,5,5,5,5,5,5,5,null,5,5,5]
["医療法人社団愛友会","医療法人社団愛友会上尾中央総合病院","埼玉","平成27年10月",1,20,20,20,null,20,20,null,null,null,null,null,null,20,20,null,null,null,null,null,20]
["学校法人埼玉医科大学埼玉医科大学総合医療センター","学校法人埼玉医科大学埼玉医科大学総合医療センター","埼玉","平成27年10月",2,6,6,6,6,null,null,null,null,6,null,null,null,null,null,3]
["社会医療法人社団さつき会袖ヶ浦さつき台病院","社会医療法人社団さつき会袖ヶ浦さつき台病院","千葉","平成27年10月",1,3,null,null,null,null,null,null,null,null,null,null,null,null,null,null,null,null,null,null,null,3]
["一般社団法人日本慢性期医療協会","日本慢性期医療協会東京研修センター","東京","平成27年10月",1,100,null,15,60,null,null,null,null,null,null,null,15,null,null,null,60,70,60,null,null,45]
["公益社団法人地域医療振興協会JADECOM-NDC研修センター","公益社団法人地域医療振興協会東京ベイ・浦安市川医療センター","千葉","平成27年10月",1,10,10,10,10,10,10,10,10,10,10,10,10,10,10,10,10,10,10,10,10,10,10]
["公益社団法人日本看護協会","公益社団法人日本看護協会","東京","平成27年10月",1,100,15,15,15,null,null,null,null,15,15,30,15,15,15,null,15,15]
["独立行政法人地域医療機能推進機構東京メディカルセンター","独立行政法人地域医療機能推進機構東京メディカルセンター","東京","平成28年2月",1,4,null,null,null,null,null,null,null,null,null,null,null,null,null,null,2,null,2]
["社会医療法人愛仁会","社会医療法人愛仁会","愛知","平成28年2月",1,3,3,3,null,null,null,null,null,null,null,null,3,null,3,3,3,null,3,null,3,null,3]
["国立大学法人滋賀医科大学","国立大学法人滋賀医科大学","滋賀","平成28年2月",1,5,"51)","51)","51)"]
["医療法人社団洛和会洛和会音羽病院","医療法人社団洛和会洛和会音羽病院","京都","平成27年10月",1,10,10,10,null,null,null,null,null,null,null,null,null,null,null,null,null,null,10,10,10]
["公立大学法人奈良県立医科大学","公立大学法人奈良県立医科大学","奈良","平成27年10月",1,5,5,5,null,null,null,null,null,null,5,null,null,null,5,null,5,null,null,5,5]
["小計（人）",null,null,null,null,{"$f":"SUM(F3:F16)","v":302},{"$f":"SUM(G3:G16)","v":74},{"$f":"SUM(H3:H16)","v":89},96,35,30,15,15,36,35,45,54,50,58,21,100,100,90,25,53,63,18]
["年度計（人）",null,null,null,null,{"$f":"SUM(F3:F16)+F5+F7","v":338},{"$f":"SUM(G3:G16)+G5+G7","v":85},{"$f":"SUM(H3:H16)+H5+H7","v":100},107,40,30,20,20,47,40,50,59,55,63,29,105,105,95,25,58,68,23]
["1) 3つの区分すべてを履修することが条件"]

{"sheet":"大学院","index":1,"n_rows":10,"n_cols":27,"rows_kept":10,"cut":false,"hidden":true,"merged":[]}
["特定行為区分別定員一覧（大学院）"]
["指定研修機関","施設名","都道府県","指定日","複数回募集","共通科目","呼吸器（気道確保に係るもの）","呼吸器（人工呼吸療法に係るもの）","呼吸器（長期呼吸療法に係るもの）","循環器","心嚢ドレーン管理","胸腔ドレーン管理","腹腔ドレーン管理","ろう孔管理","栄養に係るカテーテル管理（中心静脈カテーテル管理）","栄養に係るカテーテル管理（末梢留置型中心静脈注射用カテーテル管理）","創傷管理","創部ドレーン管理","動脈血液ガス\n分析","透析管理","栄養及び水分管理に係る薬剤投与","感染に係る薬剤投与","血糖コントロールに係る薬剤投与","術後疼痛管理","循環動態に係る薬剤投与","精神及び神経症状に係る薬剤投与","皮膚損傷に係る薬剤投与"]
["学校法人東日本学園北海道医療大学大学院看護福祉学研究科看護学専攻","北海道医療大学","北海道","平成27年10月",1,5,5,5,null,null,null,null,null,5,5,5,5,null,5,null,5,5,5,null,5,5,5]
["学校法人東北文化学園大学東北文化学園大学大学院健康社会システム研究科健康福祉専攻","学校法人東北文化学園大学東北文化学園大学大学院","宮城","平成28年2月",1,8,8,8,8,8,8,8,8,8,8,8,8,8,8,8,8,8,8,8,8,8,8]
["学校法人青葉学園東京医療保健大学大学院看護学研究科","東京医療保健大学","東京","平成27年10月",1,20,20,20,20,20,20,20,20,20,20,20,20,20,20,20,20,20,20,20,20,20,20]
["学校法人国際医療福祉大学国際医療福祉大学大学院医療福祉学研究科保健医療学専攻","国際医療福祉大学病院","東京","平成27年10月",1,20,20,20,20,20,20,20,20,20,20,20,20,20,20,20,20,20,20,20,20,20,20]
["学校法人愛知医科大学大学院看護学研究科看護学専攻(愛知)","学校法人愛知医科大学","愛知","平成28年2月",1,6,6,6,6,6,6,6,6,6,6,6,6,6,6,6,6,6,6,6,6,6,6]
["学校法人藤田学園藤田保健衛生大学大学院保健学研究科保健学専攻","藤田保健衛生大学大学院保健学研究科保健学専攻","愛知","平成28年2月",1,15,10,10,10,10,10,10,10,10,10,10,10,10,10,10,10,10,10,10,10,10,10]
["公立大学法人大分県立看護科学大学大学院看護学研究科看護学専攻","公立大学法人大分県立看護科学大学大学院看護学研究科看護学専攻","大分","平成27年10月",1,10,10,10,10,10,10,10,10,10,10,10,10,10,10,10,10,10,10,10,10,10,10]
["小計(人)",null,null,null,null,{"$f":"SUM(F3:F9)","v":84},{"$f":"SUM(G3:G9)","v":79},{"$f":"SUM(H3:H9)","v":79},74,74,74,74,74,79,79,79,79,74,79,74,79,79,79,74,79,79,79]

{"sheet":"都道府県番号 (2)","index":2,"n_rows":48,"n_cols":8,"rows_kept":48,"cut":false,"hidden":true,"merged":[]}
["都道府県名","都道府県番号","厚生局ID","通し番号","作業用通し番号",null,"厚生局ID","厚生局名"]
["北海道",1,1,22,null,null,1,"北海道"]
["青森県",2,2,6,null,null,2,"東北"]
["岩手県",3,2,2,null,null,3,"関東信越"]
["宮城県",4,2,8,null,null,4,"東海北陸"]
["秋田県",5,2,5,null,null,5,"近畿"]
["山形県",6,2,4,null,null,6,"中国四国"]
["福島県",7,2,3,null,null,7,"九州"]
["茨城県",8,3,4]
["栃木県",9,3,2]
["群馬県",10,3,10]
["埼玉県",11,3,14]
["千葉県",12,3,10]
["東京都",13,3,52]
["神奈川県",14,3,36]
["新潟県",15,3,9]
["富山県",16,4,9]
["石川県",17,4,11]
["福井県",18,4,3]
["山梨県",19,3,3]
["長野県",20,3,8]
["岐阜県",21,4,15]
["静岡県",22,4,17]
["愛知県",23,4,24]
["三重県",24,4,4]
["滋賀県",25,5,1]
["京都府",26,5,12]
["大阪府",27,5,37]
["兵庫県",28,5,15]
["奈良県",29,5,3]
["和歌山県",30,5,2]
["鳥取県",31,6,2]
["島根県",32,6,5]
["岡山県",33,6,6]
["広島県",34,6,12]
["山口県",35,6,12]
["徳島県",36,6,2]
["香川県",37,6,4]
["愛媛県",38,6,3]
["高知県",39,6,3]
["福岡県",40,7,31]
["佐賀県",41,7,7]
["長崎県",42,7,3]
["熊本県",43,7,6]
["大分県",44,7,7]
["宮崎県",45,7,6]
["鹿児島県",46,7,7]
["沖縄県",47,7,11]

{"sheet":"入力方法","index":3,"n_rows":30,"n_cols":4,"rows_kept":30,"cut":false,"hidden":true,"merged":[]}
[]
["指定研修機関番号　管理簿　登録方法"]
[]
["新規登録"]
[1,"seq番号を入力する"]
[2,"背景色黄色の項目「年（西暦）」、「指定研修機関名」、「都道府県」を入力する"]
[3,"「都道府県」にフィルターをかけ、都道府県別整理番号を確認し、入力する"]
[4,"フィルターを解除し、入力を確認する"]
[]
[]
["入力方法"]
["Sheet:基本データベース"]
[1,"D列、E列、G列は自動入力設定している。この列には入力しない。\n"]
[null,"指定審査の後、【重要】指定研修機関番号にデータを入力すると、このsheetにも反映される。"]
[null,null,"自動入力設定されている項目","リンク先"]
[null,null,"指定研修機関番号","00指定・承認（決裁）＿指定機関番号＿【重要】指定研修機関番号"]
[null,null,"指定研修機関名","00指定・承認（決裁）＿指定機関番号＿【重要】指定研修機関番号"]
[null,null,"都道府県","00指定・承認（決裁）＿指定機関番号＿【重要】指定研修機関番号"]
[2,"指定審査後には、毎回指定申請時のデータを入力更新する（新規及び変更）"]
[3,"変更届が来たら、変更内容を入力する。"]
[4,"行を挿入するときは、各行には規制や計算式が入っているので、指定研修機関名最終行から、合計の行（黄色）までの間で挿入する。"]
[]
[]
[]
["※202510月確認事項"]
["指定研修機関：一般財団法人太田綜合病院附属太田西ノ内病院"]
["福島県の指定研修機関　2024年度に申請がある。本来は福島県では4機関目の指定研修機関であるため、０４ではあるが"]
["同県内の指定研修機関：医療法人平心会（1607002）が指定取り消しを2024年度に行い、その番号末尾０２を欠番とせずに対応しているため、"]
["2024年度から福島県指定研修機関番号の末尾０３が2機関となっている"]
["公立大学法人福島県立医科大学（1707003）一般財団法人太田綜合病院附属太田西ノ内病院（2407003）"]

{"sheet":"Sheet1","index":4,"n_rows":17,"n_cols":2,"rows_kept":17,"cut":false,"hidden":true,"merged":[]}
["列1"]
[]
["平均",11.545045045045045]
["標準誤差",1.120379163974514]
["中央値 （メジアン）",6]
["最頻値 （モード）",5]
["標準偏差",16.693273572824094]
["分散",278.66538257714728]
["尖度",29.173504603577758]
["歪度",4.7493837675964201]
["範囲",139]
["最小",1]
["最大",140]
["合計",2563]
["データの個数",222]
[]
["2021.2.22"]

{"sheet":"属性別（都道府県別）","index":5,"n_rows":51,"n_cols":15,"rows_kept":51,"cut":false,"hidden":true,"merged":[]}
[null,null,"大学","大学院","大学病院","病院","診療所","本部","協会","学会","学校","エラーチェック用",null,"病院（診療所含む）","医療関係団体等"]
["北海道",{"$f":"COUNTIF(基本データ!$J$3:$J$275,A2)","v":13},{"$f":"COUNTIFS(基本データ!$J3:$J275,A2,基本データ!$M3:$M275,$C1)","v":0},{"$f":"COUNTIFS(基本データ!$J3:$J275,A2,基本データ!$M3:$M275,$D1)","v":1},{"$f":"COUNTIFS(基本データ!$J3:$J275,A2,基本データ!$M3:$M275,$E1)","v":1},{"$f":"COUNTIFS(基本データ!$J3:$J275,A2,基本データ!$M3:$M275,$F1)","v":10},{"$f":"COUNTIFS(基本データ!$J3:$J275,A2,基本データ!$M3:$M275,$G1)","v":0},{"$f":"COUNTIFS(基本データ!$J3:$J275,A2,基本データ!$M3:$M275,$H1)","v":1},{"$f":"COUNTIFS(基本データ!$J3:$J275,A2,基本データ!$M3:$M275,$I1)","v":0},{"$f":"COUNTIFS(基本データ!$J3:$J275,A2,基本データ!$M3:$M275,$J1)","v":0},{"$f":"COUNTIFS(基本データ!$J3:$J275,A2,基本データ!$M3:$M275,$K1)","v":0},{"$f":"SUM(C2:K2)","v":13},{"$f":"EXACT(B2,L2)","v":true},{"$f":"SUM(F2:G2)","v":10},{"$f":"SUM(H2:J2)","v":1}]
["青森県",{"$f":"COUNTIF(基本データ!$J$3:$J$275,A3)","v":2},{"$f":"COUNTIFS(基本データ!$J$3:$J$275,A3,基本データ!$M$3:$M$275,$C$1)","v":1},{"$f":"COUNTIFS(基本データ!$J3:$J275,$A3,基本データ!$M3:$M275,D1)","v":0},{"$f":"COUNTIFS(基本データ!$J3:$J275,$A3,基本データ!$M3:$M275,E1)","v":0},{"$f":"COUNTIFS(基本データ!$J3:$J275,$A3,基本データ!$M3:$M275,F1)","v":1},{"$f":"COUNTIFS(基本データ!$J3:$J275,$A3,基本データ!$M3:$M275,G1)","v":0},{"$f":"COUNTIFS(基本データ!$J3:$J275,$A3,基本データ!$M3:$M275,H1)","v":0},{"$f":"COUNTIFS(基本データ!$J3:$J275,$A3,基本データ!$M3:$M275,I1)","v":0},{"$f":"COUNTIFS(基本データ!$J3:$J275,$A3,基本データ!$M3:$M275,J1)","v":0},{"$f":"COUNTIFS(基本データ!$J3:$J275,$A3,基本データ!$M3:$M275,K1)","v":0},{"$f":"SUM(C3:K3)","v":2},{"$f":"EXACT(B3,L3)","v":true},{"$f":"SUM(F3:G3)","v":1},{"$f":"SUM(H3:J3)","v":0}]
["岩手県",{"$f":"COUNTIF(基本データ!$J$3:$J$275,A4)","v":2},{"$f":"COUNTIFS(基本データ!$J$3:$J$275,$A$4,基本データ!$M$3:$M$275,C1)","v":0},{"$f":"COUNTIFS(基本データ!$J$3:$J$275,$A$4,基本データ!$M$3:$M$275,D1)","v":0},{"$f":"COUNTIFS(基本データ!$J$3:$J$275,$A$4,基本データ!$M$3:$M$275,E1)","v":1},{"$f":"COUNTIFS(基本データ!$J$3:$J$275,$A$4,基本データ!$M$3:$M$275,F1)","v":1},{"$f":"COUNTIFS(基本データ!$J$3:$J$275,$A$4,基本データ!$M$3:$M$275,G1)","v":0},{"$f":"COUNTIFS(基本データ!$J$3:$J$275,$A$4,基本データ!$M$3:$M$275,H1)","v":0},{"$f":"COUNTIFS(基本データ!$J$3:$J$275,$A$4,基本データ!$M$3:$M$275,I1)","v":0},{"$f":"COUNTIFS(基本データ!$J$3:$J$275,$A$4,基本データ!$M$3:$M$275,J1)","v":0},{"$f":"COUNTIFS(基本データ!$J$3:$J$275,$A$4,基本データ!$M$3:$M$275,K1)","v":0},2,true,1,0]
["宮城県",{"$f":"COUNTIF(基本データ!$J$3:$J$275,A5)","v":5},{"$f":"COUNTIFS(基本データ!$J$3:$J$275,$A$5,基本データ!$M$3:$M$275,C1)","v":0},{"$f":"COUNTIFS(基本データ!$J$3:$J$275,A5,基本データ!$M$3:$M$275,$D$1)","v":1},{"$f":"COUNTIFS(基本データ!$J$3:$J$275,A5,基本データ!$M$3:$M$275,$E$1)","v":1},{"$f":"COUNTIFS(基本データ!$J$3:$J$275,A5,基本データ!$M$3:$M$275,$F$1)","v":3},{"$f":"COUNTIFS(基本データ!$J$3:$J$275,A5,基本データ!$M$3:$M$275,$G$1)","v":0},{"$f":"COUNTIFS(基本データ!$J$3:$J$275,A5,基本データ!$M$3:$M$275,$H$1)","v":0},{"$f":"COUNTIFS(基本データ!$J$3:$J$275,A5,基本データ!$M$3:$M$275,$I$1)","v":0},{"$f":"COUNTIFS(基本データ!$J$3:$J$275,A5,基本データ!$M$3:$M$275,$J$1)","v":0},{"$f":"COUNTIFS(基本データ!$J$3:$J$275,A5,基本データ!$M$3:$M$275,$K$1)","v":0},5,true,3,0]
["秋田県",{"$f":"COUNTIF(基本データ!$J$3:$J$275,A6)","v":3},{"$f":"COUNTIFS(基本データ!$J$3:$J$275,$A$6,基本データ!$M$3:$M$275,C1)","v":0},{"$f":"COUNTIFS(基本データ!$J$3:$J$275,A6,基本データ!$M$3:$M$275,$D$1)","v":1},{"$f":"COUNTIFS(基本データ!$J$3:$J$275,A6,基本データ!$M$3:$M$275,$E$1)","v":0},{"$f":"COUNTIFS(基本データ!$J$3:$J$275,A6,基本データ!$M$3:$M$275,$F$1)","v":2},{"$f":"COUNTIFS(基本データ!$J$3:$J$275,A6,基本データ!$M$3:$M$275,$G$1)","v":0},{"$f":"COUNTIFS(基本データ!$J$3:$J$275,A6,基本データ!$M$3:$M$275,$H$1)","v":0},{"$f":"COUNTIFS(基本データ!$J$3:$J$275,A6,基本データ!$M$3:$M$275,$I$1)","v":0},{"$f":"COUNTIFS(基本データ!$J$3:$J$275,A6,基本データ!$M$3:$M$275,$J$1)","v":0},{"$f":"COUNTIFS(基本データ!$J$3:$J$275,A6,基本データ!$M$3:$M$275,$K$1)","v":0},3,true,2,0]
["山形県",{"$f":"COUNTIF(基本データ!$J$3:$J$275,A7)","v":4},{"$f":"COUNTIFS(基本データ!$J$3:$J$275,$A$7,基本データ!$M$3:$M$275,C1)","v":0},{"$f":"COUNTIFS(基本データ!$J$3:$J$275,A7,基本データ!$M$3:$M$275,$D$1)","v":1},{"$f":"COUNTIFS(基本データ!$J$3:$J$275,A7,基本データ!$M$3:$M$275,$E$1)","v":1},{"$f":"COUNTIFS(基本データ!$J$3:$J$275,A7,基本データ!$M$3:$M$275,$F$1)","v":2},{"$f":"COUNTIFS(基本データ!$J$3:$J$275,A7,基本データ!$M$3:$M$275,$G$1)","v":0},{"$f":"COUNTIFS(基本データ!$J$3:$J$275,A7,基本データ!$M$3:$M$275,$H$1)","v":0},{"$f":"COUNTIFS(基本データ!$J$3:$J$275,A7,基本データ!$M$3:$M$275,$I$1)","v":0},{"$f":"COUNTIFS(基本データ!$J$3:$J$275,A7,基本データ!$M$3:$M$275,$J$1)","v":0},{"$f":"COUNTIFS(基本データ!$J$3:$J$275,A7,基本データ!$M$3:$M$275,$K$1)","v":0},4,true,2,0]
["福島県",{"$f":"COUNTIF(基本データ!$J$3:$J$275,A8)","v":2},{"$f":"COUNTIFS(基本データ!$J$3:$J$275,$A$8,基本データ!$M$3:$M$275,C1)","v":1},{"$f":"COUNTIFS(基本データ!$J$3:$J$275,A8,基本データ!$M$3:$M$275,$D$1)","v":0},{"$f":"COUNTIFS(基本データ!$J$3:$J$275,A8,基本データ!$M$3:$M$275,$E$1)","v":0},{"$f":"COUNTIFS(基本データ!$J$3:$J$275,A8,基本データ!$M$3:$M$275,$F$1)","v":1},{"$f":"COUNTIFS(基本データ!$J$3:$J$275,A8,基本データ!$M$3:$M$275,$G$1)","v":0},{"$f":"COUNTIFS(基本データ!$J$3:$J$275,A8,基本データ!$M$3:$M$275,$H$1)","v":0},{"$f":"COUNTIFS(基本データ!$J$3:$J$275,A8,基本データ!$M$3:$M$275,$I$1)","v":0},{"$f":"COUNTIFS(基本データ!$J$3:$J$275,A8,基本データ!$M$3:$M$275,$J$1)","v":0},{"$f":"COUNTIFS(基本データ!$J$3:$J$275,A8,基本データ!$M$3:$M$275,$K$1)","v":0},2,true,1,0]
["茨城県",{"$f":"COUNTIF(基本データ!$J$3:$J$275,A9)","v":3},{"$f":"COUNTIFS(基本データ!$J$3:$J$275,$A$9,基本データ!$M$3:$M$275,C1)","v":1},{"$f":"COUNTIFS(基本データ!$J$3:$J$275,A9,基本データ!$M$3:$M$275,$D$1)","v":0},{"$f":"COUNTIFS(基本データ!$J$3:$J$275,A9,基本データ!$M$3:$M$275,$E$1)","v":1},{"$f":"COUNTIFS(基本データ!$J$3:$J$275,A9,基本データ!$M$3:$M$275,$F$1)","v":1},{"$f":"COUNTIFS(基本データ!$J$3:$J$275,A9,基本データ!$M$3:$M$275,$G$1)","v":0},{"$f":"COUNTIFS(基本データ!$J$3:$J$275,A9,基本データ!$M$3:$M$275,$H$1)","v":0},{"$f":"COUNTIFS(基本データ!$J$3:$J$275,A9,基本データ!$M$3:$M$275,$I$1)","v":0},{"$f":"COUNTIFS(基本データ!$J$3:$J$275,A9,基本データ!$M$3:$M$275,$J$1)","v":0},{"$f":"COUNTIFS(基本データ!$J$3:$J$275,A9,基本データ!$M$3:$M$275,$K$1)","v":0},3,true,1,0]
["栃木県",{"$f":"COUNTIF(基本データ!$J$3:$J$275,A10)","v":2},{"$f":"COUNTIFS(基本データ!$J$3:$J$275,$A$10,基本データ!$M$3:$M$275,C1)","v":2},{"$f":"COUNTIFS(基本データ!$J$3:$J$275,A10,基本データ!$M$3:$M$275,$D$1)","v":0},{"$f":"COUNTIFS(基本データ!$J$3:$J$275,A10,基本データ!$M$3:$M$275,$E$1)","v":0},{"$f":"COUNTIFS(基本データ!$J$3:$J$275,A10,基本データ!$M$3:$M$275,$F$1)","v":0},{"$f":"COUNTIFS(基本データ!$J$3:$J$275,A10,基本データ!$M$3:$M$275,$G$1)","v":0},{"$f":"COUNTIFS(基本データ!$J$3:$J$275,A10,基本データ!$M$3:$M$275,$H$1)","v":0},{"$f":"COUNTIFS(基本データ!$J$3:$J$275,A10,基本データ!$M$3:$M$275,$I$1)","v":0},{"$f":"COUNTIFS(基本データ!$J$3:$J$275,A10,基本データ!$M$3:$M$275,$J$1)","v":0},{"$f":"COUNTIFS(基本データ!$J$3:$J$275,A10,基本データ!$M$3:$M$275,$K$1)","v":0},2,true,0,0]
["群馬県",{"$f":"COUNTIF(基本データ!$J$3:$J$275,A11)","v":7},{"$f":"COUNTIFS(基本データ!$J$3:$J$275,$A$11,基本データ!$M$3:$M$275,C1)","v":1},{"$f":"COUNTIFS(基本データ!$J$3:$J$275,A11,基本データ!$M$3:$M$275,$D$1)","v":0},{"$f":"COUNTIFS(基本データ!$J$3:$J$275,A11,基本データ!$M$3:$M$275,$E$1)","v":1},{"$f":"COUNTIFS(基本データ!$J$3:$J$275,A11,基本データ!$M$3:$M$275,$F$1)","v":5},{"$f":"COUNTIFS(基本データ!$J$3:$J$275,A11,基本データ!$M$3:$M$275,$G$1)","v":0},{"$f":"COUNTIFS(基本データ!$J$3:$J$275,A11,基本データ!$M$3:$M$275,$H$1)","v":0},{"$f":"COUNTIFS(基本データ!$J$3:$J$275,A11,基本データ!$M$3:$M$275,$I$1)","v":0},{"$f":"COUNTIFS(基本データ!$J$3:$J$275,A11,基本データ!$M$3:$M$275,$J$1)","v":0},{"$f":"COUNTIFS(基本データ!$J$3:$J$275,A11,基本データ!$M$3:$M$275,$K$1)","v":0},7,true,5,0]
["埼玉県",{"$f":"COUNTIF(基本データ!$J$3:$J$275,A12)","v":3},{"$f":"COUNTIFS(基本データ!$J$3:$J$275,$A$12,基本データ!$M$3:$M$275,C1)","v":0},{"$f":"COUNTIFS(基本データ!$J$3:$J$275,A12,基本データ!$M$3:$M$275,$D$1)","v":0},{"$f":"COUNTIFS(基本データ!$J$3:$J$275,A12,基本データ!$M$3:$M$275,$E$1)","v":2},{"$f":"COUNTIFS(基本データ!$J$3:$J$275,A12,基本データ!$M$3:$M$275,$F$1)","v":1},{"$f":"COUNTIFS(基本データ!$J$3:$J$275,A12,基本データ!$M$3:$M$275,$G$1)","v":0},{"$f":"COUNTIFS(基本データ!$J$3:$J$275,A12,基本データ!$M$3:$M$275,$H$1)","v":0},{"$f":"COUNTIFS(基本データ!$J$3:$J$275,A12,基本データ!$M$3:$M$275,$I$1)","v":0},{"$f":"COUNTIFS(基本データ!$J$3:$J$275,A12,基本データ!$M$3:$M$275,$J$1)","v":0},{"$f":"COUNTIFS(基本データ!$J$3:$J$275,A12,基本データ!$M$3:$M$275,$K$1)","v":0},3,true,1,0]
["千葉県",{"$f":"COUNTIF(基本データ!$J$3:$J$275,A13)","v":3},{"$f":"COUNTIFS(基本データ!$J$3:$J$275,$A$13,基本データ!$M$3:$M$275,C1)","v":0},{"$f":"COUNTIFS(基本データ!$J$3:$J$275,A13,基本データ!$M$3:$M$275,$D$1)","v":0},{"$f":"COUNTIFS(基本データ!$J$3:$J$275,A13,基本データ!$M$3:$M$275,$E$1)","v":1},{"$f":"COUNTIFS(基本データ!$J$3:$J$275,A13,基本データ!$M$3:$M$275,$F$1)","v":2},{"$f":"COUNTIFS(基本データ!$J$3:$J$275,A13,基本データ!$M$3:$M$275,$G$1)","v":0},{"$f":"COUNTIFS(基本データ!$J$3:$J$275,A13,基本データ!$M$3:$M$275,$H$1)","v":0},{"$f":"COUNTIFS(基本データ!$J$3:$J$275,A13,基本データ!$M$3:$M$275,$I$1)","v":0},{"$f":"COUNTIFS(基本データ!$J$3:$J$275,A13,基本データ!$M$3:$M$275,$J$1)","v":0},{"$f":"COUNTIFS(基本データ!$J$3:$J$275,A13,基本データ!$M$3:$M$275,$K$1)","v":0},3,true,2,0]
["東京都",{"$f":"COUNTIF(基本データ!$J$3:$J$275,A14)","v":30},{"$f":"COUNTIFS(基本データ!$J$3:$J$275,$A$14,基本データ!$M$3:$M$275,C1)","v":2},{"$f":"COUNTIFS(基本データ!$J$3:$J$275,A14,基本データ!$M$3:$M$275,$D$1)","v":2},{"$f":"COUNTIFS(基本データ!$J$3:$J$275,A14,基本データ!$M$3:$M$275,$E$1)","v":5},{"$f":"COUNTIFS(基本データ!$J$3:$J$275,A14,基本データ!$M$3:$M$275,$F$1)","v":10},{"$f":"COUNTIFS(基本データ!$J$3:$J$275,A14,基本データ!$M$3:$M$275,$G$1)","v":1},{"$f":"COUNTIFS(基本データ!$J$3:$J$275,A14,基本データ!$M$3:$M$275,$H$1)","v":7},{"$f":"COUNTIFS(基本データ!$J$3:$J$275,A14,基本データ!$M$3:$M$275,$I$1)","v":1},{"$f":"COUNTIFS(基本データ!$J$3:$J$275,A14,基本データ!$M$3:$M$275,$J$1)","v":1},{"$f":"COUNTIFS(基本データ!$J$3:$J$275,A14,基本データ!$M$3:$M$275,$K$1)","v":0},29,false,11,9]
["神奈川県",{"$f":"COUNTIF(基本データ!$J$3:$J$275,A15)","v":18},{"$f":"COUNTIFS(基本データ!$J$3:$J$275,$A$15,基本データ!$M$3:$M$275,C1)","v":2},{"$f":"COUNTIFS(基本データ!$J$3:$J$275,A15,基本データ!$M$3:$M$275,$D$1)","v":1},{"$f":"COUNTIFS(基本データ!$J$3:$J$275,A15,基本データ!$M$3:$M$275,$E$1)","v":3},{"$f":"COUNTIFS(基本データ!$J$3:$J$275,A15,基本データ!$M$3:$M$275,$F$1)","v":11},{"$f":"COUNTIFS(基本データ!$J$3:$J$275,A15,基本データ!$M$3:$M$275,$G$1)","v":0},{"$f":"COUNTIFS(基本データ!$J$3:$J$275,A15,基本データ!$M$3:$M$275,$H$1)","v":1},{"$f":"COUNTIFS(基本データ!$J$3:$J$275,A15,基本データ!$M$3:$M$275,$I$1)","v":0},{"$f":"COUNTIFS(基本データ!$J$3:$J$275,A15,基本データ!$M$3:$M$275,$J$1)","v":0},{"$f":"COUNTIFS(基本データ!$J$3:$J$275,A15,基本データ!$M$3:$M$275,$K$1)","v":0},18,true,11,1]
["新潟県",{"$f":"COUNTIF(基本データ!$J$3:$J$275,A16)","v":5},{"$f":"COUNTIFS(基本データ!$J$3:$J$275,A16,基本データ!$M$3:$M$275,$C$1)","v":0},{"$f":"COUNTIFS(基本データ!$J$3:$J$275,A16,基本データ!$M$3:$M$275,$D$1)","v":0},{"$f":"COUNTIFS(基本データ!$J$3:$J$275,A16,基本データ!$M$3:$M$275,$E$1)","v":1},{"$f":"COUNTIFS(基本データ!$J$3:$J$275,A16,基本データ!$M$3:$M$275,$F$1)","v":4},{"$f":"COUNTIFS(基本データ!$J$3:$J$275,A16,基本データ!$M$3:$M$275,$G$1)","v":0},{"$f":"COUNTIFS(基本データ!$J$3:$J$275,A16,基本データ!$M$3:$M$275,$H$1)","v":0},{"$f":"COUNTIFS(基本データ!$J$3:$J$275,A16,基本データ!$M$3:$M$275,$I$1)","v":0},{"$f":"COUNTIFS(基本データ!$J$3:$J$275,A16,基本データ!$M$3:$M$275,$J$1)","v":0},{"$f":"COUNTIFS(基本データ!$J$3:$J$275,A16,基本データ!$M$3:$M$275,$K$1)","v":0},5,true,4,0]
["富山県",{"$f":"COUNTIF(基本データ!$J$3:$J$275,A17)","v":6},{"$f":"COUNTIFS(基本データ!$J$3:$J$275,A17,基本データ!$M$3:$M$275,$C$1)","v":0},{"$f":"COUNTIFS(基本データ!$J$3:$J$275,A17,基本データ!$M$3:$M$275,$D$1)","v":0},{"$f":"COUNTIFS(基本データ!$J$3:$J$275,A17,基本データ!$M$3:$M$275,$E$1)","v":1},{"$f":"COUNTIFS(基本データ!$J$3:$J$275,A17,基本データ!$M$3:$M$275,$F$1)","v":5},{"$f":"COUNTIFS(基本データ!$J$3:$J$275,A17,基本データ!$M$3:$M$275,$G$1)","v":0},{"$f":"COUNTIFS(基本データ!$J$3:$J$275,A17,基本データ!$M$3:$M$275,$H$1)","v":0},{"$f":"COUNTIFS(基本データ!$J$3:$J$275,A17,基本データ!$M$3:$M$275,$I$1)","v":0},{"$f":"COUNTIFS(基本データ!$J$3:$J$275,A17,基本データ!$M$3:$M$275,$J$1)","v":0},{"$f":"COUNTIFS(基本データ!$J$3:$J$275,A17,基本データ!$M$3:$M$275,$K$1)","v":0},6,true,5,0]
["石川県",{"$f":"COUNTIF(基本データ!$J$3:$J$275,A18)","v":6},{"$f":"COUNTIFS(基本データ!$J$3:$J$275,A18,基本データ!$M$3:$M$275,$C$1)","v":0},{"$f":"COUNTIFS(基本データ!$J$3:$J$275,A18,基本データ!$M$3:$M$275,$D$1)","v":0},{"$f":"COUNTIFS(基本データ!$J$3:$J$275,A18,基本データ!$M$3:$M$275,$E$1)","v":1},{"$f":"COUNTIFS(基本データ!$J$3:$J$275,A18,基本データ!$M$3:$M$275,$F$1)","v":5},{"$f":"COUNTIFS(基本データ!$J$3:$J$275,A18,基本データ!$M$3:$M$275,$G$1)","v":0},{"$f":"COUNTIFS(基本データ!$J$3:$J$275,A18,基本データ!$M$3:$M$275,$H$1)","v":0},{"$f":"COUNTIFS(基本データ!$J$3:$J$275,A18,基本データ!$M$3:$M$275,$I$1)","v":0},{"$f":"COUNTIFS(基本データ!$J$3:$J$275,A18,基本データ!$M$3:$M$275,$J$1)","v":0},{"$f":"COUNTIFS(基本データ!$J$3:$J$275,A18,基本データ!$M$3:$M$275,$K$1)","v":0},6,true,5,0]
["福井県",{"$f":"COUNTIF(基本データ!$J$3:$J$275,A19)","v":3},{"$f":"COUNTIFS(基本データ!$J$3:$J$275,A19,基本データ!$M$3:$M$275,$C$1)","v":1},{"$f":"COUNTIFS(基本データ!$J$3:$J$275,A19,基本データ!$M$3:$M$275,$D$1)","v":1},{"$f":"COUNTIFS(基本データ!$J$3:$J$275,A19,基本データ!$M$3:$M$275,$E$1)","v":0},{"$f":"COUNTIFS(基本データ!$J$3:$J$275,A19,基本データ!$M$3:$M$275,$F$1)","v":1},{"$f":"COUNTIFS(基本データ!$J$3:$J$275,A19,基本データ!$M$3:$M$275,$G$1)","v":0},{"$f":"COUNTIFS(基本データ!$J$3:$J$275,A19,基本データ!$M$3:$M$275,$H$1)","v":0},{"$f":"COUNTIFS(基本データ!$J$3:$J$275,A19,基本データ!$M$3:$M$275,$I$1)","v":0},{"$f":"COUNTIFS(基本データ!$J$3:$J$275,A19,基本データ!$M$3:$M$275,$J$1)","v":0},{"$f":"COUNTIFS(基本データ!$J$3:$J$275,A19,基本データ!$M$3:$M$275,$K$1)","v":0},3,true,1,0]
["山梨県",{"$f":"COUNTIF(基本データ!$J$3:$J$275,A20)","v":1},{"$f":"COUNTIFS(基本データ!$J$3:$J$275,A20,基本データ!$M$3:$M$275,$C$1)","v":0},{"$f":"COUNTIFS(基本データ!$J$3:$J$275,A20,基本データ!$M$3:$M$275,$D$1)","v":0},{"$f":"COUNTIFS(基本データ!$J$3:$J$275,A20,基本データ!$M$3:$M$275,$E$1)","v":1},{"$f":"COUNTIFS(基本データ!$J$3:$J$275,A20,基本データ!$M$3:$M$275,$F$1)","v":0},{"$f":"COUNTIFS(基本データ!$J$3:$J$275,A20,基本データ!$M$3:$M$275,$G$1)","v":0},{"$f":"COUNTIFS(基本データ!$J$3:$J$275,A20,基本データ!$M$3:$M$275,$H$1)","v":0},{"$f":"COUNTIFS(基本データ!$J$3:$J$275,A20,基本データ!$M$3:$M$275,$I$1)","v":0},{"$f":"COUNTIFS(基本データ!$J$3:$J$275,A20,基本データ!$M$3:$M$275,$J$1)","v":0},{"$f":"COUNTIFS(基本データ!$J$3:$J$275,A20,基本データ!$M$3:$M$275,$K$1)","v":0},1,true,0,0]
["長野県",{"$f":"COUNTIF(基本データ!$J$3:$J$275,A21)","v":6},{"$f":"COUNTIFS(基本データ!$J$3:$J$275,A21,基本データ!$M$3:$M$275,$C$1)","v":0},{"$f":"COUNTIFS(基本データ!$J$3:$J$275,A21,基本データ!$M$3:$M$275,$D$1)","v":1},{"$f":"COUNTIFS(基本データ!$J$3:$J$275,A21,基本データ!$M$3:$M$275,$E$1)","v":0},{"$f":"COUNTIFS(基本データ!$J$3:$J$275,A21,基本データ!$M$3:$M$275,$F$1)","v":5},{"$f":"COUNTIFS(基本データ!$J$3:$J$275,A21,基本データ!$M$3:$M$275,$G$1)","v":0},{"$f":"COUNTIFS(基本データ!$J$3:$J$275,A21,基本データ!$M$3:$M$275,$H$1)","v":0},{"$f":"COUNTIFS(基本データ!$J$3:$J$275,A21,基本データ!$M$3:$M$275,$I$1)","v":0},{"$f":"COUNTIFS(基本データ!$J$3:$J$275,A21,基本データ!$M$3:$M$275,$J$1)","v":0},{"$f":"COUNTIFS(基本データ!$J$3:$J$275,A21,基本データ!$M$3:$M$275,$K$1)","v":0},6,true,5,0]
["岐阜県",{"$f":"COUNTIF(基本データ!$J$3:$J$275,A22)","v":12},{"$f":"COUNTIFS(基本データ!$J$3:$J$275,A22,基本データ!$M$3:$M$275,$C$1)","v":0},{"$f":"COUNTIFS(基本データ!$J$3:$J$275,A22,基本データ!$M$3:$M$275,$D$1)","v":0},{"$f":"COUNTIFS(基本データ!$J$3:$J$275,A22,基本データ!$M$3:$M$275,$E$1)","v":1},{"$f":"COUNTIFS(基本データ!$J$3:$J$275,A22,基本データ!$M$3:$M$275,$F$1)","v":11},{"$f":"COUNTIFS(基本データ!$J$3:$J$275,A22,基本データ!$M$3:$M$275,$G$1)","v":0},{"$f":"COUNTIFS(基本データ!$J$3:$J$275,A22,基本データ!$M$3:$M$275,$H$1)","v":0},{"$f":"COUNTIFS(基本データ!$J$3:$J$275,A22,基本データ!$M$3:$M$275,$I$1)","v":0},{"$f":"COUNTIFS(基本データ!$J$3:$J$275,A22,基本データ!$M$3:$M$275,$J$1)","v":0},{"$f":"COUNTIFS(基本データ!$J$3:$J$275,A22,基本データ!$M$3:$M$275,$K$1)","v":0},12,true,11,0]
["静岡県",{"$f":"COUNTIF(基本データ!$J$3:$J$275,A23)","v":10},{"$f":"COUNTIFS(基本データ!$J$3:$J$275,A23,基本データ!$M$3:$M$275,$C$1)","v":2},{"$f":"COUNTIFS(基本データ!$J$3:$J$275,A23,基本データ!$M$3:$M$275,$D$1)","v":0},{"$f":"COUNTIFS(基本データ!$J$3:$J$275,A23,基本データ!$M$3:$M$275,$E$1)","v":2},{"$f":"COUNTIFS(基本データ!$J$3:$J$275,A23,基本データ!$M$3:$M$275,$F$1)","v":5},{"$f":"COUNTIFS(基本データ!$J$3:$J$275,A23,基本データ!$M$3:$M$275,$G$1)","v":0},{"$f":"COUNTIFS(基本データ!$J$3:$J$275,A23,基本データ!$M$3:$M$275,$H$1)","v":1},{"$f":"COUNTIFS(基本データ!$J$3:$J$275,A23,基本データ!$M$3:$M$275,$I$1)","v":0},{"$f":"COUNTIFS(基本データ!$J$3:$J$275,A23,基本データ!$M$3:$M$275,$J$1)","v":0},{"$f":"COUNTIFS(基本データ!$J$3:$J$275,A23,基本データ!$M$3:$M$275,$K$1)","v":0},10,true,5,1]
["愛知県",{"$f":"COUNTIF(基本データ!$J$3:$J$275,A24)","v":12},{"$f":"COUNTIFS(基本データ!$J$3:$J$275,A24,基本データ!$M$3:$M$275,$C$1)","v":1},{"$f":"COUNTIFS(基本データ!$J$3:$J$275,A24,基本データ!$M$3:$M$275,$D$1)","v":2},{"$f":"COUNTIFS(基本データ!$J$3:$J$275,A24,基本データ!$M$3:$M$275,$E$1)","v":3},{"$f":"COUNTIFS(基本データ!$J$3:$J$275,A24,基本データ!$M$3:$M$275,$F$1)","v":5},{"$f":"COUNTIFS(基本データ!$J$3:$J$275,A24,基本データ!$M$3:$M$275,$G$1)","v":0},{"$f":"COUNTIFS(基本データ!$J$3:$J$275,A24,基本データ!$M$3:$M$275,$H$1)","v":0},{"$f":"COUNTIFS(基本データ!$J$3:$J$275,A24,基本データ!$M$3:$M$275,$I$1)","v":1},{"$f":"COUNTIFS(基本データ!$J$3:$J$275,A24,基本データ!$M$3:$M$275,$J$1)","v":0},{"$f":"COUNTIFS(基本データ!$J$3:$J$275,A24,基本データ!$M$3:$M$275,$K$1)","v":0},12,true,5,1]
["三重県",{"$f":"COUNTIF(基本データ!$J$3:$J$275,A25)","v":1},{"$f":"COUNTIFS(基本データ!$J$3:$J$275,A25,基本データ!$M$3:$M$275,$C$1)","v":0},{"$f":"COUNTIFS(基本データ!$J$3:$J$275,A25,基本データ!$M$3:$M$275,$D$1)","v":0},{"$f":"COUNTIFS(基本データ!$J$3:$J$275,A25,基本データ!$M$3:$M$275,$E$1)","v":1},{"$f":"COUNTIFS(基本データ!$J$3:$J$275,A25,基本データ!$M$3:$M$275,$F$1)","v":0},{"$f":"COUNTIFS(基本データ!$J$3:$J$275,A25,基本データ!$M$3:$M$275,$G$1)","v":0},{"$f":"COUNTIFS(基本データ!$J$3:$J$275,A25,基本データ!$M$3:$M$275,$H$1)","v":0},{"$f":"COUNTIFS(基本データ!$J$3:$J$275,A25,基本データ!$M$3:$M$275,$I$1)","v":0},{"$f":"COUNTIFS(基本データ!$J$3:$J$275,A25,基本データ!$M$3:$M$275,$J$1)","v":0},{"$f":"COUNTIFS(基本データ!$J$3:$J$275,A25,基本データ!$M$3:$M$275,$K$1)","v":0},1,true,0,0]
["滋賀県",{"$f":"COUNTIF(基本データ!$J$3:$J$275,A26)","v":1},{"$f":"COUNTIFS(基本データ!$J$3:$J$275,A26,基本データ!$M$3:$M$275,$C$1)","v":1},{"$f":"COUNTIFS(基本データ!$J$3:$J$275,A26,基本データ!$M$3:$M$275,$D$1)","v":0},{"$f":"COUNTIFS(基本データ!$J$3:$J$275,A26,基本データ!$M$3:$M$275,$E$1)","v":0},{"$f":"COUNTIFS(基本データ!$J$3:$J$275,A26,基本データ!$M$3:$M$275,$F$1)","v":0},{"$f":"COUNTIFS(基本データ!$J$3:$J$275,A26,基本データ!$M$3:$M$275,$G$1)","v":0},{"$f":"COUNTIFS(基本データ!$J$3:$J$275,A26,基本データ!$M$3:$M$275,$H$1)","v":0},{"$f":"COUNTIFS(基本データ!$J$3:$J$275,A26,基本データ!$M$3:$M$275,$I$1)","v":0},{"$f":"COUNTIFS(基本データ!$J$3:$J$275,A26,基本データ!$M$3:$M$275,$J$1)","v":0},{"$f":"COUNTIFS(基本データ!$J$3:$J$275,A26,基本データ!$M$3:$M$275,$K$1)","v":0},1,true,0,0]
["京都府",{"$f":"COUNTIF(基本データ!$J$3:$J$275,A27)","v":8},{"$f":"COUNTIFS(基本データ!$J$3:$J$275,A27,基本データ!$M$3:$M$275,$C$1)","v":1},{"$f":"COUNTIFS(基本データ!$J$3:$J$275,A27,基本データ!$M$3:$M$275,$D$1)","v":0},{"$f":"COUNTIFS(基本データ!$J$3:$J$275,A27,基本データ!$M$3:$M$275,$E$1)","v":1},{"$f":"COUNTIFS(基本データ!$J$3:$J$275,A27,基本データ!$M$3:$M$275,$F$1)","v":6},{"$f":"COUNTIFS(基本データ!$J$3:$J$275,A27,基本データ!$M$3:$M$275,$G$1)","v":0},{"$f":"COUNTIFS(基本データ!$J$3:$J$275,A27,基本データ!$M$3:$M$275,$H$1)","v":0},{"$f":"COUNTIFS(基本データ!$J$3:$J$275,A27,基本データ!$M$3:$M$275,$I$1)","v":0},{"$f":"COUNTIFS(基本データ!$J$3:$J$275,A27,基本データ!$M$3:$M$275,$J$1)","v":0},{"$f":"COUNTIFS(基本データ!$J$3:$J$275,A27,基本データ!$M$3:$M$275,$K$1)","v":0},8,true,6,0]
["大阪府",{"$f":"COUNTIF(基本データ!$J$3:$J$275,A28)","v":17},{"$f":"COUNTIFS(基本データ!$J$3:$J$275,A28,基本データ!$M$3:$M$275,$C$1)","v":1},{"$f":"COUNTIFS(基本データ!$J$3:$J$275,A28,基本データ!$M$3:$M$275,$D$1)","v":0},{"$f":"COUNTIFS(基本データ!$J$3:$J$275,A28,基本データ!$M$3:$M$275,$E$1)","v":3},{"$f":"COUNTIFS(基本データ!$J$3:$J$275,A28,基本データ!$M$3:$M$275,$F$1)","v":11},{"$f":"COUNTIFS(基本データ!$J$3:$J$275,A28,基本データ!$M$3:$M$275,$G$1)","v":0},{"$f":"COUNTIFS(基本データ!$J$3:$J$275,A28,基本データ!$M$3:$M$275,$H$1)","v":1},{"$f":"COUNTIFS(基本データ!$J$3:$J$275,A28,基本データ!$M$3:$M$275,$I$1)","v":1},{"$f":"COUNTIFS(基本データ!$J$3:$J$275,A28,基本データ!$M$3:$M$275,$J$1)","v":0},{"$f":"COUNTIFS(基本データ!$J$3:$J$275,A28,基本データ!$M$3:$M$275,$K$1)","v":0},17,true,11,2]
["兵庫県",{"$f":"COUNTIF(基本データ!$J$3:$J$275,A29)","v":9},{"$f":"COUNTIFS(基本データ!$J$3:$J$275,A29,基本データ!$M$3:$M$275,$C$1)","v":1},{"$f":"COUNTIFS(基本データ!$J$3:$J$275,A29,基本データ!$M$3:$M$275,$D$1)","v":0},{"$f":"COUNTIFS(基本データ!$J$3:$J$275,A29,基本データ!$M$3:$M$275,$E$1)","v":1},{"$f":"COUNTIFS(基本データ!$J$3:$J$275,A29,基本データ!$M$3:$M$275,$F$1)","v":5},{"$f":"COUNTIFS(基本データ!$J$3:$J$275,A29,基本データ!$M$3:$M$275,$G$1)","v":0},{"$f":"COUNTIFS(基本データ!$J$3:$J$275,A29,基本データ!$M$3:$M$275,$H$1)","v":0},{"$f":"COUNTIFS(基本データ!$J$3:$J$275,A29,基本データ!$M$3:$M$275,$I$1)","v":1},{"$f":"COUNTIFS(基本データ!$J$3:$J$275,A29,基本データ!$M$3:$M$275,$J$1)","v":1},{"$f":"COUNTIFS(基本データ!$J$3:$J$275,A29,基本データ!$M$3:$M$275,$K$1)","v":0},9,true,5,2]
["奈良県",{"$f":"COUNTIF(基本データ!$J$3:$J$275,A30)","v":3},{"$f":"COUNTIFS(基本データ!$J$3:$J$275,A30,基本データ!$M$3:$M$275,$C$1)","v":1},{"$f":"COUNTIFS(基本データ!$J$3:$J$275,A30,基本データ!$M$3:$M$275,$D$1)","v":0},{"$f":"COUNTIFS(基本データ!$J$3:$J$275,A30,基本データ!$M$3:$M$275,$E$1)","v":0},{"$f":"COUNTIFS(基本データ!$J$3:$J$275,A30,基本データ!$M$3:$M$275,$F$1)","v":2},{"$f":"COUNTIFS(基本データ!$J$3:$J$275,A30,基本データ!$M$3:$M$275,$G$1)","v":0},{"$f":"COUNTIFS(基本データ!$J$3:$J$275,A30,基本データ!$M$3:$M$275,$H$1)","v":0},{"$f":"COUNTIFS(基本データ!$J$3:$J$275,A30,基本データ!$M$3:$M$275,$I$1)","v":0},{"$f":"COUNTIFS(基本データ!$J$3:$J$275,A30,基本データ!$M$3:$M$275,$J$1)","v":0},{"$f":"COUNTIFS(基本データ!$J$3:$J$275,A30,基本データ!$M$3:$M$275,$K$1)","v":0},3,true,2,0]
["和歌山県",{"$f":"COUNTIF(基本データ!$J$3:$J$275,A31)","v":2},{"$f":"COUNTIFS(基本データ!$J$3:$J$275,A31,基本データ!$M$3:$M$275,$C$1)","v":1},{"$f":"COUNTIFS(基本データ!$J$3:$J$275,A31,基本データ!$M$3:$M$275,$D$1)","v":0},{"$f":"COUNTIFS(基本データ!$J$3:$J$275,A31,基本データ!$M$3:$M$275,$E$1)","v":0},{"$f":"COUNTIFS(基本データ!$J$3:$J$275,A31,基本データ!$M$3:$M$275,$F$1)","v":1},{"$f":"COUNTIFS(基本データ!$J$3:$J$275,A31,基本データ!$M$3:$M$275,$G$1)","v":0},{"$f":"COUNTIFS(基本データ!$J$3:$J$275,A31,基本データ!$M$3:$M$275,$H$1)","v":0},{"$f":"COUNTIFS(基本データ!$J$3:$J$275,A31,基本データ!$M$3:$M$275,$I$1)","v":0},{"$f":"COUNTIFS(基本データ!$J$3:$J$275,A31,基本データ!$M$3:$M$275,$J$1)","v":0},{"$f":"COUNTIFS(基本データ!$J$3:$J$275,A31,基本データ!$M$3:$M$275,$K$1)","v":0},2,true,1,0]
["鳥取県",{"$f":"COUNTIF(基本データ!$J$3:$J$275,A32)","v":2},{"$f":"COUNTIFS(基本データ!$J$3:$J$275,A32,基本データ!$M$3:$M$275,$C$1)","v":0},{"$f":"COUNTIFS(基本データ!$J$3:$J$275,A32,基本データ!$M$3:$M$275,$D$1)","v":0},{"$f":"COUNTIFS(基本データ!$J$3:$J$275,A32,基本データ!$M$3:$M$275,$E$1)","v":1},{"$f":"COUNTIFS(基本データ!$J$3:$J$275,A32,基本データ!$M$3:$M$275,$F$1)","v":1},{"$f":"COUNTIFS(基本データ!$J$3:$J$275,A32,基本データ!$M$3:$M$275,$G$1)","v":0},{"$f":"COUNTIFS(基本データ!$J$3:$J$275,A32,基本データ!$M$3:$M$275,$H$1)","v":0},{"$f":"COUNTIFS(基本データ!$J$3:$J$275,A32,基本データ!$M$3:$M$275,$I$1)","v":0},{"$f":"COUNTIFS(基本データ!$J$3:$J$275,A32,基本データ!$M$3:$M$275,$J$1)","v":0},{"$f":"COUNTIFS(基本データ!$J$3:$J$275,A32,基本データ!$M$3:$M$275,$K$1)","v":0},2,true,1,0]
["島根県",{"$f":"COUNTIF(基本データ!$J$3:$J$275,A33)","v":5},{"$f":"COUNTIFS(基本データ!$J$3:$J$275,A33,基本データ!$M$3:$M$275,$C$1)","v":0},{"$f":"COUNTIFS(基本データ!$J$3:$J$275,A33,基本データ!$M$3:$M$275,$D$1)","v":1},{"$f":"COUNTIFS(基本データ!$J$3:$J$275,A33,基本データ!$M$3:$M$275,$E$1)","v":1},{"$f":"COUNTIFS(基本データ!$J$3:$J$275,A33,基本データ!$M$3:$M$275,$F$1)","v":3},{"$f":"COUNTIFS(基本データ!$J$3:$J$275,A33,基本データ!$M$3:$M$275,$G$1)","v":0},{"$f":"COUNTIFS(基本データ!$J$3:$J$275,A33,基本データ!$M$3:$M$275,$H$1)","v":0},{"$f":"COUNTIFS(基本データ!$J$3:$J$275,A33,基本データ!$M$3:$M$275,$I$1)","v":0},{"$f":"COUNTIFS(基本データ!$J$3:$J$275,A33,基本データ!$M$3:$M$275,$J$1)","v":0},{"$f":"COUNTIFS(基本データ!$J$3:$J$275,A33,基本データ!$M$3:$M$275,$K$1)","v":0},5,true,3,0]
["岡山県",{"$f":"COUNTIF(基本データ!$J$3:$J$275,A34)","v":4},{"$f":"COUNTIFS(基本データ!$J$3:$J$275,A34,基本データ!$M$3:$M$275,$C$1)","v":1},{"$f":"COUNTIFS(基本データ!$J$3:$J$275,A34,基本データ!$M$3:$M$275,$D$1)","v":0},{"$f":"COUNTIFS(基本データ!$J$3:$J$275,A34,基本データ!$M$3:$M$275,$E$1)","v":1},{"$f":"COUNTIFS(基本データ!$J$3:$J$275,A34,基本データ!$M$3:$M$275,$F$1)","v":2},{"$f":"COUNTIFS(基本データ!$J$3:$J$275,A34,基本データ!$M$3:$M$275,$G$1)","v":0},{"$f":"COUNTIFS(基本データ!$J$3:$J$275,A34,基本データ!$M$3:$M$275,$H$1)","v":0},{"$f":"COUNTIFS(基本データ!$J$3:$J$275,A34,基本データ!$M$3:$M$275,$I$1)","v":0},{"$f":"COUNTIFS(基本データ!$J$3:$J$275,A34,基本データ!$M$3:$M$275,$J$1)","v":0},{"$f":"COUNTIFS(基本データ!$J$3:$J$275,A34,基本データ!$M$3:$M$275,$K$1)","v":0},4,true,2,0]
["広島県",{"$f":"COUNTIF(基本データ!$J$3:$J$275,A35)","v":4},{"$f":"COUNTIFS(基本データ!$J$3:$J$275,A35,基本データ!$M$3:$M$275,$C$1)","v":0},{"$f":"COUNTIFS(基本データ!$J$3:$J$275,A35,基本データ!$M$3:$M$275,$D$1)","v":0},{"$f":"COUNTIFS(基本データ!$J$3:$J$275,A35,基本データ!$M$3:$M$275,$E$1)","v":1},{"$f":"COUNTIFS(基本データ!$J$3:$J$275,A35,基本データ!$M$3:$M$275,$F$1)","v":3},{"$f":"COUNTIFS(基本データ!$J$3:$J$275,A35,基本データ!$M$3:$M$275,$G$1)","v":0},{"$f":"COUNTIFS(基本データ!$J$3:$J$275,A35,基本データ!$M$3:$M$275,$H$1)","v":0},{"$f":"COUNTIFS(基本データ!$J$3:$J$275,A35,基本データ!$M$3:$M$275,$I$1)","v":0},{"$f":"COUNTIFS(基本データ!$J$3:$J$275,A35,基本データ!$M$3:$M$275,$J$1)","v":0},{"$f":"COUNTIFS(基本データ!$J$3:$J$275,A35,基本データ!$M$3:$M$275,$K$1)","v":0},4,true,3,0]
["山口県",{"$f":"COUNTIF(基本データ!$J$3:$J$275,A36)","v":6},{"$f":"COUNTIFS(基本データ!$J$3:$J$275,A36,基本データ!$M$3:$M$275,$C$1)","v":1},{"$f":"COUNTIFS(基本データ!$J$3:$J$275,A36,基本データ!$M$3:$M$275,$D$1)","v":0},{"$f":"COUNTIFS(基本データ!$J$3:$J$275,A36,基本データ!$M$3:$M$275,$E$1)","v":1},{"$f":"COUNTIFS(基本データ!$J$3:$J$275,A36,基本データ!$M$3:$M$275,$F$1)","v":3},{"$f":"COUNTIFS(基本データ!$J$3:$J$275,A36,基本データ!$M$3:$M$275,$G$1)","v":0},{"$f":"COUNTIFS(基本データ!$J$3:$J$275,A36,基本データ!$M$3:$M$275,$H$1)","v":0},{"$f":"COUNTIFS(基本データ!$J$3:$J$275,A36,基本データ!$M$3:$M$275,$I$1)","v":0},{"$f":"COUNTIFS(基本データ!$J$3:$J$275,A36,基本データ!$M$3:$M$275,$J$1)","v":0},{"$f":"COUNTIFS(基本データ!$J$3:$J$275,A36,基本データ!$M$3:$M$275,$K$1)","v":0},5,false,3,0]
["徳島県",{"$f":"COUNTIF(基本データ!$J$3:$J$275,A37)","v":2},{"$f":"COUNTIFS(基本データ!$J$3:$J$275,A37,基本データ!$M$3:$M$275,$C$1)","v":0},{"$f":"COUNTIFS(基本データ!$J$3:$J$275,A37,基本データ!$M$3:$M$275,$D$1)","v":1},{"$f":"COUNTIFS(基本データ!$J$3:$J$275,A37,基本データ!$M$3:$M$275,$E$1)","v":1},{"$f":"COUNTIFS(基本データ!$J$3:$J$275,A37,基本データ!$M$3:$M$275,$F$1)","v":0},{"$f":"COUNTIFS(基本データ!$J$3:$J$275,A37,基本データ!$M$3:$M$275,$G$1)","v":0},{"$f":"COUNTIFS(基本データ!$J$3:$J$275,A37,基本データ!$M$3:$M$275,$H$1)","v":0},{"$f":"COUNTIFS(基本データ!$J$3:$J$275,A37,基本データ!$M$3:$M$275,$I$1)","v":0},{"$f":"COUNTIFS(基本データ!$J$3:$J$275,A37,基本データ!$M$3:$M$275,$J$1)","v":0},{"$f":"COUNTIFS(基本データ!$J$3:$J$275,A37,基本データ!$M$3:$M$275,$K$1)","v":0},2,true,0,0]
["香川県",{"$f":"COUNTIF(基本データ!$J$3:$J$275,A38)","v":3},{"$f":"COUNTIFS(基本データ!$J$3:$J$275,A38,基本データ!$M$3:$M$275,$C$1)","v":1},{"$f":"COUNTIFS(基本データ!$J$3:$J$275,A38,基本データ!$M$3:$M$275,$D$1)","v":0},{"$f":"COUNTIFS(基本データ!$J$3:$J$275,A38,基本データ!$M$3:$M$275,$E$1)","v":0},{"$f":"COUNTIFS(基本データ!$J$3:$J$275,A38,基本データ!$M$3:$M$275,$F$1)","v":2},{"$f":"COUNTIFS(基本データ!$J$3:$J$275,A38,基本データ!$M$3:$M$275,$G$1)","v":0},{"$f":"COUNTIFS(基本データ!$J$3:$J$275,A38,基本データ!$M$3:$M$275,$H$1)","v":0},{"$f":"COUNTIFS(基本データ!$J$3:$J$275,A38,基本データ!$M$3:$M$275,$I$1)","v":0},{"$f":"COUNTIFS(基本データ!$J$3:$J$275,A38,基本データ!$M$3:$M$275,$J$1)","v":0},{"$f":"COUNTIFS(基本データ!$J$3:$J$275,A38,基本データ!$M$3:$M$275,$K$1)","v":0},3,true,2,0]
["愛媛県",{"$f":"COUNTIF(基本データ!$J$3:$J$275,A39)","v":1},{"$f":"COUNTIFS(基本データ!$J$3:$J$275,A39,基本データ!$M$3:$M$275,$C$1)","v":1},{"$f":"COUNTIFS(基本データ!$J$3:$J$275,A39,基本データ!$M$3:$M$275,$D$1)","v":0},{"$f":"COUNTIFS(基本データ!$J$3:$J$275,A39,基本データ!$M$3:$M$275,$E$1)","v":0},{"$f":"COUNTIFS(基本データ!$J$3:$J$275,A39,基本データ!$M$3:$M$275,$F$1)","v":0},{"$f":"COUNTIFS(基本データ!$J$3:$J$275,A39,基本データ!$M$3:$M$275,$G$1)","v":0},{"$f":"COUNTIFS(基本データ!$J$3:$J$275,A39,基本データ!$M$3:$M$275,$H$1)","v":0},{"$f":"COUNTIFS(基本データ!$J$3:$J$275,A39,基本データ!$M$3:$M$275,$I$1)","v":0},{"$f":"COUNTIFS(基本データ!$J$3:$J$275,A39,基本データ!$M$3:$M$275,$J$1)","v":0},{"$f":"COUNTIFS(基本データ!$J$3:$J$275,A39,基本データ!$M$3:$M$275,$K$1)","v":0},1,true,0,0]
["高知県",{"$f":"COUNTIF(基本データ!$J$3:$J$275,A40)","v":2},{"$f":"COUNTIFS(基本データ!$J$3:$J$275,A40,基本データ!$M$3:$M$275,$C$1)","v":0},{"$f":"COUNTIFS(基本データ!$J$3:$J$275,A40,基本データ!$M$3:$M$275,$D$1)","v":0},{"$f":"COUNTIFS(基本データ!$J$3:$J$275,A40,基本データ!$M$3:$M$275,$E$1)","v":1},{"$f":"COUNTIFS(基本データ!$J$3:$J$275,A40,基本データ!$M$3:$M$275,$F$1)","v":1},{"$f":"COUNTIFS(基本データ!$J$3:$J$275,A40,基本データ!$M$3:$M$275,$G$1)","v":0},{"$f":"COUNTIFS(基本データ!$J$3:$J$275,A40,基本データ!$M$3:$M$275,$H$1)","v":0},{"$f":"COUNTIFS(基本データ!$J$3:$J$275,A40,基本データ!$M$3:$M$275,$I$1)","v":0},{"$f":"COUNTIFS(基本データ!$J$3:$J$275,A40,基本データ!$M$3:$M$275,$J$1)","v":0},{"$f":"COUNTIFS(基本データ!$J$3:$J$275,A40,基本データ!$M$3:$M$275,$K$1)","v":0},2,true,1,0]
["福岡県",{"$f":"COUNTIF(基本データ!$J$3:$J$275,A41)","v":15},{"$f":"COUNTIFS(基本データ!$J$3:$J$275,A41,基本データ!$M$3:$M$275,$C$1)","v":2},{"$f":"COUNTIFS(基本データ!$J$3:$J$275,A41,基本データ!$M$3:$M$275,$D$1)","v":0},{"$f":"COUNTIFS(基本データ!$J$3:$J$275,A41,基本データ!$M$3:$M$275,$E$1)","v":0},{"$f":"COUNTIFS(基本データ!$J$3:$J$275,A41,基本データ!$M$3:$M$275,$F$1)","v":13},{"$f":"COUNTIFS(基本データ!$J$3:$J$275,A41,基本データ!$M$3:$M$275,$G$1)","v":0},{"$f":"COUNTIFS(基本データ!$J$3:$J$275,A41,基本データ!$M$3:$M$275,$H$1)","v":0},{"$f":"COUNTIFS(基本データ!$J$3:$J$275,A41,基本データ!$M$3:$M$275,$I$1)","v":0},{"$f":"COUNTIFS(基本データ!$J$3:$J$275,A41,基本データ!$M$3:$M$275,$J$1)","v":0},{"$f":"COUNTIFS(基本データ!$J$3:$J$275,A41,基本データ!$M$3:$M$275,$K$1)","v":0},15,true,13,0]
["佐賀県",{"$f":"COUNTIF(基本データ!$J$3:$J$275,A42)","v":6},{"$f":"COUNTIFS(基本データ!$J$3:$J$275,A42,基本データ!$M$3:$M$275,$C$1)","v":0},{"$f":"COUNTIFS(基本データ!$J$3:$J$275,A42,基本データ!$M$3:$M$275,$D$1)","v":0},{"$f":"COUNTIFS(基本データ!$J$3:$J$275,A42,基本データ!$M$3:$M$275,$E$1)","v":1},{"$f":"COUNTIFS(基本データ!$J$3:$J$275,A42,基本データ!$M$3:$M$275,$F$1)","v":5},{"$f":"COUNTIFS(基本データ!$J$3:$J$275,A42,基本データ!$M$3:$M$275,$G$1)","v":0},{"$f":"COUNTIFS(基本データ!$J$3:$J$275,A42,基本データ!$M$3:$M$275,$H$1)","v":0},{"$f":"COUNTIFS(基本データ!$J$3:$J$275,A42,基本データ!$M$3:$M$275,$I$1)","v":0},{"$f":"COUNTIFS(基本データ!$J$3:$J$275,A42,基本データ!$M$3:$M$275,$J$1)","v":0},{"$f":"COUNTIFS(基本データ!$J$3:$J$275,A42,基本データ!$M$3:$M$275,$K$1)","v":0},6,true,5,0]
["長崎県",{"$f":"COUNTIF(基本データ!$J$3:$J$275,A43)","v":2},{"$f":"COUNTIFS(基本データ!$J$3:$J$275,A43,基本データ!$M$3:$M$275,$C$1)","v":0},{"$f":"COUNTIFS(基本データ!$J$3:$J$275,A43,基本データ!$M$3:$M$275,$D$1)","v":0},{"$f":"COUNTIFS(基本データ!$J$3:$J$275,A43,基本データ!$M$3:$M$275,$E$1)","v":1},{"$f":"COUNTIFS(基本データ!$J$3:$J$275,A43,基本データ!$M$3:$M$275,$F$1)","v":1},{"$f":"COUNTIFS(基本データ!$J$3:$J$275,A43,基本データ!$M$3:$M$275,$G$1)","v":0},{"$f":"COUNTIFS(基本データ!$J$3:$J$275,A43,基本データ!$M$3:$M$275,$H$1)","v":0},{"$f":"COUNTIFS(基本データ!$J$3:$J$275,A43,基本データ!$M$3:$M$275,$I$1)","v":0},{"$f":"COUNTIFS(基本データ!$J$3:$J$275,A43,基本データ!$M$3:$M$275,$J$1)","v":0},{"$f":"COUNTIFS(基本データ!$J$3:$J$275,A43,基本データ!$M$3:$M$275,$K$1)","v":0},2,true,1,0]
["熊本県",{"$f":"COUNTIF(基本データ!$J$3:$J$275,A44)","v":5},{"$f":"COUNTIFS(基本データ!$J$3:$J$275,A44,基本データ!$M$3:$M$275,$C$1)","v":1},{"$f":"COUNTIFS(基本データ!$J$3:$J$275,A44,基本データ!$M$3:$M$275,$D$1)","v":0},{"$f":"COUNTIFS(基本データ!$J$3:$J$275,A44,基本データ!$M$3:$M$275,$E$1)","v":1},{"$f":"COUNTIFS(基本データ!$J$3:$J$275,A44,基本データ!$M$3:$M$275,$F$1)","v":3},{"$f":"COUNTIFS(基本データ!$J$3:$J$275,A44,基本データ!$M$3:$M$275,$G$1)","v":0},{"$f":"COUNTIFS(基本データ!$J$3:$J$275,A44,基本データ!$M$3:$M$275,$H$1)","v":0},{"$f":"COUNTIFS(基本データ!$J$3:$J$275,A44,基本データ!$M$3:$M$275,$I$1)","v":0},{"$f":"COUNTIFS(基本データ!$J$3:$J$275,A44,基本データ!$M$3:$M$275,$J$1)","v":0},{"$f":"COUNTIFS(基本データ!$J$3:$J$275,A44,基本データ!$M$3:$M$275,$K$1)","v":0},5,true,3,0]
["大分県",{"$f":"COUNTIF(基本データ!$J$3:$J$275,A45)","v":4},{"$f":"COUNTIFS(基本データ!$J$3:$J$275,A45,基本データ!$M$3:$M$275,$C$1)","v":0},{"$f":"COUNTIFS(基本データ!$J$3:$J$275,A45,基本データ!$M$3:$M$275,$D$1)","v":1},{"$f":"COUNTIFS(基本データ!$J$3:$J$275,A45,基本データ!$M$3:$M$275,$E$1)","v":0},{"$f":"COUNTIFS(基本データ!$J$3:$J$275,A45,基本データ!$M$3:$M$275,$F$1)","v":3},{"$f":"COUNTIFS(基本データ!$J$3:$J$275,A45,基本データ!$M$3:$M$275,$G$1)","v":0},{"$f":"COUNTIFS(基本データ!$J$3:$J$275,A45,基本データ!$M$3:$M$275,$H$1)","v":0},{"$f":"COUNTIFS(基本データ!$J$3:$J$275,A45,基本データ!$M$3:$M$275,$I$1)","v":0},{"$f":"COUNTIFS(基本データ!$J$3:$J$275,A45,基本データ!$M$3:$M$275,$J$1)","v":0},{"$f":"COUNTIFS(基本データ!$J$3:$J$275,A45,基本データ!$M$3:$M$275,$K$1)","v":0},4,true,3,0]
["宮崎県",{"$f":"COUNTIF(基本データ!$J$3:$J$275,A46)","v":0},{"$f":"COUNTIFS(基本データ!$J$3:$J$275,A46,基本データ!$M$3:$M$275,$C$1)","v":0},{"$f":"COUNTIFS(基本データ!$J$3:$J$275,A46,基本データ!$M$3:$M$275,$D$1)","v":0},{"$f":"COUNTIFS(基本データ!$J$3:$J$275,A46,基本データ!$M$3:$M$275,$E$1)","v":0},{"$f":"COUNTIFS(基本データ!$J$3:$J$275,A46,基本データ!$M$3:$M$275,$F$1)","v":0},{"$f":"COUNTIFS(基本データ!$J$3:$J$275,A46,基本データ!$M$3:$M$275,$G$1)","v":0},{"$f":"COUNTIFS(基本データ!$J$3:$J$275,A46,基本データ!$M$3:$M$275,$H$1)","v":0},{"$f":"COUNTIFS(基本データ!$J$3:$J$275,A46,基本データ!$M$3:$M$275,$I$1)","v":0},{"$f":"COUNTIFS(基本データ!$J$3:$J$275,A46,基本データ!$M$3:$M$275,$J$1)","v":0},{"$f":"COUNTIFS(基本データ!$J$3:$J$275,A46,基本データ!$M$3:$M$275,$K$1)","v":0},0,true,0,0]
["鹿児島県",{"$f":"COUNTIF(基本データ!$J$3:$J$275,A47)","v":4},{"$f":"COUNTIFS(基本データ!$J$3:$J$275,A47,基本データ!$M$3:$M$275,$C$1)","v":0},{"$f":"COUNTIFS(基本データ!$J$3:$J$275,A47,基本データ!$M$3:$M$275,$D$1)","v":0},{"$f":"COUNTIFS(基本データ!$J$3:$J$275,A47,基本データ!$M$3:$M$275,$E$1)","v":1},{"$f":"COUNTIFS(基本データ!$J$3:$J$275,A47,基本データ!$M$3:$M$275,$F$1)","v":3},{"$f":"COUNTIFS(基本データ!$J$3:$J$275,A47,基本データ!$M$3:$M$275,$G$1)","v":0},{"$f":"COUNTIFS(基本データ!$J$3:$J$275,A47,基本データ!$M$3:$M$275,$H$1)","v":0},{"$f":"COUNTIFS(基本データ!$J$3:$J$275,A47,基本データ!$M$3:$M$275,$I$1)","v":0},{"$f":"COUNTIFS(基本データ!$J$3:$J$275,A47,基本データ!$M$3:$M$275,$J$1)","v":0},{"$f":"COUNTIFS(基本データ!$J$3:$J$275,A47,基本データ!$M$3:$M$275,$K$1)","v":0},4,true,3,0]
["沖縄県",{"$f":"COUNTIF(基本データ!$J$3:$J$275,A48)","v":6},{"$f":"COUNTIFS(基本データ!$J$3:$J$275,A48,基本データ!$M$3:$M$275,$C$1)","v":0},{"$f":"COUNTIFS(基本データ!$J$3:$J$275,A48,基本データ!$M$3:$M$275,$D$1)","v":0},{"$f":"COUNTIFS(基本データ!$J$3:$J$275,A48,基本データ!$M$3:$M$275,$E$1)","v":1},{"$f":"COUNTIFS(基本データ!$J$3:$J$275,A48,基本データ!$M$3:$M$275,$F$1)","v":5},{"$f":"COUNTIFS(基本データ!$J$3:$J$275,A48,基本データ!$M$3:$M$275,$G$1)","v":0},{"$f":"COUNTIFS(基本データ!$J$3:$J$275,A48,基本データ!$M$3:$M$275,$H$1)","v":0},{"$f":"COUNTIFS(基本データ!$J$3:$J$275,A48,基本データ!$M$3:$M$275,$I$1)","v":0},{"$f":"COUNTIFS(基本データ!$J$3:$J$275,A48,基本データ!$M$3:$M$275,$J$1)","v":0},{"$f":"COUNTIFS(基本データ!$J$3:$J$275,A48,基本データ!$M$3:$M$275,$K$1)","v":0},6,true,5,0]
["合計",{"$f":"SUM(B2:B48)","v":270},27,14,45,164,1,11,4,2,0,{"$f":"SUM(C49:K49)","v":268},false,165,{"$f":"SUM(O2:O48)","v":17}]
[null,null,{"$f":"C49/$B$49","v":0.1},{"$f":"D49/$B$49","v":5.185185185185185E-2},0.16666666666666666,0.6074074074074074,3.7037037037037038E-3,4.0740740740740744E-2,1.4814814814814815E-2,7.4074074074074077E-3,0,0.99259259259259258,0,0.61111111111111116,6.2962962962962957E-2]
[null,null,null,null,null,null,null,null,null,null,null,{"$f":"SUM(C49:E49,K49,N49:O49)","v":268}]

{"sheet":"基本データ","index":6,"n_rows":843,"n_cols":67,"rows_kept":843,"cut":false,"hidden":true,"merged":[]}
[null,null,null,null,null,null,null,null,"指定研修期間詳細一覧（研修期間、取り扱い区分数、定員、受講要件、受講料等）R７年度4月1日以降に変更した箇所は青字（赤字はR78月部会時の申請変更点)（備考は直近に変更した事項を記載）",null,null,null,null,null,{"$f":"I336","v":"独立行政法人国立病院機構　長良医療センター"}]
["Seq","指定年","B列の下2桁","指定月","都道府県番号","整理番号","指定研修機関番号","指定取り消の無","指定研修機関名","都道府県","郵便番号","住所","属性","病床数","共通科目定員","年間募集回数","年間定員数","研修期間","研修期間","研修期間","修士課程","認定看護師B課程","JANPU-NP","JONPH-NP","外部生の受入（公開情報）","受講要件　経験年数","受講要件上司推薦","履修免除規定の有無","共通科目ｅラン","区分別科目ｅラン","共通科目\n旧基準","区分別科目\n旧基準","領域別コース、モデル","受講料（Min万円）","受講料（Max万円）","教育訓練給付金講座指定","人材開発支援助成金","取り扱い区分数","呼吸器（気道確保に係るもの）","呼吸器（人工呼吸療法に係るもの）","呼吸器（長期呼吸療法に係るもの）","循環器","心嚢ドレーン管理","胸腔ドレーン管理","腹腔ドレーン管理","ろう孔管理","栄養に係るカテーテル管理（中心静脈カテーテル管理）","栄養に係るカテーテル管理（末梢留置型中心静脈注射用カテーテル管理）","創傷管理","創部ドレーン管理","動脈血液ガス\n分析","透析管理","栄養及び水分管理に係る薬剤投与","感染に係る薬剤投与","血糖コントロールに係る薬剤投与","術後疼痛管理","循環動態に係る薬剤投与","精神及び神経症状に係る薬剤投与","皮膚損傷に係る薬剤投与","在宅","外科術後","麻酔","救急","外科基本","集中治療領域","実施するパッケージ領域数"]
[1,2015,{"$f":"RIGHT(B3,2)","v":"15"},"8","01","001",{"$f":"CONCATENATE(C3,E3,F3)","v":"1501001"},"　","学校法人東日本学園北海道医療大学大学院看護福祉学研究科看護学専攻","北海道","061-0293　","北海道石狩郡当別町金沢1757番地","大学院",null,5,1,{"$f":"P3*O3","v":5},null,"4月～翌々年3月",24,"○",null,null,"○","大学院修士課程",null,null,"無","学研","学研",null,null,"NP",328.6,null,null,null,{"$f":"COUNTA(AM3:BG3)","v":13},5,null,5,null,null,null,null,5,5,5,5,null,5,null,5,5,5,null,5,5,5,null,null,null,null,null,null,{"$f":"COUNTA(BH3:BM3)","v":0},"R70401指導者の変更"]
[2,2015,"15","8","03","001","1503001","　","学校法人岩手医科大学　岩手医科大学附属病院高度看護研修センター","岩手県","020－8505","岩手県盛岡市内丸19番１号","大学病院",1166,23,1,{"$f":"P4*O4","v":23},null,"４月～翌年３月",12,"×","○",null,null,"○",3,"要","有","S-QUE","S-QUE",null,null,"有",77.3,80,null,null,14,4,4,11,null,null,3,3,9,3,3,10,5,5,null,23,null,null,3,3,null,null,7,3,null,null,null,null,2,"令和6年９月20日より施設および指導者,osce評価者の変更"]
[3,2015,"15","8","09","001","1509001","　","学校法人自治医科大学　自治医科大学","栃木県","329-0498","栃木県下野市薬師寺3311-159","大学",null,60,2,{"$f":"P5*O5","v":120},null,"4月～翌年3月／10月～翌年9月",12,"×",null,null,null,"○",5,"要","有","独自","独自",null,null,"無",41.9,102.3,"専門",null,20,20,20,20,20,null,30,30,30,40,30,30,30,40,40,30,20,30,20,20,20,30,5,5,5,null,5,5,5,"令和６年６月１日より施設・責任者・指導者、シラバスの変更"]
[4,2015,"15","8",11,"001","1511001","　","医療法人社団愛友会上尾中央総合病院","埼玉県","362-8588　","埼玉県上尾市柏座1-10-10","病院",733,45,1,50,null,"4月～翌年3月",12,"×",null,null,null,"○",5,"要","有","S-QUE","S-QUE",null,null,"無",16,39,null,null,14,20,20,10,0,0,null,null,10,10,15,15,20,20,null,10,10,null,10,10,10,null,null,null,null,null,null,null,0,"R70401より定員、研修時間、指導者及びその担当者の変更"]
[5,2015,"15","8",13,"001","1513001","　","一般社団法人日本慢性期医療協会","東京都","162-0067　","東京都新宿区富久町11-5　シャトレ市ヶ谷２階","本部",null,50,2,{"$f":"P7*O7","v":100},null,"4月～翌年3月／10月～翌年9月",12,"×",null,null,null,"○",3,"要","有","日漫協","日漫協","旧","旧","無",57,81,null,null,9,null,50,50,null,null,null,null,null,50,50,50,null,null,null,50,50,50,null,null,50,null,null,null,null,null,null,null,0]
[6,2015,"15","8",13,"002","1513002","　","学校法人青葉学園東京医療保健大学大学院看護学研究科看護学専攻","東京都","152－8558","東京都目黒区東が丘2-5-1","大学院",null,27,1,{"$f":"P8*O8","v":27},null,"4月～翌々年3月",24,"○",null,null,"○","大学院修士課程",null,null,"有","対面","独自",null,null,"NP",null,null,"専門",null,21,20,20,20,20,20,20,20,20,20,20,20,20,20,20,20,20,20,20,20,20,20,null,null,null,null,null,null,0,"R70130定員の変更"]
[7,2015,"15","8",13,"003","1513003","　","学校法人国際医療福祉大学国際医療福祉大学大学院医療福祉学研究科保健医療学専攻","東京都","105-0000","港区赤坂4-1-26","大学院",null,25,1,{"$f":"P9*O9","v":25},null,"4月～翌々年3月",24,"○",null,null,"○","大学院修士課程",null,null,"有","対面",null,"旧","旧","NP",250,null,null,null,21,25,25,25,25,25,25,25,25,25,25,25,25,25,25,25,25,25,25,25,25,25,null,null,null,null,null,null,0,"R6.４.1より既施設における定員の変更（２５は変わらず）"]
[8,2015,"15","8",13,"004","1513004","　","公益社団法人地域医療振興協会　NP・NDC研修センター","東京都","102－0093","千代田区平河町2－6－3都道府県会館15階","本部",null,15,1,{"$f":"P10*O10","v":15},null,"10月～翌年9月",12,"×",null,null,null,"○",5,"要","有","学研","学研","旧","旧","無",150,null,null,null,21,15,15,15,15,15,15,15,15,15,15,15,15,15,15,15,15,15,15,15,15,15,null,null,null,null,null,null,0,"R61105より協力施設、指導者の変更"]
[9,2015,"15","8",13,"005","1513005","　","公益社団法人日本看護協会","東京都","150ｰ0001","渋谷区神宮前5丁目8番2号","協会",null,530,1,{"$f":"P11*O11","v":530},null,"4月～9月／10月～翌年3月",6,"×","○",null,null,"○","認定","要","有","独自","独自",null,null,"有",42.8,58.1,null,null,12,30,60,40,null,null,null,null,30,null,10,80,null,30,null,530,50,50,null,50,100,null,30,null,null,null,null,null,1,"R60908よりCVC,創部ドレーン中止R70203より研修施設、定員、指導者の変更"]
[10,2015,"15","8",23,"001","1523001","　","学校法人愛知医科大学大学院看護学研究科看護学専攻","愛知県","480ｰ1195","愛知県長久手市岩作雁又１番地１","大学院",null,8,1,8,null,"4月～翌々年3月",24,"○",null,null,"○","大学院修士課程",5,"不要","有","対面",null,"旧","旧","NP",185,null,null,null,21,8,8,8,8,8,8,8,8,8,8,8,8,8,8,8,8,8,8,8,8,8,null,null,null,null,null,null,0,"令和6年4月1日より定員数、協力施設の定員数の変更"]
[11,2015,"15","8",23,"002","1523002","　","学校法人藤田学園藤田保健衛生大学大学院保健学研究科保健学専攻","愛知県","470ｰ1192","愛知県豊明市沓掛町田楽ケ窪1番地98","大学院",null,15,1,{"$f":"P13*O13","v":15},null,"4月～翌々年3月",24,"○",null,null,"○","大学院修士課程",5,"不要","無","S-QUE",null,"旧","旧","NP",165,null,null,null,21,10,15,15,15,15,15,15,15,15,15,15,15,15,15,15,15,15,15,15,15,15,15,null,null,null,null,null,1,"令和6年4月30日より研修内容、研修管理委員会の構成員、指導者の変更"]
[12,2015,"15","8",26,"001","1526001","　","医療法人社団洛和会洛和会音羽病院","京都府","607ｰ8062","京都市山科区音羽八ノ坪51－4","病院",548,10,1,10,null,"10月～翌年9月",12,"×",null,null,null,"○",5,"要","無","S-QUE","S-QUE",null,null,"有",51.8,80.650000000000006,null,null,10,10,4,4,null,null,null,null,null,null,null,5,null,4,null,10,null,8,4,4,4,null,null,null,2,null,null,null,1,"R70401より、定員変更【血糖・循環薬剤・人工呼吸・長期呼吸療法・血ガス・術後疼痛・精神）"]
[13,2015,"15","8",29,"001","1529001","　","公立大学法人奈良県立医科大学","奈良県","634-8521","奈良県橿原市四条町840番地","大学",null,22,1,22,null,"4月～翌3月",12,"×",null,null,null,"○",3,"要","有","S-QUE","S-QUE",null,null,"有",65,75,null,null,14,10,10,20,5,null,null,null,12,15,5,12,null,10,null,22,null,20,10,10,5,null,null,null,null,null,null,null,0,"R70401より履修免除規定あり"]
[14,2015,"15","8",44,"001","1544001","　","公立大学法人大分県立看護科学大学大学院看護学研究科看護学専攻","大分県","870ｰ1201","大分県大分市大字廻栖野2994ｰ9","大学院",null,10,1,10,null,"4月～翌々年3月",24,"○",null,null,"○","大学院修士課程",5,"要","無","対面","ナーシングスキル","旧","旧","NP",140.36000000000001,null,null,null,21,10,10,10,10,10,10,10,10,10,10,10,10,10,10,10,10,10,10,10,10,10,10,null,null,null,null,null,1,"R70410より区分ごとの定員変更"]
[15,2016,"16","2","04","001","1604001","　","学校法人東北文化学園大学東北文化学園大学大学院健康社会システム研究科健康福祉専攻","宮城県","981-8551","宮城県仙台市青葉区国見６丁目４５番１号","大学院",null,8,1,8,null,"4月～翌々年3月",24,"○",null,null,"○","大学院修士課程",5,null,"無","対面",null,null,null,"NP",280,null,null,null,21,8,8,8,8,8,8,8,8,8,8,8,8,8,8,8,8,8,8,8,8,8,null,null,null,null,null,null,0,"令和6年８月1日より協力施設の変更、指導者の変更"]
[16,2016,"16","2","07","001","1607001","　","公益財団法人星総合病院","福島県","963-8501","郡山市向河原町159番地1号","病院",430,40,1,{"$f":"P18*O18","v":40},null,"4月～翌年3月",7.12,"×","○",null,null,"○",5,"要","有","S-QUE",null,null,null,"無",50,null,null,null,6,null,null,null,null,null,null,null,3,null,null,5,null,5,null,19,18,null,null,null,5,null,null,null,null,null,null,null,0,"R70130指導者の変更"]
[17,2016,"16","2",11,"002","1611002","　","学校法人埼玉医科大学埼玉医科大学総合医療センター","埼玉県","350-8500","川越市鴨田1981","大学病院",1053,6,2,12,null,"4月～9月／10月～翌年3月",6,"×",null,null,null,"×","不明","不明","無","放送大学",null,"旧","旧","無","無料",null,null,null,7,0,0,0,null,null,null,null,0,null,null,null,null,null,0,0,null,0,null,null,null,null,null,null,null,null,null,null,0,"R70710よりろう孔、呼吸器関連、透析、栄養水分、血糖の区分中止"]
[18,2016,"16","2",12,"001","1612001","〇","社会医療法人社団さつき会袖ケ浦さつき台病院看護師特定行為研修センター",null,"299-0246","袖ヶ浦市長浦駅前5-21",null,null,null,null,null,null,null,null,"×",null,null,null,null,null,null,null,null,null,null,null,null,null,null,null,null,null,null,null,null,null,null,null,null,null,null,null,null,null,null,null,null,null,null,null,null,null,null,null,null,null,null,null,null,null,"R80129袖ヶ浦⇒記載間違え袖ケ浦と修正"]
[19,2016,"16","2",13,"006","1613006","　","独立行政法人地域医療機能推進機構東京新宿メディカルセンター","東京都","162-8543","新宿区津久戸町5-1","病院",520,4,1,4,null,"4月～翌年3月",12,"×",null,null,null,"×",5,"不明","無","放送大学",null,null,null,"無",null,null,null,null,2,null,null,null,null,null,null,null,null,null,null,null,null,null,null,5,null,5,null,null,null,null,null,null,null,null,null,null,0,"令和6年4月1日より研修内容の変更"]
[20,2016,"16","2",25,"001","1625001","　","国立大学法人　滋賀医科大学","滋賀県","520-2192","大津市瀬田月輪町","大学",null,30,1,30,null,"4月～翌3月、9月～翌8月","12、18","×",null,null,null,"○",5,"要","有","S-QUE","S-QUE",null,null,"有",60.4,92.9,"一般",null,21,25,25,15,10,5,10,10,10,20,10,20,20,35,5,40,10,5,20,20,10,5,5,5,5,5,5,5,6,"R60104より協力施設の追加、指導者の変更"]
[21,2016,"16","2",27,"001","1627001","　","社会医療法人愛仁会","大阪府","555-0034","大阪市西淀川区福町3丁目2番39号","本部",null,15,1,15,null,"4月～翌年3月",12,"×",null,null,null,"○（H30.4～）",5,"要","有","学研","学研",null,null,"有",35,80,null,null,16,7,7,4,2,null,null,null,4,3,3,4,null,7,0,11,4,4,4,4,5,null,3,null,3,3,null,null,3,"H30.4.18皮膚廃止\n透析管理関連はR2/5/18から休止\nR4.5～麻酔パの人工呼吸管理削除　研修時間の変更"]
[22,2016,"16","8","","002","16002","〇","医療法人平心会　須賀川病院",null,"962-0022","福島県須賀川市丸田町17番地",null,null,null,null,null,null,null,null,null,null,null,null,null,null,null,null,null,null,null,null,null,null,null,null,null,null,null,null,null,null,null,null,null,null,null,null,null,null,null,null,null,null,null,null,null,null,null,null,null,null,null,null,null,0]
[23,2016,"16","8","08","001","1608001","　","国立大学法人筑波大学　筑波大学附属病院","茨城県","305-8576","茨城県つくば市天久保２－１－１","大学病院",800,40,2,{"$f":"P25*O25","v":80},null,"4月～翌年3月／10月～翌年9月",12,"×",null,null,null,"○",5,"要","有","S-QUE","S-QUE",null,null,"有",null,null,null,null,{"$f":"COUNTA(AM25:BG25)","v":20},23,23,9,9,null,9,9,9,16,11,12,9,22,6,20,9,9,19,19,16,6,3,3,5,3,3,3,6,"R70401定員数変更"]
[24,2016,"16","8",10,"001","1610001","　","公益財団法人脳血管研究所　美原記念病院","群馬県","372-0006","群馬県伊勢崎市太田町366番地","病院",189,12,1,12,null,"10月～翌3月、4月~翌３月",6.12,"×",null,null,null,"○",5,"要","無","S-QUE","S-QUE",null,null,"無",null,null,null,null,7,null,null,3,null,null,null,null,3,null,3,3,null,3,null,3,null,3,null,null,null,null,3,null,null,null,null,null,1,"令和7年4月1日より指導者の変更,R4より名称変更"]
[25,2016,"16","8",17,"001","1617001","　","社会医療法人財団董仙会　恵寿総合病院","石川県","926-8605","石川県七尾市富岡町94番地","病院",426,10,1,{"$f":"P27*O27","v":10},null,"10月～翌年9月",12,"×",null,null,null,"○",5,"要","有","S-QUE","S-QUE",null,null,"無",44.25,56.75,null,null,9,5,5,5,null,null,null,null,5,null,null,2,null,10,null,5,null,10,null,2,null,null,2,null,null,null,null,null,1]
[26,2016,"16","8",18,"001","1618001","　","学校法人　新田塚学園　福井医療大学","福井県","910-8561","福井県福井市江上町第58号16番1号","大学",null,5,1,{"$f":"P28*O28","v":5},null,"1月～翌年3月",15,"×",null,null,null,"○",5,"要","不明","S-QUE","S-QUE",null,null,"無",null,null,null,null,12,5,5,5,null,null,null,null,5,null,null,5,null,5,null,5,5,5,5,5,5,null,5,null,5,null,null,null,2,"R70122より研修管理委員会の構成員の変更"]
[27,2016,"16","8",39,"001","1639001","　","社会医療法人近森会　近森病院","高知県","780-8522","高知県高知市大川筋１丁目１-16","病院",512,20,1,{"$f":"P29*O29","v":20},null,"6月～翌年３月",10,"×",null,null,null,"○",3,"要","有","S-QUE","S-QUE",null,null,"無",40,47.2,null,null,17,12,12,2,4,null,2,2,null,6,2,4,2,22,null,20,2,4,6,8,4,null,null,0,4,4,2,4,5,"R60601血ガス区分でも開講"]
[28,2016,"16","8",46,"001","1646001","　","国立大学法人鹿児島大学　鹿児島大学病院","鹿児島県","890-8520","鹿児島県鹿児島市桜ヶ丘八丁目３５番１号","大学病院",716,30,1,{"$f":"P30*O30","v":30},null,"4月～翌年3月",12,"×",null,null,null,"○",5,"要","有","S-QUE","S-QUE",null,null,"無",33.799999999999997,98.7,null,null,16,15,20,10,null,null,5,5,5,10,10,5,5,15,null,20,5,5,15,20,null,null,5,5,10,null,null,null,3,"R3.4  外科パ定員増R70401協力施設,指導者の変更"]
[29,2017,"17","２","06","001","1706001","　","国立大学法人山形大学　山形大学大学院医学系研究科看護学専攻","山形県","990-9585","山形県山形市飯田西2-2-2","大学院",null,3,1,{"$f":"P31*O31","v":3},null,"4月～翌々年3月",24,"○",null,"○","○","大学院修士課程",5,"要","無","対面",null,null,null,"NP",null,null,null,null,21,3,3,3,3,3,3,3,3,3,3,3,3,3,3,3,3,3,3,3,3,3,null,null,null,null,null,null,0,"令和6年4月1日より研修管理委員会の構成員、研修施設、指導者の変更"]
[30,2017,"17","２","07","003",{"$f":"CONCATENATE(C32,E32,F32)","v":"1707003"},"　","公立大学法人福島県立医科大学","福島県","960-1295","福島県福島市光が丘1番地","大学",null,30,1,40,null,"4月～翌年3月",12,"×",null,null,null,"○",6,"要","有","S-QUE",null,null,null,"無",43.5,89.6,null,null,20,8,8,8,2,null,5,5,8,10,5,13,5,11,5,14,7,7,8,8,5,5,3,null,3,null,null,null,2]
[31,2017,"17","２",13,"007","1713007","　","医療法人社団　明芳会","東京都","174-0051","東京都板橋区小豆沢３－３－２","本部",null,115,1,{"$f":"P33*O33","v":115},null,"6月～翌年８月",14,"×",null,null,null,"×",5,"不明","不明","S-QUE","S-QUE",null,null,"無",null,47,null,null,12,16,15,10,null,null,null,null,null,4,7,13,null,13,null,8,6,6,null,15,2,null,null,null,null,null,null,null,0,"令和6年7月24日より施設、定員、指導者の変更"]
[32,2017,"17","２",13,"008","1713008","〇","社会医療法人河北医療財団　河北総合病院","東京都","166-0001","東京都杉並区阿佐谷北1-7-3",null,null,null,null,null,null,null,null,null,null,null,null,null,null,null,null,null,null,null,null,null,null,null,null,null,null,null,null,null,null,null,null,null,null,null,null,null,null,null,null,null,null,null,null,null,null,null,null,null,null,null,null,null,0,"R4.6～血糖、腹ド休止　令和6年10月取り消し"]
[33,2017,"17","２",17,"002","1717002","　","公立能登総合病院","石川県","926-0816","石川県七尾市藤橋町ア部6番地4","病院",434,4,1,{"$f":"P35*O35","v":4},null,"4月～翌年3月",12,"×",null,null,null,"○",5,"要","有","S-QUE","不明",null,null,"無",40,null,null,null,{"$f":"COUNTA(AM35:BG35)","v":4},null,null,null,null,null,null,null,null,null,null,4,null,null,2,4,null,4,null,null,null,null,null,null,null,null,null,null,{"$f":"COUNTA(BH35:BM35)","v":0},"令和6年4月1日より研修管理委員会の構成員および指導者の変更"]
[34,2017,"17","２",27,"002","1727002","　","公立大学法人大阪（大阪公立大学）","大阪府",5360025,"大阪市城東区森之宮1丁目6番85号3階","大学",null,29,1,29,null,"4月～翌年3月,9月～翌年6月","12,10","×","○",null,null,"○",5,"不明","不明","S-QUE",null,null,null,"無",null,null,null,null,10,10,10,5,5,null,null,null,null,10,null,null,null,10,null,29,24,5,null,5,null,null,null,null,null,null,null,5,1,"R70101より住所変更、R70401より責任者、構成員、指導者の変更"]
[35,2017,"17","２",27,"003","1727003","　","社会医療法人きつこう会　多根総合病院","大阪府","550-0025","大阪府大阪市西区九条南1-12-21","病院",304,8,1,8,null,"5月～翌年3月",11,"×",null,null,null,"○",5,"要","不明","S-QUE","S-QUE",null,null,"無",54,null,null,null,7,null,null,null,null,null,null,8,null,8,8,8,8,8,null,8,null,null,null,null,null,null,null,null,null,null,null,null,0,"R60501 より研修施設、構成員、指導者変更"]
[36,2017,"17","２",28,"001","1728001","　","兵庫医科大学　臨床教育統括センター","兵庫県","663-8501","兵庫県西宮市武庫川町1番1号","大学",null,40,1,40,null,"4月～翌年3月",12,"×","○",null,null,"○",5,"不明","無","S-QUE",null,null,null,"無",null,null,null,null,16,30,30,10,10,null,null,null,10,20,10,15,10,30,null,30,20,10,20,30,10,null,10,null,10,10,10,10,5,"R60816より、協力施設の追加、指導者の変更、研修管理委員会の構成員の変更"]
[37,2017,"17","２",30,"001","1730001","　","公立大学法人和歌山県立医科大学","和歌山県","641-8510","和歌山県和歌山市紀三井寺811-1","大学",null,15,1,15,null,"4月～翌年9月",18,"×",null,null,null,"○",5,"要","有","放送大学","学研",null,null,"無",22.9,32.35,null,null,9,5,null,10,null,null,null,null,5,15,5,10,null,10,null,15,null,5,null,null,null,null,5,null,null,null,null,null,1,"R70401より総定員変更"]
[38,2017,"17","２",33,"001","1733001","　","学校法人　川崎学園","岡山県","701-0192","岡山県倉敷市松島577","大学",null,56,1,56,null,"10月~翌３月\n6月～翌年3月","５\n10","×","○",null,null,"○",5,"要","有","S-QUE","S-QUE",null,null,"有",56,59,null,null,15,13,13,6,null,null,5,10,8,5,5,8,5,13,null,56,18,null,10,28,null,null,3,null,5,null,null,null,2,"R70501より定員数の変更、在宅Pの申請構成員、指導者の変更"]
[39,2017,"17","２",37,"001","1737001","　","独立行政法人国立病院機構　四国こどもとおとなの医療センター","香川県","765-8507","香川県善通寺市仙遊町2丁目1-1","病院",689,12,1,12,null,"5月~翌年1月",9,"×",null,null,null,"○",5,"要","有","学研","学研",null,null,"無",45,null,null,null,7,0,3,0,null,null,null,null,3,null,null,3,null,null,null,3,null,3,null,null,null,null,3,null,null,null,null,null,1,"R70508より長期呼吸療法休止、気道確保引き続き休止(R60521より)、人工呼吸再開"]
[40,2017,"17","２",13,"009","1713009","　","独立行政法人地域医療機能推進機構","東京都","108-8583","東京都港区高輪3-22-12","本部",null,200,1,{"$f":"P42*O42","v":200},null,"4月～翌々年3月",24,"×",null,null,null,"不明",5,null,"有","放送大学","ヴェクソン",null,null,null,null,null,null,null,18,31,40,37,null,null,10,11,52,57,47,145,49,74,58,200,86,107,34,33,null,19,6,null,12,null,null,null,2,"R70401より定員変更、教材学研より変更"]
[41,2017,"17","8","01","002","1701002","　","社会医療法人恵和会　西岡病院","北海道","003-0034","北海道札幌市豊平区西岡4条4丁目1番52号","病院",150,4,1,4,null,"10月～翌年9月",12,"×",null,null,null,"○",5,"要","有","S-QUE","S-QUE","旧","旧","無",null,null,null,null,1,null,null,null,null,null,null,null,null,null,null,null,null,null,null,4,null,null,null,null,null,null,null,null,null,null,null,null,0,"H30年4月1日区分別eーラン変更"]
[42,2017,"17","８",13,"010","1713010","　","医療法人社団永生会　","東京都","193-0942","東京都八王子市椚田町583-15","本部",null,3,1,3,null,"10月～翌年9月",12,"×",null,null,null,"不明",5,"要","不明","S-QUE",null,"旧","旧","無",null,null,null,null,2,null,null,3,null,null,null,null,null,null,null,3,null,null,null,null,null,null,null,null,null,null,null,null,null,null,null,null,0,"R70501より共通科目時間数の変更"]
[43,2017,"17","8",13,"011","1713011","　","社会福祉法人恩賜財団済生会支部東京都済生会　東京都済生会中央病院　","東京都","108-0073","東京都港区三田１丁目４番１７号","病院",535,12,1,12,null,"10月～翌年9月",12,"×",null,null,null,"×",5,"要","有","学研","学研",null,null,"無",null,null,null,null,10,9,9,null,1,null,null,null,null,null,1,null,null,9,null,11,null,3,9,9,1,null,null,null,8,null,null,null,1,"R71001より共通科目、6区分、パッケージ定員変更"]
[44,2017,"17","8",13,"012","1713012","　","セコム医療システム株式会社","東京都","150-0001","東京都渋谷区神宮前1-5-1","本部",null,10,1,10,null,"10月～翌々年３月",18,"×",null,null,null,"○（H30～）",5,"要","不明","放送大学","独自","旧","旧","無","無料",null,null,null,14,15,15,15,null,null,null,null,15,15,15,15,15,15,null,15,15,15,15,15,null,null,15,null,15,null,15,null,3,"R70618より指導者の変更"]
[45,2017,"17","8",14,"001","1714001","　","医療法人五星会　菊名記念病院","神奈川県","222-0011","神奈川県横浜市港北区菊名4-4-27","病院",218,3,1,3,null,"10月～翌年9月",12,"×",null,null,null,"○",5,"要","不明","学研","学研",null,null,"無",24,null,null,null,2,null,null,null,null,null,null,null,null,null,null,null,null,null,null,3,null,5,null,null,null,null,null,null,null,null,null,null,0,"受講料（グループ外受講生は34万円）"]
[46,2017,"17","8",14,"002","1714002","　","医療法人横浜未来ヘルスケアシステム 戸塚共立第1病院　","神奈川県","244－0003","神奈川県横浜市戸塚区戸塚町116番地","病院",148,5,2,10,null,"4月～翌3月、10月～翌年9月",12,"×",null,null,null,"不明",5,"要","不明","S-QUE","S-QUE",null,null,"不明",null,null,null,null,18,5,5,5,null,null,5,5,5,5,5,null,5,5,5,5,5,5,5,5,5,5,null,null,null,null,null,null,0,"R2.1指定研修機関名変更"]
[47,2017,"17","8",14,"003","1714003","　","社会福祉法人恩賜財団済生会支部神奈川県済生会横浜市東部病院","神奈川県","230-0012","神奈川県横浜市鶴見区下末吉3-6-1","病院",560,28,1,31,null,"４月～翌年３月、11月～翌年1月","12、３","×",null,null,null,"○",5,"要","不明","S-QUE","S-QUE",null,null,"有",36,46,null,null,13,7,7,13,null,null,null,6,3,6,3,9,6,7,null,25,null,12,null,null,7,null,3,null,null,null,null,null,1,"R70401より定員変更"]
[48,2017,"17","8",16,"001","1716001","〇","医療法人社団藤聖会　八尾総合病院","富山 県",null,null,null,null,null,null,null,null,null,null,null,null,null,null,null,null,null,null,null,null,null,null,null,null,null,null,null,null,null,null,null,null,null,null,null,null,null,null,null,null,null,null,null,null,null,null,null,null,null,null,null,null,null,null,null,0,"指定取消→富山西総合病院へ(20180807)"]
[49,2017,"17","8",17,"003","1717003","　","医療法人社団和楽仁　芳珠記念病院","石川県","923-1226","石川県能美市緑が丘１１－７１","病院",320,3,1,{"$f":"P51*O51","v":3},null,"4月～翌年3月",12,"×",null,null,null,"○",5,"要","有","S-QUE",null,null,null,"無",40,null,null,null,{"$f":"COUNTA(AM51:BG51)","v":5},null,null,3,null,null,null,null,3,null,null,3,null,null,null,3,null,3,null,null,null,null,3,null,null,null,null,null,1]
[50,2017,"17","8",17,"004","1717004","　","公立松任石川中央病院","石川県","924-8588","石川県白山市倉光三丁目８番地","病院",305,4,1,12,null,"10月～9月",12,"×",null,null,null,"○",5,"要","有","S-QUE","S-QUE",null,null,"無",39.5,53.5,null,null,7,null,null,null,null,null,null,3,null,4,4,1,null,null,3,6,3,null,null,null,null,null,null,null,null,null,null,null,0,"令和6年10月1日より定員数の変更"]
[51,2017,"17","8",17,"005","1717005","　","国民健康保険　小松市民病院","石川県","923-8560","石川県小松市向本折町ホ６０","病院",344,6,1,{"$f":"P53*O53","v":6},null,"4月～翌年3月",12,"×",null,null,null,"不明",3,"要","有","S-QUE","S-QUE",null,null,"無",null,null,null,null,3,null,null,null,null,null,null,null,null,null,null,3,null,null,null,0,null,3,null,null,null,null,null,null,null,null,null,null,0,"令和5年4月から栄養区分は休止R50401教材学研から変更"]
[52,2017,"17","8",40,"001","1740001","　","社会医療法人　弘恵会　ヨコクラ病院","福岡県","839－0295","福岡県みやま市高田町濃施480-2","病院",199,6,1,6,null,"4月～翌々年3月",24,"×",null,null,null,"○",5,"要","有","S-QUE","S-QUE",null,null,"無",40,null,null,null,5,null,null,2,null,null,null,null,2,null,null,4,null,2,null,2,null,null,null,null,null,null,2,null,null,null,null,null,1,"H30年4月1日名称変更（旧　医療法人弘恵会　ヨコクラ病院）"]
[53,2017,"17","8",40,"002","1740002","　","社会医療法人雪の聖母会　聖マリア病院","福岡県","830－8543","福岡県久留米市津福本町422","病院",1097,14,1,14,null,"4月～翌3月",12,"×",null,null,null,"○",5,"要","不明","S-QUE","S-QUE",null,null,"無",40,null,null,null,11,10,10,2,5,null,null,null,2,5,null,2,null,10,null,9,null,null,5,10,null,null,2,null,5,null,null,5,3,"R70403より慢性、麻酔P定員変更"]
[54,2017,"17","8",41,"001","1741001","　","社会医療法人祐愛会　織田病院","佐賀県","849－1392","佐賀県鹿島市大字高津原4306","病院",111,8,1,8,null,"4月～翌年3月",12,"×",null,null,null,"不明",5,"要","有","S-QUE","S-QUE",null,null,"無",null,null,null,null,5,null,null,3,null,null,null,null,3,null,null,3,null,null,null,3,null,null,5,null,null,null,3,null,null,null,null,null,1]
[55,2018,"18","２","01","003","1801003","　","旭川赤十字病院","北海道","070-8530","北海道旭川市曙1条1丁目1番1号","病院",520,1,1,1,null,"4月～翌年3月",12,"×",null,null,null,"×",5,null,"有","放送大学","独自",null,null,"無",10.8,null,null,null,2,null,null,null,null,null,null,null,null,null,null,2,null,null,null,null,null,1,null,null,null,null,null,null,null,null,null,null,0,"ラダーレベルⅢ以上,区分別は日赤職員無料、R70401構成員の変更"]
[56,2018,"18","２","01","004",{"$f":"CONCATENATE(C58,E58,F58)","v":"1801004"},"　","社会福祉法人恩賜財団済生会支部北海道済生会小樽病院","北海道","047-0008","北海道小樽市築港10番1号","病院",258,2,0.5,1,null,"4月～翌年12月",21,"×",null,null,null,"○",5,"要","有","学研","学研",null,null,"有",42.8,45.6,null,null,10,1,2,null,null,null,null,null,2,null,null,2,null,2,null,2,null,2,1,2,2,null,null,null,1,null,null,null,1,"令和6年4月1日より指導者の変更および研修計画（eラーニング）の変更"]
[57,2018,"18","２","05","001","1805001","　","社会医療法人青嵐会　本荘第一病院","秋田県","015-8567","秋田県由利本荘市岩渕下110","病院",160,4,1,4,null,"4月～翌年2月",11,"×",null,null,null,"○",5,"要","無","S-QUE","S-QUE",null,null,"無",null,null,null,null,4,null,null,null,null,null,null,null,null,4,4,null,null,4,null,4,null,null,null,null,null,null,null,null,null,null,null,null,0]
[58,2018,"18","２",13,"013","1813013","　","医療法人財団慈生会　野村病院","東京都","181-8503","東京都三鷹市下連雀８－３－６","病院",133,3,1,3,null,"4月～翌年3月",12,"×",null,null,null,"×",4,"不要","無","S-QUE","S-QUE",null,null,"無",null,null,null,null,1,null,null,null,null,null,null,null,null,null,null,null,null,null,null,3,null,null,null,null,null,null,null,null,null,null,null,null,0,"ラダーレベルⅢ以上R70401より構成員の変更"]
[59,2018,"18","２",13,"014","1813014","　","日本赤十字社","東京都","105-8521","東京都港区芝大門１－１－３","本部",null,71,1,75,null,"4～3月．4～11月．10～5月、10～９月",8.1199999999999992,"×",null,null,null,"×",5,null,"有","放送大学","独自",null,null,"無",10.8,null,null,null,12,13,13,8,null,null,null,null,1,null,null,20,null,21,null,44,8,17,5,4,5,null,1,null,3,3,null,null,3,"R70401より定員変更"]
[60,2018,"18","２",13,"015","1813015","　","武蔵野赤十字病院","東京都","180-8610","東京都武蔵野市境南町１－２６－１","病院",611,12,1,{"$f":"P62*O62","v":12},null,"10月～翌年９月・10月~翌５月","12・８","×",null,null,null,"×",5,null,"有","エルゼビア","エルゼビア",null,null,"無",10.8,null,null,null,11,2,2,2,null,null,null,null,null,null,null,2,2,2,null,2,2,2,2,2,null,null,null,null,2,null,null,null,1,"R70401より構成員、指導者の変更"]
[61,2018,"18","２",20,"001","1820001","　","学校法人佐久学園　佐久大学大学院看護学研究科看護学専攻","長野県","385-0022","長野県佐久市岩村田２３８４","大学院",null,5,1,{"$f":"P63*O63","v":5},null,"4月～翌々年3月",24,"○",null,null,"○","大学院修士課程",5,"要","無","放送大学","独自",null,null,"無",223,null,null,null,12,5,5,5,null,null,null,null,5,null,null,5,null,5,null,5,5,5,5,5,5,null,5,null,5,5,null,null,3,"令和5年11月16日より研修施設および指導者の変更"]
[62,2018,"18","２",27,"004","1827004","　","公益社団法人　大阪府看護協会","大阪府","536-0014","大阪市城東区鴫野西2丁目5番25号","協会",null,50,1,{"$f":"P64*O64","v":50},null,"4月～翌年3月",12,"×","○",null,null,"○","認定","不要","有","S-QUE","S-QUE",null,"旧",null,null,null,null,null,14,10,10,10,null,null,null,null,10,10,null,15,10,15,null,45,10,5,10,5,10,null,5,null,null,5,5,null,3,"令和6年11月７日より協力施設の定員変更、施設の追加および研修責任者、指導者の変更"]
[63,2018,"18","２",28,"002","1828002","　","姫路赤十字病院","兵庫県","670-8540","姫路市下手野1丁目12番１号","病院",555,5,2,9,null,"4月～3月","12,24 ","×",null,null,null,"×",5,"要","有","学研","学研",null,null,"無",null,null,null,null,12,2,4,5,null,null,null,null,null,null,2,5,null,4,null,7,5,5,2,2,2,null,null,null,2,null,null,null,1,"R70510より教材変更"]
[64,2018,"18","２",31,"001","1831001","　","国立大学法人　鳥取大学医学部附属病院","鳥取県","683-8504","鳥取県米子市西町３６－１","大学病院",697,10,1,{"$f":"P66*O66","v":10},null,"4月～翌年3月",12,"×",null,null,null,"○",5,"不要","有","S-QUE","S-QUE",null,null,"無",null,null,null,null,7,4,4,null,null,null,null,null,null,null,null,null,null,4,null,4,null,4,4,4,null,null,null,null,null,null,null,null,0,"R70401より構成員、協力施設、指導者の変更"]
[65,2018,{"$f":"RIGHT(B67,2)","v":"18"},"２",35,"001",{"$f":"CONCATENATE(C67,E67,F67)","v":"1835001"},"　","綜合病院　山口赤十字病院","山口県","753-8519","山口県山口市八幡馬場53-1","病院",475,4,1,{"$f":"P67*O67","v":4},null,"4月～翌年3月",12,"×",null,null,null,"×",5,"要","有","放送大学","独自",null,null,"無",10.8,null,null,null,4,null,null,2,null,null,null,null,2,null,null,4,null,null,null,4,null,null,null,null,null,null,2,null,null,null,null,null,{"$f":"COUNTA(BH67:BM67)","v":1},"R70401より構成員および指導者の変更"]
[66,2018,"18","２",37,"002","1837002","　","高松赤十字病院","香川県","760-0017","香川県高松市番町四丁目1番3号","病院",576,4,1,{"$f":"P68*O68","v":4},null,"4月～翌年3月","12,24","×",null,null,null,"×",5,"要","有","放送大学","独自",null,null,"無",10.8,null,null,null,5,null,1,1,null,null,null,null,null,null,null,1,null,null,null,4,null,1,null,null,null,null,null,null,null,null,null,null,0,"令和6年4月1日より研修管理委員会の構成員および指導者の変更"]
[67,2018,"18","２",40,"003","1840003","　","社会医療法人共愛会　戸畑共立病院","福岡県","804-0093","北九州市戸畑区沢見2丁目5番1号","病院",218,13,1,28,null,"4月～翌3月,4月～9月","6,12","×",null,null,null,"○",5,"要","有","S-QUE","S-QUE",null,null,"無",null,null,null,null,12,4,4,4,null,null,null,null,4,6,2,6,null,6,6,18,null,null,4,4,null,null,4,null,4,null,null,null,2,"令和6年6月1日より指導者の変更"]
[68,2018,"18","２",47,"001","1847001","　","国立大学法人琉球大学　琉球大学病院","沖縄県","901-2222","沖縄県宜野湾市宇喜友名1076番地","大学病院",570,16,2,60,null,"4月～翌年3月,9月～翌3月、4月～9月","6,7,12","×",null,null,null,"○",5,"不要","有","学研","学研",null,null,"無",null,null,null,null,20,11,11,6,2,3,2,3,3,8,3,9,3,14,3,28,3,16,9,8,6,null,3,null,3,3,3,2,5,"R70101に移転に伴う所在地の変更,R70401,疼痛関連区分でも開講、協力施設、指導者の変更"]
[69,2018,"18","２",47,"002","1847002","　","社会医療法人仁愛会　浦添総合病院","沖縄県","901-2102","沖縄県浦添市前田一丁目56番１号","病院",334,21,1,{"$f":"P71*O71","v":21},null,"4月～翌3月",12,"×",null,null,null,"○",5,"要","有","S-QUE","S-QUE",null,null,"無",null,null,null,null,10,7,10,5,2,null,null,null,2,2,null,null,null,7,null,9,null,null,null,2,5,null,null,null,null,5,null,2,2,"※栄養水分確認"]
[70,2018,"18","8",16,"002","1816002","　","医療法人社団藤聖会　富山西総合病院","富山県","939-2716","富山県富山市婦中町下轡田1019番地","病院",154,4,1,{"$f":"P72*O72","v":4},null,"10月～翌年9月",12,"×",null,null,null,"○",5,"要","有","S-QUE","S-QUE",null,null,"無",null,null,null,null,3,null,null,null,null,null,null,null,null,null,null,null,null,null,null,4,null,8,null,4,null,null,null,null,null,null,null,null,0,"R6.8.1より定員数、特定行為研修管理委員会構成員の変更。"]
[71,2018,"18","8","01","005","1801005","　","医療法人社団　エス・エス・ジェイ　札幌整形循環器病院","北海道","004-0861","北海道札幌市清田区北野１条２丁目11番30号","病院",181,5,1,{"$f":"P73*O73","v":5},null,"10月～翌年9月",12,"×",null,null,null,"不明",null,"要","有","放送大学",null,null,null,"有",28,54,null,null,3,null,null,null,null,null,null,null,null,null,null,null,null,null,null,0,null,null,0,0,null,null,null,null,null,null,null,null,0,"5年勤務継続で受講料免除\n栄養及び水分管理に係る薬剤投与関連、術後疼痛管理関連、循環動態に係る薬剤投与関連はR２/9/30から休講"]
[72,2018,"18","8","05","002","1805002","　","秋田赤十字病院","秋田県","010-1495","秋田県秋田市上北手猿田字苗代沢222番地1","病院",480,2,1,{"$f":"P74*O74","v":2},null,"10月～翌年9月",12,"×",null,null,null,"○",5,"要","有","放送大学","独自",null,null,"無",39.9,null,null,null,4,null,null,2,null,null,null,null,2,null,null,4,null,null,null,2,null,null,null,null,null,null,2,null,null,null,null,null,1,"令和6年4月25日より研修管理委員会の構成員の変更"]
[73,2018,"18","8","08","002","1808002","　","社会福祉法人恩賜財団済生会支部　茨城県済生会水戸済生会総合病院","茨城県","311-4198","茨城県水戸市双葉台3丁目3番10号","病院",472,15,1,35,null,"4月～翌年3月",12,"×",null,null,null,"不明",3,"要","有","S-QUE","S-QUE",null,null,"無",45.2,52.4,null,null,20,20,20,13,13,5,15,15,15,20,15,15,10,20,10,20,15,20,13,15,13,null,10,10,10,10,10,10,6,"令和6年4月1日より指導者の変更"]
[74,2018,"18","8",18,"002","1818002","　","市立敦賀病院","福井県","914-0058","福井県敦賀市三島町1丁目6番60号","病院",332,5,1,{"$f":"P76*O76","v":5},null,"4月～翌年3月",12,"×",null,null,null,"○","認定","要","有","S-QUE","S-QUE",null,null,"無",39,null,null,null,5,null,null,5,null,null,null,null,5,null,5,5,null,null,null,5,null,null,null,null,null,null,5,null,null,null,null,null,1,"令和6年5月1日より研修管理委員会の構成員の変更"]
[75,2018,"18","8",20,"002","1820002","　","伊那中央病院","長野県","396-8555","長野県伊那市小四郎久保1313番地1","病院",394,10,1,{"$f":"P77*O77","v":10},null,"10月～翌年9月",12,"×",null,null,null,"不明",5,"要","有","S-QUE","S-QUE",null,null,"無",null,null,null,null,10,5,5,5,null,null,null,null,null,5,null,5,null,5,null,5,null,5,null,null,2,5,null,null,null,null,null,null,0,"R70416より構成員、指導者,協力施設の変更。精神および神経症に～休止⇒R71001開始"]
[76,2018,"18","8",21,"001","1821001","　","岐阜県厚生農業協同組合連合会　岐阜・西濃医療センター　西濃厚生病院","岐阜県","501-0532","岐阜県揖斐郡大野町下磯293番地1","病院",293,4,1,4,null,"6月～翌年6月、1～6月","6，13","×",null,null,null,"不明",5,"要","無","S-QUE","S-QUE",null,null,"無",null,null,null,null,2,null,null,null,null,null,null,null,null,null,null,2,null,2,null,null,null,null,null,null,null,null,null,null,null,null,null,null,0,"R61001より研修講義時間の変更"]
[77,2018,"18","8",21,"002","1821002","　","岐阜県厚生農業協同組合連合会　岐阜・西濃医療センター　岐北厚生病院","岐阜県","501-2105","岐阜県山県市高富1187番地3","病院",316,2,1,{"$f":"P79*O79","v":2},null,"10月～翌年9月",12,"×",null,null,null,"不明",5,"要","無","S-QUE","S-QUE",null,null,"無",null,null,null,null,1,null,null,null,null,null,null,null,null,2,null,null,null,null,null,null,null,null,null,null,null,null,null,null,null,null,null,null,0,"令和6年4月1日より研修管理委員会の構成員の変更"]
[78,2018,"18","8",21,"003","1821003","　","岐阜県厚生農業協同組合連合会　飛騨医療センター　久美愛厚生病院","岐阜県","506-8502","岐阜県高山市中切町1番地1","病院",300,6,1,6,null,"4月～翌年3月",12,"×",null,null,null,"不明",null,null,"有","S-QUE","S-QUE",null,null,"無",null,null,null,null,2,null,null,null,null,null,null,null,null,null,null,3,null,null,null,3,null,null,null,null,null,null,null,null,null,null,null,null,0,"令和6年4月１日より研修管理委員会の構成員の変更、特定行為研修責任者の変更、特定行為研修の指導者の変更"]
[79,2018,"18","8",21,"004","1821004","　","岐阜県厚生農業協同組合連合会　中濃厚生病院","岐阜県","501-3802","岐阜県関市若草通5丁目1番地","病院",402,10,1,10,null,"10月～翌年９月",18,"×",null,null,null,"不明",5,"要","無","S-QUE","S-QUE","旧","旧","無",null,null,null,null,5,null,null,null,null,null,null,null,null,2,null,null,null,2,2,2,null,2,null,null,null,null,null,null,null,null,null,null,0]
[80,2018,"18","8",21,"005","1821005","　","岐阜県厚生農業協同組合連合会　東濃中部医療センター　東濃厚生病院","岐阜県","509-6101","岐阜県瑞浪市土岐町76番地1","病院",270,4,1,4,null,"4月～翌年3月",12,"×",null,null,null,"○",5,"要","無","S-QUE","S-QUE",null,null,"無",null,null,null,null,5,null,6,null,null,null,null,null,null,null,null,null,null,6,null,6,6,null,null,null,null,6,null,null,null,null,null,null,0,"令和５年4月1日より進度表の変更。\n令和6年4月1日より管理委員会構成員の変更"]
[81,2018,"18","8",21,"006","1821006","　","岐阜県厚生農業協同組合連合会　岐阜・西濃医療センター　西美濃厚生病院","岐阜県","503-1394","岐阜県養老郡養老町押越986","病院",315,2,1,2,null,"4月～翌年3月",12,"×",null,null,null,"○",5,"要","無","S-QUE","S-QUE",null,null,"無",null,null,null,null,{"$f":"COUNTA(AM83:BG83)","v":1},null,null,null,null,null,null,null,2,null,null,null,null,null,null,null,null,null,null,null,null,null,null,null,null,null,null,null,0]
[82,2018,"18","8",22,"001","1822001","　","学校法人　聖隷学園　聖隷クリストファー大学","静岡県","453-8558","静岡県浜松市中央区三方原町3453","大学",null,9,1,9,null,"4月～翌年3月",12,"×",null,null,"○","○",5,"要","無","放送大学","学研",null,null,"無",48,null,"一般","○",8,null,null,9,null,null,null,null,9,null,null,9,null,null,null,9,4,4,null,4,4,null,5,null,null,null,null,null,1,"令和6年4月1日より定員数、研修施設、研修責任者、研修管理委員会の構成員、指導者の変更R6110より構成員の変更"]
[83,2018,"18","8",22,"002","1822002","　","公益社団法人有隣厚生会富士病院","静岡県","412-0043","静岡県御殿場市新橋1784","病院",160,10,2,20,null,"4月～９月、10月～翌年3月",6,"×",null,null,null,"不明",5,"要","有","S-QUE","S-QUE",null,null,"無",null,null,null,null,17,20,20,20,null,null,null,5,20,20,20,20,20,20,20,20,20,20,20,20,6,null,20,null,20,null,20,null,3,"令和6年4月1日より施設、指導者、定員数の変更"]
[84,2018,"18","8",28,"003","1828003","　","医療法人社団慈恵会新須磨病院","兵庫県","654-0048","兵庫県神戸市須磨区衣掛町3-1-14","病院",147,6,1,{"$f":"P86*O86","v":6},null,"10月～3月/9月～（次年度）",6,"×",null,null,null,"×",5,"要","有","S-QUE","S-QUE","新","新","無",null,null,null,null,6,null,null,null,null,null,null,null,null,6,null,6,null,6,null,6,null,6,null,null,6,null,null,null,null,null,null,null,0]
[85,2018,"18","8",40,"004","1840004","　","福岡赤十字病院","福岡県","815-8555","福岡県福岡市南区大楠3丁目1番1号","病院",509,41,1,41,null,"10月～9月/4月～","12,24","×",null,null,null,"×",5,"要","有","放送大学","独自",null,null,"無",null,null,null,null,14,9,9,3,2,null,null,null,null,5,3,1,null,9,null,11,1,1,3,7,5,null,null,null,2,2,null,2,3,"ラダーレベルⅢ以上、共通科目（実習）及び区分別科目は赤十字医療施設の職員は無料で受講可\n"]
[86,2018,"18","8",41,"002","1841002","　","社会医療法人謙仁会　山元記念病院","佐賀県","848-0031","佐賀県伊万里市二里町八谷搦 88-4 ","病院",150,8,1,8,null,"4月～翌年3月",12,"×",null,null,null,"○",5,"要","無","S-QUE","S-QUE",null,null,"無",null,null,null,null,5,null,null,3,null,null,null,null,3,5,null,3,null,null,null,3,null,null,null,null,null,null,3,null,null,null,null,null,1,"令和6年4月24日より研修管理委員会の構成員および指導者の変更"]
[87,2018,"18","8",44,"002","1844002","　","社会医療法人敬和会　大分岡病院","大分県","870-0192","大分県大分市西鶴崎3-7-11","病院",224,6,1,6,null,"4月～翌年10月・4月～翌4月・12月～4月","5・13・19","×",null,null,null,"○",5,"要","有","S-QUE","S-QUE",null,null,"無",null,null,null,null,15,4,4,4,null,null,2,2,2,2,2,4,2,6,null,6,2,null,4,4,null,null,2,2,2,null,2,null,4,"令和6年2月1日より施設の追加および指導者の変更"]
[88,2018,"18","8",47,"003","1847003","　","医療法人徳洲会　南部徳洲会病院","沖縄県","901-0493","沖縄県島尻郡八重瀬町字外間171番地1","病院",345,20,1,20,null,"4月～翌年3月",12,"×",null,null,null,"○",5,"要","有","学研","学研",null,null,"無",null,null,null,null,7,null,null,12,null,null,null,null,10,10,null,4,null,10,null,0,null,0,null,null,null,null,0,null,null,null,null,null,1,"令和6年4月1日より研修管理委員会の構成員、研修責任者、指導者、定員数の変更"]
[89,2019,"19","２","01","006","1901006","　","清水赤十字病院","北海道","089-0195","北海道上川郡清水町南2条2丁目1","病院",92,2,1,2,null,"4月～10月\n10月～翌9月\n4月～翌3月",12,"×",null,null,null,"×",5,"要","有","放送大学","独自",null,null,null,null,null,null,null,6,null,null,2,null,null,null,null,2,null,null,2,null,null,null,2,null,2,2,null,null,null,2,null,null,null,null,null,1,"R70401より共通科目時間数の変更"]
[90,2019,"19","2","04","002","1904002","　","石巻赤十字病院","宮城県","986-0861","宮城県石巻市蛇田字西道下71番地","病院",464,8,1,8,null,"4月～翌年3月",12,"×",null,null,null,"×",5,"要","有","放送大学","独自",null,null,null,null,null,null,null,7,2,2,null,null,null,null,null,null,null,null,2,null,2,null,2,2,2,null,null,null,null,null,null,null,null,null,null,0,"令和6年10月1日より指導者の変更"]
[91,2019,"19","2","04","003","1904003","　","医療法人　浄仁会　大泉記念病院","宮城県","989-0731","宮城県白石市福岡深谷字一本松5-1","病院",192,5,1,5,null,"4月～翌年3月",12,"×",null,null,null,"×",5,"要","有","学研","学研",null,null,null,null,null,null,null,4,null,null,9,null,null,null,null,9,null,null,1,null,null,null,2,null,null,null,null,null,null,2,null,null,null,null,null,1,"令和6年4月1日より研修管理委員会の構成員および指導者の変更"]
[92,2019,"19","2",13,"016","1913016","　","公益財団法人日産厚生会玉川病院","東京都","158-0095","東京都世田谷区瀬田4-8-1","病院",389,6,1,6,null,"6月～翌年5月",12,"×",null,null,null,"不明","不明","不明","有","S-QUE","S-QUE",null,null,null,null,null,null,null,8,null,null,null,null,null,3,null,null,null,3,3,3,2,null,3,3,2,null,null,null,null,null,null,null,null,null,null,0,"令和6年6月1日より研修内容の変更"]
[93,2019,"19","2",13,"017","1913017","　","社会医療法人社団正志会　花と森の東京病院","東京都","114-0024","東京都北区西ヶ原2丁目3番6号","病院",199,8,2,8,null,"4月～翌年3月、7月～翌々年3月","12、21","×",null,null,null,"×",5,"要","有","S-QUE","S-QUE",null,null,null,null,null,null,null,8,8,8,8,null,null,null,null,null,8,8,null,null,8,null,8,null,null,null,null,8,null,null,0,null,8,null,null,2,"R70101より指導者の変更"]
[94,2019,"19","2",14,"004","1914004","　","独立行政法人労働者健康安全機構","神奈川県","211－0021","神奈川県川崎市中原区木月住吉町1番1号","本部",null,90,1,{"$f":"P96*O96","v":90},null,"4月～翌年3月",12,"×",null,null,null,"×",5,"要","有","S-QUE","S-QUE",null,null,null,null,null,null,null,18,37,39,10,1,null,null,1,1,12,14,22,19,46,1,90,12,19,25,32,10,null,null,null,13,1,3,1,{"$f":"COUNTA(BH96:BM96)","v":4}]
[95,2019,"19","2",14,"005","1914005","　","横浜市立みなと赤十字病院","神奈川県","232-8682","神奈川県横浜市中区新山下3丁目12番1号","病院",634,8,1,12,null,"４月～翌年３月．4～11月、10～9月、１０～5",8.1199999999999992,"×",null,null,null,"×",5,"要","有","放送大学","独自",null,null,null,null,null,null,null,11,1,1,2,null,null,null,1,null,null,2,1,null,3,null,3,1,null,1,1,null,null,null,null,1,null,null,null,1,"R71014より看護師の定員数と2区分の定員変更"]
[96,2019,"19","2",16,"003","1916003","　","富山県立中央病院","富山県","930-8550 ","富山県富山市西長江2丁目2番78号","病院",733,14,1,20,null,"6月～翌3月、11~3月","5,10","×",null,null,null,"○",5,"要","有","学研","学研",null,null,null,null,null,null,null,15,5,5,5,5,null,null,5,null,5,5,6,5,5,null,8,null,5,5,5,5,null,null,null,5,5,null,5,3,"R70627　定員数の変更（総定員数20名のうち、共通科目の定員は14名）"]
[97,2019,"19","2",16,"004","1916004","　","南砺市民病院","富山県","932-0211 ","富山県南砺市井波938番地","病院",175,4,1,{"$f":"P99*O99","v":4},null,"７月～６月",12,"×",null,null,null,"○",5,"不明","有","学研","学研",null,null,null,null,null,null,null,5,null,null,4,null,null,null,null,4,null,null,4,null,null,null,4,null,4,null,null,null,null,4,null,null,null,null,null,1,"令和6年7月1日より定員数の変更"]
[98,2019,"19","2",20,"003","1920003","　","社会医療法人財団慈泉会　相澤病院","長野県","390-8510","長野県松本市本庄2-5-1","病院",460,8,1,{"$f":"P100*O100","v":8},null,"4月～翌々年3月\n10月～翌々年9月",24,"×",null,null,null,"×",5,"要","有","エルゼビア","エルゼビア",null,null,null,null,null,null,null,14,3,3,2,null,null,2,2,null,2,2,3,5,3,null,8,null,3,3,3,null,null,null,null,null,null,null,null,0,"R70401より期間の変更"]
[99,2019,"19","2",21,"007","1921007","　","県北西部地域医療センター　国保白鳥病院","岐阜県","501-5122","岐阜県郡上市白鳥町為真１２０５番地１","病院",64,3,1,{"$f":"P101*O101","v":3},null,"4月～翌年3月",12,"×",null,null,null,"不明",5,"要","有","S-QUE","S-QUE",null,null,null,null,null,null,null,4,null,null,1,null,null,null,null,1,null,null,1,null,null,null,3,null,null,null,null,null,null,2,null,null,null,null,null,1,"令和6年4月1日より研修管理委員会の構成員および指導者の変更"]
[100,2019,"19","2",22,"003","1922003","　","国立大学法人浜松医科大学　浜松医科大学医学部附属病院","静岡県","431-3192","静岡県浜松市東区半田山一丁目20番1号","大学病院",613,30,1,{"$f":"P102*O102","v":30},null,"4～3月、8～3月",8.1199999999999992,"×",null,null,null,"×",5,"要","有","S-QUE","S-QUE",null,null,null,null,null,null,null,17,20,20,5,5,3,3,3,null,10,3,null,3,20,null,30,5,10,15,10,10,null,null,null,5,5,null,null,2,"令和6年8月1日より協力施設、定員数、 指導者の変更"]
[101,2019,"19","2",23,"003","1923003","　","医療法人名古屋澄心会　名古屋ハートセンター","愛知県","461-0045 ","愛知県名古屋市東区砂田橋一丁目1番14号","病院",64,5,1,20,null,"4月～翌年3月、8月~翌3月",8.1199999999999992,"×",null,null,null,null,null,null,"有","S-QUE","S-QUE",null,null,null,null,null,null,null,10,null,5,3,null,null,null,null,null,3,3,null,null,3,5,5,5,5,null,3,null,null,null,null,null,null,null,null,0,"令和４年４月より共通５　区分各５名　計２５名"]
[102,2019,"19","2",23,"004","1923004","　","学校法人　藤田学園　藤田医科大学　保健衛生学部　臨床看護研修センター","愛知県","470-1192","愛知県豊明市沓掛町田楽ヶ窪1番地98","大学",null,77,2,111,null,"4月～翌年3月\n10月～翌9月、4~9月、10~3月",6.12,"×",null,null,null,null,null,null,"有","S-QUE","S-QUE",null,null,null,null,null,null,null,18,40,34,16,6,null,16,16,null,79,10,17,16,40,10,73,10,25,18,24,12,null,null,8,8,10,null,6,4,"R70401より定員変更"]
[103,2019,"19","2",23,"005","1923005","　","国立大学法人東海国立大学機構　名古屋大学医学部附属病院","愛知県","466-8560","愛知県名古屋市昭和区鶴舞町65番地","大学病院",1080,30,2,{"$f":"P105*O105","v":60},null,"7月～翌年6月、1月～12月",12,"×",null,null,null,null,5,"要","有","S-QUE","S-QUE",null,null,null,null,null,null,null,18,20,20,10,5,null,5,5,5,20,10,5,15,25,null,40,10,5,20,15,5,null,2,5,null,3,1,null,4,"R061101より構成員の変更"]
[104,2019,"19","2",27,"005","1927005","　","医療法人藤井会　石切生喜病院","大阪府","579-8026","大阪府東大阪市弥生町18-28","病院",331,12,1,{"$f":"P106*O106","v":12},null,"4月～翌年3月",12,"×",null,null,null,null,null,null,"無","S-QUE",null,null,null,null,null,null,null,null,13,4,4,null,2,null,null,null,null,4,null,2,2,6,2,4,2,null,2,2,2,null,null,null,null,2,2,null,2]
[105,2019,"19","2",27,"006","1927006","　","社会福祉法人恩賜財団済生会支部大阪府済生会泉南医療福祉センター","大阪府","590-0535","大阪府泉南市りんくう南浜3-7","病院","未記入",3,1,{"$f":"P107*O107","v":3},null,"4月～翌年3月",12,"×",null,null,null,null,null,null,"無","学研","学研",null,null,null,null,null,null,null,2,null,null,null,null,null,null,null,null,null,null,null,null,null,null,3,3,null,null,null,null,null,null,null,null,null,null,null,0,"R70601より教材S-Qより変更"]
[106,2019,"19","2",30,"002","1930002","　","日本赤十字社　和歌山医療センター","和歌山県","640-8558","和歌山県和歌山市小松原通四丁目20番地","病院",873,25,1,25,null,"10月～翌9月",12,"×",null,null,null,null,null,null,"有","学研","学研",null,null,null,null,null,null,null,11,8,8,null,null,null,null,null,null,null,2,2,null,8,null,9,2,2,2,4,3,null,null,null,2,3,null,null,2,"R71001定員変更"]
[107,2019,"19","2",31,"002","1931002","　","鳥取赤十字病院","鳥取県","680-0001","鳥取県鳥取市尚徳町117番地","病院",350,13,1,{"$f":"P109*O109","v":13},null,"4月～翌年3月",12,"×",null,null,null,null,null,null,"有","放送大学","その他",null,null,null,null,null,null,null,11,3,2,1,null,null,null,null,null,null,2,1,null,3,null,5,1,1,2,2,null,null,null,null,2,null,null,null,1,"R70401より構成員、指導者の変更"]
[108,2019,"19","2",32,"001","1932001","　","松江市立病院","島根県","690-8509","島根県松江市乃白町32番地1","病院",802,9,1,{"$f":"P110*O110","v":9},null,"5月～翌年2月",10,"×",null,null,null,null,null,null,"有","S-QUE","S-QUE",null,null,null,null,null,null,null,7,3,3,null,null,null,null,null,null,null,null,null,null,3,null,6,null,3,3,3,null,null,null,null,3,null,null,null,1,"R70601より研修管理委員会の構成員の変更"]
[109,2019,"19","2",32,"002","1932002","　","松江赤十字病院","島根県","690-8506","島根県松江市母衣町200番地","病院",599,4,1,{"$f":"P111*O111","v":4},null,"4月～翌3月（一部11月）/10月～翌9月（一部5月）","6,12","×",null,null,null,null,null,null,"有","学研","その他",null,null,null,null,null,null,null,13,4,4,4,1,1,1,null,null,null,null,4,null,4,null,4,4,4,4,4,null,null,null,null,4,null,null,null,1,"R70401より定員４、教材放送大学から学研へ構成員、指導者の変更"]
[110,2019,"19","2",34,"001","1934001","　","国立大学法人　広島大学病院","広島県","734-8551","広島県広島市南区霞1丁目2番地3号","大学病院",746,10,1,{"$f":"P112*O112","v":10},null,"4月～翌年3月",12,"×",null,null,null,null,5,"要","有","学研","S-QUE",null,null,null,null,null,null,null,10,2,2,null,null,null,null,null,null,null,2,3,null,2,null,10,2,5,3,3,null,null,null,null,null,null,null,null,0,"R61011より研修施設、指導者の変更"]
[111,2019,"19","2",35,"002","1935002","〇","医療法人茜会　ウエストジャパン看護専門学校　よしみず病院附属看護学院","山口県","750-0061","山口県下関市大坪本町44番20号",null,null,null,null,null,null,null,null,null,null,null,null,null,null,null,null,null,null,null,null,null,null,null,null,null,null,null,null,null,null,null,null,null,null,null,null,null,null,null,null,null,null,null,null,null,null,null,null,null,null,null,null,null,0,"令和6年6月1日より区分別科目2区分の休止　Ｒ６．１１月指定の取り消し"]
[112,2019,"19","2",41,"003","1941003","　","地方独立行政法人　佐賀県医療センター好生館","佐賀県","840-8571","佐賀県佐賀市嘉瀬町大字中原 400番地","病院",450,6,3,9,null,"4月～8月,4月～翌3月,4月～翌7月","5,12,16","×",null,null,null,null,null,null,"有","S-QUE","S-QUE",null,null,null,null,null,null,null,{"$f":"COUNTA(AM114:BG114)","v":11},6,6,null,null,null,2,2,null,2,null,null,2,6,null,6,null,null,4,2,4,null,null,null,2,7,null,null,2,"R70401より救急領域12月コース追加、指導者、構成員、定員の変更"]
[113,2019,"19","2",43,"001","1943001","　","独立行政法人国立病院機構　熊本医療センター","熊本県","860-0008","熊本県熊本市中央区二の丸1番5号","病院",550,7,1,{"$f":"P115*O115","v":7},null,"6月～12月",7,"×",null,null,null,null,5,"要","有","学研","学研",null,null,null,null,null,null,null,6,6,6,null,null,null,null,null,null,null,null,2,null,6,null,2,null,null,null,null,6,null,null,null,null,3,null,null,1,"R70527よりS-Qより教材変更、研修時間変更"]
[114,2019,"19","2",46,"002","1946002","　","公益財団法人慈愛会　今村総合病院","鹿児島県","890-0064","鹿児島県鹿児島市鴨池新町11-23","病院",376,19,3,30,null,"4月～翌3月/4月～８月/5～8月、6～8月","4,5,12","×",null,null,null,null,5,"要","有","学研","学研",null,null,null,null,null,null,null,17,10,16,6,null,null,null,2,8,8,8,8,2,24,6,24,14,6,2,10,6,null,2,null,2,2,null,null,3]
[115,2019,"19","８","09","002","1909002","　","学校法人獨協学園　獨協医科大学","栃木県","321-0293","栃木県下都賀郡壬生町北小林880","大学",null,47,2,{"$f":"P117*O117","v":94},null,"4月～12月/10月～翌年9月",12,"×","○",null,null,null,null,null,"有","S-QUE","S-QUE",null,null,null,null,null,null,null,21,6,6,22,2,5,6,6,4,6,3,6,6,6,5,47,25,5,6,6,10,2,3,2,5,5,5,2,6,"R61001看護師の定員数変更"]
[116,2019,"19","8",10,"002","1910002","　","医療法人　群馬会　群馬病院","群馬県","370-3516","群馬県高崎市稲荷台町136番地","病院",461,5,1,{"$f":"P118*O118","v":5},null,"10月～翌年9月",12,"×",null,null,null,null,null,null,"不明","S-QUE","S-QUE","旧","旧",null,null,null,null,null,1,null,null,null,null,null,null,null,null,null,null,null,null,null,null,null,null,null,null,null,5,null,null,null,null,null,null,null,0,"令和6年4月1日より指導者の変更"]
[117,2019,"19","8",10,"003","1910003","　","前橋赤十字病院","群馬県","371-0811","群馬県前橋市朝倉町389番地1","病院",555,24,1,{"$f":"P119*O119","v":24},null,"４～3月、4～11月、10月～翌年9月、１０～5月",8.1199999999999992,"×",null,null,null,null,null,null,"有","放送大学","その他",null,null,null,null,null,null,null,12,6,6,2,null,null,null,null,null,null,2,2,null,6,null,6,2,2,4,2,2,null,null,null,2,2,null,null,2,"R70401より研修管理委員会の構成員および責任者・指導者、の変更"]
[118,2019,"19","8",12,"002","1912002","　","医療法人鉄蕉会　亀田総合病院","千葉県","296-8602","千葉県鴨川市東町929","病院",917,20,1,30,null,"9月～翌年8月",12,"×",null,null,null,"○",3,"要","有","S-QUE","S-QUE",null,null,null,null,null,null,null,18,20,20,5,10,10,10,10,5,8,7,5,5,20,null,10,null,10,15,20,10,null,4,4,null,4,null,4,4]
[119,2019,"19","8",14,"007","1914007","　","学校法人日本医科大学　日本医科大学武蔵小杉病院","神奈川県","211-8533","神奈川県川崎市中原区小杉町1-383","大学病院",372,30,1,{"$f":"P121*O121","v":30},null,"10月～翌々年3月",18,"×",null,null,null,"○",null,"要","有","S-QUE","S-QUE",null,null,null,null,null,null,null,8,10,10,null,null,null,null,null,null,10,null,null,null,10,null,10,null,10,10,10,null,null,null,null,4,null,null,null,1,"R60401より構成員、指導者の変更"]
[120,2019,"19","8",14,"006","1914006","　","学校法人　東海大学","神奈川県","259-1193","神奈川県伊勢原市下糟屋143","大学",null,37,1,37,null,"4月～翌年3月",12,"×",null,null,null,null,null,null,"有","S-QUE","S-QUE",null,null,null,null,null,null,null,18,29,28,23,12,null,13,16,20,25,26,26,18,31,null,35,20,22,18,24,6,null,1,0,1,2,0,0,6,"R60401に14区分定員数変更"]
[121,2019,"19","8",15,"001","1915001","　","国立大学法人新潟大学　新潟大学医歯学総合病院","新潟県","951-8520","新潟市中央区旭町通一番町754番地","大学病院",827,35,1,35,null,"10月～翌々年3月",12,"×","○",null,null,null,5,"要","有","学研","学研",null,null,null,null,null,null,null,17,4,4,1,4,2,2,2,null,4,null,3,4,6,null,19,19,3,4,4,2,null,null,null,1,null,2,2,3,"R70106より協力施設の変更、協力施設の区分、指導者変更"]
[122,2019,"19","8",15,"002","1915002","　","新潟県厚生農業協同組合連合会　上越総合病院","新潟県","943-8507","新潟県上越市大道福田","病院",318,8,1,8,null,"10月～翌年9月",12,"×",null,null,null,null,null,null,"無","S-QUE","S-QUE",null,null,null,null,null,null,null,6,4,4,null,null,null,null,null,null,null,null,null,null,4,null,4,null,null,4,8,null,null,null,null,4,null,null,null,1,"令和6年10月1日より施設および指導者の変更"]
[123,2019,"19","8",15,"003","1915003","　","新潟県厚生農業協同組合連合会　長岡中央綜合病院","新潟県","940-8653","新潟県長岡市川崎町2041番地","病院",500,6,1,6,null,"10月～翌年9月",12,"×",null,null,null,null,null,null,"不明","S-QUE","S-QUE",null,null,null,null,null,null,null,5,null,null,2,null,null,null,null,2,null,null,2,null,4,null,2,null,null,null,null,null,null,2,null,null,null,null,null,1,"令和6年6月1日より研修施設および指導者の変更"]
[124,2019,"19","8",15,"004","1915004","　","新潟県厚生農業協同組合連合会　新潟医療センター","新潟県","950-2022","新潟県新潟市西区小針3丁目27番11号","病院",297,4,1,4,null,"10月～翌年9月",12,"×",null,null,null,null,null,null,"不明","S-QUE","S-QUE",null,null,null,null,null,null,null,2,null,null,null,null,null,null,null,null,2,null,null,null,2,null,null,null,null,null,null,null,null,null,null,null,null,null,null,0,"R70601より構成員の変更"]
[125,2019,"19","8",16,"005","1916005","　","国立大学法人富山大学附属病院","富山県","930-0194","富山県富山市杉谷2630番地","大学病院",612,10,1,12,null,"5月～3月 ",11,"×",null,null,null,"○",5,"要","有","S-QUE","S-QUE",null,null,null,null,null,"一般","○",15,12,12,null,12,12,12,12,null,12,null,null,12,12,null,12,12,12,12,12,12,null,null,null,null,null,null,null,0,"令和6年8月1日より協力施設、指導者の変更"]
[126,2019,"19","8",21,"008","1921008","　","医療法人澄心会　岐阜ハートセンター","岐阜県","500-8384","岐阜県岐阜市薮田南4-14-4","病院",120,5,1,{"$f":"P128*O128","v":5},null,"kara ",12,"×",null,null,null,null,5,"要","有","S-QUE","S-QUE",null,null,null,null,null,null,null,9,5,5,null,null,5,5,null,null,5,null,5,5,5,null,5,null,null,null,null,null,null,null,null,null,null,null,null,0]
[127,2019,"19","8",22,"004","1922004","　","静岡県立静岡がんセンター","静岡県","411-8777","静岡県駿東郡長泉町下長窪1007番地","病院",null,50,1,{"$f":"P129*O129","v":50},null,"3tuki ",12,"×","○",null,null,null,null,null,"不明","S-QUE","S-QUE",null,null,null,null,null,null,null,3,null,null,null,null,null,null,null,null,null,null,14,12,null,null,60,null,null,null,null,null,null,null,null,null,null,null,null,0,"令和6年7月1日より研修施設、指導者の変更"]
[128,2019,"19","8",22,"005","1922005","　","社会福祉法人 聖隷福祉事業団","静岡県","430-0946","静岡県浜松市中央区元城町218番地26","本部",null,10,2,14,null,"5月～3月",11,"×",null,null,null,null,5,"要","有","学研","学研",null,null,null,null,null,null,null,11,3,4,4,null,null,null,null,4,null,null,4,null,4,null,7,1,null,2,2,2,null,3,null,2,1,null,null,3,"令和6年5月13日より協力施設、指導者の変更"]
[129,2019,{"$f":"RIGHT(B131,2)","v":"19"},"8",22,"006",{"$f":"CONCATENATE(C131,E131,F131)","v":"1922006"},"　","社会福祉法人 聖隷福祉事業団　総合病院　聖隷三方原病院","静岡県","433-8558","静岡県浜松市中央区三方原町3453","病院",934,8,1,12,null,"4月～翌年3月4～９月",6.12,"×",null,null,null,null,null,null,"有","S-QUE","S-QUE",null,null,null,null,null,null,null,17,6,6,6,null,null,2,2,6,2,2,6,2,6,null,12,6,6,4,4,6,null,null,2,2,null,null,null,2,"R70401より定員変更"]
[130,2019,"19","8",26,"002","1926002","　","市立福知山市民病院","京都府","620-8505","京都府福知山市厚中町231番地","病院",354,8,1,11,null,"4月～翌年3月、４月~翌翌3月、１２～5月","6.12.24","×",null,null,null,"×",5,null,"有","学研","学研",null,null,null,null,null,null,null,14,8,8,8,null,null,5,5,3,5,8,3,5,8,null,0,null,null,8,8,null,null,3,5,3,null,null,null,3,"R61201より栄養薬剤の休止（R71130まで）、PICC開講"]
[131,2019,"19","8",27,"007","1927007","　","大阪赤十字病院","大阪府","543-8555","大阪府大阪市天王寺区筆ヶ崎町5-30","病院",999,5,1,{"$f":"P133*O133","v":5},null,"1２月～翌５月,４～3月",12,"×",null,null,null,null,null,null,"有","放送大学","その他",null,null,null,null,null,null,null,10,4,2,1,null,null,null,null,null,null,null,2,null,4,null,7,1,2,2,2,null,null,null,null,2,null,null,null,1]
[132,2019,"19","8",27,"008","1927008","　","国立研究開発法人　国立循環器病研究センター","大阪府","564-8565","大阪府吹田市岸部新町6番1号","病院",550,8,1,12,null,"4～２月",11,"×",null,null,null,null,null,null,"有","学研",null,null,null,null,null,null,null,null,11,8,8,null,8,null,null,null,null,8,4,null,null,8,null,8,null,8,8,8,8,null,null,null,null,null,null,null,0,"令和6年4月8日より研修内容、研修管理委員会の構成員、指導者、定員の変更"]
[133,2019,"19","8",28,"004","1928004","　","神戸アドベンチスト病院","兵庫県","651-1321","兵庫県神戸市北区有野台8-4-1","病院",116,8,1,{"$f":"P135*O135","v":8},null,"4月～翌年3月",12,"×",null,null,null,null,null,null,"無","S-QUE","S-QUE",null,null,null,null,null,null,null,4,null,null,null,null,null,null,null,null,null,1,null,null,2,null,5,3,null,null,null,null,null,null,null,null,null,null,null,0]
[134,2019,"19","8",32,"003","1932003","　","島根県立中央病院","島根県","693-8555","島根県出雲市姫原4丁目1-1","病院",679,8,1,16,null,"5月～翌年3月",11,"×",null,null,null,null,null,null,"有","S-QUE","S-QUE",null,null,null,null,null,null,null,13,2,2,0,null,null,null,1,null,0,null,2,0,2,null,5,0,0,2,2,null,null,null,null,2,null,null,null,1,"R70509より呼吸（気道確保・人工呼吸）、循環動態の区分、術中麻酔P再開、呼吸器（長期）、栄養（CVC)、創部ドレーン、感染薬剤、血糖の区分休止、指導者の変更、動脈血、術後疼痛管理関連の区分休止パッケージのみ開講"]
[135,2019,"19","8",33,"002","1933002","　","公益財団法人　大原記念倉敷中央医療機構　倉敷中央病院","岡山県","710-8602","岡山県倉敷市美和1-1-1","病院",1166,12,1,{"$f":"P137*O137","v":12},null,"9月～翌年8月",12,"×",null,null,null,null,null,null,"有","S-QUE","S-QUE",null,null,null,null,null,null,null,11,7,7,null,7,null,null,null,null,7,7,null,null,7,null,7,null,12,5,7,5,null,null,null,null,0,null,7,2,"R70901より救急P休止"]
[136,2020,"20","２","01","007","2001007","　","医療法人渓仁会　法人本部","北海道","006-0811","札幌市手稲区前田１条１２丁目２番３０号\n渓仁会ビル３階","本部",null,9,1,{"$f":"P138*O138","v":9},null,"6～翌年5月10~翌年5月","8,12","×",null,null,null,null,null,null,"無","S-QUE","S-QUE",null,null,null,null,null,null,null,11,9,9,4,null,null,null,null,4,null,5,6,null,9,null,9,null,9,9,9,null,null,4,null,5,null,null,null,2,"令和6年11月1日から指導者の変更"]
[137,2020,"20","２","01","008","2001008","　","医療法人徳洲会　札幌徳洲会病院","北海道","004-0041","札幌市厚別区大谷地東１丁目１番１号","病院",301,17,2,29,null,"4月～翌年3月　　　4月～9月　　　　　10月～3月　　　","12　　6　　　6","×",null,null,null,null,null,null,"有","S-QUE","S-QUE",null,null,null,null,null,null,null,13,3,6,5,null,null,null,null,3,3,4,5,2,7,null,6,null,null,1,1,2,null,3,null,1,2,null,null,3,"令和6年4月1日より研修施設および指導者の変更"]
[138,2020,"20","２","01","009","2001009","　","国立大学法人北海道大学病院","北海道","060-8648","札幌市北区北１４条西５丁目","大学病院",874,10,1,10,null,"4月～翌年3月",12,"×",null,null,null,null,null,null,"無","学研","学研",null,null,null,null,null,null,null,15,6,6,2,2,null,5,5,null,7,5,3,5,9,null,7,null,3,4,6,null,null,null,2,2,null,null,null,2,"R70401より胸腔ドレーン、腹腔ドレーン、創部ドレーン区分の変更"]
[139,2020,"20","２","01","010","2001010","　","社会医療法人禎心会　札幌禎心会病院","北海道","065-0033","札幌市東区北３３条東１丁目３－１","病院",279,3,1,{"$f":"P141*O141","v":3},null,"10月～翌年８月、4月～9月",12,"×",null,null,null,null,null,null,"有","S-QUE","S-QUE",null,null,null,null,null,null,null,4,null,null,null,null,null,null,null,null,null,2,null,null,4,null,4,4,null,null,null,null,null,null,null,null,null,null,null,0]
[140,2020,"20","２","02","001","2002001","　","学校法人青森田中学園　青森中央学院大学","青森県","030-0132","青森市大字横内字神田12－1","大学",null,6,1,6,null,"10月～翌年9月",6.12,"×",null,null,null,null,null,null,"無","学研","学研",null,null,null,null,null,null,null,4,null,null,4,null,null,null,null,4,null,null,4,null,null,null,6,null,null,null,null,null,null,4,null,null,null,null,null,1]
[141,2020,"20","２","05","003","2005003","　","国立大学法人秋田大学大学院医学系研究科保健学専攻（博士前期課程）臨床看護学分野","秋田県","010-8502","秋田県秋田市本道1－1－1","大学院",null,18,1,{"$f":"P143*O143","v":18},null,"4月～翌々年3月",11,"○",null,null,"○",null,null,null,"有","学研","学研",null,null,"NP",null,null,null,null,21,10,10,10,10,10,10,10,18,10,10,18,10,10,10,10,10,10,10,10,10,10,null,null,null,null,null,null,0,"令和6年4月1日より管理委員会の構成員の変更、指導者の変更"]
[142,2020,"20","２","06","002","2006002","　","国立大学法人山形大学医学部附属病院","山形県","998ｰ8501","山形市飯田西2丁目2-2","大学病院",637,12,1,12,null,"4月～翌年3月",12,"×",null,null,null,null,null,null,"有","学研","学研",null,null,null,null,null,null,null,14,12,12,4,2,null,4,4,null,6,4,null,4,12,null,10,null,null,8,10,2,null,null,4,4,2,null,2,4]
[143,2020,"20","２","06","003","2006003","　","地方独立行政法人山形県・酒田市病院機構　日本海総合病院","山形県","990-9585","酒田市あきほ町30番地","病院",630,3,1,3,null,"4月～翌年3月",12,"×",null,null,null,null,null,null,"有","学研","学研",null,null,null,null,null,null,null,6,3,3,null,null,null,null,null,null,null,null,null,null,3,null,3,null,null,3,3,null,null,null,null,3,null,null,null,1,"令和6年4月1日より研修管理委員会の構成員および指導者の変更"]
[144,2020,"20","２",10,"004","2010004","　","群馬県公立大学法人　群馬県立県民健康科学大学","群馬県","371-0052","前橋市上沖町３２３－１","大学",null,5,1,5,null,"4月～翌年3月",12,"×",null,null,null,null,null,null,"有","放送大学","S-QUE",null,null,null,null,null,null,null,{"$f":"COUNTA(AM146:BG146)","v":3},null,null,5,null,null,null,null,null,null,null,null,null,null,null,5,null,5,null,null,null,null,null,null,null,null,null,null,0,"R61101より施設、指導者の変更"]
[145,2020,"20","２",12,"003","2012003","　","千葉大学医学部附属病院","千葉県","260-8677","千葉市中央区亥鼻１－８－１","大学病院",850,20,1,20,null,"4月～翌年3月、9月～翌年3月","12,7","×",null,null,null,null,null,null,"有","学研","学研",null,null,null,null,null,null,null,21,5,5,5,5,5,5,5,5,5,5,5,5,5,5,5,5,5,5,5,5,5,null,null,3,null,null,3,2,"R70401より術中麻酔、集中P開始"]
[146,2020,"20","２",13,"018","2013018","　","医療法人社団ダイアステップ","東京都","154-0004","世田谷区太子堂４－２２－７森住ビル３階","診療所",null,5,1,5,null,"4月～12月",11,"×",null,null,null,null,null,null,"無","S-QUE","S-QUE",null,null,null,null,null,null,null,5,null,null,1,null,null,null,null,1,null,null,2,null,null,null,2,null,5,null,null,null,null,1,null,null,null,null,null,1,"令和6年2月1日より研修施設および指導者の変更"]
[147,2020,"20","２",13,"019","2013019","　","学校法人順天堂　順天堂大学医学部附属順天堂医院","東京都","113-8431","文京区本郷３丁目１番３号","大学病院",1051,5,1,5,null,"4月～翌年3月",12,"×",null,null,null,null,null,null,"無","学研","学研",null,null,null,null,null,null,null,6,3,3,null,null,null,null,null,null,null,null,null,null,5,null,3,null,null,3,3,null,null,null,null,4,null,null,null,1,"令和6年8月1日より構成員 の変更"]
[148,2020,"20","２",13,"020","2013020","　","学校法人東邦大学","東京都","143-8540","大田区大森西５丁目２１番１６号","大学",null,16,1,16,null,"4月～翌年3月",12,"×",null,null,null,null,null,null,"有","学研","学研",null,null,null,null,null,null,null,13,3,6,5,null,null,null,null,null,3,6,3,3,9,null,9,3,null,7,6,3,null,null,null,3,null,3,null,2,"令和6年4月1日より研修管理委員会の構成員、指導者、定員数の変更"]
[149,2020,"20","２",13,"021","2013021","　","国立健康危機管理研究機構","東京都","162-8655","東京都新宿区戸山１－２１－１","病院",763,18,1,18,null,"９月～翌年８月",12,"×",null,null,null,null,null,null,"有","S-QUE","S-QUE",null,null,null,null,null,null,null,8,3,3,null,null,null,null,4,null,null,6,null,4,5,null,6,4,null,null,null,null,null,null,null,null,null,null,null,0,"R71001に5区分の定員変更"]
[150,2020,"20","２",13,"022","2013022","　","東京科学大学病院","東京都","113-8510","文京区湯島１丁目５番４５号","大学病院",753,10,1,10,null,"5月～翌年3月、\n12月から翌3月","11,16","×",null,null,null,null,null,null,"有","S-QUE","S-QUE",null,null,null,null,null,null,null,20,8,8,8,2,2,5,5,2,8,8,2,5,15,2,10,2,2,10,8,2,null,null,null,null,null,null,null,0,"R70401より定員変更"]
[151,2020,"20","２",13,"023","2013023","　","国立大学法人東京大学　東京大学医学部附属病院","東京都","113-8655","文京区本郷７－３－１","大学病院",1264,6,1,6,null,"4月～翌年3月",12,"×",null,null,null,null,null,null,"無","学研","学研",null,null,null,null,null,null,null,6,5,5,null,null,null,null,null,null,null,null,null,null,5,null,5,null,null,5,5,null,null,null,null,5,null,null,null,1,"R3.4定員変更（R7変更届出書提出）"]
[152,2020,"20","２",13,"024","2013024","　","町田市民病院","東京都","194-0023","東京都町田市旭町2－15－41","病院",447,2,1,2,null,"4月～翌年3月",12,"×",null,null,null,null,null,null,"有","学研","学研",null,null,null,null,null,null,null,7,null,3,null,null,null,null,null,3,3,null,3,null,3,null,3,null,null,null,null,3,null,null,null,null,null,null,null,0,"R70401より協力施設、指導者変更の変更"]
[153,2020,"20","２",14,"008","2014008","　","医療法人徳洲会　湘南鎌倉総合病院","神奈川県","247ｰ8533","鎌倉市岡本１３７０番１","病院",658,15,4,60,null,"4月～翌年3月",12,"×",null,null,null,null,null,null,"有","学研","学研",null,null,null,null,null,null,null,16,20,20,5,5,null,5,5,null,15,5,5,10,25,null,20,5,null,15,15,5,null,null,5,5,5,5,null,4,"R70501より構成員、責任者、指導者の変更"]
[154,2020,"20","２",14,"009","2014009","　","学校法人北里研究所　北里大学病院","神奈川県","252-0375","相模原市南区北里１－１５－１","大学病院",1033,30,1,30,null,"4月～翌年3月",12,"×",null,null,null,"×",3,"要","有","エルゼビア","エルゼビア",null,null,null,null,null,null,null,12,8,8,8,null,null,null,8,null,null,8,8,8,8,null,8,null,8,8,8,null,null,null,null,null,null,null,null,0,"R70401より指導者の変更"]
[155,2020,"20","２",14,"010","2014010","　","学校法人　聖マリアンナ医科大学　聖マリアンナ医科大学病院　看護師特定行為研修センター","神奈川県","216-8511","川崎市宮前区菅生２－１６－１","大学病院",1175,5,1,5,null,"4月～翌年3月",12,"×",null,null,null,null,null,null,"無","学研","学研",null,null,null,null,null,null,null,21,5,5,5,5,5,5,5,5,5,5,5,5,5,5,5,5,5,5,5,5,5,2,2,2,2,null,2,5,"R707よりパッケージ開校"]
[156,2020,"20","２",14,"011","2014011","　","公立大学法人横浜市立大学　YCU看護キャリア開発支援センター","神奈川県","236-0004","神奈川県横浜市金沢区福浦３丁目９番地","大学",674,5,1,5,null,"5月～翌々年9月",11,"×",null,null,null,null,null,null,"無","学研","学研",null,null,null,null,null,null,null,18,5,5,5,null,null,5,5,3,5,5,2,5,5,null,5,5,5,5,5,5,5,null,5,null,null,null,null,1,"R70501より構成員の変更、指導者の変更"]
[157,2020,"20","２",14,"012","2014012","　","公立大学法人横浜市立大学　横浜市立大学大学院医学研究科看護学専攻","神奈川県","236-0004","神奈川県横浜市金沢区福浦３ー９","大学院",null,20,1,20,null,"4月～翌々年3月",24,"○",null,null,null,null,null,null,"有","学研","学研",null,null,null,null,null,null,null,8,20,20,null,null,null,null,null,null,null,15,null,null,20,null,20,null,20,20,20,null,null,null,null,20,null,null,null,1,"R61115より使用施設、指導者の変更"]
[158,2020,"20","２",14,"013","2014013","　","社会福祉法人　親善福祉協会　国際親善総合病院","神奈川県","245-0006","横浜市泉区西が岡１ー２８ー１","病院",287,6,1,6,null,"4月～翌年3月",12,"×",null,null,null,null,null,null,"有","学研","学研",null,null,null,null,null,null,null,10,2,2,2,null,null,null,6,null,4,null,2,4,6,null,6,null,null,3,null,null,null,null,null,null,null,null,null,{"$f":"COUNTA(BH160:BM160)","v":0},"R70101より研修管理委員会の構成員の変更"]
[159,2020,"20","２",16,"006","2016006","　","黒部市民病院","富山県","938-8502","富山県黒部市三日市１１０８ー１","病院",405,5,1,5,null,"4月～翌3月","5,12","×",null,null,null,null,null,null,"有","学研","学研",null,null,null,null,null,null,null,3,null,null,null,null,null,null,null,null,null,null,null,null,4,null,5,null,4,null,null,null,null,null,null,null,null,null,null,0,"令和6年4月1日より研修管理委員会の構成員および指導者の変更"]
[160,2020,"20","２",17,"006","2017006","　","金沢医科大学病院","石川県","920-0293","石川県河北郡内灘町大学１丁目１番地","大学病院",817,10,1,10,null,"4月～翌年3月、9～３月、１0～翌々３月、10月～翌3月","７.12.\n18","×",null,null,null,null,null,null,"無","学研","学研",null,null,null,null,null,null,null,10,10,5,null,null,null,null,null,null,5,5,null,null,10,5,10,5,null,10,5,null,null,null,null,5,null,null,null,1,"令和6年１０月1日より指導者の変更"]
[161,2020,"20","２",18,"003","2018003","　","国立大学法人　福井大学大学院医学系研究科","福井県","910-1193","　福井県吉田郡永平寺町松岡下合月２３－３","大学院",null,5,1,45,null,"4月～翌年3月、",12,"○","○",null,null,null,null,null,"無","S-QUE","その他",null,null,null,null,null,null,null,10,5,25,null,null,null,null,null,null,5,5,null,null,25,null,35,20,null,2,2,18,null,null,null,2,3,null,null,2,"R70401より定員変更"]
[162,2020,"20","２",20,"004","2020004","　","地方独立行政法人長野県立病院機構　長野県立信州医療センター","長野県","382-8577","長野県須坂市大字須坂１３３２","病院",320,11,1,11,null,"10月～翌年9月",11,"×",null,null,null,null,null,null,"有","S-QUE","S-QUE",null,null,null,null,null,null,null,5,null,null,6,null,null,null,null,6,null,null,6,null,null,null,16,null,5,null,null,null,null,6,null,null,null,null,null,1,"令和6年4月1日より協力施設および指導者の追加、研修管理委員会の構成員および指導者の変更、10月1日より指導者の変更"]
[163,2020,"20","２",20,"005","2020005","　","長野赤十字病院","長野県","380-8582","長野市若里５丁目２２番１号","病院",680,1,1,{"$f":"P165*O165","v":1},null,"4月～翌年3月/4月～11月",null,"×",null,null,null,null,null,null,"有","放送大学","独自",null,null,null,null,null,null,null,3,null,null,2,null,null,null,null,null,null,null,1,null,null,null,2,null,null,null,null,null,null,null,null,null,null,null,null,0,"R70401より研修管理委員会の構成員の変更"]
[164,2020,"20","２",21,"009","2021009","　","岐阜大学医学部附属病院","岐阜県","501-1194","　岐阜県岐阜市柳戸１番１","大学病院",614,10,1,26,null,"4月～翌年3月",12,"×",null,null,null,null,null,null,"有","S-QUE","S-QUE",null,null,null,null,null,null,null,10,14,14,null,null,null,8,8,null,8,null,null,8,14,null,14,null,null,14,18,null,null,null,null,14,null,null,null,1,"R70401より定員変更、進度表変更"]
[165,2020,"20","２",21,"010","2021010","　","社会医療法人蘇西厚生会　松波総合病院","岐阜県","501-6062","　岐阜県羽島郡笠松町田代１８５ー１","病院",501,5,1,5,null,"4月～翌年3月",12,"×",null,null,null,null,null,null,"有","S-QUE","S-QUE",null,null,null,null,null,null,null,1,null,null,5,null,null,null,null,null,null,null,null,null,null,null,null,null,null,null,null,null,null,null,null,null,null,null,null,0,"R70401より定員変更"]
[166,2020,"20","２",21,"011","2021011","　","美濃市立美濃病院","岐阜県","501-3746","　美濃市中央４丁目３番地","病院",122,1,1,1,null,"4月～翌年3月",12,"×",null,null,null,null,null,null,"有","学研","学研",null,null,null,null,null,null,null,4,null,null,1,null,null,null,null,1,null,null,1,null,null,null,1,null,null,null,null,null,null,1,null,null,null,null,null,1,"パのみ"]
[167,2020,"20","２",22,"007","2022007","　","順天堂大学医学部附属静岡病院","静岡県","410-2295","　伊豆の国市長岡１１２９","大学病院",577,20,1,20,null,"4月～3月8月～3月.1月～3月","6.8.12","×",null,null,null,null,null,null,"有","S-QUE","S-QUE",null,null,null,null,null,null,null,16,13,13,3,2,null,null,null,2,2,4,3,5,13,null,14,3,5,3,5,6,null,null,null,3,3,null,2,3,"令和6年4月1日より研修管理委員会の構成員、研修施設、研修責任者、指導者の変更"]
[168,2020,"20","２",23,"006","2023006","　","愛知医科大学病院","愛知県","480-1195","長久手市岩作雁又１番地１","大学病院",900,25,1,25,null,"4月～翌年2月",11,"×",null,null,null,null,null,null,"有","S-QUE","S-QUE",null,null,null,null,null,null,null,9,12,20,20,null,null,null,null,null,null,8,5,null,20,null,25,null,null,12,12,null,null,null,null,12,null,null,null,1,"R60801より研修施設および指導者の変更"]
[169,2020,"20","２",24,"001","2024001","　","国立大学法人三重大学医学部附属病院","三重県","514-8507","津市江戸橋２丁目１７４番地","大学病院",685,11,1,11,null,"4月～翌年3月",12,"×","○",null,null,null,null,null,"有","S-QUE","S-QUE",null,null,null,null,null,null,null,11,0,3,null,null,null,3,3,null,3,null,null,null,0,null,8,3,null,0,0,3,null,null,null,2,3,null,4,3,"R3.3共通・区分（栄養水分）定員変更,R5.6.1～術中麻酔パッケージ再開"]
[170,2020,"20","２",26,"003","2026003","　","医療法人医仁会　武田総合病院","京都府","601-1495","京都市伏見区石田森南町２８番地の１","病院",500,17,1,17,null,"4月～翌年3月",12,"×",null,null,null,null,null,null,"有","学研","学研",null,null,null,null,null,null,null,13,11,11,5,4,null,null,null,null,11,6,4,null,13,null,14,4,8,null,8,12,null,null,null,null,4,null,4,2,"R70328より協力施設の追加、定員数の変更、指導者の変更"]
[171,2020,"20","２",26,"004","2026004","　","医療法人社団石鎚会京都田辺中央病院","京都府","610-0334","京田辺市田辺中央６丁目１番地６","病院",188,8,1,{"$f":"P173*O173","v":8},null,"4月～翌年3月",12,"×",null,null,null,null,null,null,"有","S-QUE","S-QUE",null,null,null,null,null,null,null,15,5,5,2,2,null,null,null,2,2,2,2,null,5,null,5,3,3,1,3,2,null,2,null,1,2,null,2,4,"R3ﾊﾟ集中の申請あり（R5.1確認）"]
[172,2020,"20","２",26,"005","2026005","　","京都府公立大学法人　京都府立医科大学","京都府","602-8566","京都市上京区河原町通広小路上ル梶井町４６５番地","大学",null,8,1,{"$f":"P174*O174","v":8},null,"4月～翌年3月",12,"×",null,null,null,null,null,null,"有","S-QUE","S-QUE",null,null,null,null,null,null,null,15,8,14,2,2,2,2,2,null,4,2,null,2,10,null,8,null,null,4,14,2,null,null,2,2,2,null,2,4,"R70401より総定員数、気道確保、人工呼吸、血ガス、栄養水分、循環薬剤の定員変更"]
[173,2020,"20","２",27,"009","2027009","　","大阪医科薬科大学病院","大阪府","569-8686","大阪府高槻市大学町２番７号","大学病院",852,4,1,{"$f":"P175*O175","v":4},null,"4月～翌年3月",12,"×",null,null,null,null,null,null,"無","学研","学研",null,null,null,null,null,null,null,15,6,6,3,null,null,2,2,1,2,2,1,2,6,null,7,null,null,3,5,3,null,1,2,1,3,null,null,4,"R70401 より構成員、責任者、指導者の変更"]
[174,2020,"20","２",27,"010","2027010","　","大阪大学医学部附属病院","大阪府","565-0871","大阪府吹田市　山田丘２－１５","大学病院",1086,21,1,{"$f":"P176*O176","v":21},null,"4月～翌年3月",12,"×",null,null,null,null,null,null,"有","学研","学研",null,null,null,null,null,null,null,17,7,7,7,null,null,7,7,7,7,7,7,7,7,null,7,7,7,7,7,7,null,null,null,7,7,null,null,2,"R70401より代表者、研修管理委員会の構成員の変更"]
[175,2020,"20","２",27,"011","2027011","　","関西医科大学附属病院","大阪府","573-1191","枚方市新町２丁目３番１号","大学病院",751,40,1,60,null,"4月～翌年3月",12,"×",null,null,null,null,null,null,"有","学研","学研",null,null,null,null,null,null,null,12,25,25,null,25,null,null,25,null,40,2,null,25,40,null,45,null,10,10,25,null,null,null,null,10,null,null,25,2,"R70401より定員数の変更、指導者の変更"]
[176,2020,"20","２",28,"005","2028005","　","公益社団法人日本麻酔科学会","兵庫県","650-0047","兵庫県神戸市中央区港島中町１－５－２\n神戸キメックセンタービル３階","学会",null,92,1,{"$f":"P178*O178","v":92},null,"4月～翌年3月",12,"×",null,null,null,null,null,null,"有","学研","学研",null,null,null,null,null,null,null,{"$f":"COUNTA(AM178:BG178)","v":6},92,92,null,null,null,null,null,null,null,null,null,null,92,null,92,null,null,92,92,null,null,null,null,92,null,null,null,1,"R71128より定員変更"]
[177,2020,"20","２",28,"006","2028006","　","社会医療法人　榮昌会　吉田病院","兵庫県","652-0803","兵庫県神戸市兵庫区大開通９丁目２ー６","病院",139,4,1,{"$f":"P179*O179","v":4},null,"4月～翌年3月",12,"×",null,null,null,null,null,null,"有","S-QUE","S-QUE",null,null,null,null,null,null,null,3,null,null,null,null,null,null,null,null,2,null,null,null,2,null,null,null,null,null,null,2,null,null,null,null,null,null,null,0,"R60401より定員数、構成員、指導者変更（２→４）"]
[178,2020,"20","２",32,"004","2032004","　","公立大学法人島根県立大学　島根県立大学大学院看護学研究科看護学専攻","島根県","693-8550","島根県出雲市西林木町１５１","大学院",null,20,1,20,null,"24ヶ月（大学院診療看護師養成課程）12ヶ月（感染管理認定看護師教育課程B課程）",24,"○","○",null,"○",null,null,null,"無","放送大学",null,null,null,null,null,null,null,null,8,null,null,2,null,null,null,null,4,null,2,2,null,null,null,20,20,2,null,null,2,null,2,null,null,null,null,null,1,"R60401よりPのもの区分でも開講（長期呼吸療法）"]
[179,2020,"20","２",32,"005","2032005","　","国立大学法人島根大学医学部附属病院","島根県","693-8501","島根県出雲市塩冶町８９ー１","大学病院",600,28,1,28,null,"４月～翌年3月",12,"×",null,null,null,null,null,null,"有","S-QUE","S-QUE",null,null,null,null,null,null,null,8,3,3,null,null,null,null,null,null,null,null,5,null,8,null,8,null,5,3,8,null,null,null,null,3,null,null,null,1]
[180,2020,"20","２",33,"003","2033003","　","国立大学法人岡山大学　岡山大学病院","岡山県","700-8558","岡山市北区鹿田町２丁目５ー１","大学病院",855,15,1,15,null,"4月～翌年3月",12,"×",null,null,null,null,null,null,"有","学研","学研",null,null,null,null,null,null,null,12,10,15,5,null,null,5,5,null,10,10,null,5,15,null,10,null,null,10,10,null,null,null,5,5,null,null,null,2,"R70401より構成員、指導者の変更"]
[181,2020,"20","２",35,"003","2035003","　","国立大学法人山口大学医学部附属病院","山口県","755-8505","山口県宇部市南小串１ー１ー１","大学病院",756,5,1,5,null,"4月～翌年3月",12,"×",null,null,null,null,5,null,"無","学研","学研",null,null,null,null,null,null,null,13,5,5,5,null,null,5,5,null,5,5,null,5,5,null,5,null,null,5,5,5,null,null,5,5,5,null,null,3,"R70314より担当分野変更"]
[182,2020,"20","２",36,"001","2036001","　","国立大学法人徳島大学　徳島大学病院","徳島県","770-8503","徳島県徳島市蔵本町２丁目５０－１","大学病院",696,10,1,10,null,"4月～翌年3月",12,"×",null,null,null,null,null,null,"有","学研","学研",null,null,null,null,null,null,null,16,9,9,3,null,null,3,3,null,6,3,6,6,10,null,10,6,3,9,6,6,null,null,null,3,3,3,null,3,"R70401より指導者、構成員、共通科目時間数変更"]
[183,2020,"20","２",37,"003","2037003","　","国立大学法人香川大学","香川県","760-8521","香川県高松市幸町１番１号","大学",null,6,1,6,null,"4月～翌年3月",12,"×",null,null,null,null,null,null,"有","学研","学研",null,null,null,null,null,null,null,14,4,4,4,null,null,2,2,2,2,2,2,2,4,null,6,null,null,2,2,null,null,2,0,2,null,null,null,3,"R70401より休止区分（休止Pの中の1区分）再開、指導者の変更"]
[184,2020,"20","２",39,"002","2039002","　","国立大学法人高知大学　高知大学医学部附属病院","高知県","783-8505","高知県南国市岡豊町小蓮１８５番地１","大学病院",613,45,1,49,null,"4月～翌年3月",12,"×","○",null,null,null,null,null,"有","学研","学研",null,null,null,null,null,null,null,16,12,12,7,null,null,3,3,null,6,3,3,6,11,null,15,15,4,11,8,3,null,null,0,0,0,0,null,4,"令和6年10月1日パッケージの休止、区分の追加\nR70507より指導者の変更"]
[185,2020,"20","２",40,"005","2040005","　","医療法人八女発心会　姫野病院","福岡県","834-0115","福岡県八女郡広川町新代２３１６","病院",140,8,1,10,null,"10月～3月4月～翌年3月","６・12","×",null,null,null,null,5,"要","有","学研","学研",null,null,null,null,null,null,null,4,null,null,4,null,null,null,null,null,null,null,null,null,2,null,2,2,null,null,null,null,null,null,null,null,null,null,null,0]
[186,2020,"20","２",40,"006","2040006","　","社会福祉法人恩賜財団済生会支部福岡県済生会福岡総合病院","福岡県","810-0001","福岡県福岡市中央区天神１丁目３－４６","病院",380,22,1,35,null,"4月～翌年3月",12,"×",null,null,null,null,null,null,"有","S-QUE","S-QUE",null,null,null,null,null,null,null,15,26,26,8,4,null,6,6,null,12,5,4,null,26,null,18,null,6,8,8,10,null,null,null,4,4,null,4,3,"令和7年4月1日より構成員、指導者の変更"]
[187,2020,"20","２",40,"007","2040007","　","地方独立行政法人福岡市立病院機構　福岡市民病院","福岡県","812-0046","福岡市博多区吉塚本町１３番１号","病院",204,6,1,{"$f":"P189*O189","v":6},null,"4月～翌年3月",12,"×",null,null,null,null,null,null,"有","学研","学研",null,null,null,null,null,null,null,7,2,2,null,null,null,null,null,null,null,null,1,null,2,null,5,null,null,2,2,null,null,null,null,2,null,null,null,1]
[188,2020,"20","２",42,"001","2042001","　","国立大学法人　長崎大学病院","長崎県","852-8501","長崎県長崎市坂本１丁目７番１号","大学病院",827,10,1,19,null,"4月～翌年3月",12,"×",null,null,null,null,null,null,"無","学研","学研",null,null,null,null,null,null,null,10,5,5,5,null,null,null,4,3,4,null,3,3,5,null,5,null,null,null,null,null,null,2,null,null,null,null,null,1]
[189,2020,"20","２",42,"002","2042002","　","独立行政法人国立病院機構　長崎医療センター","長崎県","856-8562","大村市久原２丁目１００１－１","病院",643,5,1,{"$f":"P191*O191","v":5},null,"6月～翌年1月",8,"×",null,null,null,null,null,null,"無","S-QUE","S-QUE",null,null,null,null,null,null,null,5,null,5,5,null,null,null,null,null,null,null,null,null,5,null,5,null,0,null,null,null,null,null,null,null,null,null,null,0,"R70401より血糖の区分休止"]
[190,2020,"20","２",43,"002","2043002","　","学校法人銀杏学園　熊本保健科学大学 キャリア教育研修センター","熊本県","861-5598","熊本県熊本市北区和泉町３２５","大学",null,24,1,24,null,"4月～翌年3月",12,"×","○",null,null,null,null,null,"無","日看協",null,null,null,null,null,null,null,null,5,null,null,2,null,null,null,null,2,null,null,2,null,null,null,22,null,null,null,null,22,null,2,null,null,null,null,null,1,"R60830より、研修施設、構成員、指導者に変更。栄養・精神定員変更"]
[191,2020,"20","２",43,"003","2043003","　","国立大学法人熊本大学　熊本大学病院","熊本県","860-8556","熊本県熊本市中央区本荘１丁目１番１","大学病院",845,12,1,12,null,"4月～翌年3月",12,"×",null,null,null,null,null,null,"無","学研","学研",null,null,null,null,null,null,null,12,10,15,10,null,null,10,10,null,10,10,null,10,15,null,15,null,null,10,10,null,null,null,8,4,null,null,2,{"$f":"COUNTA(BH193:BM193)","v":3},"R70401より定員数、外科・麻酔P定員数変更"]
[192,2020,"20","２",43,"004","2043004","　","社会福祉法人恩賜財団済生会熊本病院","熊本県","861-4193","熊本市南区近見５丁目３番１号","病院",400,10,1,10,null,"4月～翌年3月",12,"×",null,null,null,null,null,null,"無","S-QUE","S-QUE",null,null,null,null,null,null,null,17,8,10,null,3,2,8,2,null,11,2,2,2,11,null,10,2,8,4,6,2,null,null,null,2,2,1,2,4,"令和７年4月1日より実施する特定行為区分、研修管理委員会の構成員、指導者の変更"]
[193,2020,{"$f":"RIGHT(B195,2)","v":"20"},"8","02","002",{"$f":"CONCATENATE(C195,E195,F195)","v":"2002002"},"　","八戸市立市民病院","青森県","031－8555","青森県八戸市田向3－1－1","病院",628,13,1,13,null,"10月～翌９月\n4月～翌3月",12,"×",null,null,null,"○",5,"不要","有","S-QUE",null,null,null,"無",null,null,null,null,13,13,13,5,null,null,5,5,null,5,5,null,5,13,null,13,null,null,5,5,8,null,null,2,null,8,null,null,2,"R4.6～救急パ5→8　R70131より協力施設、指導者変更"]
[194,2020,"20","8","04","004","2004004","　","独立行政法人国立病院機構仙台医療センター","宮城県","983－8520","宮城県仙台市宮城野区宮城野2－11－12","病院",null,10,1,10,null,"５月～翌年2月10月～翌年2月","5,10","×",null,null,null,"○",5,"要","有","学研",null,null,null,"無",42.5,67,null,null,11,2,2,2,null,null,null,null,null,2,2,2,null,3,null,3,1,null,null,null,2,0,null,null,null,2,null,null,1,"R61030より構成員、指導者の変更"]
[195,2020,"20","８","04","005","2004005","　","国立大学法人東北大学　東北大学病院","宮城県","980－8574","宮城県仙台市青葉区星陵町1－1","大学病院",null,9,1,9,null,"４月～３月,免除10月～３月",6.12,"×",null,null,null,"×",5,"要","有","学研",null,null,null,"無",null,null,null,null,14,3,6,3,null,null,3,3,3,3,3,3,3,3,null,3,null,null,3,6,null,null,null,3,3,null,null,null,2,"R61001より指導者の変更"]
[196,2020,"20","８",11,"003","2011003","　","防衛医科大学校病院","埼玉県","359－8513","埼玉県所沢市並木3－2","大学病院",800,5,1,5,null,"10月～翌９月",12,"×",null,null,null,"不明",null,"不明","無","学研",null,null,null,"無",null,null,null,null,6,5,5,null,null,null,null,null,null,null,null,null,null,5,null,5,null,null,5,5,null,null,null,null,5,null,null,null,1,"令和6年8月29日より構成員、指導者の変更"]
[197,2020,"20","８",13,"025","2013025","　","独立行政法人国立病院機構東京医療センター","東京都","152－8902","東京都目黒区東が丘2－5－1","病院",740,7,1,7,null,"10月～翌９月",12,"×",null,null,null,"○",3,"要","有","学研",null,null,null,"無",65,65,null,null,7,null,null,null,null,null,null,null,null,5,null,5,5,5,null,5,5,null,5,null,null,null,null,null,null,null,5,null,1,"R60401より定員、教材S-Qより変更"]
[198,2020,"20","８",14,"014","2014014","　","独立行政法人国立病院機構横浜医療センター","神奈川県","245－8575","神奈川県横浜市戸塚区原宿3－60－2","病院",510,5,1,5,null,"10月～翌９月",12,"×",null,null,null,"○",5,"要","無","S-QUE",null,null,null,"無",45,60,null,null,6,5,5,null,null,null,null,null,null,null,null,null,null,5,null,5,null,null,5,5,null,null,null,null,5,null,null,null,1]
[199,2020,"20","８",15,"005","2015005","　","独立行政法人国立病院機構　新潟病院","新潟県","945－8585","新潟県柏崎市赤坂町3－52","病院",350,5,1,5,null,"10月～翌９月",12,"×",null,null,null,"不明",null,"不明","有","S-QUE",null,null,null,"無",null,null,null,null,5,null,5,5,null,null,null,null,5,null,null,5,null,null,null,5,null,null,null,null,null,null,5,null,null,null,null,null,1,"R70401より構成員、指導者変更"]
[200,2020,"20","８",16,"007","2016007","　","高岡市民病院","富山県","933－8550","富山県高岡市宝町4－1","病院",401,5,1,5,null,"9月1日~翌年３月",7,"×",null,null,null,"○",5,"要","無","S-QUE",null,null,null,"無",null,null,null,null,3,null,null,null,null,null,null,null,null,null,null,null,null,2,null,5,null,5,null,null,null,null,null,null,null,null,null,null,0,"令和6年８月９日より研修管理委員会の構成員、指導者の変更"]
[201,2020,"20","８",19,"001","2019001","　","国立大学法人山梨大学医学部附属病院","山梨県","409－3898","山梨県中央市下河東1110","大学病院",618,13,1,13,null,"4月～翌年3月",12,"×",null,null,null,"○",5,"要","無","S-QUE",null,null,null,"無",12,62,null,null,19,10,10,8,5,null,5,5,3,10,5,3,5,10,null,8,0,0,5,10,0,0,3,5,null,null,null,5,3,"R70422より教材（放送大学）、指導者の変更"]
[202,2020,"20","８",21,"012","2021012","　","地方独立行政法人岐阜県総合医療センター","岐阜県","500－8717","岐阜県岐阜市野一色4－6－1","病院",130,5,1,{"$f":"P204*O204","v":5},null,"11月～翌10月",12,"×",null,null,null,"○",5,"要","無","学研",null,null,null,"無",80.599999999999994,80.599999999999994,null,null,12,5,5,5,null,null,5,5,null,5,5,null,5,5,null,5,null,null,5,5,null,null,null,5,null,null,null,2,2]
[203,2020,"20","８",22,"008","2022008","　","地方独立行政法人　静岡市立静岡病院","静岡県","420－8630","静岡県静岡市葵区追手町10－93","病院",239,11,1,11,null,"4月～3月，免除8月～3月","8,12","×",null,null,null,"○",5,"要","有","S-QUE",null,null,null,"無",41.4,63.6,null,null,11,7,7,null,3,null,null,null,null,4,2,1,null,7,null,5,2,null,4,7,null,null,null,null,3,null,null,3,2,"令和6年4月1日より指導者の変更"]
[204,2020,"20","８",22,"009","2022009","　","地方独立行政法人静岡県立病院機構　静岡県立総合病院","静岡県","420－8527","静岡県静岡市葵区北安東4－27－1","病院",712,10,1,{"$f":"P206*O206","v":10},null,"4月～翌3月","6,12","×",null,null,null,"○",5,"要","有","S-QUE",null,null,null,"無",null,null,null,null,13,5,5,null,3,null,null,5,null,8,2,2,5,8,null,5,null,null,5,5,2,null,null,null,2,null,null,3,2,"R61001より指導者の変更"]
[205,2020,"20","８",23,"007","2023007","　","公益社団法人愛知県看護協会","愛知県","466－0054","愛知県名古屋市昭和区円上町26－18","協会",null,65,1,65,null,"４月～翌年３月，８月～翌年３月､５月～10月,9～10月","2.6.8.12","×","○",null,null,"○",5,"不要","有","S-QUE",null,null,null,"有",null,null,null,null,9,null,null,15,null,null,null,null,10,null,null,10,15,15,null,65,null,15,15,null,15,null,10,null,null,null,null,null,1,"令和6年4月1日より研修管理委員会の構成員の変更"]
[206,2020,"20","８",23,"008","2023008","　","独立行政法人地域医療機能推進機構　中京病院","愛知県","457－8510","愛知県名古屋市南区三条1－1－10","病院",661,12,1,14,null,"4月～翌9月,9月~翌9月","13,18","×",null,null,null,"不明",5,"不要","有","放送大学",null,null,null,"無",null,null,null,null,11,7,7,null,null,null,3,3,null,3,null,null,3,7,null,12,null,null,8,7,2,null,null,null,2,null,null,null,1,"令和6年4月1日より術中麻酔管理領域パッケージ研修の追加、定員数の変更"]
[207,2020,"20","８",23,"009","2023009","　","名古屋市立大学病院","愛知県","467－8602","愛知県名古屋市瑞穂区瑞穂町字川澄1番地","大学病院",800,14,1,{"$f":"P209*O209","v":14},null,"４月～翌３月","6,12","×",null,null,null,"○",5,"要","有","学研",null,null,null,"無",null,null,null,null,14,5,5,null,1,null,null,null,null,8,5,3,3,8,null,9,3,3,6,5,5,null,null,null,3,null,null,null,1,"令和6年4月1日より研修管理委員会の構成員の変更"]
[208,2020,"20","８",26,"006","2026006","　","京都大学医学部附属病院","京都府","606－8507","京都府京都市左京区聖護院川原町54","大学病院",null,3,1,{"$f":"P210*O210","v":3},null,"10月～翌9月",12,"×",null,null,null,"×",5,"要","無","学研",null,null,null,"無",100,100,null,null,{"$f":"COUNTA(AM210:BG210)","v":6},3,3,null,null,null,null,null,null,null,null,null,null,3,null,3,null,null,3,3,null,null,null,null,3,null,null,null,1,"R70401より研修管理委員会の構成員の変更"]
[209,2020,"20","８",27,"012","2027012","　","独立行政法人国立病院機構　大阪南医療センター","大阪府","586－8521","大阪府河内長野市木戸東町2－1","病院",430,6,1,8,null,"10月～翌9月",12,"×",null,null,null,"○",3,"要","有","学研",null,null,null,"無",45,60,null,null,8,8,8,null,null,null,null,null,null,null,null,2,null,8,null,4,null,null,2,8,4,null,8,null,2,4,null,null,3,"R70401より定員変更（共通科目、気道確保、人工呼吸、循環薬剤、血ガス）"]
[210,2020,"20","８",28,"007","2028007","　","公益社団法人兵庫県看護協会","兵庫県","650－0011","兵庫県神戸市中央区下山手通5－6－24","協会",null,20,1,{"$f":"P212*O212","v":20},null,"4月～翌3月",12,"×","○",null,null,"○",5,"不要","無","独自",null,null,null,"有",null,null,null,null,2,null,null,null,null,null,null,null,null,null,null,null,null,null,null,20,null,null,null,null,20,null,null,null,null,null,null,null,0,"R70401より指導者の変更"]
[211,2020,"20","８",28,"008","2028008","　","神戸大学医学部附属病院","兵庫県","650－0017","兵庫県神戸市中央区楠町7－5－2","大学病院",null,5,1,5,null,"10月～翌9月",12,"×",null,null,null,"×","5(認定）","要","無","学研",null,null,null,"無",45.3,853,null,null,6,5,5,null,null,null,null,null,null,null,null,null,null,5,null,5,null,null,5,5,null,null,null,null,5,null,null,null,1,"令和6年4月1日より研修管理委員会の構成員の変更"]
[212,2020,"20","８",29,"002","2029002","　","地方独立行政法人奈良県立病院機構　医療専門職教育研修センター","奈良県","630－8581","奈良県奈良市七条西町2－897－5","病院",null,6,1,6,null,"4月～翌3月",24,"×",null,null,null,"○",5,"要","有","学研",null,null,null,"無",null,null,null,null,21,6,6,6,6,6,6,6,6,6,6,6,6,6,6,6,6,6,6,6,6,6,null,null,null,null,null,null,0,"R70401より定員、構成員、指導者の変更"]
[213,2020,"20","８",34,"002","2034002","　","独立行政法人国立病院機構　呉医療センター","広島県","737－0023","広島県呉市青山町3－1","病院",700,2,1,2,null,"6月～翌3月",10,"×",null,null,null,"○",3,"要","有","S-QUE",null,null,null,"無",27,65,null,null,6,2,2,null,null,null,null,null,null,null,2,null,null,2,null,2,null,null,null,null,2,null,null,null,null,2,null,null,1,"パのみ"]
[214,2020,"20","８",34,"003","2034003","　","独立行政法人国立病院機構　広島西医療センター","広島県","739－0696","広島県大竹市玖波4－1－1","病院",440,8,1,8,null,"6月～12月",7,"×",null,null,null,"×",5,"要","無","学研",null,null,null,"無",null,null,null,null,5,null,null,5,null,null,null,null,5,null,5,5,null,null,null,5,null,null,null,null,null,null,3,null,null,null,null,null,1,"R70401より教材S-Qから変更"]
[215,2020,"20","８",35,"004","2035004","　","社会福祉法人　恩賜財団済生会支部　山口県済生会山口総合病院","山口県","753－8517","山口県山口市緑町2－11","病院",null,9,1,9,null,"4月～翌3月",12,"×",null,null,null,"×",null,"不要","有","学研","学研",null,null,"無",null,null,null,null,13,5,5,3,2,null,2,2,null,null,2,null,null,5,null,5,null,3,3,3,3,null,null,null,null,null,null,null,0,"令和6年4月1日より研修管理委員会の構成員および指導者の変更"]
[216,2020,"20","８",36,"002","2036002","　","国立大学法人徳島大学大学院医歯薬学研究部保健学域保健科学部門","徳島県","770－8503","徳島県徳島市蔵本町3－18－15","大学院",null,38,1,38,null,"4月～翌3月",12,"×","○",null,null,"○",5,"要","有","日看協",null,null,null,"不明",47.9,69.900000000000006,null,null,5,null,null,26,null,null,null,null,26,null,null,26,null,null,null,38,12,null,null,null,null,null,26,null,null,null,null,null,1,"R70401より研修管理委員会の構成員、責任者、研修施設、指導者の変更"]
[217,2020,"20","８",38,"001","2038001","　","国立大学法人愛媛大学","愛媛県","790－8577","愛媛県松山市道後樋又10－13","大学",null,8,1,{"$f":"P219*O219","v":8},null,"4～3月",12,"×",null,null,null,"○",5,"要","有","S-QUE",null,null,null,"無",null,null,null,null,7,2,2,4,null,null,null,null,null,4,null,0,null,4,null,0,null,null,null,null,null,null,null,null,null,null,null,null,0,"R70401より創傷管理、栄養水分休止"]
[218,2020,"20","８",40,"008","2040008","　","福岡県立大学看護実践教育センター　特定行為研修部門","福岡県","825－8585","福岡県田川市大字伊田4395","大学",null,6,1,6,null,"4月～12月",9,"×",null,null,null,"○",5,"要","有","放送大学",null,null,null,"有",null,null,null,null,5,null,null,2,null,null,null,null,2,null,null,2,null,null,null,6,null,2,null,null,null,null,2,null,null,null,null,null,1,"R70401より研修施設、の変更"]
[219,2020,"20","８",40,"009","2040009","　","公立八女総合病院","福岡県","834－0034","福岡県八女市高塚540－2","病院",300,4,2,6,null,"10月～翌9月\n4月～9月","12\n６","×",null,null,null,"○",5,"要","有","S-QUE",null,null,null,"無",null,null,null,null,6,6,6,null,null,null,null,null,null,null,null,null,null,4,null,6,null,null,4,4,null,null,null,null,4,null,null,null,1,"令和6年4月1日より研修管理委員会の構成員、研修責任者、指導者の変更"]
[220,2020,"20","８",41,"004","2041004","　","国立大学法人佐賀大学医学部附属病院","佐賀県","849－8501","佐賀県佐賀市鍋島5－1－1","大学病院",604,5,1,{"$f":"P222*O222","v":5},null,"10月～翌9月",12,"×",null,null,null,"○",5,"要","有","S-QUE",null,null,null,"無",null,null,null,null,7,3,3,null,null,null,null,null,null,null,null,null,null,3,null,5,null,2,3,3,null,null,null,null,3,null,null,null,1,"令和6年4月1日より研修管理委員会の構成員、研修責任者、指導者の変更"]
[221,2020,"20","８",44,"003","2044003","　","大分県立病院","大分県","870－8511","大分県大分市豊饒2－8－1","病院",null,5,1,{"$f":"P223*O223","v":5},null,"10月～翌9月",12,"×",null,null,null,"○",5,"要","無","S-QUE",null,null,null,"無",null,null,null,null,13,5,5,3,null,null,3,3,null,3,3,null,3,5,null,5,null,null,3,3,2,null,null,3,2,2,null,null,3,"R70819よりオリジナル外科パッケージの追加。"]
[222,2020,"20","８",44,"004","2044004","　","大分赤十字病院","大分県","870－0033","大分県大分市千代町3－2－37","病院",340,3,2,{"$f":"P224*O224","v":6},null,"10月～翌12月\n10月～翌7月","14\n１０","×",null,null,null,"×",5,"要","有","放送大学",null,null,null,"無",null,null,null,null,4,null,null,3,null,null,null,null,null,null,null,null,null,3,null,3,null,3,null,null,null,null,null,null,null,null,null,null,{"$f":"COUNTA(BH224:BM224)","v":0},"麻酔に加え2区分も走る、R3.9より履修免除有り、定員変更"]
[223,2020,"20","８",47,"004","2047004","　","社会医療法人　友愛会　友愛医療センター","沖縄県","901－0224","沖縄県豊見城市字与根50番地５","病院",378,12,1,{"$f":"P225*O225","v":12},null,"10月～翌9月",12,"×",null,null,null,"○",5,"要","有","エルゼビア",null,null,null,"無",40.700000000000003,77,null,null,11,12,12,null,null,null,9,9,null,3,null,9,9,12,null,12,null,null,12,12,null,null,null,null,3,null,null,null,1,"令和70428より協力施設、指導者の変更"]
[224,2021,21,"２","01","011","2101011","　","医療法人徳洲会　札幌東徳洲会病院","北海道","065-0033","札幌市東区北33条東14丁目3番1号","病院",325,3,1,{"$f":"P226*O226","v":3},null,"6月～10月",5,"×",null,null,null,"○",5,"要","無","学研",null,null,null,"無",null,null,null,null,3,null,null,null,null,null,null,null,null,3,3,null,null,3,null,null,null,null,null,null,null,null,null,null,null,null,null,null,0,"R70401より研修管理委員会の構成員および指導者の変更"]
[225,2021,21,"２","01","012","2101012","　","市立函館病院","北海道","041-8680","函館市港町１丁目10番１号","病院",734,9,1,18,null,"４月～翌年３月、４月~10月",7.12,"×",null,null,null,"初年度は自施設",5,"要","有","S-QUE",null,null,null,"無",30,40,null,null,10,6,8,null,6,null,null,null,null,6,3,1,null,8,null,2,null,null,2,6,null,null,null,null,2,null,null,4,2,"R70401より研修管理委員会の構成員および指導者の変更"]
[226,2021,21,"２","01","013","2101013","　","独立行政法人国立病院機構函館医療センター","北海道","041-8512 ","函館市川原町18番16号","病院",305,5,1,5,null,"4月～３月",12,"×",null,null,null,"初年度は自施設",5,"要","有","S-QUE",null,null,null,"無",45,70,null,null,8,null,null,null,null,null,null,null,null,2,1,2,2,4,null,2,2,null,2,null,null,null,null,null,null,null,2,null,1,"令和6年8月1日より名称の変更、R70401より研修施設、指導者の変更"]
[227,2021,21,"２","03","002","2103002","　","独立行政法人国立病院機構岩手病院","岩手県","021-0056","一関市山目字泥田山下48番地","病院",250,5,1,{"$f":"P229*O229","v":5},null,"６月～２月",9,"×",null,null,null,"×",5,"要","有","S-QUE",null,null,null,"無",27.3,47,null,null,2,null,null,5,null,null,null,null,3,null,null,null,null,null,null,null,null,null,null,null,null,null,null,null,null,null,null,null,0]
[228,2021,21,"２","06","004","2106004","　","独立行政法人国立病院機構米沢病院","山形県","992-1202","米沢市大字三沢26100－1","病院",220,5,1,5,null,"６月～２月",9,"×",null,null,null,"×",5,"要","有","S-QUE",null,null,null,"無",38.5,55,null,null,4,null,null,0,null,null,null,null,0,null,null,0,null,null,null,0,null,null,null,null,null,null,0,null,null,null,null,null,1,"R70217より在宅パッケージ研修の休止（R70401~R80331)"]
[229,2021,21,"２","08","003","2108003","　","茨城県立医療大学","茨城県","300-0394","茨城県稲敷郡阿見町阿見　4669-2","大学",null,40,1,40,null,"４月～10月",6,"×","○",null,null,"○",5,"要","有","S-QUE",null,null,null,"無",null,null,null,null,2,null,null,null,null,null,null,null,null,null,null,null,null,null,null,20,null,null,null,null,20,null,null,null,null,null,null,null,0,"令和5年4月1日より協力施設、研修管理委員会の構成員、研修内容、指導者の変更"]
[230,2021,21,"２",10,"005","2110005","　","伊勢崎市民病院","群馬県","372-0817","群馬県伊勢崎市連取本町12番地１","病院",494,5,1,5,null,"4月～３月",12,"×",null,null,null,"初年度は自施設",5,"要","有","学研",null,null,null,"無",null,null,null,null,13,5,5,null,5,null,5,null,null,5,null,5,5,5,null,5,5,null,5,5,5,null,null,5,5,null,null,5,3,"令和6年4月1日より研修管理委員会の構成員および指導者の変更"]
[231,2021,21,"２",10,"006","2110006","　","医療法人済恵会　須藤病院","群馬県","379-0116","群馬県安中市安中3532－5","病院",120,4,1,4,null,"4月～３月",12,"×",null,null,null,"×",5,"要","無","学研",null,null,null,"無",null,null,null,null,2,null,null,null,null,null,null,null,null,null,4,null,null,null,null,4,null,null,null,null,null,null,null,null,null,null,null,null,0,"令和6年4月1日より研修の休止R70401より休止2区分再開"]
[232,2021,21,"２",10,"007","2110007","　","国立大学法人群馬大学医学部附属病院","群馬県","371-8511","群馬県前橋市昭和町３丁目39番15号","大学病院",731,10,1,10,null,"4月～３月",12,"×",null,null,null,"○",5,"要","有","学研",null,null,null,"無",42.9,90.2,null,null,15,10,10,4,3,null,4,4,null,4,7,null,4,7,null,10,null,6,10,10,6,null,null,4,null,null,null,4,2,"R70401より集中P開校"]
[233,2021,21,"２",12,"004","2112004","　","医療法人　徳洲会　鎌ケ谷総合病院","千葉県","273-0121","千葉県鎌ケ谷市初富929-6","病院",331,2,1,2,null,"4月～３月",12,"×",null,null,null,"×",5,"要","無","エルゼビア",null,null,null,"無",null,null,null,null,12,2,2,0,null,null,0,0,null,2,0,null,0,2,null,2,null,null,0,2,null,null,null,0,null,null,null,null,1,"R70207より構成員、指導者、変更。\n"]
[234,2021,21,"２",13,"026","2113026","　","一般社団法人　日本周麻酔期看護医学会","東京都","105-0000","東京都港区１丁目４－３","学会",null,24,1,18,null,"4月～３月",24,"○",null,null,null,"○","大学院修了・見込み","不要","有","学研",null,null,null,"無",null,null,null,null,6,18,18,null,null,null,null,null,null,null,null,null,null,18,null,18,null,null,18,18,null,null,null,null,18,null,null,null,1,"R70331より所在地変更、定員変更"]
[235,2021,21,"２",13,"027","2113027","　","学校法人杏林学園　杏林大学医学部付属病院","東京都","181-8611","東京都三鷹市新川６丁目20-2","大学病院",1153,27,1,{"$f":"P237*O237","v":27},null,"10月～翌年３月、10月から翌年6月",6.9,"×",null,null,null,"×",5,"要","有","S-QUE","S-QUE",null,null,"無",null,null,null,null,13,5,5,6,null,null,3,3,null,3,3,5,3,5,null,8,null,null,8,3,null,null,null,3,null,null,null,null,1,"R71001共通科目定員変更、気道確保の定員変更"]
[236,2021,21,"２",13,"028","2113028","　","学校法人日本医科大学　日本医科大学多摩永山病院","東京都","206-8512","東京都多摩市永山1－7－1","大学病院",405,10,1,{"$f":"P238*O238","v":10},null,"10月～9月",12,"×",null,null,null,"×",5,"要","有","S-QUE",null,null,null,"無",null,null,null,null,8,5,10,5,null,null,null,null,null,5,null,null,null,10,null,10,null,null,5,5,null,null,null,null,5,null,null,null,1,"R61001より協力施設、指導者の変更、動脈血ガス５（最大10）変更"]
[237,2021,21,"２",13,"029","2113029","　","社会福祉法人三井記念病院","東京都","101-8643","東京都千代田区神田和泉町1番地","病院",482,5,1,{"$f":"P239*O239","v":5},null,"４月～翌年３月",12,"×",null,null,null,"×","7(認定)","要","有","学研",null,null,null,"無",null,null,null,null,8,3,3,null,null,null,null,null,null,null,null,3,2,3,null,3,null,null,3,3,null,null,null,null,3,null,null,null,1,"R70601より履修免除有りへ"]
[238,2021,21,"２",14,"015","2114015","　","医療法人社団康心会　湘南東部総合病院","神奈川県","253-0083","神奈川県茅ヶ崎市西久保500","病院",327,15,1,15,null,"４月～翌３月．4～２月",11,"×",null,null,null,"×",5,"要","無","学研",null,null,null,"無",null,null,null,null,9,null,null,3,null,null,null,4,3,null,null,6,4,4,null,8,5,null,4,null,null,null,3,null,null,null,null,null,1,"R70403より定員変更"]
[239,2021,21,"２",13,"016",2114016,"　","学校法人昭和医科大学　昭和大学認定看護師教育センター","東京都","142-8555","東京都品川区旗の台1－5－8","大学",null,84,1,{"$f":"P241*O241","v":84},null,"6月～３月,6月～5月",10.119999999999999,"×","○",null,null,"○","3～5","要","有","エルゼビア",null,null,null,"無",null,null,null,null,14,22,22,2,null,null,2,null,null,2,null,2,2,24,20,54,2,null,22,32,10,null,null,null,20,null,2,null,2,"R70401より名称変更,R61001より研修期間、教材変更"]
[240,2021,21,"２",14,"017",{"$f":"CONCATENATE(C242,E242,F242)","v":"2114017"},"　","神奈川県厚生農業協同組合連合会　相模原協同病院","神奈川県","252-5188","神奈川県相模原市緑区橋本台4丁目3番1号","病院",400,5,1,5,null,"4月～３月",12,"×",null,null,null,"○","3～5","要","有","S-QUE",null,null,null,"無",null,null,null,null,{"$f":"COUNTA(AM242:BG242)","v":6},5,5,null,null,null,null,null,null,5,5,null,null,5,null,5,null,null,null,null,null,null,null,null,null,null,null,null,0,"R6.11.1より協力施設、指導者の変更"]
[241,2021,21,"２",14,"018","2114018","　","地方独立行政法人　神奈川県立病院機構　神奈川県立足柄上病院","神奈川県","258-0003","神奈川県足柄上郡松田町松田惣領866-1","病院",296,4,1,4,null,"4月～３月",12,"×",null,null,null,"○",5,"要","有","学研",null,null,null,"無",null,null,null,null,3,null,null,null,null,null,null,null,null,null,null,null,3,null,null,4,null,3,null,null,null,null,null,null,null,null,null,null,0,"令和6年4月23日より研修管理委員会の構成員、定員数、指定研修機関代表者の変更"]
[242,2021,21,"２",14,"019","2114019","　","横浜市立市民病院","神奈川県","221-0855","神奈川県横浜市神奈川区三ツ沢西町1－1","病院",650,2,1,2,null,"4月～３月",12,"×",null,null,null,"○",5,"要","有","S-QUE",null,null,null,"無",49,49,null,null,8,null,2,null,null,null,null,null,null,null,2,2,2,2,null,2,null,2,null,2,null,null,null,null,null,null,null,null,0]
[243,2021,21,"２",20,"006","2120006","　","JA長野厚生連　佐久総合病院　佐久医療センター","長野県","385-0051","長野県佐久市中込３４００番地２８","病院",450,10,1,10,null,"4月～３月",12,"×",null,null,null,"○",5,"要","有","学研",null,null,null,"無",26.6,42,null,null,19,3,3,3,3,3,3,3,3,3,3,5,3,3,null,6,3,2,3,3,3,null,3,null,null,null,null,null,1,"令和6年10月1日より施設、指導者の追加"]
[244,2021,21,"２",22,"010","2122010","　","静岡県公立大学法人　静岡県立大学","静岡県","422-8526","静岡県静岡市駿河区谷田52-1","大学",null,5,1,5,null,"4月～1月",10,"×",null,null,null,"○",5,"要","有","S-QUE",null,null,null,"無",null,null,null,null,6,null,null,5,null,null,null,null,5,null,null,5,null,null,null,5,5,5,null,null,null,null,5,null,null,null,null,null,1,"令和6年4月1日より区分の追加、協力施設の変更"]
[245,2021,21,"２",23,"010","2123010","　","愛知県厚生農業協同組合連合会　海南病院","愛知県","498-8502","愛知県弥富市前ケ須町南本田３９６番地","病院",540,10,1,17,null,"7月～翌6月","6,12","×",null,null,null,"×",5,"要","無","S-QUE",null,null,null,"無",null,null,null,null,15,6,6,6,null,null,null,4,2,6,4,4,6,8,null,6,2,1,4,2,null,null,2,null,2,null,2,null,3,"R70430より定員変更"]
[246,2021,21,"２",23,"011","2123011","　","医療法人　徳洲会　名古屋徳洲会総合病院","愛知県","487-0016","春日井市高蔵寺町北2丁目52番地","病院",350,8,1,8,null,"4月～３月",12,"×",null,null,null,"×",5,"要","無","学研",null,null,null,"無",null,null,null,null,7,8,8,null,6,null,null,null,null,8,6,null,null,8,null,null,null,null,null,8,null,null,null,null,null,null,null,6,1,"Ｒ６．４管理委員会の構成員・指導者の変更"]
[247,2021,21,"２",23,"012","2123012","　","小牧市民病院","愛知県","485-8520","小牧市常普請一丁目20番地","病院",520,8,1,14,null,"6月～3月",10,"×",null,null,null,"○",5,"要","有","S-QUE",null,null,null,"無",75,75,null,null,11,3,3,null,null,null,null,11,null,5,null,5,5,8,null,8,5,null,8,3,null,null,null,null,3,null,5,null,2,"令和6年4月1日より研修管理委員会の構成員の変更"]
[248,2021,21,"２",26,"007","2126007","　","医療法人徳洲会　宇治徳洲会病院","京都府","611-0041","京都府宇治市槇島町石橋145","病院",473,13,1,17,null,"４月～翌３月","6,12","×",null,null,null,"○",5,"要","有","S-QUE",null,null,null,"無",52.8,52.8,null,null,19,17,17,6,11,4,4,null,6,13,4,11,4,17,8,17,4,5,9,17,9,null,4,null,2,4,2,6,5,"R707麻酔P開講"]
[249,2021,21,"２",26,"008","2126008","　","社会福祉法人京都社会事業財団　京都桂病院","京都府","615-8256","京都府京都市西京区山田平尾町17","病院",557,4,1,8,null,"４月～翌３月",12,"×",null,null,null,"×",5,"要","無","S-QUE",null,null,null,"無",40,67.099999999999994,null,null,10,3,3,null,null,null,null,null,null,4,2,1,null,3,null,6,null,null,1,3,4,null,null,null,1,2,null,null,2,"R70401より教材学研より変更、定員変更"]
[250,2021,21,"２",27,"013","2127013","　","医療法人ダイワ会　大和病院","大阪府","564-0062","大阪府吹田市垂水町3-22-11","病院",131,5,1,{"$f":"P252*O252","v":5},null,"4月～３月",12,"×",null,null,null,"×",5,"要","無","学研",null,null,null,"無",33,66,null,null,2,null,null,null,null,null,null,null,null,null,5,null,null,null,null,5,null,null,null,null,null,null,null,null,null,null,null,null,0,"令和６年４月１日より特定行為研修管理委員会構成員・責任者・指導者の変更"]
[251,2021,21,"２",27,"014","2127014","　","医療法人徳洲会　野崎徳洲会病院","大阪府","574-0074","大阪府大東市谷川２－１０－５０","病院",218,3,1,3,null,"4月～３月",12,"×",null,null,null,"×",5,"要","無","学研",null,null,null,"無",32.1,52.2,null,null,6,3,3,3,null,null,null,null,null,3,3,null,null,3,null,null,null,null,null,null,null,null,null,null,null,null,null,null,0,"R70401より特定行為研修管理委員会構成員・指導者の変更"]
[252,2021,21,"２",27,"015","2127015","　","医療法人　徳洲会　八尾徳洲会総合病院","大阪府","581-0011","大阪府八尾市若草町１－１７","病院",415,9,1,9,null,"4月～３月、10月~３月","12・６","×",null,null,null,"×",5,"要","無","学研",null,null,null,"無",null,null,null,null,15,9,9,9,null,null,9,9,2,9,9,2,9,9,null,9,null,null,9,4,3,null,2,2,2,2,null,null,4,"R70417構成員の変更"]
[253,2021,21,"２",27,"016","2127016","　","社会医療法人ペガサス　馬場記念病院","大阪府","592-8555","大阪府堺市西区浜寺船尾町東4丁244番地","病院",300,10,1,10,null,"10月～３月・4月～3月","６・12","×",null,null,null,"○",5,"要","有","S-QUE",null,null,null,"無",38.5,60.5,null,null,13,5,5,10,null,null,null,5,5,5,5,5,5,5,null,10,5,null,null,null,5,null,5,null,null,null,null,null,1]
[254,2021,21,"２",27,"017","2127017","　","社会医療法人生長会　ベルランド総合病院","大阪府","599-8247","大阪府堺市中区東山500-3","病院",477,5,1,5,null,"4月～３月",12,"×",null,null,null,"○",5,"要","有","S-QUE",null,null,null,"無",34,60,null,null,14,5,5,0,1,null,0,0,null,5,5,null,0,5,null,4,null,null,1,2,3,null,null,0,1,3,null,1,4,"R70327より救急P、CVC,PICC定員数変更"]
[255,2021,21,"２",28,"009","2128009","　","神戸市立医療センター　中央市民病院","兵庫県","650-0047","兵庫県神戸市中央区港島南町２－１－１","病院",768,9,1,9,null,"4月～３月",12,"×",null,null,null,"○",5,"要","無","S-QUE",null,null,null,"無",null,null,null,null,3,null,3,null,null,null,null,null,null,null,null,null,null,3,null,3,null,null,null,null,null,null,null,null,null,null,null,null,0]
[256,2021,21,"２",29,"003","2129003","　","公益財団法人　天理よろづ相談所","奈良県","632-8552","奈良県天理市三島町200番地","病院",600,30,1,30,null,"4月～３月",12,"×",null,null,null,"○",5,"要","有","S-QUE",null,null,null,"無",45.5,65.5,null,null,13,4,4,12,null,null,4,14,8,14,4,12,14,14,null,26,null,null,10,null,null,null,8,null,null,null,null,null,1]
[257,2021,21,"２",33,"004","2133004","　","地方独立行政法人岡山市立総合医療センター　岡山市立市民病院","岡山県","700-8557","岡山市北区北長瀬表町３丁目２０－１","病院",400,8,1,8,null,"４月～翌３月",11,"×",null,null,null,"○",3,"不要","有","S-QUE",null,null,null,"無",null,null,null,null,7,6,6,2,null,null,null,null,null,4,null,null,null,8,null,8,null,null,null,null,3,null,null,null,null,3,null,null,1,"R70515より指定研修機関名（スペース問題）、構成員、責任者、指導者の変更｢地方独立行政法人【スペース】岡山市立総合医療センター【スペース】岡山市立市民病院から変更,定員数変更"]
[258,2021,21,"２",34,"004","2134004","　","独立行政法人国立病院機構福山医療センター","広島県","720-8520","広島県福山市沖野上町４丁目１４－１７","病院",350,12,1,12,null,"４月～翌３月",12,"×",null,null,null,"○",null,"不明","有","学研",null,null,null,"無",27,65,null,null,9,3,3,null,null,null,null,null,null,2,3,null,null,5,null,5,null,2,5,3,null,null,null,null,3,null,null,null,1,"R70401より学研へ研修施設、指導者の変更"]
[259,2021,21,"２",35,"005","2135005","　","公立大学法人　山口県立大学","山口県","753-8502","山口市桜畠6丁目2番１号","大学",null,20,1,20,null,"4月～1２月",9,"×","○",null,null,"○","5(認定)","不要","無","日看協",null,null,null,"無",null,null,null,null,2,null,null,null,null,null,null,null,null,null,null,null,null,null,null,15,15,null,null,null,null,null,null,null,null,null,null,null,0,"R70401より構成員、指導者の変更"]
[260,2021,21,"２",35,"006","2135006","　","独立行政法人国立病院機構関門医療センター","山口県","752-8510","山口県下関市長府外浦町１－１","病院",400,7,1,7,null,"５月～3月、履修免除（5月～7月）\n（パッケージ研修；5月～3月）","8,２（８）","×",null,null,null,"○",3,"要","有","学研",null,null,null,"無",45,60,null,null,13,6,6,2,null,null,null,null,null,1,2,1,1,7,null,5,1,null,3,2,4,null,null,null,3,3,3,null,3,"R70401より教材変更、P研修定員変更、研修期間変更"]
[261,2021,21,"２",40,"010","2140010","　","医療法人社団　久英会　高良台リハビリテーション病院","福岡県","830-0054","久留米市藤光町965-2","病院",100,1,1,1,null,"4月～３月",12,"×",null,null,null,"○",5,"要","無","S-QUE",null,null,null,"無",null,null,null,null,4,null,null,1,null,null,null,null,1,null,null,1,null,null,null,1,null,null,null,null,null,null,1,null,null,null,null,null,1]
[262,2021,21,"２",40,"011","2140011","　","医療法人徳洲会　福岡徳洲会病院","福岡県","816-0864","春日市須玖北4丁目5番地","病院",602,5,1,5,null,"10月～翌3月・4月～翌３月","6・12","×",null,null,null,"×",5,"要","有","学研",null,null,null,"無",null,null,null,null,15,1,2,5,2,1,2,2,3,1,4,3,2,4,null,6,null,null,null,2,null,null,3,null,null,null,null,1,2]
[263,2021,21,"２",40,"012","2140012","　","学校法人高木学園　福岡国際医療福祉大学生涯教育センター","福岡県","814-0001","福岡市早良区百道浜2-4-16","大学",null,60,1,60,null,"4月～3月,4月～10月","7,12","×","○",null,null,"○",5,"要","無","日看協",null,null,null,"無",90,140,null,null,3,null,null,null,null,null,null,null,null,null,null,null,null,null,null,65,40,null,null,null,25,null,null,null,null,null,null,null,0,"R70407より栄養薬剤、精神の定員変更"]
[264,2021,21,"２",40,"013","2140013","　","社会医療法人天神会　新古賀病院","福岡県","830-8577","久留米市天神町120番地","病院",217,20,1,20,null,"4月～翌年３月,4月～10月,10月～翌年3月","6,7,12","×",null,null,null,"○",5,"要","有","S-QUE",null,null,null,"無",null,null,null,null,14,11,11,3,5,null,null,null,3,8,3,3,null,16,null,14,5,5,8,11,null,null,3,null,3,null,null,3,3,"令和6年10月1日より構成員,指導者、施設の変更"]
[265,2021,21,"２",40,"014","2140014","　","社会医療法人　陽明会　小波瀬病院","福岡県","800-0344","京都郡苅田町大字新津1598番地","病院",266,10,1,10,null,"4月～9月",12,"×",null,null,null,"○","3～5","要","有","S-QUE",null,null,null,"無",null,null,null,null,14,5,5,10,null,null,5,5,5,5,5,5,5,10,null,10,null,null,5,5,null,null,5,5,null,null,null,null,2,"R4.4～履修免除有へ。Ｒ70101構成員の変更"]
[266,2021,21,"２",40,"015","2140015","　","独立行政法人国立病院機構福岡東医療センター","福岡県","811-3195","古賀市千鳥1丁目1番1号","病院",591,4,1,4,null,"6月～12月",7,"×",null,null,null,"○",5,"要","有","学研",null,null,null,"無",null,null,null,null,7,4,4,4,null,null,4,null,null,null,null,null,null,4,null,4,null,null,null,null,4,null,null,null,null,4,null,null,1,"R70401より学習機材学研へ、研修時間数、研修管理委員会の構成員、指導者の変更"]
[267,2021,21,"２",41,"005","2141005","　","独立行政法人国立病院機構嬉野医療センター","佐賀県","843-0393","嬉野市嬉野町大字下宿甲4279番3","病院",424,3,1,3,null,"5月～2月",10,"×",null,null,null,"○",5,"要","有","学研",null,null,null,"無",23,56,null,null,5,2,2,null,null,null,null,null,null,null,null,null,null,2,null,2,null,null,null,null,2,null,null,null,null,2,null,null,1,"R70702　S-Qより教材変更、定員数変更"]
[268,2021,21,"２",41,"006","2141006","　","独立行政法人国立病院機構肥前精神医療センター","佐賀県","842-0192","神埼郡吉野ヶ里町三津160","病院",564,20,1,20,null,"5月～2月",10,"×",null,null,null,"○",5,"要","有","学研",null,null,null,"無",null,null,null,null,1,null,null,null,null,null,null,null,null,null,null,null,null,null,null,null,null,null,null,null,5,null,null,null,null,null,null,null,0,"R70509S-Qより教材変更"]
[269,2021,21,"２",43,"005","2143005","　","熊本赤十字病院","熊本県","861-8520","熊本市東区長嶺南二丁目1番1号","病院",490,4,1,4,null,"4月～10月,6月～１月",8.9,"×",null,null,null,"×",5,"要","有","S-QUE",null,null,null,"無",null,null,null,null,7,4,4,null,null,null,null,null,null,null,null,null,null,4,null,4,null,null,1,1,2,null,null,null,1,2,null,null,2,"R70401より気道確保、人工呼吸、動脈血液ガスの区分開始にともない、定員変更"]
[270,2021,21,"２",46,"003","2146003","　","鹿児島市立病院","鹿児島県","890-8760","鹿児島市上荒田町37番1号","病院",574,20,1,20,null,"4月～3月",12,"×",null,null,null,"○",5,"要","有","学研",null,null,null,"無",28,66.7,null,null,18,14,14,12,1,null,7,7,6,7,6,11,7,14,null,20,5,5,10,10,9,null,6,1,4,4,null,null,4,"R70401より腹腔、胸腔、CVC,PICC,創部、の区分開講で定員数変更"]
[271,2021,21,"２",46,"004","2146004","　","公益社団法人昭和会　いまきいれ総合病院","鹿児島県","890-0051","鹿児島市高麗町43番地25","病院",350,7,1,{"$f":"P273*O273","v":7},null,"4月～3月",12,"×",null,null,null,"×",3,"要","有","S-QUE",null,null,null,"無",23,48.9,null,null,8,3,3,null,null,null,null,null,null,null,2,2,null,5,null,7,null,null,3,3,null,null,null,null,3,null,null,null,1,"R3.10法人名変更"]
[272,2021,21,"２",47,"005","2147005","　","医療法人徳洲会　中部徳洲会病院","沖縄県","901-2393","中頭郡北中城村字比嘉801番地","病院",368,22,1,22,null,"10月～翌9月、10月～翌々9月","12,24 ","×",null,null,null,"○",5,"要","不明","学研",null,null,null,"無",32.4,51.4,null,null,{"$f":"COUNTA(AM274:BG274)","v":12},4,4,null,null,null,null,null,3,null,4,3,null,11,null,4,2,2,5,4,2,null,null,null,2,null,2,null,2,"R31001より名称変更"]
[273,2021,21,"２",47,"006","2147006","　","社会医療法人敬愛会中頭病院","沖縄県","904-2195","沖縄市字登川610番地","病院",355,6,1,6,null,"4月～3月",12,"×",null,null,null,"○",5,"要","有","S-QUE",null,null,null,"無",41.5,75.5,null,null,5,null,6,6,null,null,null,null,6,null,null,null,null,null,null,6,null,6,null,null,null,null,null,null,null,null,null,null,0,"R6.11.1より協力施設、指導者の変更"]
[274,2021,21,"8","01","014","2101014","　","旭川医科大学病院","北海道","078-8510","北海道旭川市緑が丘東2条1丁目1番1号","大学病院",null,5,1,5,null,"10月～9月",12,"×",null,null,null,null,null,null,"無","学研",null,null,null,null,null,null,null,null,12,5,5,5,null,null,5,5,null,5,5,null,5,5,null,5,null,null,5,5,null,null,null,5,5,null,null,null,2,"R70623より指導者の変更"]
[275,2021,21,"８","01","015","2101015","　","北見赤十字病院","北海道","090-8666","北海道北見市北6条東2丁目1番地","病院",null,7,1,7,null,"10月～9月",12,"×",null,null,null,null,null,null,"有","放送大学",null,null,null,null,null,null,null,null,3,null,null,null,null,null,null,null,null,5,5,2,null,null,null,null,null,null,null,null,null,null,null,null,null,null,null,null,0]
[276,2021,21,"８","04","006","2104006","　","仙台厚生病院","宮城県","980-0873","宮城県仙台市青葉区堤通雨宮町1番20号","病院",null,5,1,5,null,"10月～R83月",18,"×",null,null,null,null,null,null,"有","S-QUE",null,null,null,null,null,null,null,null,13,5,5,null,5,5,5,5,null,5,null,null,5,null,null,5,null,5,5,5,5,null,null,null,null,null,null,null,0,"R61001より構成員・指導者研修実施期間変更。令和７年3月1日指定研修機関名、指導者の変更"]
[277,2021,21,"８",10,"008","2110008","　","学校法人群馬パース大学 群馬パース大学 看護実践教育センター","群馬県","370-0006","高崎市問屋町1-5-2","大学",null,30,1,30,null,"4月～12月",12,"×","○",null,null,null,null,null,"無","日看協","学研",null,null,null,null,null,null,null,1,null,null,null,null,null,null,null,null,null,null,null,null,null,null,30,null,null,null,null,null,null,null,null,null,null,null,null,0,"R70401より構成員の変更"]
[278,2021,21,"8",10,"009","2110009","　","学校法人高崎健康福祉大学","群馬県","370-0033","群馬県高崎市中大類町37-1","大学",null,3,1,3,null,"10月～9月\n4月～翌3月",12,"×","○",null,null,null,null,null,"無","日看協","日看協",null,null,null,null,null,null,null,5,null,null,3,null,null,null,null,3,null,null,3,null,null,null,3,0,null,null,null,null,null,3,null,null,null,null,null,1,"R61120使用施設、指導者の変更"]
[279,2021,21,"8",10,"010","2110010","　","独立行政法人国立病院機構　高崎総合医療センター","群馬県","370-0829","高崎市高松町36","病院",485,5,1,5,null,"10月～9月",12,"×",null,null,null,null,null,null,"無","S-QUE",null,null,null,null,null,null,null,null,12,2,2,null,2,null,2,null,null,2,2,null,null,2,null,2,null,5,5,2,5,null,null,null,null,null,null,null,0]
[280,2021,21,"8",13,"030","2113030","　","医療法人社団東山会　調布東山病院","東京都","182-0026","調布市小島町２－３２－１７","病院",null,12,1,13,null,"10月～6月",9,"×",null,null,null,null,null,null,"無","学研",null,null,null,null,null,null,null,null,5,null,null,null,null,null,null,null,null,null,null,null,2,2,2,5,null,2,null,null,null,null,null,null,null,null,null,null,0,"令和6年6月1日より定員数の変更"]
[281,2021,21,"8",14,"020","2114020","　","独立行政法人国立病院機構箱根病院","神奈川県","250-0032","小田原市風祭412","病院",null,0,0,{"$f":"P283*O283","v":0},null,"10月～9月",12,"×",null,null,null,null,null,null,"有","S-QUE",null,null,null,null,null,null,null,null,4,null,null,0,null,null,null,null,0,null,null,0,null,null,null,0,null,null,null,null,null,null,0,null,null,null,null,null,0,"R60906より研修の休止"]
[282,2021,21,"8",20,"007","2120007","　","国立大学法人信州大学　信州大学医学部附属病院","長野県","390-8621","松本市旭3丁目1番1号","大学病院",null,12,1,12,null,"10月～翌年9月、10月～翌年3月","12、６","×",null,null,null,null,null,null,"無","学研",null,null,null,null,null,null,null,null,7,6,8,null,null,null,null,null,null,4,null,null,null,8,null,6,null,null,6,6,null,null,null,null,6,null,null,null,1,"R70722血ガス定員変更"]
[283,2021,21,"8",22,"011","2122011","　","藤枝市立総合病院","静岡県","426-8677","静岡県藤枝市駿河台4丁目1-11","病院",null,3,2,6,null,"10月～3月\n4月～9月",6,"×",null,null,null,null,null,null,"有","S-QUE",null,null,null,null,null,null,null,null,12,3,3,null,3,null,null,null,null,3,3,3,null,3,null,3,3,null,3,3,3,null,null,null,3,3,null,3,3,"令和6年4月1日より研修管理委員会の構成員、研修責任者、指導者の変更"]
[284,2021,21,"8",22,"012","2122012","　","富士市立中央病院","静岡県","417-8567","静岡県富士市高島町50番地","病院",null,8,1,8,null,"4月～12月、７月~12月","６・9","×",null,null,null,null,null,null,"有","S-QUE",null,null,null,null,null,null,null,null,12,2,2,2,null,null,null,null,4,2,null,6,4,5,null,8,4,null,2,3,null,null,2,2,null,null,null,null,2,"R70401より学研から教材変更"]
[285,2021,21,"8",23,"013","2123013","　","社会医療法人杏嶺会　一宮西病院","愛知県","494-0001","愛知県一宮市開明字平1番地","病院",null,3,1,3,null,"10月～9月",12,"×",null,null,null,null,null,null,"有","S-QUE",null,null,null,null,null,null,null,null,4,3,3,null,null,null,null,null,null,null,null,null,null,3,null,null,null,null,null,3,null,null,null,null,null,null,null,null,0]
[286,2021,21,"8",23,"014","2123014","　","地方独立行政法人　知多半島総合医療機構　知多半島総合医療センター","愛知県","475-8599","愛知県半田市横山町１９２番地","病院",null,5,2,10,null,"10月～9月、4月～9月",12,"×",null,null,null,null,null,null,"有","S-QUE",null,null,null,null,null,null,null,null,13,5,5,5,null,null,5,5,null,5,5,5,5,5,null,5,null,null,5,5,null,null,null,5,null,null,null,null,{"$f":"COUNTA(BH288:BM288)","v":1},"R70401より半田市立半田病院から名称変更"]
[287,2021,21,"8",27,"018","2127018","　","地方独立行政法人大阪市民病院機構　大阪市立総合医療センター","大阪府","534-0021","大阪市都島区都島本通2丁目13番22号","病院",null,6,1,6,null,"4月～3月",6,"×",null,null,null,null,null,null,"有","S-QUE",null,null,null,null,null,null,null,null,11,3,4,null,null,null,null,null,1,2,3,1,2,6,null,6,null,null,3,4,null,null,null,null,3,null,null,5,2,"R71121より研修管理委員会の構成員の変更"]
[288,2021,21,null,28,"010","2128010","〇","株式会社Vitaars",null,"651-0085","神戸市中央区八幡通3-2-5　IN東洋ビル605",null,null,null,null,null,null,null,null,"×",null,null,null,null,null,null,null,null,null,null,null,null,null,null,null,null,null,null,null,null,null,null,null,null,null,null,null,null,null,null,null,null,null,null,null,null,null,null,null,null,null,null,null,null,null,"R5 4月より社名変更 R70401~R80331まで研修区分の中止"]
[289,2021,21,"8",28,"011","2128011","　","地方独立行政法人加古川市民病院機構　加古川中央市民病院","兵庫県","675-8611","加古川市加古川町本町439番地","病院",null,12,1,{"$f":"P291*O291","v":12},null,"4月～翌3月",12,"×",null,null,null,null,null,null,"有","S-QUE",null,null,null,null,null,null,null,null,12,2,5,5,2,5,5,null,null,2,2,2,null,5,null,12,null,null,null,5,null,null,null,null,null,null,null,null,0,"R70401より、休止（R80331まで）"]
[290,2021,21,"8",38,"002","2138002","　","社会医療法人石川記念会　HITO病院","愛媛県","799ｰ0121","愛媛県四国中央市上分町７８８番地１","病院",null,5,1,5,null,"4月～3月",12,"×",null,null,null,null,null,null,"有","学研",null,null,null,null,null,null,null,null,6,null,null,5,null,null,null,null,5,null,null,5,null,5,null,5,null,5,null,null,null,null,5,null,null,null,null,null,1,"令和6年8月8日より施設、指導者、構成員の変更"]
[291,2021,21,"8",44,"005","2144005","　","大分大学医学部附属病院","大分県","879-5593","大分県由布市狭間町医大ヶ丘1丁目1番地","大学病院",null,11,1,11,null,"4月～3月",12,"×",null,null,null,null,null,null,"無","学研",null,null,null,null,null,null,null,null,13,10,10,10,null,null,10,10,null,10,10,null,10,10,null,10,null,null,10,10,10,null,null,10,10,10,null,null,3,"R70401より定員変更"]
[292,2022,22,"2","01","016","2201016","　","独立行政法人国立病院機構北海道医療センター","北海道","063-0005","札幌市西区山の手5条7丁目1番1号","病院",null,5,1,5,null,"4月～3月",12,"×",null,null,null,null,null,null,"有","学研",null,null,null,null,null,null,null,null,7,10,10,10,null,null,null,null,10,null,null,10,10,null,null,10,null,null,null,null,null,null,10,null,null,null,null,null,1,"R70401より構成委員、教材の変更"]
[293,2022,22,"2","01","017","2201017","　","名寄市立総合病院","北海道","096-8511","北海道名寄市西7条南8丁目1番地","病院",null,3,1,3,null,"4月～3月",12,"×",null,null,null,null,null,null,"有","学研",null,null,null,null,null,null,null,null,8,3,3,null,null,null,null,null,null,null,3,3,null,3,null,3,null,null,3,3,null,null,null,null,3,null,null,null,1,"R70401より指導者の変更"]
[294,2022,22,"2","08","004","2208004","　","茨城県厚生農業協同組合連合会　総合病院　土浦協同病院","茨城県","300-0028","茨城県土浦市おおつ野4丁目1-1","病院",null,6,1,6,null,"4月～3月",12,"×",null,null,null,null,null,null,"無","S-QUE",null,null,null,null,null,null,null,null,7,6,6,null,null,null,null,null,null,null,null,null,null,6,null,6,null,null,3,3,3,null,null,null,3,3,null,null,2,"R70401より学研から教材変更"]
[295,2022,22,"2",12,"005","2212005","　","医療法人社団葵会　柏たなか病院","千葉県","277-0803","千葉県柏市小青田1丁目3番地2","病院",null,5,1,5,null,"4月～3月",12,"×",null,null,null,null,null,null,"有","S-QUE",null,null,null,null,null,null,null,null,2,null,null,null,null,null,null,null,null,null,null,null,null,null,null,5,5,null,null,null,null,null,null,null,null,null,null,null,0,"令和6年８月26日より協力施設の追加、指導者の追加。"]
[296,2022,22,"2",12,"006","2212006","　","医療法人社団協友会　柏厚生総合病院","千葉県","277-8551","千葉県柏市篠籠田617番地","病院",null,10,1,10,null,"４月～翌３月","6,12","×",null,null,null,null,null,null,"有","エルゼビア",null,null,null,null,null,null,null,null,17,7,7,1,4,null,1,1,3,9,7,3,1,8,null,8,null,2,4,6,1,null,null,1,1,1,null,2,4,"R5.11.9-特定行為研修（栄養及び水分～、血糖コントロール～、精神及び神経症状～いずれも定員3）の休止。"]
[297,2022,22,"2",13,"031","2213031","　","一般社団法人日本精神科看護協会","東京都","108－0075","東京都港区南 2-12 -33 品川キャナルビル7階","協会",null,12,1,12,null,"4月～10月",7,"×",null,null,null,null,null,null,"無","学研",null,null,null,null,null,null,null,null,3,null,null,null,null,null,null,null,null,null,null,null,null,null,null,0,null,0,null,null,0,null,null,null,null,null,null,null,0]
[298,2022,22,"2",14,"021","2214021","　","小田原市立病院","神奈川県","250－8558","神奈川県小田原市久野46番地","病院",null,6,1,6,null,"４月～翌３月",12,"×",null,null,null,null,null,null,"有","エルゼビア",null,null,null,null,null,null,null,null,12,6,6,null,2,null,null,null,null,2,2,3,null,6,null,6,3,null,2,4,3,null,null,null,2,2,null,2,3,"R70401よりパッケージ定員2ずつへ"]
[299,2022,22,"2",16,"008","2216008","　","国立大学法人富山大学大学院総合医薬学研究科総合医薬学専攻","富山県","930-0194","富山県富山市杉谷2630番地","大学院",null,2,1,2,null,"4月～3月",24,"○",null,null,"○",null,5,null,"有","S-QUE",null,null,null,null,null,null,null,null,14,2,2,2,null,null,null,null,2,2,null,2,2,2,2,2,2,2,2,2,null,null,2,null,null,null,2,null,2,"令和6年4月1日より研修管理委員会の構成員、研修責任者、指導者の変更"]
[300,2022,22,"2",19,"002","2219002","　","地方独立行政法人山梨県立病院機構山梨県立中央病院","山梨県","400-8506","山梨県甲府市富士見１丁目１番１号","病院",null,10,1,10,null,"4月～3月",12,"×",null,null,null,null,null,null,"有","S-QUE",null,null,null,null,null,null,null,null,9,5,5,null,null,null,null,null,null,5,null,null,null,null,null,5,5,5,5,5,5,null,null,null,null,null,null,null,0,"R70401より研修管理委員会の構成員および指導者の変更"]
[301,2022,22,"2",20,"008","2220008","　","長野県看護大学看護実践国際研究センター","長野県","399-4117","長野県駒ケ根市赤穂１６９４","大学",null,15,1,15,null,"6月～3月",10,"×","○",null,null,null,null,null,"無","日看協",null,null,null,null,null,null,null,null,2,null,null,null,null,null,null,null,null,null,null,null,null,null,null,15,15,null,null,null,null,null,null,null,null,null,null,null,0,"令和6年3月29日より研修施設、指導者、定員の変更"]
[302,2022,22,"2",22,"013","2222013","　","公益社団法人静岡県看護協会","静岡県","422-8067","静岡県静岡市駿河区南町14番25号","協会",null,16,1,16,null,"4月～3月",12,"×","○",null,null,null,null,null,"無","S-QUE",null,null,null,null,null,null,null,null,2,null,null,null,null,null,null,null,null,null,null,null,null,null,null,16,16,null,null,null,null,null,null,null,null,null,null,null,0,"令和6年3月14日より研修管理委員会の構成員および指導者の変更"]
[303,2022,22,"2",23,"015","2223015","　","医療法人清須呼吸器疾患研究会　はるひ呼吸器病院","愛知県","452－0962","愛知県清須市春日流8番地１","病院",null,4,1,4,null,"4月～3月",12,"×",null,null,null,null,null,null,"有","S-QUE",null,null,null,null,null,null,null,null,4,4,4,4,null,null,null,null,null,null,null,null,null,4,null,null,null,null,null,null,null,null,null,null,null,null,null,null,0,"R70401より施設の変更、指導者の変更"]
[304,2022,22,"2",26,"009",{"$f":"CONCATENATE(C306,E306,F306)","v":"2226009"},"　","京都橘大学看護教育研修センター","京都府","607-8175","京都府京都市山科区大宅山田町34","大学",null,30,1,30,null,"4月～２月",11,"×","○",null,null,null,null,null,"有","日看協",null,null,null,null,null,null,null,null,{"$f":"COUNTA(AM306:BG306)","v":2},null,null,null,null,null,null,null,null,null,null,30,null,null,null,30,null,null,null,null,null,null,null,null,null,null,null,null,0]
[305,2022,22,"2",27,"019","2227019","　","社会医療法人東和会　第一東和会病院","大阪府","569-0081","大阪府高槻市宮野町2番17号","病院",null,12,1,12,null,"4月～７月",16,"×",null,null,null,null,null,null,"有","S-QUE",null,null,null,null,null,null,null,null,11,4,4,null,null,null,null,4,null,4,null,3,null,4,null,6,2,2,4,4,null,null,null,null,4,null,null,null,1,"R70401より定員変更（腹部D,CVC,循環薬剤）"]
[306,2022,22,"2",27,"020","2227020","　","医療法人徳洲会　松原徳洲会病院","大阪府","580-0032","大阪府松原市天美東7丁目13番26号","病院",null,12,1,12,null,"４月～翌３月",12,"×",null,null,null,null,null,null,"無","学研",null,null,null,null,null,null,null,null,9,1,2,null,null,null,null,1,null,1,null,2,1,1,null,1,null,null,null,null,2,null,null,null,null,null,null,null,0,"令和6年4月1日より指導者の変更"]
[307,2022,22,"2",27,"021","2227021","　","近畿大学病院","大阪府","589-8511","大阪府大阪狭山市大野東377-2","大学病院",null,11,1,26,null,"4月～3月",12,"×",null,null,null,null,null,null,"有","S-QUE","S-QUE",null,null,null,null,null,null,null,10,11,11,null,5,null,null,null,null,10,10,null,null,11,null,6,null,null,3,8,3,null,null,null,3,3,null,5,3,"R70401より共通科目定員変更"]
[308,2022,22,"2",27,"022","2227022","　","国立大学法人 大阪大学","大阪府","565-0871","吹田市山田丘1番1号","大学",null,6,1,{"$f":"P310*O310","v":6},null,"4月～3月",24,"○",null,"○",null,null,null,null,"無","S-QUE",null,null,null,null,null,null,null,null,1,null,null,null,null,null,null,null,null,null,null,null,null,null,null,3,null,null,null,null,null,null,null,null,null,null,null,null,0]
[309,2022,22,"2",27,"023","2227023","〇","森ノ宮医療大学　大学院　保健医療学研究科　看護学専攻博士前期課程　NPコース","大阪府","559-8611","大阪府大阪市住之江区南港北1-26-16",null,null,null,null,null,null,null,null,null,null,null,null,null,null,null,null,null,null,null,null,null,null,null,null,null,null,null,null,null,null,null,null,null,null,null,null,null,null,null,null,null,null,null,null,null,null,null,null,null,null,null,null,null,0,"令和6年1月1日より研修施設の追加、研修管理委員会の構成員および指導者の変更/R6.2協力施設の追加、指導者の追加　　　　　R6.11月指定の取り消し"]
[310,2022,22,"2",28,"012","2228012","　","独立行政法人国立病院機構　姫路医療センター","兵庫県","670-8520","姫路市本町68番地","病院",null,2,1,{"$f":"P312*O312","v":2},null,"6月～3月",10,"×",null,null,null,null,null,null,"有","学研",null,null,null,null,null,null,null,null,{"$f":"COUNTA(AM312:BG312)","v":3},null,2,null,null,null,null,null,null,null,2,null,null,2,null,null,null,null,null,null,null,null,null,null,null,null,null,null,0,"R70601教材学研から変更"]
[311,2022,22,"2",33,"005","2233005","　","独立行政法人国立病院機構　岡山医療センター","岡山県","701-1192","岡山県岡山市北区田益１７１１－１","病院",null,22,1,22,null,"5～翌1月,5月～9月",9.5,"×",null,null,null,null,null,null,"有","S-QUE",null,null,null,null,null,null,null,null,13,5,2,5,null,null,2,2,null,6,5,null,4,5,null,2,null,3,2,2,null,null,null,2,null,null,null,null,1,"R70502より研修管理委員会の構成員、指導者、研修内容、研修施設の変更"]
[312,2022,22,"2",34,"005","2234005","　","医療法人社団二山会　宗近病院","広島県","739-0024","広島県東広島市西条町御薗宇７０３番地","病院",null,5,1,5,null,"4月～翌9月",18,"×",null,null,null,null,null,null,"無","学研","学研",null,null,null,null,null,null,null,2,null,null,null,null,null,null,null,null,null,null,null,null,null,null,0,null,null,null,null,0,null,null,null,null,null,null,null,0,"令和6年4月1日より精神および水分管理に係る薬剤投与関連休止"]
[313,2022,22,"2",34,"006","2234006","　","独立行政法人国立病院機構東広島医療センター","広島県","739-0041","広島県東広島市西条町寺家５１３","病院",null,4,1,4,null,"4月～3月、4月～12月",9.1199999999999992,"×",null,null,null,null,null,null,"有","学研","学研",null,null,null,null,null,null,null,14,2,2,2,null,null,2,2,null,2,4,null,2,4,null,4,null,1,2,2,1,null,null,2,null,null,null,null,1,"R70401S-Qより教材変更、PICC定員変更"]
[314,2022,22,"2",38,"003","2238003","　","独立行政法人国立病院機構四国がんセンター","愛媛県","791-0280","愛媛県松山市南梅本町甲１６０","病院",null,4,1,4,null,"8月～3月",8,"×",null,null,null,null,null,null,"有","S-QUE",null,null,null,null,null,null,null,null,8,null,null,null,null,null,null,null,null,0,0,0,0,0,null,0,0,null,0,null,null,null,null,null,null,null,0,null,1,"令和6年8月1日より区分別科目研修1科目および領域別パッケージ研修の休止"]
[315,2022,22,"2",39,"003","2239003","　","独立行政法人国立病院機構　高知病院","高知県","780-8077","高知県高知市朝倉西町１丁目２番２５号","病院",null,4,1,4,null,"7月～1月",9,"×",null,null,null,null,null,null,"有","学研",null,null,null,null,null,null,null,null,8,2,2,2,null,null,2,2,2,null,null,null,2,null,null,4,null,null,null,null,null,null,null,null,null,null,null,null,0,"R70701よりS-Qより教材変更"]
[316,2022,22,"2",40,"016","2240016","　","医療法人聖峰会　田主丸中央病院","福岡県","839-1213","福岡県久留米市田主丸町益生田８９２","病院",null,2,1,6,null,"4月～3月",12,"×",null,null,null,null,null,null,"無","学研",null,null,null,null,null,null,null,null,3,null,2,null,null,null,null,null,null,null,null,null,null,2,null,2,null,null,null,null,null,null,null,null,null,null,null,null,0]
[317,2022,22,"2",40,"017","2240017","　","株式会社　麻生　飯塚病院","福岡県","820-8505","福岡県飯塚市芳雄町３－８３","病院",null,10,1,{"$f":"P319*O319","v":10},null,"4月～3月",12,"×",null,null,null,null,null,null,"有","S-QUE",null,null,null,null,null,null,null,null,7,2,10,null,null,null,null,null,null,null,null,null,null,10,null,10,null,null,2,10,8,null,null,null,2,8,null,null,2]
[318,2022,22,"2",40,"018","2240018","　","久留米大学認定看護師教育センター","福岡県","830-0003","福岡県久留米市東櫛原町７７７－１","大学",null,56,1,56,null,"４月～翌３月",12,"×","○",null,null,null,null,null,"無","日看協",null,null,null,null,null,null,null,null,7,4,4,null,null,null,null,null,null,null,2,null,null,4,null,54,null,null,4,4,null,null,null,null,4,null,null,null,1,"R７0401より構成員の変更"]
[319,2022,22,"2",40,"019","2240019","　","独立行政法人国立病院機構九州医療センター","福岡県","810-8563","福岡県福岡市中央区地行浜１－８－１","病院",null,5,1,5,null,"５月～2月",10,"×",null,null,null,null,null,null,"無","学研",null,null,null,null,null,null,null,null,13,5,5,null,null,null,null,null,null,5,5,5,5,5,null,5,5,5,5,5,5,null,null,null,5,5,5,null,3,"R70401より教材S-Qから変更"]
[320,2022,22,"2",40,"020","2240020","　","独立行政法人国立病院機構九州がんセンター","福岡県","811-1395","福岡県福岡市南区野多目3丁目1番1号","病院",null,5,1,5,null,"6月～3月",10,"×",null,null,null,null,null,null,"有","学研",null,null,null,null,null,null,null,null,10,null,null,null,null,null,3,5,null,3,null,1,5,1,null,5,5,3,5,null,null,null,null,null,null,null,null,null,0,"R70401より教材、定員数、構成員及び責任者、指導者の変更"]
[321,2022,22,"2",45,"001","2245001","　","社会医療法人善仁会　宮崎善仁会病院","宮崎県","880ｰ0834","宮崎県宮崎市新別府町江口９５０－１","病院",null,2,1,2,null,"4月～3月",12,"×",null,null,null,null,null,null,"有","学研",null,null,null,null,null,null,null,null,3,2,2,null,null,null,null,null,null,null,null,null,null,null,null,2,null,null,null,null,null,null,null,null,null,null,null,null,0]
[322,2022,22,"8","01","018","2201018","　","独立行政法人国立病院機構旭川医療センター","北海道","070-8644","北海道旭川市花咲町7丁目4048","病院",310,6,1,6,null,"４月～翌３月","6,12","×",null,null,null,"○",5,"要","有","S-QUE",null,null,null,null,null,null,null,null,6,null,null,3,null,null,null,null,3,null,3,3,null,3,null,3,null,null,null,null,null,null,3,null,null,null,null,null,1,"令和6年4月1日より研修管理委員会の構成員の変更"]
[323,2022,22,"8","05","004","2205004","　","秋田大学医学部附属病院","秋田県","010-8502","秋田県秋田市広面字蓮沼44－2","大学病院",615,40,2,80,null,"4月～８月、10月～3月",6,"×",null,null,null,"○",5,"不要","有","学研",null,null,null,null,null,null,null,null,21,5,5,15,5,3,8,8,15,15,6,15,15,15,6,40,30,30,8,5,5,5,null,null,null,null,null,2,1,"R60801より研修施設および構成員、指導者の変更"]
[324,2022,22,"8",11,"004","2211004","　","医療法人社団　武蔵野会　ＴＭＧあさか医療センター","埼玉県","351-0023","埼玉県朝霞市溝沼1340-1","病院",446,4,1,5,null,"4月～翌年3月",12,"×",null,null,null,"○",3,"要","有","S-QUE",null,null,null,null,null,null,null,null,11,4,4,5,null,null,null,null,null,4,5,null,null,4,null,4,null,4,4,4,4,null,null,null,1,null,null,null,1,"R70401より定員、開講時期、構成員、指導者変更"]
[325,2022,22,"8",11,"005","2211005","　","社会医療法人財団石心会　埼玉石心会病院","埼玉県","350-1305","埼玉県狭山市入間川2丁目37番-20","病院",450,4,1,4,null,"10月～9月",12,"×",null,null,null,"×",5,"要","有","学研",null,null,null,null,null,null,null,null,17,3,4,1,1,0,0,0,1,1,1,1,0,3,null,3,null,null,1,0,1,null,1,0,1,1,null,1,5,"R61001心嚢ドレーン、循環動態に係る区分の休止、外科術後領域パッケージの休止"]
[326,2022,22,"8",11,"006","2211006","　","医療法人社団東光会　戸田中央総合病院","埼玉県","335-0023","埼玉県戸田市本町1-19-3","病院",517,3,1,3,null,"10月～9月、4~9月",6.12,"×",null,null,null,"○",5,"要","有","S-QUE",null,null,null,null,null,null,null,null,15,3,3,3,3,null,null,null,3,3,3,3,3,3,3,3,null,3,3,3,null,null,null,null,null,null,null,null,0,"令和6年4月1日より研修管理委員会の構成員および指導者の変更"]
[327,2022,22,"8",12,"007","2212007","　","自動車事故対策機構　千葉療護センター","千葉県","261-0012","千葉市美浜区磯辺3丁目30番1号","病院",80,5,1,7,null,"10月～9月",12,"×",null,null,null,"×",5,"要","無","S-QUE","S-QUE",null,null,null,null,null,null,null,2,null,null,5,null,null,null,null,2,null,null,null,null,null,null,null,null,null,null,null,null,null,null,null,null,null,null,null,0,"令和6年5月1日より研修管理委員会の構成員および指導者の変更(10月25日にも）"]
[328,2022,22,"8",13,"032","2213032","　","医療法人社団時正会　佐々総合病院","東京都","188-0011","東京都西東京市田無町4-24-15","病院",183,6,1,6,null,"４月～翌３月",12,"×",null,null,null,"○",5,"要","有","S-QUE",null,null,null,null,null,null,null,null,14,4,6,2,null,null,2,2,null,6,2,4,6,6,null,6,4,null,6,4,null,null,null,2,2,null,4,null,3,"R70404より構成員、指導者の変更"]
[329,2022,22,"8",13,"033","2213033","　","学校法人順天堂　順天堂大学医学部附属練馬病院","東京都","177-8521","東京都練馬区高野台3-1-10","大学病院",490,28,1,28,null,"４～9月、10～翌9月",6.12,"×",null,null,null,"×",5,"要","有","学研",null,null,null,null,null,null,null,null,14,8,8,null,null,null,4,4,null,8,null,6,4,12,null,12,4,4,8,4,4,null,null,null,4,4,4,null,3,"令和6年１０月1日より区分の変更"]
[330,2022,22,"8",13,"034","2213034","　","東京医療保健大学大学院　医療保健学研究科　医療保健学専攻　","東京都","141-8648","東京都品川区東五反田4-1-17","大学院",null,8,1,{"$f":"P332*O332","v":8},null,"4月～3月",24,"○",null,"○",null,null,5,"不要","有","放送大学",null,null,null,null,null,null,"専門",null,7,null,null,8,null,null,null,null,8,null,null,8,null,null,null,8,8,8,null,null,8,null,8,null,null,null,null,null,1,"R61101より共通科目研修方法の変更"]
[331,2022,22,"8",14,"022","2214022","　","一般財団法人神奈川県警友会　けいゆう病院","神奈川県","220－8521","神奈川県横浜市西区みなとみらい3-7-3","病院",410,4,1,4,null,"４月～翌３月",12,"×",null,null,null,null,5,"不要","有","エルゼビア",null,null,null,null,null,null,null,null,2,null,null,null,null,null,null,null,null,null,null,null,null,2,null,2,null,null,null,null,null,null,null,null,null,null,null,null,0]
[332,2022,22,"8",14,"023","2214023","　","医療法人徳洲会　湘南藤沢徳洲会病院","神奈川県","251-0041","神奈川県藤沢市辻堂神台1丁目5番1号","病院",419,5,1,5,null,"４月～３月",12,"×",null,null,null,null,5,"要","有","S-QUE",null,null,null,null,null,null,null,null,12,5,5,5,null,null,5,5,null,5,5,null,5,0,null,5,null,null,5,5,null,null,null,5,null,null,null,null,1,"R70401よりAガス分析休止"]
[333,2022,22,"8",14,"024","2214024","　","藤沢市民病院","神奈川県","251-8550","神奈川県藤沢市藤沢2-6-1","病院",536,2,1,2,null,"5～3月",11,"×",null,null,null,null,5,"要","無","S-QUE",null,null,null,null,null,null,null,null,3,null,null,null,null,null,null,null,null,null,null,null,null,null,2,0,null,0,null,null,null,null,null,null,null,null,null,null,0,"R70401より栄養水分、血糖の休止届"]
[334,2022,22,"8",21,"013","2221013","　","独立行政法人国立病院機構　長良医療センター","岐阜県","502－8558","岐阜県岐阜市長良1300番地7","病院",362,4,1,4,null,"10月～9月",12,"×",null,null,null,null,5,"要","有","S-QUE",null,null,null,null,null,null,null,null,5,null,null,3,null,null,null,null,3,null,null,3,null,null,null,3,1,null,null,null,null,null,1,null,null,null,null,null,1,"令和6年4月1日より研修管理委員会の構成員および指導者の変更"]
[335,2022,22,"8",24,"002","2224002","　","医療法人永井病院","三重県","514－8508","三重県津市西丸之内29－29","病院",199,9,1,9,null,"4月～3月",12,"×",null,null,null,null,5,"要","有","S-QUE","S-QUE",null,null,null,null,null,null,null,12,2,5,1,null,null,null,8,1,5,8,1,null,5,null,8,null,null,2,5,null,null,2,null,2,null,null,null,2,"令和6年７月1日より定員、協力施設、指導者の変更"]
[336,2022,22,"8",26,"010","2226010","　","独立行政法人国立病院機構　京都医療センター","京都府","612-8555","京都府京都市伏見区深草向畑町1－1","病院",600,8,1,8,null,"10月～9月",12,"×",null,null,null,null,3,"要","有","学研",null,null,null,null,null,null,null,null,6,8,8,null,null,null,null,null,null,null,null,null,null,8,null,8,8,null,null,8,null,null,null,null,null,null,null,null,0,"R70401S-Qより教材変更"]
[337,2022,22,"8",27,"024","2227024","　","地方独立行政法人　市立東大阪医療センター","大阪府","578-8588","大阪府東大阪市西岩田3丁目4番5号","病院",520,8,1,8,null,"10月～9月",12,"×",null,null,null,"×",5,"不要","有","学研",null,null,null,null,null,null,null,null,15,6,6,4,2,null,2,2,2,4,2,2,2,6,null,6,null,null,4,6,null,null,2,2,2,null,null,2,4,"R70501より構成員、指導者の変更"]
[338,2022,22,"8",34,"007","2234007","　","地方独立行政法人広島市立病院機構広島市立北部医療センタ－安佐市民病院","広島県","731-0293","広島県広島市安佐北区亀山南一丁目２番１号","病院",434,3,1,3,null,"4月～3月",12,"×",null,null,null,"○",5,"要","無","学研",null,null,null,null,null,null,null,null,12,3,3,3,null,null,3,3,null,3,3,null,3,3,null,3,null,null,3,3,null,null,null,3,null,null,null,null,1]
[339,2022,22,"8",34,"008","2234008","　","社会医療法人祥和会　脳神経センター大田記念病院","広島県","720-0825","広島県福山市沖野上町三丁目６－２８","病院",213,10,1,10,null,"10月～9月",12,"×",null,null,null,null,5,"要","有","S-QUE",null,null,null,null,null,null,null,null,4,null,null,null,null,null,null,null,null,null,3,null,null,5,null,5,null,3,null,null,null,null,null,null,null,null,null,null,0,"令和7年2月25日より協力施設の変更"]
[340,2022,22,"8",45,"002","2245002","　","独立行政法人国立病院機構宮崎東病院","宮崎県","880-0911","宮崎県宮崎市大字田吉４３７４番地１","病院",288,3,1,3,null,"10月～3月",6,"×",null,null,null,"×",5,"要","有","学研",null,null,null,null,null,null,null,null,1,null,null,3,null,null,null,null,null,null,null,null,null,null,null,null,null,null,null,null,null,null,null,null,null,null,null,null,0]
[341,2023,23,"２",11,"007","2311007","　","医療法人社団武蔵野会　新座志木中央総合病院","埼玉県","352-0001","新座市東北１－７－２","病院",402,3,1,3,null,"11月～翌年3月,4月～翌年3月","12、７","×",null,null,null,null,5,"要","有","S-QUE",null,null,null,null,null,null,null,null,4,null,null,null,null,null,2,null,null,null,null,null,null,3,null,2,null,null,2,null,null,null,null,null,null,null,null,null,0,"令和6年4月1日より研修責任者、研修管理委員会の構成員、指導者の変更"]
[342,2023,23,"２",12,"008","2312008","　","医療法人徳洲会　千葉西総合病院","千葉県","270-2251","松戸市金ケ作107-1","病院",608,8,1,8,null,"4月～3月",12,"×",null,null,null,null,5,"要","有","S-QUE",null,null,null,null,null,null,null,null,{"$f":"COUNTA(AM344:BG344)","v":12},8,6,5,null,null,5,5,null,5,5,null,5,8,null,8,null,null,8,6,null,null,null,3,3,null,null,null,2,"令和6年3月1日より研修の内容および定員の変更"]
[343,2023,23,"２",12,"009","2312009","　","国立研究開発法人国立がん研究センター東病院","千葉県","277-8577","柏市柏の葉6-5-1","病院",425,10,1,10,null,"4月～3月",12,"×","○",null,null,null,5,"不要","無","日看協",null,null,null,null,100,null,null,null,1,null,null,null,null,null,null,null,null,null,null,null,null,null,null,10,null,null,null,null,null,null,null,null,null,null,null,null,0,"令和60704より研修協力施設名の変更"]
[344,2023,23,"２",13,"035","2313035","　","医療法人財団健貢会　総合東京病院","東京都","165-0022","中野区江古田３－１５－２","病院",451,5,1,5,null,"4月～3月",12,"×",null,null,null,null,3,"要","有","S-QUE",null,null,null,null,null,null,null,null,6,5,5,null,null,null,null,null,null,null,null,null,null,5,null,5,null,null,5,5,null,null,null,null,5,null,null,null,1]
[345,2023,23,"２",13,"036","2313036","　","地方独立行政法人東京都立病院機構　東京都立墨東病院","東京都","130-8575","墨田区江東橋4丁目23-15","病院",765,10,1,10,null,"5月～4月",12,"×",null,null,null,null,3,"不要","有","エルゼビア",null,null,null,null,null,null,null,null,13,10,10,10,5,null,null,null,3,10,10,5,null,10,null,8,10,10,null,6,null,null,null,null,null,null,null,null,0,"R61119より協力施設、指導者の変更"]
[346,2023,23,"２",13,"037","2313037","　","独立行政法人国立病院機構災害医療センター","東京都","190-0014","立川市緑町3256","病院",455,20,1,20,null,"４月～翌３月",12,"×",null,null,null,null,3,"要","有","学研",null,null,null,null,null,null,null,null,9,5,5,null,null,null,null,null,null,10,null,6,6,6,null,6,6,null,6,null,null,null,null,null,null,null,6,null,1,"R60725定員数の変更、協力施設・指導者変更"]
[347,2023,23,"２",15,"006","2315006","　","新潟県地域医療推進機構魚沼基幹病院","新潟県","949-7302","南魚沼市浦佐4132番地","病院",454,13,1,13,null,"5 月～３月,5 月～5月","11,13","×",null,null,null,null,5,"要","有","学研",null,null,null,null,null,null,null,null,12,2,2,1,null,null,null,null,1,2,2,2,null,5,null,3,null,null,2,2,2,null,1,null,2,null,null,null,2,"R70401より研修管理委員会の構成員および指導者の変更　"]
[348,2023,23,"２",19,"003","2319003","　","公立大学法人山梨県立大学","山梨県","400-0035","甲府市飯田五丁目11番1号","大学",null,28,1,28,null,"５月～3月",10,"×","○",null,null,"○",5,"不明","無","S-QUE",null,null,null,null,null,null,null,null,3,null,null,null,null,null,null,null,null,null,null,null,null,null,null,28,14,null,null,null,14,null,null,null,null,null,null,null,0,"R70520より定員変更"]
[349,2023,23,"２",16,"009","2316009","　","富山市立富山市民病院","富山県","939-8511","富山県富山市今泉北部町2番地1","病院",null,6,1,6,null,"６月～３月、１１～3月",5.0999999999999996,"×",null,null,null,null,5,"要","有","学研",null,null,null,null,null,null,null,null,10,2,2,null,null,null,null,null,null,2,3,2,null,6,null,6,null,3,2,2,null,null,null,null,2,null,null,null,1,"令和6年4月1日より研修管理委員会、研修責任者、研修期間、指導者、定員数の変更"]
[350,2023,23,"２",26,"011","2326011","　","学校法人　京都育英館　京都看護大学","京都府","604-8845","京都市中京区壬生東高田町1番21","大学",null,15,1,{"$f":"P352*O352","v":15},null,"4月～3月",12,"×","○",null,null,null,5,"要","無","日看協",null,null,null,null,null,null,null,null,2,null,null,null,null,null,null,null,null,null,null,null,null,null,null,15,15,null,null,null,null,null,null,null,null,null,null,null,{"$f":"COUNTA(BH352:BM352)","v":0}]
[351,2023,23,"２",27,"025","2327025","　","一般財団法人住友病院","大阪府","530-0005","大阪府大阪市北区中之島５丁目３番２０号","病院",null,6,1,10,null,"9月～翌12月",16,"×",null,null,null,null,5,"要","有","S-QUE",null,null,null,null,null,null,null,null,8,2,4,null,2,null,null,null,null,2,null,2,null,4,null,2,null,null,null,2,null,null,null,null,null,null,null,2,1,"R70401より研修定員4から変更"]
[352,2023,23,"２",27,"026","2327026","　","学校法人金蘭会学園　千里金蘭大学　看護実践・研修センター","大阪府","565-0873","大阪府吹田市藤白台５丁目２５番１号","大学院",null,6,1,{"$f":"P354*O354","v":6},null,"9月～8月",12,"×",null,null,null,null,3,"不要","無","S-QUE",null,null,null,null,null,null,null,null,1,null,null,null,null,null,null,null,null,null,null,null,null,null,null,6,null,null,null,null,null,null,null,null,null,null,null,null,0,"R70331より代表者、指導者の変更"]
[353,2023,23,"２",27,"027","2327027","　","社会医療法人生長会　阪南市民病院","大阪府","599-0202","大阪府阪南市下出17番地","病院",185,4,1,{"$f":"P355*O355","v":4},null,"4月～3月",12,"×",null,null,null,null,5,"要","有","学研",null,null,null,null,null,null,null,null,10,2,2,2,null,null,null,null,2,2,2,2,null,2,null,4,null,null,null,null,2,null,2,null,null,2,null,null,2,"R70401より研修施設、研修委員会構成員及び指導者の変更"]
[354,2023,23,"２",27,"028","2327028","　","泉大津急性期メディカルセンター","大阪府","595-0031","大阪府和泉市我孫子97番","病院",380,3,1,3,null,"４月～翌３月",12,"×",null,null,null,null,5,"要","有","学研",null,null,null,null,null,null,null,null,9,3,3,null,null,null,null,null,null,3,3,null,null,3,null,3,null,null,1,2,2,null,null,null,1,2,null,null,2,"R61201府中病院より名称、住所変更"]
[355,2023,23,"２",27,"029","2327029","　","社会福祉法人恩賜財団済生会支部大阪府済生会吹田病院","大阪府","564-0013","大阪府吹田市川園町1-2","病院",null,12,1,15,null,"4月～3月、4月～9月","12、６","×",null,null,null,null,3,"要","無","エルゼビア","エルゼビア",null,null,null,null,null,null,null,4,null,null,null,null,null,null,2,null,5,5,null,null,5,null,null,null,null,null,null,null,null,null,null,null,null,null,null,0,"R70401より指導者変更総定員数変更（15→１２）、栄養（中心静脈）変更（8→５）,研修期間変更"]
[356,2023,23,"２",27,"030","2327030","　","独立行政法人国立病院機構　大阪医療センター","大阪府","540-0006","大阪府大阪市中央区法円坂2丁目1番14号","病院",576,10,1,10,null,"5月～3月",11,"×",null,null,null,null,3,"要","有","学研",null,null,null,null,null,null,null,null,12,3,6,null,null,null,null,null,null,3,6,6,3,6,null,8,3,null,6,6,2,null,null,null,3,null,3,null,2,"R60401より施設、構成員、指導者の変更"]
[357,2023,23,"２",35,"007","2335007","　","社会福祉法人恩賜財団済生会支部　山口県済生会豊浦病院","山口県","759-6302","山口県下関市豊浦町大字小串10007番3","病院",275,6,1,10,null,"10月～3月",6,"×",null,null,null,null,3,"要","有","学研",null,null,null,null,null,null,null,null,5,null,null,6,null,null,null,null,null,null,null,3,null,6,null,6,null,null,null,null,3,null,null,null,null,null,null,null,0,"R70501より研修計画の内容の変更"]
[358,2023,23,"２",37,"004","2337004","　","公益社団法人香川県看護協会","香川県","769-0102","香川県高松市国分寺町国分152番地4","協会",null,15,1,15,null,"9月～7月",10,"×","○",null,null,"○",5,"要","無","日看協",null,null,null,null,null,null,null,null,2,null,null,null,null,null,null,null,null,null,null,null,null,null,null,15,15,null,null,null,null,null,null,null,null,null,null,null,0,"R70401より2区分の休止（栄養・水分、感染）"]
[359,2023,23,"２",45,"003","2345003","　","宮崎大学医学部附属病院","宮崎県","889-1692","宮崎県宮崎市清武町木原５２００","大学病院",null,12,1,12,null,"4～翌3月、8～翌3月４～10月","7,9,12","×",null,null,null,null,5,"要","有","学研",null,null,null,null,null,null,null,null,14,6,6,4,null,null,4,4,null,4,4,2,4,6,null,8,null,null,6,6,2,null,null,4,2,null,null,null,2,"R70401より構成員の変更"]
[360,2023,23,"２",46,"005","2346005","　","独立行政法人国立病院機構　南九州病院","鹿児島県","899-5293","鹿児島県姶良市加治木町木田1882","病院",null,4,1,4,null,"5月～1月",8,"×",null,null,null,"○",5,"要","有","学研",null,null,null,null,30,40,null,null,1,null,null,6,null,null,null,null,null,null,null,null,null,null,null,null,null,null,null,null,null,null,null,null,null,null,null,null,0,"R70401より研修教材、時間数、構成員、指導者の変更"]
[361,2023,23,"２",47,"007","2347007","　","沖縄県立南部医療センター・こども医療センター","沖縄県","901-1193","沖縄県島尻郡南風原町字新川118-1","病院",null,19,1,24,null,"4月～3月",12,"×",null,null,null,"○",5,"要","有","学研",null,null,null,null,null,null,null,null,11,8,8,4,6,null,null,null,2,6,null,5,null,13,null,5,null,null,2,8,null,null,null,null,2,null,null,6,2,"R70401より定員、血ガス定員変更"]
[362,2023,23,"２",47,"008","2347008","　","社会医療法人かりゆし会　ハートライフ病院","沖縄県","901-2492","沖縄県中頭郡中城村字伊集208番地","病院",308,5,1,5,null,"4月～3月",12,"×",null,null,null,null,5,"要","有","学研",null,null,null,null,null,null,null,null,7,5,3,null,null,null,null,null,5,null,null,null,null,5,null,5,null,5,null,5,null,null,null,null,null,null,null,null,0,"令和6年4月10日より研修管理委員会の構成員の変更"]
[363,2023,23,"8","01","019","2301019","　","北海道公立大学法人札幌医科大学附属病院","北海道","060-8556","北海道札幌市中央区南2条西16丁目291番地89","大学病院",null,7,1,7,null,"4～3月",12,"×",null,null,null,null,null,null,null,"学研",null,null,null,null,null,null,null,null,11,5,5,5,5,null,null,null,null,5,5,null,null,5,5,5,2,null,null,5,null,null,null,null,null,null,null,5,1,"令和7年4月1日より研修管理委員会の構成員、研修責任者、指導者の変更\n"]
[364,2023,"23","8",13,"038","2313038","　","公立昭和病院","東京都","187-8510","小平市花小金井八丁目１番１号","病院",null,4,1,4,null,12,12,"×",null,null,null,null,null,null,null,"学研",null,null,null,null,null,null,null,null,5,4,4,null,null,null,null,null,null,null,null,null,null,4,null,4,null,null,null,null,4,null,null,null,null,4,null,null,1,"R60905より定員、構成員、指導者の変更"]
[365,2023,"23","8",14,"025","2314025","　","社会医療法人財団石心会　川崎幸病院","神奈川県","212-0014 ","川崎市幸区大宮町３１番地２７","病院",null,3,1,3,null,12,12,null,null,null,null,null,null,null,null,"学研",null,null,null,null,null,null,null,null,4,3,3,null,null,null,null,null,null,null,null,null,null,null,null,3,null,null,null,3,null,null,null,null,null,null,null,null,0,"R61101より構成員の変更の変更"]
[366,2023,"23","8",14,"026","2314026","　","社会福祉法人恩賜財団済生会支部神奈川県済生会横浜市南部病院","神奈川県","234-0054","横浜市港南区港南台三丁目2番10号","病院",null,4,1,4,null,"4～翌年3月",12,null,null,null,null,null,null,null,null,"S-QUE",null,null,null,null,null,null,null,null,5,null,null,null,null,null,null,null,null,null,1,null,null,4,null,4,null,4,4,null,null,null,null,null,null,null,null,null,0,"令和7年4月11日より構成員および指導者,定員の変更"]
[367,2023,"23","8",14,"027","2314027","　","平塚市民病院","神奈川県","254-0065","平塚市南原一丁目19番1号","病院",null,4,1,4,null,12,12,"×",null,null,null,null,null,null,null,"エルゼビア",null,null,null,null,null,null,null,null,6,2,2,null,null,null,null,null,null,null,2,null,null,2,null,2,null,null,null,null,2,null,null,null,null,2,null,null,1,"令和6年6月1日より指導者の変更"]
[368,2023,"23","8",15,"007",{"$f":"CONCATENATE(C370,E370,F370)","v":"2315007"},"　","新潟県厚生農業協同組合連合会　村上総合病院","新潟県","958-8533","村上市緑町5丁目8番1号","病院",null,2,1,2,null,12,"nn","×",null,null,null,null,null,null,null,"S-QUE","S-QUE",null,null,null,null,null,null,null,2,null,null,null,null,null,null,null,null,2,2,null,null,null,null,null,null,null,null,null,null,null,null,null,null,null,null,null,0]
[369,2023,"23","8",17,"007","2317007","　","加賀市医療センター","石川県","922-8522","石川県加賀市作見町リ36番地","病院",null,4,1,4,null,"10月～9月、4~9月",6.12,"×",null,null,null,null,null,null,"有","学研",null,null,null,null,null,null,null,null,6,4,4,2,null,null,null,null,null,null,null,null,null,4,null,4,null,4,null,null,null,null,null,null,null,null,null,null,0,"R61001より定員数の変更（呼吸器、動脈血ガス、栄養水分）"]
[370,2023,"23","8",17,"008","2317008","　","独立行政法人国立病院機構　金沢医療センター","石川県","920-8650","石川県金沢市石引町1番1号","病院",null,10,1,10,null,"10月～翌年9月、1月～翌年8月","12、９","×",null,null,null,null,null,null,null,"学研",null,null,null,null,null,null,null,null,15,2,2,4,null,null,2,2,null,2,2,2,2,2,2,2,null,2,2,2,null,null,null,2,null,null,null,null,1,"令和6年4月1日より研修管理委員会の構成員の変更"]
[371,2023,"23","8",22,"014","2322014","　","磐田市立総合病院","静岡県","438-8550","静岡県磐田市大久保512番地3","病院",null,6,1,8,null,"10月～9月、4~9月","12,6","×",null,null,null,null,null,null,"有","学研",null,null,null,null,null,null,null,null,11,8,8,null,null,null,null,5,null,5,5,null,5,8,null,8,null,null,6,1,2,null,null,null,1,2,null,null,2,"令和6年4月1日より区分別の開講"]
[372,2023,"23","8",23,"016","2323016","　","公立陶生病院","愛知県","489-8642","愛知県瀬戸市西追分町160番地","病院",null,5,1,5,null,12,12,"×",null,null,null,null,null,null,null,"S-QUE",null,null,null,null,null,null,null,null,5,null,null,null,null,null,null,null,null,5,5,null,null,5,null,5,5,null,null,null,null,null,null,null,null,null,null,null,0]
[373,2023,"23","8",27,"031","2327031","　","市立ひらかた病院","大阪府","573-1013","大阪府枚方市禁野本町２丁目14番１号","病院",null,9,1,16,null,"4月～９月・10月～翌9月","6・12","×",null,null,null,null,null,null,null,"学研",null,null,null,null,null,null,null,null,8,3,3,null,null,null,null,null,null,null,null,3,null,3,null,12,3,10,null,null,3,null,null,null,null,3,null,null,1,"R74月1日より研修管理委員会構成員指導者の変更"]
[374,2023,"23","8",34,"009","2334009","　","社会医療法人千秋会　井野口病院","広島県","739-0007","広島県東広島市西条土与丸6丁目1-91","病院",null,1,1,1,null,12,12,"×",null,null,null,null,null,null,null,"S-QUE",null,null,null,null,null,null,null,null,{"$f":"COUNTA(AM376:BG376)","v":4},null,null,1,null,null,null,null,1,null,null,1,null,null,null,1,null,null,null,null,null,null,1,null,null,null,null,null,1]
[375,2023,"23","8",40,"021","2340021","　","社会医療法人財団　池友会　福岡和白病院","福岡県","811-0213","福岡県福岡市東区和白丘2丁目2番75号","病院",null,13,1,13,null,"4月～3月",12,"×",null,null,null,null,null,null,null,"学研",null,null,null,null,null,null,null,null,16,8,8,13,null,null,0,0,5,8,8,0,0,11,null,13,0,null,8,0,5,null,5,null,8,null,0,null,3,"R71001より胸腔D,腹腔D,外科系P、循環動態薬剤の休止"]
[376,2024,"24","2","01","020","2401020","　","公益社団法人北海道勤労者医療協会　勤医協中央病院","北海道","007-8505","札幌市東区東苗穂５条１丁目９番１号","病院",null,3,1,3,null,"4月～3月",12,"×",null,null,null,null,null,null,null,"S-QUE",null,null,null,null,null,null,null,null,7,3,3,null,null,null,null,null,null,3,3,null,null,3,null,3,null,null,null,null,3,null,null,null,null,3,null,null,1,"R70601より研修管理委員会構成員および指導者の変更"]
[377,2024,"24","2","02","003","2402003","　","独立行政法人国立病院機構弘前総合医療センター","青森県","036-8545","青森県弘前市大字富野町１番地","病院",null,2,1,2,null,"４月～翌３月","7,12","×",null,null,null,null,null,null,null,"学研",null,null,null,null,null,null,null,null,7,null,null,null,null,null,null,null,null,2,null,2,2,2,null,2,2,null,2,null,null,null,null,null,null,null,2,null,1,"R70401よりS-Qから教材変更"]
[378,2024,"24","2","04","007","2404007","　","東北医科薬科大学病院","宮城県","983-8512","宮城県仙台市宮城野区福室一丁目12番１号","大学病院",null,5,1,5,null,"4月～3月",12,"×",null,null,null,null,null,null,null,"学研",null,null,null,null,null,null,null,null,4,5,5,null,null,null,null,null,null,5,null,null,null,null,null,null,null,null,null,5,null,null,null,null,null,null,null,null,0,"令和6年4月1日より研修管理委員会の構成員の変更"]
[379,2024,"24","2","07","003","2407003","　","一般財団法人太田綜合病院附属太田西ノ内病院","福島県","963-8558","福島県郡山市西ノ内二丁目５番２０号","病院",null,9,1,9,null,"4月～翌3月、10～翌３月","5,7,12","×",null,null,null,null,null,null,"有","エルゼビア",null,null,null,null,null,null,null,null,14,6,6,6,null,null,3,3,3,3,3,3,3,6,null,9,null,null,6,6,null,null,3,3,3,null,null,null,3,"R70401より学研から教材変更"]
[380,2024,"24","2",11,"008","2411008","　","一般社団法人上尾中央医科グループ協議会","埼玉県","362-0036","上尾市柏座1丁目10番3-58号","本部",null,15,1,15,null,"4月～3月",12,"×","○",null,null,null,null,null,null,"S-QUE","S-QUE",null,null,null,null,null,null,null,2,null,null,null,null,null,null,null,null,null,null,null,null,null,null,15,15,null,null,null,null,null,null,null,null,null,null,null,0,"令和6年4月1日より構成員、責任者、指導者、定員数、区分の時間数"]
[381,2024,"24","2",11,"009","2411009","　","学校法人埼玉医科大学","埼玉県","350-0495","入間郡毛呂山町大字毛呂本郷38番地","大学",null,35,1,35,null,"4月～翌年3月、10月～翌年3月","12,6","×",null,null,null,null,null,null,null,"S-QUE",null,null,null,null,null,null,null,null,15,20,20,5,10,null,null,null,5,20,15,15,10,30,null,25,10,30,20,20,null,null,5,null,10,null,10,10,4,"R70401より構成委員の変更"]
[382,2024,"24","2",11,"010","2411010","　","社会福祉法人恩賜財団済生会支部　埼玉県済生会川口総合病院","埼玉県","332-8558","川口市西川口五丁目11番５号","病院",null,16,1,26,null,"4月～3月",12,"×",null,null,null,null,null,null,null,"S-QUE",null,null,null,null,null,null,null,null,6,2,2,null,null,null,null,null,null,3,null,null,3,3,null,3,null,null,null,null,null,null,null,null,null,null,null,null,0,"R70317定員変更"]
[383,2024,"24","2",13,"039","2413039","　","医療法人財団荻窪病院","東京都","167-0035","杉並区今川三丁目1番24号","病院",null,4,1,4,null,"4月～3月",12,"×",null,null,null,null,null,null,null,"S-QUE",null,null,null,null,null,null,null,null,12,2,4,null,null,null,null,null,null,2,2,4,2,4,null,4,2,2,4,2,null,null,null,null,2,null,2,null,2,"R70401より指導者の変更"]
[384,2024,"24","2",13,"040","2413040","　","公益財団法人 榊原記念財団 附属 榊原記念病院","東京都","183-0003","府中市朝日町三丁目 16 番地の 1","病院",null,5,1,5,null,"4月～3月",12,"×",null,null,null,null,null,null,null,"学研",null,null,null,null,null,null,null,null,2,null,null,null,null,null,null,null,null,null,null,null,null,null,null,6,null,null,null,6,null,null,null,null,null,null,null,null,0,"R61201より栄養および水分、循環動態の定員数変更"]
[385,2024,"24","2",13,"041","2413041","　","地方独立行政法人東京都立病院機構　東京都立多摩総合医療センター","東京都","183-8524","府中市武蔵台二丁目8番地の29","病院",null,8,1,8,null,"４月～翌３月",12,"×",null,null,null,null,null,null,null,"学研",null,null,null,null,null,null,null,null,11,4,4,4,4,null,null,null,null,4,5,2,null,4,null,4,null,null,null,4,4,null,null,null,null,4,null,4,2,"R70401より定員数、救急・集中P定員数、区分（長期呼吸・PICC)定員数変更"]
[386,2024,"24","2",13,"042","2413042","　","地方独立行政法人東京都立病院機構　東京都立広尾病院","東京都","150-0013","渋谷区恵比寿二丁目34番10号","病院",null,5,1,5,null,"3月～5月、４月～翌３月","3,12","×",null,null,null,null,null,null,null,"エルゼビア",null,null,null,null,null,null,null,null,11,5,3,5,null,null,null,null,2,null,3,2,null,5,null,5,null,5,5,5,null,null,2,null,null,null,null,null,1,"令和6年4月25日より研修管理委員会の構成員および指導者の変更"]
[387,2024,"24","2",14,"028","2414028","　","茅ヶ崎市立病院","神奈川県","253-0042","茅ヶ崎市本村五丁目15番１号","病院",null,6,1,2,null,"4月～3月",12,"×",null,null,null,null,null,null,null,"エルゼビア",null,null,null,null,null,null,null,null,4,null,null,null,null,null,null,null,null,null,null,2,null,null,null,6,null,2,null,2,null,null,null,null,null,null,null,null,0,"R70401より研修期間の変更"]
[388,2024,"24","2",15,"008","2415008","　","学校法人悠久崇徳学園長岡崇徳大学長岡崇徳大学教育センター","新潟県","940-2135","長岡市深沢町2278番地８","大学",null,17,1,17,null,"4月～3月",12,"×","○",null,null,null,null,null,null,"学研",null,null,null,null,null,null,null,null,2,null,null,null,null,null,null,null,null,null,null,null,null,null,null,17,null,null,null,null,17,null,null,null,null,null,null,null,0,"R61127より指導者の変更"]
[389,2024,"24","2",15,"009","2415009","　","社会福祉法人恩賜財団済生会　新潟県央基幹病院","新潟県","955-0091","三条市上須頃5001番地1","病院",null,4,1,4,null,"6月～5月,10~9月",12,"×",null,null,null,null,null,null,"有","エルゼビア",null,null,null,null,null,null,null,null,8,4,4,null,2,null,null,null,null,2,null,null,null,4,null,2,null,null,2,4,null,null,null,null,2,null,null,2,2,"令和6年3月1日より名称及び所在地、研修管理委員会の構成員の変更"]
[390,2024,"24","2",17,"009","2417009","　","石川県公立大学法人　石川県立看護大学","石川県","929-1210","石川県かほく市学園台１－１","大学",null,30,1,30,null,"4月～3月",12,"×","○",null,null,null,null,null,null,"日看協",null,null,null,null,null,null,null,null,2,null,null,null,null,null,null,null,null,null,null,30,null,null,null,30,null,null,null,null,null,null,null,null,null,null,null,null,0,"Ｒ６．5　管理委員会構成メンバーの所属の変更"]
[391,2024,"24","2",17,"010","2417010","　","石川県立中央病院","石川県","920-8530","石川県金沢市鞍月東2丁目1番地","病院",null,3,1,6,null,"4月～3月、10～３月",6.12,"×",null,null,null,null,null,null,"有","学研",null,null,null,null,null,null,null,null,7,5,3,null,null,null,null,null,null,null,3,null,null,5,null,3,null,3,null,null,3,null,null,null,null,3,null,null,1,"R70401定員変更"]
[392,2024,"24","2",17,"011","2417011","　","国立大学法人金沢大学附属病院","石川県","920-8641","石川県金沢市宝町13番1号","大学病院",null,7,1,7,null,"4月～3月",12,"×",null,null,null,null,null,null,null,"エルゼビア",null,null,null,null,null,null,null,null,10,7,7,2,2,null,null,null,null,3,null,null,null,7,null,5,null,null,4,6,1,null,null,null,2,1,null,2,3,"R61101より指導者及び担当分野の変更"]
[393,2024,"24","2",22,"015","2422015","　","沼津市立病院","静岡県","410-0302","静岡県沼津市東椎路字春ノ木５５０番地","病院",null,8,2,8,null,"4月～翌3月,4月～翌9月","6,12","×",null,null,null,null,null,null,null,"学研",null,null,null,null,null,null,null,null,9,4,4,null,2,null,null,null,null,2,2,null,null,6,null,2,null,null,2,4,null,null,null,null,2,null,null,2,2]
[394,2024,"24","2",23,"017","2423017","　","一宮市立市民病院","愛知県","491-8558","愛知県一宮市文京２丁目2番２２号","病院",null,10,1,10,null,"4月～3月","12,6","×",null,null,null,null,null,null,null,"S-QUE",null,null,null,null,null,null,null,null,8,5,5,null,null,null,null,null,null,null,null,null,null,5,null,5,null,5,5,5,1,null,null,null,null,null,null,null,0,"令和6年4月1日より管理委員会構成員の変更"]
[395,2024,"24","2",23,"018","2423018","　","医療法人豊田会　刈谷豊田総合病院","愛知県","448-8505","愛知県刈谷市住吉町5丁目15番地","病院",null,5,1,10,null,"7月～6月,7～12月",6.12,"×",null,null,null,null,null,null,"有","学研",null,null,null,null,null,null,null,null,7,null,null,10,null,null,null,null,null,10,10,10,10,10,null,10,null,null,null,null,null,null,null,null,null,null,null,null,0,"R70701より定員変更"]
[396,2024,"24","2",23,"019","2423019","　","公立大学法人名古屋市立大学大学院医学研究科","愛知県","467-8601","愛知県名古屋市瑞穂区瑞穂町字川澄1番地","大学院",null,12,1,12,null,"4月～3月",",","×",null,"○",null,null,null,null,null,"学研",null,null,null,null,null,null,null,null,21,12,12,10,12,10,10,10,10,12,12,10,10,12,10,12,10,10,12,12,12,2,null,null,null,null,null,null,0,"R61001定員変更"]
[397,2024,"24","2",23,"020","2423020","　","社会医療法人宏潤会　大同病院","愛知県","457-8511","愛知県名古屋市南区白水町9番地","病院",null,5,1,5,null,"4月～3月,10～翌年3月","6,12","×",null,null,null,null,null,null,"有","S-QUE",null,null,null,null,null,null,null,null,19,5,5,5,5,null,5,5,5,5,5,5,5,5,5,5,5,5,5,5,5,null,5,5,null,5,null,5,4]
[398,2024,"24","2",23,"021","2423021","　","独立行政法人国立病院機構　名古屋医療センター","愛知県","460-0001","愛知県名古屋市中区三の丸四丁目1番1号","病院",null,5,1,5,null,"5月～3月",11,"×",null,null,null,null,null,null,null,"学研",null,null,null,null,null,null,null,null,5,null,null,null,null,null,null,null,null,3,null,2,2,5,null,3,null,null,null,null,null,null,null,null,null,null,null,null,0,"R70401S-Qより教材変更"]
[399,2024,"24","2",27,"032","2427032","　","学校法人大阪信愛女学院　大阪信愛学院大学","大阪府","536-8585","大阪府大阪市城東区古市2－7－30","大学",null,10,1,10,null,"4月～3月",12,"×","○",null,null,null,null,null,null,"放送大学",null,null,null,null,null,null,null,null,1,null,null,null,null,null,null,null,null,null,null,null,null,null,null,9,null,null,null,null,null,null,null,null,null,null,null,null,0,"R70410より栄養水分の定員変更"]
[400,2024,"24","2",27,"033","2427033","　","社会福祉法人恩賜財団大阪府済生会千里病院","大阪府","565-0862","大阪府吹田市津雲台1丁目1番6号","病院",null,5,1,8,null,"4月～3月,10～3月",6.12,"×",null,null,null,null,null,null,"有","学研",null,null,null,null,null,null,null,null,5,null,null,null,2,null,null,null,null,3,null,null,null,5,null,3,null,null,null,3,null,null,null,null,1,null,null,2,2,"R70401より気道確保、人工呼吸、術後疼痛管理の区分休止（R80331まで）"]
[401,2024,"24","2",26,"012","2426012","　","社会福祉法人　恩賜財団　京都府済生会　京都済生会病院","京都府","617-8617","京都府長岡京市下海印寺下内田101番地","病院",null,3,1,3,null,"4月～翌年9月",18,"×",null,null,null,null,null,null,null,"学研",null,null,null,null,null,null,null,null,7,3,3,3,null,null,null,null,null,null,null,null,null,3,null,3,null,3,null,3,null,null,null,null,null,null,null,null,0,"R61001代表者変更R70307研修期間変更R70401指導者変更、"]
[402,2024,"24","2",27,"034","2427034","　","医療法人マックシール　巽病院","大阪府","563-0031","大阪府池田市天神１丁目5番22号","病院",null,5,1,6,null,"5月～3月",11,"×",null,null,null,null,null,null,null,"S-QUE",null,null,null,null,null,null,null,null,2,null,null,null,null,null,null,null,null,null,6,null,null,null,null,5,null,null,null,null,null,null,null,null,null,null,null,null,0,"R70501より協力施設、指導者、定員の変更"]
[403,2024,"24","2",27,"035","2427035","　","医療法人徳洲会岸和田徳洲会病院","大阪府","596-8522","大阪府岸和田市加守町4丁目27－1","病院",null,3,1,3,null,"4月～3月",12,"×",null,null,null,null,null,null,null,"学研",null,null,null,null,null,null,null,null,6,3,3,null,null,null,null,null,null,null,null,null,null,3,null,3,null,null,3,3,null,null,null,null,3,null,null,null,1,"R61101より指導者,構成員の変更"]
[404,2024,"24","2",28,"013","2428013","　","社会医療法人渡邊高記念会　医療人材開発センター","兵庫県","662-0863","兵庫県西宮市室川町10番22号","病院",null,10,1,10,null,"4月～3月",12,"×",null,null,null,null,null,null,null,"エルゼビア",null,null,null,null,null,null,null,null,14,10,10,10,10,null,null,null,7,10,5,10,null,10,null,10,null,10,10,10,10,null,7,null,10,10,null,10,4,"R70401より教材変更"]
[405,2024,"24","2",33,"006","2433006","　","公立大学法人新見公立大学","岡山県","718-8585","岡山県新見市西方1263番地2","大学",null,3,1,3,null,"4月～3月",12,"×","○",null,null,null,null,null,null,"S-QUE",null,null,null,null,null,null,null,null,1,null,null,null,null,null,null,null,null,null,null,null,null,null,null,3,null,null,null,null,null,null,null,null,null,null,null,null,0]
[406,2024,"24","2",34,"010","2434010","　","五日市記念病院","広島県","731-5156","広島県広島市佐伯区倉重一丁目95番地","病院",null,8,1,8,null,"4月～翌年3月、10月～翌年3月","12,6","×",null,null,null,null,null,null,null,"S-QUE",null,null,null,null,null,null,null,null,{"$f":"COUNTA(AM408:BG408)","v":4},null,null,null,null,null,null,null,null,5,5,null,null,null,null,3,null,3,null,null,null,null,null,null,null,null,null,null,0,"R70101より研修管理委員会の構成員および指導者の変更"]
[407,2024,"24","2",35,"008","2435008","　","一般社団法人岩国市医師会　岩国市医療センター医師会病院","山口県","740-0021","山口県岩国市室の木町3丁目6－12","病院",null,3,1,3,null,"7月～6月\n9月～3月","12\n7","×",null,null,null,null,null,null,null,"S-QUE",null,null,null,null,null,null,null,null,5,null,null,2,null,null,null,null,2,null,null,2,null,1,null,2,null,null,null,null,null,null,2,null,null,null,null,null,1,"R70401より指導者、構成員の変更"]
[408,2024,"24","2",40,"022","2440022","　","医療法人博愛会　頴田病院","福岡県","820-1114","福岡県飯塚市口原1061番地１","病院",null,2,1,2,null,"4月～3月",12,"×",null,null,null,null,null,null,null,"学研",null,null,null,null,null,null,null,null,4,null,null,2,null,null,null,null,2,null,null,2,null,null,null,2,null,null,null,null,null,null,2,null,null,null,null,null,1]
[409,2024,"24","2",40,"023","2440023","　","学校法人純真学園　純真学園大学　大学院　保健医療学研究科　看護学専攻","福岡県","815-8510","福岡県福岡市南区筑紫丘１－１－１","大学院",null,12,1,12,null,"4月～翌3月",24,"○",null,"○",null,null,null,null,"有","S-QUE",null,null,null,null,null,null,null,null,20,12,12,12,12,12,12,12,12,12,12,12,12,12,12,12,12,12,12,12,12,null,null,null,null,null,null,null,0]
[410,2024,"24","2",40,"024","2440024","　","新古賀リハビリテーション病院みらい","福岡県","838-0113","福岡県小郡市山隈字弥八郎273-11","病院",null,3,1,3,null,"4月～3月",12,"×",null,null,null,null,null,null,null,"S-QUE",null,null,null,null,null,null,null,null,4,null,null,3,null,null,null,null,3,null,null,3,null,null,null,3,null,null,null,null,null,null,3,null,null,null,null,null,1]
[411,2024,"24","2",40,"025","2440025","　","地方独立行政法人北九州市立病院機構　北九州市立医療センター","福岡県","802-8561","福岡県北九州市小倉北区馬借二丁目１番１号","病院",null,7,1,7,null,"6月～8月,6月～翌５月","3,12","×",null,null,null,null,null,null,null,"学研",null,null,null,null,null,null,null,null,9,7,7,null,null,null,null,null,null,7,7,null,null,7,null,7,null,null,7,7,7,null,null,null,null,7,null,null,1]
[412,2024,"24","2",43,"006","2443006","　","医療法人社団鶴友会　鶴田病院","熊本県","862-0925","熊本県熊本市東区保田窪本町10番地112号","病院",null,2,1,2,null,"7月～翌３月",9,"×",null,null,null,null,null,null,null,"学研",null,null,null,null,null,null,null,null,2,null,null,1,null,null,null,null,1,null,null,null,null,null,null,null,null,null,null,null,null,null,null,null,null,null,null,null,0,"R61223より構成員、指導者の変更"]
[413,2024,"24","2",45,"004","2445004","　","県立宮崎病院","宮崎県","880-8510","宮崎県宮崎市北高松町５番30号","病院",null,3,1,3,null,"5月～3月",11,"×",null,null,null,null,null,null,null,"学研",null,null,null,null,null,null,null,null,6,3,3,null,3,null,null,null,null,3,null,null,null,3,null,null,null,null,null,3,null,null,null,null,null,null,null,3,1,"R70401より指導者の変更"]
[414,2024,"24","2",46,"006","2446006","　","社会医療法人緑泉会　米盛病院","鹿児島県","890-0062","鹿児島県鹿児島市与次郎一丁目７番１号","病院",null,12,1,9,null,"4月～3月",12,"×",null,null,null,null,null,null,null,"S-QUE",null,null,null,null,null,null,null,null,12,11,11,null,4,null,null,null,null,8,null,5,5,14,null,11,5,null,8,8,5,null,null,null,3,3,3,3,{"$f":"COUNTA(BH416:BM416)","v":4},"令和70106より指導者と担当分野の変更"]
[415,2024,"24","8",11,"011","2411011",null,"埼玉県立小児医療センター","埼玉県","330-8777","さいたま市中央区新都心1番地２","病院",316,10,1,10,null,"11月～翌8月・4月～1月",10,"×",null,null,null,null,null,null,"無","学研",null,null,null,null,null,null,null,null,2,null,null,10,null,null,null,null,10,null,null,null,null,null,null,null,null,null,null,null,null,null,null,null,null,null,null,null,0]
[416,2024,"24","8",11,"012","2411012",null,"独立行政法人国立病院機構埼玉病院","埼玉県","351-0102","和光市諏訪2-1","病院",550,5,1,5,null,"10月～9月",12,"×",null,null,null,null,null,null,"有","学研",null,null,null,null,null,null,null,null,3,null,5,null,null,null,null,null,null,5,null,null,null,5,null,null,null,null,null,null,null,null,null,null,null,null,null,null,0,"R61001より通信教材（S-Qより）、指導者変更R70401より構成員の変更"]
[417,2024,"24","8",13,"043","2413043",null,"医療法人徳洲会　東京西徳洲会病院","東京都","196-0003","昭島市松原町三丁目1番1号","病院",524,5,1,5,null,"10月～9月",12,"×",null,null,null,null,null,null,"有","S-QUE",null,null,null,null,null,null,null,null,6,5,5,null,null,null,null,null,null,null,null,null,null,5,null,5,null,null,5,5,null,null,null,null,5,null,null,null,1,"R61111より指導者の変更"]
[418,2024,"24","8",14,"029","2414029",null,"国家公務員共済組合連合会　横須賀共済病院","神奈川県","238-8558","横須賀市米が浜通1-16","病院",740,5,1,5,null,"4月～翌年3月",12,"×",null,null,null,null,null,null,"有","S-QUE",null,null,null,null,null,null,null,null,9,5,5,null,4,null,null,null,null,5,null,2,null,5,null,5,null,null,null,5,5,null,null,null,null,null,null,null,0]
[419,2024,"24","8",22,"016","2422016",null,"掛川市・袋井市病院企業団立中東遠総合医療センター","静岡県","436-8555","静岡県掛川市菖蒲ヶ池１番地の１","病院",500,6,1,6,null,"10月～9月・3月～9月",6.12,"×",null,null,null,null,null,null,"有","S-QUE",null,null,null,null,null,null,null,null,4,null,3,null,null,null,null,null,null,null,null,null,null,3,null,6,null,null,3,null,null,null,null,null,null,null,null,null,0]
[420,2024,"24","8",23,"022","2423022",null,"愛知県厚生農業協同組合連合会　江南厚生病院","愛知県","483-8704","愛知県江南市高屋町大松原137番地","病院",678,10,1,10,null,"4月～9月・10月～翌9月",6.12,"×",null,null,null,null,null,null,"有","S-QUE",null,null,null,null,null,null,null,null,13,3,4,null,1,null,null,null,null,3,1,2,2,6,null,7,2,1,4,5,null,null,null,null,null,null,0,1,2]
[421,2024,"24","8",24,"003","2424003",null,"三重県厚生農業協同組合連合会","三重県","514-0004","三重県津市栄町一丁目960番地","本部",null,24,1,24,null,"11月～10月・4月～11月","8,12","×",null,null,null,null,null,null,"有","S-QUE",null,null,null,null,null,null,null,null,8,4,8,null,null,null,null,null,null,4,4,null,null,8,null,8,null,null,4,4,null,null,null,null,4,null,null,null,1]
[422,2024,"24","8",34,"011","2434011",null,"広島赤十字・原爆病院","広島県","730-8619","広島県広島市中区千田町1丁目9番6号","病院",565,6,1,6,null,"10月～翌9月・１０月～翌々９月",12.24,"×",null,null,null,null,null,null,"有","学研",null,null,null,null,null,null,null,null,7,1,1,null,null,null,null,null,null,1,1,null,null,3,null,3,null,null,null,null,1,null,null,null,null,1,null,null,1,"R70401より責任者、指導者、救急Pの実施期間追加の変更"]
[423,2024,"24","8",34,"012","2434012",null,"地方独立行政法人広島県立病院機構　県立広島病院","広島県","734-8530","広島県広島市南区宇品神田一丁目5番54号","病院",712,4,1,6,null,"４月～翌3月",12,"×",null,null,null,null,null,null,"無","学研",null,null,null,null,null,null,null,null,10,null,null,null,null,null,1,4,null,2,1,2,2,2,null,2,2,null,2,null,null,null,null,null,null,null,2,null,1,"R70401より経営主体・病院名の変更、構成員・指導者変更"]
[424,2024,"24","8",35,"009","2435009",null,"医療法人茜会　よしみず病院","山口県","751-0826","山口県下関市後田町一丁目1番1号","病院",391,2,1,2,null,"4月～3月",12,"×",null,null,null,null,null,null,"無","学研",null,null,null,null,null,null,null,null,2,null,null,2,null,null,null,null,null,null,null,2,null,null,null,null,null,null,null,null,null,null,null,null,null,null,null,null,0]
[425,2024,"24","8",35,"010","2435010",null,"山口県立総合医療センター","山口県","747-8511","山口県防府市大字大崎10077番地","病院",504,2,1,2,null,"10月～9月",12,"×",null,null,null,null,null,null,"有","S-QUE",null,null,null,null,null,null,null,null,6,2,2,null,2,null,null,null,null,2,null,null,null,2,null,null,null,null,null,2,null,null,null,null,null,null,null,2,1,"R6.10.25より指導者の変更"]
[426,2024,"24","8",41,"007","2441007",null,"医療法人　ひらまつ病院","佐賀県","845-0001","佐賀県小城市小城町1000番地１","病院",190,2,1,2,null,"10月～9月",12,"×",null,null,null,null,null,null,"有","学研",null,null,null,null,null,null,null,null,2,null,null,2,null,null,null,null,null,null,null,null,null,2,null,null,null,null,null,null,null,null,null,null,null,null,null,null,0]
[427,2024,"24","8",40,"026","2440026",null,"北九州市立門司病院","福岡県","800-0021","福岡県北九州市門司区南本町3番1号","病院",50,1,1,1,null,"10月～9月",12,"×",null,null,null,null,null,null,"無","学研",null,null,null,null,null,null,null,null,2,null,null,1,null,null,null,null,null,null,null,1,null,null,null,null,null,null,null,null,null,null,null,null,null,null,null,null,0]
[428,2024,"24","8",40,"027","2440027",null,"医療法人　重喜会　南福岡脳神経外科病院","福岡県","811-1313","福岡県福岡市南区曰佐5丁目2番23号","病院",79,4,1,4,null,"10月～7月",10,"×",null,null,null,null,null,null,"無","S-QUE",null,null,null,null,null,null,null,null,2,null,null,null,null,null,null,null,null,null,null,null,null,null,null,4,null,null,null,null,4,null,null,null,null,null,null,null,0]
[429,2025,"25","2","01","021","2501021",null,"釧路赤十字病院","北海道","085-8512","釧路市新栄町21番14号","病院",null,2,1,2,null,"4～３月，8～３月","8,12","×",null,null,null,null,null,null,"有","放送大学",null,null,null,null,null,null,null,null,2,null,null,null,null,null,null,null,null,2,2,null,null,null,null,null,null,null,null,null,null,null,null,null,null,null,null,null,0,"R70401より構成員の変更"]
[430,2025,"25","２","02","004","2502004",null,"医療法人平成会 八戸平和病院","青森県","031-8545","八戸市湊高台2-4-6","病院",null,5,1,5,null,"4～３月，10～３月","12,6","×",null,null,null,null,null,null,"有","S-QUE",null,null,null,null,null,null,null,null,9,2,2,5,null,null,null,null,null,5,null,null,null,2,5,2,null,null,2,2,null,null,null,null,2,null,null,null,1]
[431,2025,"25","2","02","005","2502005",null,"独立行政法人国立病院機構青森病院","青森県","038-1331","青森市浪岡大字女鹿沢字平野１５５－１","病院",null,5,1,5,null,"5～2月",10,"×",null,null,null,null,null,null,"有","学研",null,null,null,null,null,null,null,null,4,null,null,5,null,null,null,null,5,null,null,5,null,null,null,5,null,null,null,null,null,null,5,null,null,null,null,null,1]
[432,2025,"25","2","02","006",{"$f":"CONCATENATE(C434,E434,F434)","v":"2502006"},null,"弘前大学医学部附属病院","青森県","036-8563","弘前市本町５３","大学病院",null,5,1,5,null,"6～3月",10,"×",null,null,null,null,null,null,"有","エルゼビア",null,null,null,null,null,null,null,null,2,null,null,null,null,null,null,null,null,5,5,null,null,null,null,null,null,null,null,null,null,null,null,null,null,null,null,null,0]
[433,2025,"25","2","04","008","2504008",null,"社会福祉法人 陽光福祉会 仙台エコー医療療育センター","宮城県","989-3212","仙台市青葉区芋沢字横前１番地の１","病院",null,8,1,8,null,"４～3月、10～3月","12,6","×",null,null,null,null,null,null,"有","学研",null,null,null,null,null,null,null,null,4,null,null,6,null,null,null,null,6,null,null,4,null,null,null,4,null,null,null,null,null,null,4,null,null,null,null,null,1]
[434,2025,"25","2","05","005","2505005",null,"地方独立行政法人秋田県立病院機構　秋田県立循環器・脳脊髄センター","秋田県","010-0874","秋田市千秋久保田町6番10号","病院",null,2,1,2,null,"４～3月",12,"×",null,null,null,null,null,null,"有","S-QUE",null,null,null,null,null,null,null,null,1,null,null,null,null,null,null,null,null,null,2,null,null,null,null,null,null,null,null,null,null,null,null,null,null,null,null,null,0]
[435,2025,"25","2",11,"013","2511013",null,"さいたま市立病院","埼玉県","336-8522","さいたま市緑区大字三室２４６０番地","病院",null,4,1,4,null,"４～３月","12","×",null,null,null,null,null,null,"有","学研",null,null,null,null,null,null,null,null,4,null,4,null,null,null,null,null,null,null,null,null,null,4,null,4,null,null,null,4,null,null,null,null,null,null,null,null,0]
[436,2025,"25","2",12,"010","2512010",null,"東京女子医科大学附属八千代医療センター","千葉県","276-8524","八千代市大和田新田477-96","大学病院",null,4,1,4,null,"４～３月","12","×",null,null,null,null,null,null,"有","エルゼビア",null,null,null,null,null,null,null,null,13,4,4,2,null,null,2,2,null,2,2,null,2,4,null,4,null,null,2,2,2,null,null,2,null,2,null,null,2,"R70404より構成員、指導者変更"]
[437,2025,"25","2",13,"044","2513044",null,"医療法人伯鳳会　東京曳舟病院","東京都","131-0032","墨田区東向島二丁目27番1号","病院",null,10,1,6,null,"４～３月","12","×",null,null,null,null,null,null,"有","学研",null,null,null,null,null,null,null,null,3,null,null,null,null,null,null,null,null,6,6,null,null,6,null,null,null,null,null,null,null,null,null,null,null,null,null,null,0,"R70401定員変更"]
[438,2025,"25","2",13,"045","2513045",null,"学校法人帝京大学大学院医療技術学研究科看護学専攻","東京都","173-8605","板橋区加賀２丁目１１番地１","大学院",null,3,1,3,null,"４～３月","24",null,null,null,"○",null,null,null,"有","学研",null,null,null,null,null,null,null,null,20,3,3,3,3,3,3,3,3,3,3,3,3,3,3,3,3,3,3,3,3,null,null,null,null,null,null,null,0]
[439,2025,"25","2",13,"046","2513046",null,"学校法人帝京大学　帝京大学医学部附属病院","東京都","173-8606","板橋区加賀二丁目11番1号","大学病院",null,10,1,10,null,"４～３月","12","×",null,null,null,null,null,null,"無","学研",null,null,null,null,null,null,null,null,8,null,10,null,null,null,null,null,null,10,null,null,10,10,null,10,null,10,10,10,null,null,null,null,null,null,null,null,0]
[440,2025,"25","2",13,"047","2513047",null,"学校法人東京医科大学　東京医科大学病院","東京都","160-0023","新宿区西新宿六丁目7 番1 号","大学病院",null,5,1,5,null,"４月～翌３月","12","×",null,null,null,null,null,null,"有","S-QUE",null,null,null,null,null,null,null,null,6,5,5,null,null,null,null,null,null,null,null,null,null,5,null,5,null,null,5,5,null,null,null,null,5,null,null,null,1]
[441,2025,"25","2",13,"048","2513048",null,"国家公務員共済組合連合会虎の門病院","東京都","105-8470","港区虎ノ門二丁目2番2号","病院",null,8,1,8,null,"４月～翌３月","12","×",null,null,null,null,null,null,"有","学研",null,null,null,null,null,null,null,null,9,3,3,null,null,null,null,null,null,4,4,1,null,3,null,7,null,null,3,3,null,null,null,null,3,null,null,null,1]
[442,2025,"25","2",13,"049","2513049",null,"東京女子医科大学病院","東京都","162-8666","新宿区河田町8番1号","大学病院",null,8,1,6,null,"４月～翌３月","12","×",null,null,null,null,null,null,"有","S-QUE",null,null,null,null,null,null,null,null,14,6,6,2,null,null,2,2,null,2,2,null,2,6,2,8,null,null,4,6,2,null,null,2,2,2,null,null,3,"R70401より、構成員、指導者の変更"]
[443,2025,"25","2",13,"050","2513050",null,"東京女子医科大学附属足立医療センター","東京都","123-8558","足立区江北4-33-1","大学病院",null,6,1,6,null,"４月～翌３月","12","×",null,null,null,null,null,null,"有","エルゼビア",null,null,null,null,null,null,null,null,13,2,2,1,null,null,null,null,1,1,1,2,null,2,null,4,null,1,1,1,1,null,1,null,1,1,null,null,3]
[444,2025,"25","2",14,"030","2514030",null,"川崎市立看護大学大学院","神奈川県","212-0054","川崎市幸区小倉４－３０－１","大学院",null,12,1,12,null,"４～３月","24","×",null,null,null,null,null,null,"有","S-QUE",null,null,null,null,null,null,null,null,16,3,3,9,null,null,3,3,3,3,3,3,3,3,null,12,3,null,3,3,3,null,3,3,null,null,null,null,2]
[445,2025,"25","2",14,"031","2514031",null,"国家公務員共済組合連合会 横浜南共済病院","神奈川県","236-0037","横浜市金沢区六浦東1-21-1","病院",null,5,1,5,null,"４～３月","12","×",null,null,null,null,null,null,"有","S-QUE",null,null,null,null,null,null,null,null,9,5,5,null,null,null,null,null,null,5,5,5,null,5,null,5,null,null,5,5,null,null,null,null,null,null,null,null,0]
[446,2025,"25","2",14,"032","2514032",null,"社会医療法人社団三思会　看護職キャリア支援センター","神奈川県","243-0031","厚木市戸室１－２９－１","本部",null,15,1,10,null,"４～３月","12","×",null,null,null,null,null,null,"有","エルゼビア",null,null,null,null,null,null,null,null,7,null,null,15,null,null,5,null,15,null,null,15,10,10,null,15,null,null,null,null,null,null,null,null,null,null,null,null,0,"R70901より定員変更"]
[447,2025,"25","2",14,"033","2514033",null,"昭和医科大学横浜市北部病院","神奈川県","224-8503","横浜市都筑区茅ケ崎中央35-1","大学病院",null,8,1,8,null,"４～1月","10","×",null,null,null,null,null,null,"有","エルゼビア",null,null,null,null,null,null,null,null,12,4,4,null,2,null,4,4,null,2,null,4,4,4,null,6,null,null,6,4,null,null,null,null,2,null,null,2,2,"R70401より名称変更"]
[448,2025,"25","2",21,"014","2521014",null,"岐阜市民病院","岐阜県","500-8513","岐阜県岐阜市鹿島町７丁目1番地","病院",null,6,1,6,null,"４～３月、9～3月","6,12","×",null,null,null,null,null,null,"有","S-QUE",null,null,null,null,null,null,null,null,7,6,6,6,null,null,null,null,null,6,6,null,null,6,null,6,null,null,null,null,null,null,null,null,null,null,null,null,0]
[449,2025,"25","2",21,"015","2521015",null,"羽島市民病院","岐阜県","501-6206","岐阜県羽島市新生町3丁目246番地","病院",null,5,1,"7(5)",null,"４～３月、４～９月","6,12","×",null,null,null,null,null,null,"有","学研",null,null,null,null,null,null,null,null,5,null,null,null,null,null,null,null,null,5,2,null,null,5,null,5,null,null,5,null,null,null,null,null,null,null,null,null,0]
[450,2025,"25","2",22,"017","2522017",null,"社会福祉法人恩賜財団済生会支部静岡県済生会 静岡済生会総合病院","静岡県","422-8527","静岡県静岡市駿河区小鹿一丁目1番1号","病院",null,5,1,5,null,"４～３月、9～3月","7,12","×",null,null,null,null,null,null,"有","S-QUE",null,null,null,null,null,null,null,null,3,null,null,null,null,null,null,null,null,5,5,null,null,null,null,5,null,null,null,null,null,null,null,null,null,null,null,null,0]
[451,2025,"25","2",23,"023","2523023",null,"岡崎市民病院","愛知県","444-8553","愛知県岡崎市高隆寺町字五所合3番地１","病院",null,5,1,5,null,"４～３月、9～3月","6,12","×",null,null,null,null,null,null,"有","S-QUE",null,null,null,null,null,null,null,null,5,5,5,null,null,null,null,null,null,null,null,null,null,5,null,5,null,null,null,5,null,null,null,null,null,null,null,null,0]
[452,2025,"25","2",24,"004","2524004",null,"社会福祉法人恩賜財団済生会支部三重県済生会松阪総合病院","三重県","515-8557","三重県松阪市朝日町一区15番地６","病院",null,4,1,4,null,"４～３月、9～3月","6,12","×",null,null,null,null,null,null,"有","S-QUE",null,null,null,null,null,null,null,null,7,2,4,null,null,null,null,null,null,null,2,null,null,4,null,4,null,null,2,2,null,null,null,null,2,null,null,null,1]
[453,2025,"25","2",27,"036","2527036",null,"和泉市立総合医療センター","大阪府","594-0073","大阪府和泉市和気町四丁目5番1号","病院",null,3,1,3,null,"４月～翌３月","12","×",null,null,null,null,null,null,"無","学研",null,null,null,null,null,null,null,null,2,null,null,null,null,null,null,null,null,null,null,1,null,null,null,null,null,2,null,null,null,null,null,null,null,null,null,null,0]
[454,2025,"25","2",28,"014","2528014",null,"医療法人信和会　明和病院","兵庫県","663-8186","兵庫県西宮市上鳴尾町4番31号","病院",null,16,1,16,null,"４～２月","11","×",null,null,null,null,null,null,"有","学研",null,null,null,null,null,null,null,null,8,2,2,null,null,null,null,2,null,null,2,2,2,2,null,null,null,null,2,null,null,null,null,null,null,null,null,null,0,"R70401より指導者の変更"]
[455,2025,"25","2",28,"015","2528015",null,"社会医療法人神鋼記念会　神鋼記念病院","兵庫県","651-0072","兵庫県神戸市中央区脇浜町1丁目4-47","病院",null,14,1,14,null,"４～３月","12","×",null,null,null,null,null,null,"有","エルゼビア",null,null,null,null,null,null,null,null,7,null,2,null,null,null,null,null,null,2,null,2,null,2,null,2,2,2,null,null,null,null,null,null,null,null,null,null,0]
[456,2025,"25","2",35,"011","2535011",null,"独立行政法人国立病院機構岩国医療センター","山口県","740-8510","山口県岩国市愛宕町一丁目1番1号","病院",null,2,1,2,null,"４～３月","12","×",null,null,null,null,null,null,"有","学研",null,null,null,null,null,null,null,null,5,2,2,null,null,null,null,null,null,null,null,null,null,2,null,2,null,null,null,null,2,null,null,null,null,2,null,null,1,"R70401より構成員の変更"]
[457,2025,"25","2",40,"028","2540028",null,"国家公務員共済組合連合会　浜の町病院","福岡県","810-8539","福岡県福岡市中央区長浜３丁目３番１号","病院",null,8,1,8,null,"４月～翌3月",12,"×",null,null,null,null,null,null,"有","S-QUE",null,null,null,null,null,null,null,null,9,1,6,null,null,null,null,null,null,null,2,5,null,6,5,6,null,null,1,1,null,null,null,null,1,null,null,null,1]
[458,2025,"25","2",40,"029","2540029",null,"社会医療法人シマダ　嶋田病院","福岡県","838-0141","福岡県小郡市小郡２１７番地１","病院",null,3,1,3,null,"６～５月","12","×",null,null,null,null,null,null,"有","S-QUE",null,null,null,null,null,null,null,null,5,null,null,1,null,null,null,null,1,null,null,1,null,2,null,1,null,null,null,null,null,null,1,null,null,null,null,null,1]
[459,2025,"25","2",40,"030","2540030",null,"令和健康科学大学大学院　健康科学研究科　医療系健康科学専攻　看護学分野","福岡県","811-0213","福岡県福岡市東区和白丘２丁目１番１２号","大学院",null,6,1,6,null,"４～３月","24","○",null,null,"○",null,null,null,"無","学研",null,null,null,null,null,null,null,null,20,6,6,6,6,6,6,6,6,6,6,6,6,6,6,6,6,6,6,6,6,null,null,null,null,null,null,null,0]
[460,2025,"25","2",44,"006","2544006",null,"大分県厚生連鶴見病院","大分県","874-8585","大分県別府市緑丘町１２番１号","病院",null,2,1,2,null,"４～３月","12","×",null,null,null,null,null,null,"無","学研",null,null,null,null,null,null,null,null,5,2,2,null,null,null,null,null,null,null,null,null,null,2,null,2,null,null,null,null,2,null,null,null,null,2,null,null,1]
[461,2025,"25","2",44,"007","2544007",null,"独立行政法人国立病院機構　西別府病院","大分県","874-0840","大分県別府市大字鶴見４５４８番地","病院",null,4,1,4,null,"５～１２月","8","×",null,null,null,null,null,null,"有","学研",null,null,null,null,null,null,null,null,1,null,null,4,null,null,null,null,null,null,null,null,null,null,null,null,null,null,null,null,null,null,null,null,null,null,null,null,0]
[462,2025,"25","2",45,"005","2545005",null,"一般社団法人藤元メディカルシステム 藤元総合病院","宮崎県","885-0055","宮崎県都城市早鈴町１７街区１号","病院",null,4,1,4,null,"４～３月","12","×",null,null,null,null,null,null,"有","学研",null,null,null,null,null,null,null,null,7,2,2,null,null,null,null,null,null,null,2,null,null,2,null,2,null,null,2,2,null,null,null,null,2,null,null,null,1]
[463,2025,"25","2",45,"006","2545006",null,"医療法人伸和会 延岡共立病院","宮崎県","882-0037","宮崎県延岡市山月町５丁目５６７９番地１","病院",null,2,1,2,null,"４～３月","12","×",null,null,null,null,null,null,"無","学研",null,null,null,null,null,null,null,null,2,null,null,null,null,null,null,null,2,null,null,2,null,null,null,null,null,null,null,null,null,null,null,null,null,null,null,null,0]
[464,2025,"25","2",46,"007","2546007",null,"川内市医師会立市民病院","鹿児島県","895-0005","鹿児島県薩摩川内市永利町４１０７－７","病院",null,12,1,12,null,"４～３月","12","×",null,null,null,null,null,null,"有","S-QUE",null,null,null,null,null,null,null,null,3,null,null,null,null,null,null,null,null,null,null,2,null,5,null,null,null,5,null,null,null,null,null,null,null,null,null,null,0]
[465,2025,"25","2",47,"009","2547009",null,"医療法人おもと会統括本部教育研修センター","沖縄県","900-0005","沖縄県那覇市天久１０００番地","病院",null,5,1,5,null,"４～３月","12","×",null,null,null,null,null,null,"無","学研",null,null,null,null,null,null,null,null,2,null,null,5,null,null,null,null,5,null,null,null,null,null,null,null,null,null,null,null,null,null,null,null,null,null,null,null,0,"R70331より構成員の変更"]
[466,2025,"25","2",47,"010","2547010",null,"公益社団法人　沖縄県看護協会","沖縄県","901-1105","沖縄県島尻郡南風原町字新川２７２番地１７","協会",null,15,1,15,null,"４～３月","12","×","○",null,null,null,null,null,"有","学研",null,null,null,null,null,null,null,null,3,null,null,null,null,null,null,null,null,null,null,15,null,null,null,15,15,null,null,null,null,null,null,null,null,null,null,null,0]
[467,2025,"25","2",47,"011","2547011",null,"公益社団法人　北部地区医師会　北部地区医師会病院","沖縄県","905-8611","沖縄県名護市宇茂佐１７１２－３","病院",null,3,1,3,null,"４～３月","12","×",null,null,null,null,null,null,"有","S-QUE",null,null,null,null,null,null,null,null,7,null,null,null,null,null,null,null,null,3,null,3,3,3,null,3,3,null,3,null,null,null,null,null,null,null,3,null,1]
[468,2025,"25","8","01","022",{"$f":"CONCATENATE(C470,E470,F470)","v":"2501022"},null,"市立札幌病院","北海道","060-8604","北海道札幌市中央区北11条西13丁目1番1号","病院",null,4,1,4,null,"4～9月、10～9月","6,12","×",null,null,null,null,null,null,null,"学研",null,null,null,null,null,null,null,null,1,null,null,null,null,null,null,null,null,null,null,null,null,null,null,4,null,null,null,null,null,null,null,null,null,null,null,null,0]
[469,2025,"25","8",11,"014",{"$f":"CONCATENATE(C471,E471,F471)","v":"2511014"},null,"社会医療法人社団　埼玉巨樹の会　所沢美原総合病院","埼玉県","359-0045","所沢市美原町2丁目2934-3","病院",null,6,1,6,null,"10月～9月",12,"×",null,null,null,null,null,null,null,"学研",null,null,null,null,null,null,null,null,14,4,4,4,null,null,2,2,2,2,2,2,2,6,null,6,null,null,4,4,null,null,2,2,2,null,null,null,3]
[470,2025,"25","8",13,"051","2513051",null,"公益財団法人がん研究会　有明病院","東京都","135-8550","江東区有明三丁目8番31号","病院",null,5,1,5,null,"10～9月、4月～3月",12,"×",null,null,null,null,null,null,null,"S-QUE",null,null,null,null,null,null,null,null,10,5,1,5,null,null,null,5,null,5,5,null,5,5,null,5,null,5,null,null,null,null,null,null,null,null,null,null,0]
[471,2025,"25","8",13,"052","2513052",null,"社会福祉法人日本肢体不自由児協会　心身障害児総合医療療育センター","東京都","173-0037","板橋区小茂根１丁目１番１０号","協会",null,11,1,11,null,"10～9月",12,"×",null,null,null,null,null,null,null,"学研",null,null,null,null,null,null,null,null,4,null,null,11,null,null,null,null,11,null,null,11,null,null,null,11,null,null,null,null,null,null,10,null,null,null,null,null,1,"R71001定員数変更"]
[472,2025,"25","8",14,"034","2514034",null,"厚木市立病院","神奈川県","243-8588","厚木市水引一丁目16番36号","病院",null,6,1,6,null,"10~9月",12,"×",null,null,null,null,null,null,null,"学研",null,null,null,null,null,null,null,null,3,null,null,null,null,null,null,null,null,null,null,2,null,null,null,2,null,2,null,null,null,null,null,null,null,null,null,null,0]
[473,2025,"25","8",14,"035","2514035",null,"学校法人北里研究所　北里大学看護キャリア開発・研究センター","神奈川県","252-0373","相模原市南区北里1-15-1","大学",null,36,1,36,null,"4～9月",6,"×","○",null,null,null,null,null,null,"S-QUE",null,null,null,null,null,null,null,null,4,null,12,null,null,null,null,null,null,null,null,null,null,null,null,36,12,null,null,24,null,null,null,null,null,null,null,null,0]
[474,2025,"25","8",14,"036","2514036",null,"公立大学法人神奈川県立保健福祉大学　実践教育センター","神奈川県","241-0815","横浜市旭区中尾1-5-1","大学",null,5,1,5,null,"4－3月",12,"×","○",null,null,null,null,null,null,"S-QUE",null,null,null,null,null,null,null,null,2,null,null,null,null,null,null,null,null,null,null,null,null,null,null,5,5,null,null,null,null,null,null,null,null,null,null,null,0]
[475,2025,"25","8",23,"024",{"$f":"CONCATENATE(C477,E477,F477)","v":"2523024"},null,"豊川市民病院","愛知県","442-8561","愛知県豊川市八幡町野路２３番地","病院",null,3,1,5,null,"5月～翌年3月、10月～翌年３月",11.6,"×",null,null,null,null,null,null,null,"学研",null,null,null,null,null,null,null,null,5,3,3,null,null,null,null,null,null,null,3,null,null,3,null,3,null,null,null,null,null,null,null,null,null,null,null,null,0]
[476,2025,"25","8",27,"037","2527037",null,"社会福祉法人恩賜財団大阪府済生会富田林病院","大阪府","584-0082","大阪府富田林市向陽台1-3-36","病院",null,2,1,2,null,"10～9月、4～3月",12,"×",null,null,null,null,null,null,null,"エルゼビア",null,null,null,null,null,null,null,null,10,2,2,null,null,null,null,null,1,null,1,1,1,2,null,2,null,null,2,1,null,null,null,null,1,null,null,null,1]
[477,2025,"25","8",35,"012","2535012",null,"社会福祉法人恩賜財団済生会支部　山口県済生会下関総合病院","山口県","759-6603","山口県下関市安岡町８丁目５番１号","病院",null,3,1,3,null,"10~9月",12,"×",null,null,null,null,null,null,null,"学研",null,null,null,null,null,null,null,null,3,null,3,null,null,null,null,null,null,null,null,null,null,3,null,3,null,null,null,null,null,null,null,null,null,null,null,null,0]
[478,2025,"25","8",40,"031","2540031",null,"小倉記念病院","福岡県","802-8255","福岡県北九州市小倉北区浅野3丁目2番1号","病院",null,5,1,5,null,"１～９月",12,"×",null,null,null,null,null,null,null,"S-QUE",null,null,null,null,null,null,null,null,5,5,5,null,null,null,null,null,null,null,null,null,null,5,null,5,null,null,null,null,5,null,null,null,null,5,null,null,1]
[479,2025,"25","8",42,"003","2542003",null,"社会医療法人春回会　長崎北病院","長崎県","851-2103","長崎県西彼杵郡時津町元村郷800","病院",null,5,1,5,null,"10~9月",12,"×",null,null,null,null,null,null,null,"S-QUE",null,null,null,null,null,null,null,null,1,null,null,5,null,null,null,null,null,null,null,null,null,null,null,null,null,null,null,null,null,null,null,null,null,null,null,null,0]
[480,2026,"26","2","01","023","2601023",null,"市立釧路総合病院","北海道","085-0822","釧路市春湖台１番１２号","病院",null,2,1,2,null,"4~9月、4~3月","6,12","×",null,null,null,null,null,null,null,"学研",null,null,null,null,null,null,null,null,1,null,null,null,null,null,null,null,null,null,null,null,null,2,null,null,null,null,null,null,null,null,null,null,null,null,null,null,0]
[481,2026,"26","2","01","024","2601024",null,"市立千歳市民病院","北海道","066-8550","千歳市北光２丁目１番１号","病院",null,4,1,4,null,"4~9月、4~3月","6,12","×",null,null,null,null,null,null,null,"S-QUE",null,null,null,null,null,null,null,null,4,4,4,null,null,null,null,null,null,4,null,null,null,null,null,4,null,null,null,null,null,null,null,null,null,null,null,null,0]
[482,2026,"26","2","04","009","2604009",null,"独立行政法人国立病院機構宮城病院","宮城県","989-2202","宮城県亘理郡山元町高瀬字合戦原100","病院",null,5,1,5,null,"6～2月",9,"×",null,null,null,null,null,null,null,"学研",null,null,null,null,null,null,null,null,4,null,null,5,null,null,null,null,5,null,null,5,null,null,null,5,null,null,null,null,null,null,5,null,null,null,null,null,1]
[483,2026,"26","2",10,"011","2610011",null,"社会福祉法人恩賜財団済生会支部 群馬県済生会前橋病院","群馬県","371-0821","前橋市上新田町564-1","病院",null,2,1,2,null,"4～3月",12,"×",null,null,null,null,null,null,null,"S-QUE",null,null,null,null,null,null,null,null,2,null,null,null,null,null,null,null,null,2,null,null,null,2,null,null,null,null,null,null,null,null,null,null,null,null,null,null,0]
[484,2026,"26","2",12,"011","2612011",null,"順天堂大学医学部附属浦安病院","千葉県","279-0021","浦安市富岡2丁目1番1号","大学病院",null,3,1,3,null,"4～3月",12,"×",null,null,null,null,null,null,null,"学研",null,null,null,null,null,null,null,null,3,null,3,null,null,null,null,null,null,null,null,3,null,3,null,null,null,null,null,null,null,null,null,null,null,null,null,null,0]
[485,2026,"26","2",13,"053","2613053",null,"医療法人社団　淳友会　わたクリニック","東京都","125-0062","葛飾区青戸5-14-9","診療所",null,"2",1,2,null,"4～9月",6,"×",null,null,null,null,null,null,null,"S-QUE",null,null,null,null,null,null,null,null,4,null,null,2,null,null,null,null,2,null,null,2,null,null,null,2,null,null,null,null,null,null,2,null,null,null,null,null,1]
[486,2026,"26","2",13,"054","2613054",null,"医療法人社団　東京医心会　ニューハート・ワタナベ国際病院","東京都","168-0065","杉並区浜田山3丁目19-11","病院",null,"5",1,"5",null,null,"9","×",null,null,null,null,null,null,null,"S-QUE",null,null,null,null,null,null,null,null,9,3,3,null,3,null,5,null,null,3,5,null,5,3,null,null,null,null,null,3,null,null,null,null,null,null,null,3,1]
[487,2026,"26","2",13,"055","2613055",null,"株式会社キュアメド","東京都","177-0054","練馬区立野町3番9号","病院",null,"15",1,"15",null,null,"12","×",null,null,null,null,null,null,null,"学研",null,null,null,null,null,null,null,null,14,9,9,3,3,null,null,null,3,6,null,6,3,12,null,12,3,null,6,6,3,null,3,null,3,3,3,3,5]
[488,2026,"26","2",13,"056","2613056",null,"慶應義塾大学病院","東京都","160-8582","新宿区信濃町 35","病院",null,"10",1,"10",null,null,"11","×",null,null,null,null,null,null,null,"学研",null,null,null,null,null,null,null,null,8,10,10,null,5,null,null,null,null,5,null,null,null,10,null,5,null,null,5,10,null,null,null,null,5,null,null,5,2]
[489,2026,"26","2",14,"037","2614037",null,"公益社団法人　地域医療振興協会　横須賀市立総合医療センター","神奈川県","239-8567","横須賀市神明町1番地8","病院",null,"8",1,"8",null,null,"12","×",null,null,null,null,null,null,null,"学研",null,null,null,null,null,null,null,null,13,8,8,4,4,null,4,4,null,8,4,null,4,8,null,4,null,null,4,8,null,null,null,4,null,null,null,4,2]
[490,2026,"26","2",15,"010","2615010",null,"新潟県立中央病院","新潟県","943-0192","上越市新南町205","病院",null,"4",1,"4",null,null,"12","×",null,null,null,null,null,null,null,"エルゼビア",null,null,null,null,null,null,null,null,9,2,2,2,null,null,null,null,2,null,null,2,null,2,null,4,null,null,2,2,null,null,2,null,2,null,null,null,2]
[491,2026,"26","2",16,"010","2616010",null,"医療法人社団尽誠会　野村病院","富山県","939-3515","富山県富山市水橋辻ヶ堂466 番地1","病院",null,"3",1,"3",null,null,"6,12","×",null,null,null,null,null,null,null,"学研",null,null,null,null,null,null,null,null,3,null,null,null,null,null,null,null,null,3,3,null,null,null,null,3,null,null,null,null,null,null,null,null,null,null,null,null,0]
[492,2026,"26","2",21,"016","2621016",null,"大垣市民病院","岐阜県","503-8502","岐阜県大垣市南頬町4-86","病院",null,"5",1,"5",null,null,"6,12","×",null,null,null,null,null,null,null,"S-QUE",null,null,null,null,null,null,null,null,4,null,5,3,null,null,null,null,null,null,1,null,null,5,null,null,null,null,null,null,null,null,null,null,null,null,null,null,0]
[493,2026,"26","2",22,"018","2622018",null,"浜松赤十字病院","静岡県","434-8533","静岡県浜松市浜名区小林1088-1","病院",null,"4",1,"4",null,null,"4,8","×",null,null,null,null,null,null,null,"S-QUE",null,null,null,null,null,null,null,null,8,4,4,null,null,null,null,null,null,null,1,1,null,4,null,4,null,null,1,4,null,null,null,null,1,null,null,null,1]
[494,2026,"26","2",23,"025","2623025",null,"国立研究開発法人国立長寿医療研究センター","愛知県","474-8511","愛知県大府市森岡町七丁目430 番地","病院",null,"4",1,"4",null,null,"6,10","×",null,null,null,null,null,null,null,"学研",null,null,null,null,null,null,null,null,3,null,null,null,null,null,null,null,null,null,2,null,null,2,null,4,null,null,null,null,null,null,null,null,null,null,null,null,0]
[495,2026,"26","2",23,"026","2623026",null,"総合病院　南生協病院","愛知県","459-8540","愛知県名古屋市緑区南大高二丁目204 番地","病院",null,"3",1,"3",null,null,"6,12","×",null,null,null,null,null,null,null,"エルゼビア",null,null,null,null,null,null,null,null,4,null,null,null,null,null,1,null,null,2,2,null,null,1,null,null,null,null,null,null,null,null,null,null,null,null,null,null,0]
[496,2026,"26","2",25,"002","2625002",null,"滋賀県立総合病院","滋賀県","524-8524","滋賀県守山市守山5丁目4番30号","病院",null,"10",1,"10",null,null,"12","×",null,null,null,null,null,null,null,"学研",null,null,null,null,null,null,null,null,9,2,2,null,null,null,null,null,null,2,2,2,null,2,null,4,null,null,2,2,null,null,null,null,2,null,null,null,1]
[497,2026,"26","2",26,"013","2626013",null,"京都岡本記念病院","京都府","613-0034","京都府久世郡久御山町佐山西ノ口100番地","病院",null,"10",1,"10",null,null,"12","×",null,null,null,null,null,null,null,"学研",null,null,null,null,null,null,null,null,5,null,null,null,null,null,null,null,2,2,2,2,null,2,null,null,null,null,null,null,null,null,null,null,null,null,null,null,0]
[498,2026,"26","2",27,"038","2627038",null,"医療法人育和会　育和会記念病院","大阪府","544-0004","大阪府大阪市生野区巽北３丁目20番29号","病院",null,"3",1,"3",null,null,"12","×",null,null,null,null,null,null,null,"学研",null,null,null,null,null,null,null,null,5,null,null,null,null,null,null,3,null,3,3,null,3,null,null,3,null,null,null,null,null,null,null,null,null,null,null,null,0]
[499,2026,"26","2",27,"039","2627039",null,"関西電力病院","大阪府","553-0003","大阪市福島区福島2丁目１番７号","病院",null,"9",1,"9",null,null,"11","×",null,null,null,null,null,null,null,"学研",null,null,null,null,null,null,null,null,10,1,1,null,null,null,null,null,null,1,1,1,1,1,null,5,null,1,null,1,null,null,null,null,null,null,null,null,0]
[500,2026,"26","2",27,"040","2627040",null,"国家公務員共済組合連合会枚方公済病院","大阪府","573-0153","大阪府枚方市藤阪東町1丁目2番1号","病院",null,"5",1,"5",null,null,"11","×",null,null,null,null,null,null,null,"学研",null,null,null,null,null,null,null,null,8,3,3,null,null,null,null,5,null,5,2,null,null,2,null,5,null,null,null,3,null,null,null,null,null,null,null,null,0]
[501,2026,"26","2",27,"041","2627041",null,"社会医療法人清恵会　清恵会病院","大阪府","590-0064","大阪府堺市堺区南安井町1-1-1","病院",null,"4",1,"4",null,null,"11","×",null,null,null,null,null,null,null,"学研",null,null,null,null,null,null,null,null,4,null,null,null,null,null,null,null,null,4,4,null,null,4,null,4,null,null,null,null,null,null,null,null,null,null,null,null,0]
[502,2026,"26","2",27,"042","2627042",null,"社会医療法人若弘会　若草第一病院","大阪府","579-8056","大阪府東大阪市若草町1-6","病院",null,"2",1,"2",null,null,"12.5","×",null,null,null,null,null,null,null,"S-QUE",null,null,null,null,null,null,null,null,6,2,2,null,2,null,null,null,null,2,null,null,null,2,null,null,null,null,null,2,null,null,null,null,null,null,null,2,1]
[503,2026,"26","2",27,"043","2627043",null,"社会福祉法人恩賜財団済生会支部大阪府済生会中津病院","大阪府","530-0012","大阪府大阪市北区芝田2-10-39","病院",null,"12",1,"12",null,null,"12,24","×",null,null,null,null,null,null,null,"S-QUE",null,null,null,null,null,null,null,null,8,6,6,null,1,null,null,null,null,3,null,null,null,8,null,7,null,null,5,6,null,null,null,null,5,null,null,1,2]
[504,2026,"26","2",27,"044","2627044",null,"市立豊中病院","大阪府","560-8565","大阪府豊中市柴原町４丁目14番１号","病院",null,"5",1,"5",null,null,"12","×",null,null,null,null,null,null,null,"学研",null,null,null,null,null,null,null,null,2,null,null,null,null,null,null,null,null,5,5,null,null,null,null,null,null,null,null,null,null,null,null,null,null,null,null,null,0]
[505,2026,"26","2",27,"045","2627045",null,"地方独立行政法人　堺市立病院機構　堺市立総合医療センター","大阪府","593-8304","大阪府堺市西区家原寺町1丁1番1号","病院",null,"8",1,"8",null,null,"12","×",null,null,null,null,null,null,null,"学研",null,null,null,null,null,null,null,null,12,4,8,4,2,null,null,null,null,6,4,4,null,8,2,6,null,null,2,6,null,null,null,null,2,null,null,2,2]
[506,2026,"26","2",40,"032","2640032",null,"福岡大学筑紫病院","福岡県","818-8502","福岡県筑紫野市俗明院1丁目1番1号","病院",null,"9",1,"9",null,null,"10","×",null,null,null,null,null,null,null,"S-QUE",null,null,null,null,null,null,null,null,9,1,1,1,null,null,null,null,null,null,null,1,null,1,null,1,null,null,1,1,1,null,null,null,null,null,null,null,0]
[507,2026,"26","2",41,"008","2641008",null,"社会福祉法人恩賜財団済生会唐津病院","佐賀県","847-0852","佐賀県唐津市元旗町817番地","病院",null,"6(5)",1,6,null,null,"12","×",null,null,null,null,null,null,null,"S-QUE",null,null,null,null,null,null,null,null,3,null,null,null,null,null,2,2,null,null,null,null,2,null,null,null,null,null,null,null,null,null,null,null,null,null,null,null,0]
[508,2026,"26","2",44,"008","2644008",null,"社会医療法人関愛会　大東よつば病院","大分県","870-0125","大分県大分市松岡1946","病院",null,"3",1,"3",null,null,"14","×",null,null,null,null,null,null,null,"S-QUE",null,null,null,null,null,null,null,null,4,null,null,3,null,null,null,null,3,null,null,3,null,null,null,3,null,null,null,null,null,null,3,null,null,null,null,null,1]
[509,2026,"26","2",44,"009","2644009",null,"独立行政法人国立病院機構大分医療センター","大分県","870-0263","大分県大分市横田2丁目11－45","病院",null,"2",1,"2",null,null,"8","×",null,null,null,null,null,null,null,"学研",null,null,null,null,null,null,null,null,1,null,null,null,null,null,null,null,null,null,null,null,null,null,null,2,null,null,null,null,null,null,null,null,null,null,null,null,0]
[510,2026,"26","2",44,"010","2644010",null,"中津市立中津市民病院","大分県","871-8511","大分県中津市大字下池永173番地","病院",null,"6",1,"6",null,null,"11","×",null,null,null,null,null,null,null,"学研",null,null,null,null,null,null,null,null,11,2,2,null,null,null,2,null,null,2,null,3,2,4,null,6,2,null,4,2,null,null,null,null,2,null,2,null,2]
[511,2026,"26","2",45,"007","2645007",null,"公立大学法人宮崎県立看護大学　看護研究・研修センター","宮崎県","880-0929","宮崎県宮崎市まなび野三丁目5番地１","大学",null,"6",1,"6",null,null,"12","×",null,null,null,null,null,null,null,"日看協",null,null,null,null,null,null,null,null,2,null,null,null,null,null,null,null,null,null,null,null,null,null,null,6,6,null,null,null,null,null,null,null,null,null,null,null,0]
[512,2026,"26","2",47,"012","2647012",null,"地方独立行政法人那覇市立病院","沖縄県","902-8511","沖縄県那覇市古島2丁目31番地１","病院",null,"8",1,"8",null,null,"12","×",null,null,null,null,null,null,null,"学研",null,null,null,null,null,null,null,null,6,2,4,null,null,null,null,null,null,null,2,null,null,4,null,4,null,null,null,null,2,null,null,null,null,2,null,null,1]
[]
[]
[]
[]
[]
[]
[]
[]
[]
[]
[]
[]
[]
[]
[]
[]
[]
[]
[]
[]
[]
[]
[]
[]
[]
[]
[]
[]
[]
[]
[]
[]
[]
[]
[]
[]
[]
[]
[]
[]
[]
[]
[]
[]
[]
[]
[]
[]
[]
[]
[]
[]
[]
[]
[]
[]
[]
[]
[]
[]
[]
[]
[]
[]
[]
[]
[]
[]
[]
[]
[]
[]
[]
[]
[]
[]
[]
[]
[]
[]
[]
[]
[]
[]
[null,null,null,null,null,null,null,null,null,null,null,null,null,null,null,null,null,null,null,"."]
[]
[]
[]
[]
[]
[]
[]
[]
[]
[]
[]
[]
[]
[]
[]
[]
[]
[]
[]
[]
[null,null,null,null,null,null,null,null,"定員数合計",null,null,null,null,null,{"$f":"SUM(O3:O469)","v":6063},null,{"$f":"SUM(Q3:Q469)","v":6822},null,null,null,null,null,null,null,null,null,null,null,null,null,null,null,null,null,null,null,null,null,{"$f":"SUM(AM3:AM616)","v":2231},2500,1550,570,239,646,762,963,1770,1305,1714,1068,2880,431,4913,1308,1317,1669,1954,1166,230,505,206,779,331,179,280]
[null,null,null,null,null,null,null,null,1,null,null,null,{"$f":"COUNTA(M3:M616)","v":505},null,null,null,null,null,null,null,null,null,null,null,{"$f":"COUNTIF(Y3:Y616,\"○\")","v":114},null,null,null,{"$f":"COUNTA(AC3:AC616)","v":505},{"$f":"COUNTA(AD3:AD616)","v":181},null,null,{"$f":"COUNTIF(AG3:AG616,\"有\")","v":14},null,null,{"$f":"COUNTA(AJ3:AJ616)","v":6},{"$f":"COUNTA(AK3:AK616)","v":2},null,{"$f":"COUNTA(AM3:AM616 )","v":312},331,256,108,37,121,135,{"$f":"COUNTA(AT3:AT616)","v":168},{"$f":"COUNTA(AU3:AU616 )","v":266},{"$f":"COUNTA(AV3:AV616 )","v":245},{"$f":"COUNTA(AW3:AW616 )","v":278},{"$f":"COUNTA(AX3:AX618)","v":175},{"$f":"COUNTA(AY3:AY616 )","v":373},{"$f":"COUNTA(AZ3:AZ616 )","v":53},{"$f":"COUNTA(BA3:BA618 )","v":452},{"$f":"COUNTA(BB3:BB618 )","v":160},{"$f":"COUNTA(BC3:BC618)","v":183},{"$f":"COUNTA(BD3:BD618)","v":259},{"$f":"COUNTA(BE3:BE618 )","v":277},{"$f":"COUNTA(BF3:BF618 )","v":179},{"$f":"COUNTA(BG3:BG618 )","v":27},{"$f":"COUNTA(BH3:BH618 )","v":120},{"$f":"COUNTA(BI3:BI618)","v":63},{"$f":"COUNTA(BJ3:BJ618 )","v":176},{"$f":"COUNTA(BK3:BK618 )","v":94},{"$f":"COUNTA(BL3:BL618 )","v":47},{"$f":"COUNTA(BM3:BM618 )","v":74},{"$f":"COUNTIF(BN3:BN616,\">0\")","v":301}]
[null,null,null,null,null,null,null,null,"定員数合計（大学院修士課程のみ）",null,null,null,null,null,{"$f":"SUMIF($Y3:$Y430,\"大学院修士課程\",O3:O469)","v":106},null,{"$f":"SUMIF(Y3:Y469,\"大学院修士課程\",Q3:Q469)","v":106}]
[null,null,null,null,null,null,null,null,"指定研修機関機関数（大学院修士課程のみ）",null,null,null,{"$f":"COUNTIF(U3:U616,\"○\")","v":19}]
[null,null,null,null,null,null,null,null,"定員数合計（大学院修士課程を除く）",null,null,null,null,null,{"$f":"O620-(SUMIF($Y3:$Y430,\"大学院修士課程\",O3:O469))","v":5957},null,{"$f":"Q620-(SUMIF(Y3:Y469,\"大学院修士課程\",Q3:Q469))","v":6716}]
[null,null,null,null,null,null,null,null,"指定研修機関機関数（大学院修士課程を除く）",null,null,null,{"$f":"M621-(COUNTIF(U3:U430,\"○\"))","v":487}]
[null,null,null,null,null,null,null,null,"Min",null,null,null,null,null,{"$f":"MIN(O3:O469)","v":0},{"$f":"MIN(P3:P469)","v":0},{"$f":"MIN(Q3:Q469)","v":0},null,null,null,null,null,null,null,null,null,null,null,null,null,null,null,"Min",{"$f":"MIN(AH3:AH616 )","v":10.8},{"$f":"MIN(AI3:AI469)","v":32.35},0,0,1,0,0,0,0,0,0,0,0,0,0,0,0,0,0,0,0,0,0,{"$f":"MIN(BE3:BE469)","v":0},0,0]
[null,null,null,null,null,null,null,null,"Max",null,null,null,null,null,{"$f":"MAX(O3:O469)","v":530},{"$f":"MAX(P3:P469)","v":4},{"$f":"MAX(Q3:Q469)","v":530},null,null,null,null,null,null,null,null,null,null,null,null,null,null,null,"Max",{"$f":"MAX(AH3:AH616)","v":328.6},{"$f":"MAX(AI3:AI138)","v":102.3},null,"Max",{"$f":"MAX(AL3:AL469)","v":21},{"$f":"MAX(AM3:AM469)","v":92},92,50,25,25,30,30,52,79,50,145,49,92,58,530,86,107,92,92,100,30]
[null,null,null,null,null,null,null,null,"Ave",null,null,null,null,null,{"$f":"AVERAGE(O3:O469)","v":13.180434782608696},{"$f":"AVERAGE(P3:P469)","v":1.0554347826086956},{"$f":"AVERAGE(Q3:Q469)","v":14.862745098039216},null,null,null,null,null,null,null,null,null,null,null,null,null,null,null,"Ave",{"$f":"AVERAGE(AH3:AH616)","v":58.734691358024719},{"$f":"AVERAGE(AI3:AI138)","v":65.288095238095252},null,"Ave",{"$f":"AVERAGE(AL3:AL469)","v":8.984782608695653},{"$f":"AVERAGE(AM3:AM469)","v":7.3848797250859111},7.8202614379084965,6.1646090534979425,5.4455445544554459,6.4594594594594597,5.4782608695652177,5.7441860465116283,5.8616352201257858,6.9183673469387754,5.56,6.3716475095785441,6.3030303030303028,8.0348837209302317,8.25,11.311004784688995,8.258064516129032,7.2722222222222221,6.6032388663967607,7.1884615384615387,6.6,8.518518518518519]
[null,null,null,null,null,null,null,null,"Min（大学院修士課程のみ）",null,null,null,null,null,{"$f":"MIN(IF($U$3:$U$469=\"○\",O$3:O$469))","v":2},{"$f":"MIN(IF($U$3:$U$469=\"○\",P$3:P$469))","v":1},{"$f":"MIN(IF($U$3:$U$469=\"○\",Q$3:Q$469))","v":2},{"$f":"MIN(IF($U$3:$U$138=\"○\",R$3:R$138))","v":0},null,null,null,null,null,null,null,null,null,null,null,null,null,null,null,{"$f":"MIN(IF($U$3:$U$616=\"○\",AH$3:AH$616))","v":0},{"$f":"MIN(IF($U$3:$U$469=\"○\",AI$3:AI$469))","v":0},{"$f":"MIN(IF($U$3:$U$469=\"○\",AJ$3:AJ$469))","v":0},{"$f":"MIN(IF($U$3:$U$469=\"○\",AK$3:AK$469))","v":0},{"$f":"MIN(IF($U$3:$U$469=\"○\",AL$3:AL$469))","v":1},{"$f":"MIN(IF($U$3:$U$469=\"○\",AM$3:AM$469))","v":0},{"$f":"MIN(IF($U$3:$U$469=\"○\",AN$3:AN$469))","v":0},{"$f":"MIN(IF($U$3:$U$469=\"○\",AO$3:AO$469))","v":0},{"$f":"MIN(IF($U$3:$U$469=\"○\",AP$3:AP$469))","v":0},{"$f":"MIN(IF($U$3:$U$469=\"○\",AQ$3:AQ$469))","v":0},{"$f":"MIN(IF($U$3:$U$469=\"○\",AR$3:AR$469))","v":0},{"$f":"MIN(IF($U$3:$U$469=\"○\",AS$3:AS$469))","v":0},{"$f":"MIN(IF($U$3:$U$469=\"○\",AT$3:AT$469))","v":0},{"$f":"MIN(IF($U$3:$U$469=\"○\",AU$3:AU$469))","v":0},{"$f":"MIN(IF($U$3:$U$469=\"○\",AV$3:AV$469))","v":0},{"$f":"MIN(IF($U$3:$U$469=\"○\",AW$3:AW$469))","v":0},{"$f":"MIN(IF($U$3:$U$469=\"○\",AX$3:AX$469))","v":0},{"$f":"MIN(IF($U$3:$U$469=\"○\",AY$3:AY$469))","v":0},{"$f":"MIN(IF($U$3:$U$469=\"○\",AZ$3:AZ$469))","v":0},{"$f":"MIN(IF($U$3:$U$469=\"○\",BA$3:BA$469))","v":2},{"$f":"MIN(IF($U$3:$U$469=\"○\",BB$3:BB$469))","v":0},{"$f":"MIN(IF($U$3:$U$469=\"○\",BC$3:BC$469))","v":0},{"$f":"MIN(IF($U$3:$U$469=\"○\",BD$3:BD$469))","v":0},{"$f":"MIN(IF($U$3:$U$469=\"○\",BE$3:BE$469))","v":0},{"$f":"MIN(IF($U$3:$U$469=\"○\",BF$3:BF$469))","v":0},{"$f":"MIN(IF($U$3:$U$469=\"○\",BG$3:BG$469))","v":0}]
[null,null,null,null,null,null,null,null,"Max（大学院修士課程のみ）",null,null,null,null,null,{"$f":"MAX(IF($U$3:$U$469=\"○\",O$3:O$469))","v":27},{"$f":"MAX(IF($U$3:$U$469=\"○\",P$3:P$469))","v":1},{"$f":"MAX(IF($U$3:$U$469=\"○\",Q$3:Q$469))","v":45},{"$f":"MAX(IF($U$3:$U$138=\"○\",R$3:R$138))","v":0},null,null,null,null,null,null,null,null,null,null,null,null,null,null,null,{"$f":"MAX(IF($U$3:$U$616=\"○\",AH$3:AH$616))","v":328.6},{"$f":"MAX(IF($U$3:$U$469=\"○\",AI$3:AI$469))","v":0},{"$f":"MAX(IF($U$3:$U$469=\"○\",AJ$3:AJ$469))","v":0},{"$f":"MAX(IF($U$3:$U$469=\"○\",AK$3:AK$469))","v":0},{"$f":"MAX(IF($U$3:$U$469=\"○\",AL$3:AL$469))","v":21},{"$f":"MAX(IF($U$3:$U$469=\"○\",AM$3:AM$469))","v":25},{"$f":"MAX(IF($U$3:$U$469=\"○\",AN$3:AN$469))","v":25},{"$f":"MAX(IF($U$3:$U$469=\"○\",AO$3:AO$469))","v":25},{"$f":"MAX(IF($U$3:$U$469=\"○\",AP$3:AP$469))","v":25},{"$f":"MAX(IF($U$3:$U$469=\"○\",AQ$3:AQ$469))","v":25},{"$f":"MAX(IF($U$3:$U$469=\"○\",AR$3:AR$469))","v":25},{"$f":"MAX(IF($U$3:$U$469=\"○\",AS$3:AS$469))","v":25},{"$f":"MAX(IF($U$3:$U$469=\"○\",AT$3:AT$469))","v":25},{"$f":"MAX(IF($U$3:$U$469=\"○\",AU$3:AU$469))","v":25},{"$f":"MAX(IF($U$3:$U$469=\"○\",AV$3:AV$469))","v":25},{"$f":"MAX(IF($U$3:$U$469=\"○\",AW$3:AW$469))","v":25},{"$f":"MAX(IF($U$3:$U$469=\"○\",AX$3:AX$469))","v":25},{"$f":"MAX(IF($U$3:$U$469=\"○\",AY$3:AY$469))","v":25},{"$f":"MAX(IF($U$3:$U$469=\"○\",AZ$3:AZ$469))","v":25},{"$f":"MAX(IF($U$3:$U$469=\"○\",BA$3:BA$469))","v":35},{"$f":"MAX(IF($U$3:$U$469=\"○\",BB$3:BB$469))","v":25},{"$f":"MAX(IF($U$3:$U$469=\"○\",BC$3:BC$469))","v":25},{"$f":"MAX(IF($U$3:$U$469=\"○\",BD$3:BD$469))","v":25},{"$f":"MAX(IF($U$3:$U$469=\"○\",BE$3:BE$469))","v":25},{"$f":"MAX(IF($U$3:$U$469=\"○\",BF$3:BF$469))","v":25},{"$f":"MAX(IF($U$3:$U$469=\"○\",BG$3:BG$469))","v":25}]
[null,null,null,null,null,null,null,null,"Ave（大学院修士課程のみ）",null,null,null,null,null,{"$f":"AVERAGE(IF($U$3:$U$469=\"○\",O$3:O$469))","v":11.947368421052632},{"$f":"AVERAGE(IF($U$3:$U$430=\"○\",P$3:P$430))","v":1},{"$f":"AVERAGE(IF($U$3:$U$469=\"○\",Q$3:Q$469))","v":13.736842105263158},{"$f":"AVERAGE(IF($U$3:$U$138=\"○\",R$3:R$138))","v":0},null,null,null,null,null,null,null,null,null,null,null,null,null,null,null,{"$f":"AVERAGE(IF($U$3:$U$616=\"○\",AH$3:AH$616))","v":82.734736842105264},{"$f":"AVERAGE(IF($U$3:$U$469=\"○\",AI$3:AI$469))","v":0},{"$f":"AVERAGE(IF($U$3:$U$469=\"○\",AJ$3:AJ$469))","v":0},{"$f":"AVERAGE(IF($U$3:$U$469=\"○\",AK$3:AK$469))","v":0},{"$f":"AVERAGE(IF($U$3:$U$469=\"○\",AL$3:AL$469))","v":15.105263157894736},{"$f":"AVERAGE(IF($U$3:$U$469=\"○\",AM$3:AM$469))","v":8.7894736842105257},{"$f":"AVERAGE(IF($U$3:$U$469=\"○\",AN$3:AN$469))","v":9.8421052631578956},{"$f":"AVERAGE(IF($U$3:$U$469=\"○\",AO$3:AO$469))","v":7.3157894736842106},{"$f":"AVERAGE(IF($U$3:$U$469=\"○\",AP$3:AP$469))","v":6.1578947368421053},{"$f":"AVERAGE(IF($U$3:$U$469=\"○\",AQ$3:AQ$469))","v":6.1578947368421053},{"$f":"AVERAGE(IF($U$3:$U$469=\"○\",AR$3:AR$469))","v":6.1578947368421053},{"$f":"AVERAGE(IF($U$3:$U$469=\"○\",AS$3:AS$469))","v":6.1578947368421053},{"$f":"AVERAGE(IF($U$3:$U$469=\"○\",AT$3:AT$469))","v":7.8421052631578947},{"$f":"AVERAGE(IF($U$3:$U$469=\"○\",AU$3:AU$469))","v":6.7894736842105265},{"$f":"AVERAGE(IF($U$3:$U$469=\"○\",AV$3:AV$469))","v":7.5789473684210522},{"$f":"AVERAGE(IF($U$3:$U$469=\"○\",AW$3:AW$469))","v":7.7368421052631575},{"$f":"AVERAGE(IF($U$3:$U$469=\"○\",AX$3:AX$469))","v":6.2631578947368425},{"$f":"AVERAGE(IF($U$3:$U$469=\"○\",AY$3:AY$469))","v":10.105263157894736},{"$f":"AVERAGE(IF($U$3:$U$469=\"○\",AZ$3:AZ$469))","v":6.2631578947368425},{"$f":"AVERAGE(IF($U$3:$U$469=\"○\",BA$3:BA$469))","v":12.263157894736842},{"$f":"AVERAGE(IF($U$3:$U$469=\"○\",BB$3:BB$469))","v":9.3157894736842106},{"$f":"AVERAGE(IF($U$3:$U$469=\"○\",BC$3:BC$469))","v":8.3684210526315788},{"$f":"AVERAGE(IF($U$3:$U$469=\"○\",BD$3:BD$469))","v":8.6315789473684212},{"$f":"AVERAGE(IF($U$3:$U$469=\"○\",BE$3:BE$469))","v":8.8947368421052637},{"$f":"AVERAGE(IF($U$3:$U$469=\"○\",BF$3:BF$469))","v":8.1578947368421044},{"$f":"AVERAGE(IF($U$3:$U$469=\"○\",BG$3:BG$469))","v":5.4736842105263159}]
[null,null,null,null,null,null,null,null,"Min(大学院修士課程を除く）",null,null,null,null,null,{"$f":"MIN(IF($U$3:$U$469=\"×\",O$3:O$469))","v":0},{"$f":"MIN(IF($U$3:$U$469=\"×\",P$3:P$469))","v":0},{"$f":"MIN(IF($U$3:$U$469=\"×\",Q$3:Q$469))","v":0},{"$f":"MIN(IF($U$3:$U$138=\"×\",R$3:R$138))","v":0},null,null,null,null,null,null,null,null,null,null,null,null,null,null,null,{"$f":"MIN(IF($U$3:$U$469=\"×\",AH$3:AH$469))","v":0},{"$f":"MIN(IF($U$3:$U$469=\"×\",AI$3:AI$469))","v":0},{"$f":"MIN(IF($U$3:$U$469=\"×\",AJ$3:AJ$469))","v":0},{"$f":"MIN(IF($U$3:$U$469=\"×\",AK$3:AK$469))","v":0},{"$f":"MIN(IF($U$3:$U$469=\"×\",AL$3:AL$469))","v":0},{"$f":"MIN(IF($U$3:$U$469=\"×\",AM$3:AM$469))","v":0},{"$f":"MIN(IF($U$3:$U$469=\"×\",AN$3:AN$469))","v":0},{"$f":"MIN(IF($U$3:$U$469=\"×\",AO$3:AO$469))","v":0},{"$f":"MIN(IF($U$3:$U$469=\"×\",AP$3:AP$469))","v":0},{"$f":"MIN(IF($U$3:$U$469=\"×\",AQ$3:AQ$469))","v":0},{"$f":"MIN(IF($U$3:$U$469=\"×\",AR$3:AR$469))","v":0},{"$f":"MIN(IF($U$3:$U$469=\"×\",AS$3:AS$469))","v":0},{"$f":"MIN(IF($U$3:$U$469=\"×\",AT$3:AT$469))","v":0},{"$f":"MIN(IF($U$3:$U$469=\"×\",AU$3:AU$469))","v":0},{"$f":"MIN(IF($U$3:$U$469=\"×\",AV$3:AV$469))","v":0},{"$f":"MIN(IF($U$3:$U$469=\"×\",AW$3:AW$469))","v":0},{"$f":"MIN(IF($U$3:$U$469=\"×\",AX$3:AX$469))","v":0},{"$f":"MIN(IF($U$3:$U$469=\"×\",AY$3:AY$469))","v":0},{"$f":"MIN(IF($U$3:$U$469=\"×\",AZ$3:AZ$469))","v":0},{"$f":"MIN(IF($U$3:$U$469=\"×\",BA$3:BA$469))","v":0},{"$f":"MIN(IF($U$3:$U$469=\"×\",BB$3:BB$469))","v":0},{"$f":"MIN(IF($U$3:$U$469=\"×\",BC$3:BC$469))","v":0},{"$f":"MIN(IF($U$3:$U$469=\"×\",BD$3:BD$469))","v":0},{"$f":"MIN(IF($U$3:$U$469=\"×\",BE$3:BE$469))","v":0},{"$f":"MIN(IF($U$3:$U$469=\"×\",BF$3:BF$469))","v":0},{"$f":"MIN(IF($U$3:$U$469=\"×\",BG$3:BG$469))","v":0}]
[null,null,null,null,null,null,null,null,"Max（大学院修士課程を除く）",null,null,null,null,null,{"$f":"MAX(IF($U$3:$U$469=\"×\",O$3:O$469))","v":530},{"$f":"MAX(IF($U$3:$U$469=\"×\",P$3:P$469))","v":4},{"$f":"MAX(IF($U$3:$U$469=\"×\",Q$3:Q$469))","v":530},{"$f":"MAX(IF($U$3:$U$138=\"×\",R$3:R$138))","v":0},null,null,null,null,null,null,null,null,null,null,null,null,null,null,null,{"$f":"MAX(IF($U$3:$U$469=\"×\",AH$3:AH$469))","v":150},{"$f":"MAX(IF($U$3:$U$469=\"×\",AI$3:AI$469))","v":853},{"$f":"MAX(IF($U$3:$U$469=\"×\",AJ$3:AJ$469))","v":0},{"$f":"MAX(IF($U$3:$U$469=\"×\",AK$3:AK$469))","v":0},{"$f":"MAX(IF($U$3:$U$469=\"×\",AL$3:AL$469))","v":21},{"$f":"MAX(IF($U$3:$U$469=\"×\",AM$3:AM$469))","v":92},{"$f":"MAX(IF($U$3:$U$469=\"×\",AN$3:AN$469))","v":92},{"$f":"MAX(IF($U$3:$U$469=\"×\",AO$3:AO$469))","v":50},{"$f":"MAX(IF($U$3:$U$469=\"×\",AP$3:AP$469))","v":25},{"$f":"MAX(IF($U$3:$U$469=\"×\",AQ$3:AQ$469))","v":15},{"$f":"MAX(IF($U$3:$U$469=\"×\",AR$3:AR$469))","v":30},{"$f":"MAX(IF($U$3:$U$469=\"×\",AS$3:AS$469))","v":30},{"$f":"MAX(IF($U$3:$U$469=\"×\",AT$3:AT$469))","v":52},{"$f":"MAX(IF($U$3:$U$469=\"×\",AU$3:AU$469))","v":79},{"$f":"MAX(IF($U$3:$U$469=\"×\",AV$3:AV$469))","v":50},{"$f":"MAX(IF($U$3:$U$469=\"×\",AW$3:AW$469))","v":145},{"$f":"MAX(IF($U$3:$U$469=\"×\",AX$3:AX$469))","v":49},{"$f":"MAX(IF($U$3:$U$469=\"×\",AY$3:AY$469))","v":92},{"$f":"MAX(IF($U$3:$U$469=\"×\",AZ$3:AZ$469))","v":58},{"$f":"MAX(IF($U$3:$U$469=\"×\",BA$3:BA$469))","v":530},{"$f":"MAX(IF($U$3:$U$469=\"×\",BB$3:BB$469))","v":86},{"$f":"MAX(IF($U$3:$U$469=\"×\",BC$3:BC$469))","v":107},{"$f":"MAX(IF($U$3:$U$469=\"×\",BD$3:BD$469))","v":92},{"$f":"MAX(IF($U$3:$U$469=\"×\",BE$3:BE$469))","v":92},{"$f":"MAX(IF($U$3:$U$469=\"×\",BF$3:BF$469))","v":100},{"$f":"MAX(IF($U$3:$U$469=\"×\",BG$3:BG$469))","v":30}]
[null,null,null,null,null,null,null,null,"Ave（大学院修士課程を除く）",null,null,null,null,null,{"$f":"AVERAGE(IF($U$3:$U$469=\"×\",O$3:O$469))","v":13.24090909090909},{"$f":"AVERAGE(IF($U$3:$U$469=\"×\",P$3:P$469))","v":1.053409090909091},{"$f":"AVERAGE(IF($U$3:$U$469=\"×\",Q$3:Q$469))","v":14.922551252847381},{"$f":"AVERAGE(IF($U$3:$U$138=\"×\",R$3:R$138))","v":0},null,null,null,null,null,null,null,null,null,null,null,null,null,null,null,{"$f":"AVERAGE(IF($U$3:$U$616=\"×\",AH$3:AH$616))","v":6.5953416149068316},{"$f":"AVERAGE(IF($U$3:$U$469=\"×\",AI$3:AI$469))","v":10.204431818181815},{"$f":"AVERAGE(IF($U$3:$U$469=\"×\",AJ$3:AJ$469))","v":0},{"$f":"AVERAGE(IF($U$3:$U$469=\"×\",AK$3:AK$469))","v":0},{"$f":"AVERAGE(IF($U$3:$U$469=\"×\",AL$3:AL$469))","v":8.6750000000000007},{"$f":"AVERAGE(IF($U$3:$U$469=\"×\",AM$3:AM$469))","v":4.4909090909090912},{"$f":"AVERAGE(IF($U$3:$U$469=\"×\",AN$3:AN$469))","v":5},{"$f":"AVERAGE(IF($U$3:$U$469=\"×\",AO$3:AO$469))","v":3.081818181818182},{"$f":"AVERAGE(IF($U$3:$U$469=\"×\",AP$3:AP$469))","v":0.97727272727272729},{"$f":"AVERAGE(IF($U$3:$U$469=\"×\",AQ$3:AQ$469))","v":0.27045454545454545},{"$f":"AVERAGE(IF($U$3:$U$469=\"×\",AR$3:AR$469))","v":1.1590909090909092},{"$f":"AVERAGE(IF($U$3:$U$469=\"×\",AS$3:AS$469))","v":1.4113636363636364},{"$f":"AVERAGE(IF($U$3:$U$469=\"×\",AT$3:AT$469))","v":1.7727272727272727},{"$f":"AVERAGE(IF($U$3:$U$469=\"×\",AU$3:AU$469))","v":3.5522727272727272},{"$f":"AVERAGE(IF($U$3:$U$469=\"×\",AV$3:AV$469))","v":2.5068181818181818},{"$f":"AVERAGE(IF($U$3:$U$469=\"×\",AW$3:AW$469))","v":3.4386363636363635},{"$f":"AVERAGE(IF($U$3:$U$469=\"×\",AX$3:AX$469))","v":2.0863636363636364},{"$f":"AVERAGE(IF($U$3:$U$469=\"×\",AY$3:AY$469))","v":5.8295454545454541},{"$f":"AVERAGE(IF($U$3:$U$469=\"×\",AZ$3:AZ$469))","v":0.69772727272727275},{"$f":"AVERAGE(IF($U$3:$U$469=\"×\",BA$3:BA$469))","v":10.193181818181818},{"$f":"AVERAGE(IF($U$3:$U$469=\"×\",BB$3:BB$469))","v":2.5},{"$f":"AVERAGE(IF($U$3:$U$469=\"×\",BC$3:BC$469))","v":2.5977272727272727},{"$f":"AVERAGE(IF($U$3:$U$469=\"×\",BD$3:BD$469))","v":3.3181818181818183},{"$f":"AVERAGE(IF($U$3:$U$469=\"×\",BE$3:BE$469))","v":3.85},{"$f":"AVERAGE(IF($U$3:$U$469=\"×\",BF$3:BF$469))","v":2.2659090909090911},{"$f":"AVERAGE(IF($U$3:$U$469=\"×\",BG$3:BG$469))","v":0.28636363636363638}]
[]
[null,null,null,null,null,null,null,null,null,null,null,null,null,"合計",null,{"$f":"SUM(P637:P646)","v":505},null,null,null,"研修期間",null,null,null,null,null,null,null,null,"外部受講生受入れ状況（修士課程除）",null,null,null,null,null,null,null,null,"ｅ－ラーニング活用状況",null,null,null,null,"ｅ－ラーニング内訳（共通）",null,null,"数","％",null,null,"授業料状況（H29年8月現在）",null,null,null,null,"　　教育訓練給付金登録機関",null,null,null,{"$f":"COUNTA(AJ3:AJ469)","v":6}]
[null,null,null,null,null,null,null,null,null,null,null,null,null,"大学",null,{"$f":"COUNTIF(M3:M514,\"大学\")","v":43},null,null,"研修期間 Min",null,null,null,null,null,null,null,{"$f":"T626","v":0},null,"受け入れ施設数",null,null,null,null,null,{"$f":"COUNTIF(Y3:Y469,\"○\")","v":114},null,"e-ラーニング活用施設数（共通）",null,null,null,{"$f":"COUNTA(AC3:AC469)","v":460},null,"全日病S-QUE",null,null,{"$f":"COUNTIF(AC3:AC469,\"S-QUE\")","v":210},{"$f":"AT637/AO637*100","v":45.652173913043477},null,"授業料Min （修士課程除＆無料除）",null,null,null,{"$f":"AH626","v":10.8},null,null,null,null,"専門",{"$f":"COUNTIF(AJ3:AJ469,\"専門\")","v":3}]
[null,null,null,null,null,null,null,null,null,null,null,null,null,"大学院",null,{"$f":"COUNTIF(M3:M514,\"大学院\")","v":22},null,null,"研修期間 Max",null,null,null,null,null,null,null,{"$f":"T627","v":0},null,"受け入れ率（％）",null,null,null,null,null,{"$f":"AI637/COUNTA(AL3:AL469)*100","v":24.782608695652176},null,"e-ラーニング活用率（％）",null,null,null,{"$f":"COUNTA(AC3:AC469)/P636*100","v":91.089108910891099},null,"放送大学",null,null,{"$f":"COUNTIF(AC3:AC469,\"放送大学\")","v":30},{"$f":"AT638/AO637*100","v":6.5217391304347823},null,"授業料Max （修士課程除く）",null,null,null,{"$f":"MAX(IF(U3:U138=\"×\",AH3:AI138))","v":150},null,null,null,null,"一般",{"$f":"COUNTIF(AJ3:AJ469,\"一般\")","v":3}]
[null,null,null,null,null,null,null,null,null,null,null,null,null,"大学病院",null,{"$f":"COUNTIF(M3:M514,\"大学病院\")","v":63},null,null,"研修期間 Ave",null,null,null,null,null,null,null,{"$f":"T628","v":0},null,"受け入れ施設数",null,null,null,null,null,{"$f":"COUNTIF(Y3:Y469,\"○\")+COUNTIF(Y3:Y469,\"大学院修士課程\")","v":123},null,"e-ラーニング活用施設数（区分別）",null,null,null,{"$f":"COUNTA(AD3:AD469)","v":181},null,"学研",null,null,{"$f":"COUNTIF(AC3:AC469,\"学研\")","v":173},{"$f":"AT639/AO637*100","v":37.608695652173914},null,"授業料Ave （修士課程除く）",null,null,null,{"$f":"AL649","v":0},null,"人材開発支援助成金登録機関",null,null,null,{"$f":"COUNTA(AK3:AK469)","v":2}]
[null,null,null,null,null,null,null,null,null,null,null,null,null,"病院",null,{"$f":"COUNTIF(M3:M514,\"病院\")","v":350},null,null,"研修期間 Max（大学院修士課程を除く）",null,null,null,null,null,null,null,{"$f":"T633","v":0},null,"受け入れ率（％）",null,null,null,null,null,{"$f":"AI639/COUNTA(AL5:AL621)*100","v":24.453280318091451},null,"e-ラーニング活用率（％）",null,null,null,{"$f":"COUNTA(AD3:AD469)/P636*100","v":35.841584158415841},null,"日本慢性期医療協会",null,null,{"$f":"COUNTIF(AC3:AC469,\"日漫\")","v":0},{"$f":"AT640/AO637*100","v":0}]
[null,null,null,null,null,null,null,null,null,null,null,null,null,"診療所",null,{"$f":"COUNTIF(M3:M514,\"診療所\")","v":2},null,null,"研修期間 Ave（大学院修士課程を除く）",null,null,null,null,null,null,null,{"$f":"T634","v":0},null,null,null,null,null,null,null,null,null,null,null,null,null,null,null,"医学映像教育センター",null,null,{"$f":"COUNTIF(AC3:AC469,\"医学映像\")","v":0},{"$f":"AT641/AO637*100","v":0}]
[null,null,null,null,null,null,null,null,null,null,null,null,null,"団体本部",null,{"$f":"COUNTIF(M3:M514,\"本部\")","v":14},null,null,null,null,null,null,null,null,null,null,null,null,null,null,null,null,null,null,null,null,"ｅ－ラーニング活用状況（修士課程を除く）",null,null,null,null,null,"独自のｅ－ラーニング",null,null,{"$f":"COUNTIF(AC3:AC469,\"独自\")","v":3},{"$f":"AT642/AO637*100","v":0.65217391304347827}]
[null,null,null,null,null,null,null,null,null,null,null,null,null,"看護協会",null,{"$f":"COUNTIF(M3:M514,\"協会\")","v":9},null,null,null,null,null,null,null,null,null,null,null,null,null,null,null,null,null,null,null,null,"e-ラーニング活用施設数（共通）",null,null,null,{"$f":"COUNTIFS(U3:U469,\"×\",AC3:AC469,\"<>\")","v":438},null,"その他",null,null,{"$f":"COUNTIF(AC4:AC469,\"その他\")","v":0},{"$f":"AT643/AO637*100","v":0}]
[null,null,null,null,null,null,null,null,null,null,null,null,null,"学会",null,{"$f":"COUNTIF(M3:M514,\"学会\")","v":2},null,null,null,null,null,null,null,null,null,null,null,null,null,null,null,null,null,null,null,null,"e-ラーニング活用率（％）",null,null,null,{"$f":"AO643/P636-P638*100","v":-2199.1326732673269},null,"エルゼビア",null,null,{"$f":"COUNTIF(AC5:AC469,\"エルゼビア\")","v":24},{"$f":"AT644/AO637*100","v":5.2173913043478262}]
[null,null,null,null,null,null,null,null,null,null,null,null,null,"学校",null,{"$f":"COUNTIF(M3:M514,\"学校\")","v":0},null,null,null,null,null,null,null,null,null,null,null,null,null,null,null,null,null,null,null,null,"e-ラーニング活用施設数（区分別）",null,null,null,{"$f":"COUNTIFS(U3:U430,\"×\",AD3:AD430,\"<>\")","v":174},null,"日看協会",null,null,{"$f":"COUNTIF(AC3:AC469,\"日看協\")","v":13},{"$f":"AT645/AO637*100","v":2.8260869565217392}]
[null,null,null,null,null,null,null,null,null,null,null,null,null,"法人",null,{"$f":"COUNTIF(M3:M514,\"法人\")","v":0},null,null,null,null,null,null,null,null,null,null,null,null,null,null,null,null,null,null,null,null,"e-ラーニング活用率（％）",null,null,null,{"$f":"AO645/P650*100","v":{"$error":"#DIV/0!"}},null,"対面",null,null,{"$f":"COUNTIF(AC3:AC469,\"対面\")","v":6},{"$f":"AT646/AO638*100","v":6.586956521739129}]
[]
[null,null,null,null,null,null,null,null,null,null,null,null,null,"修士課程（21区分）",null,{"$f":"COUNTIF(U3:U469,\"○\")-P649","v":{"$error":"#VALUE!"}}]
[null,null,null,null,null,null,null,null,null,null,null,null,null,"修士課程（＜21区分）",null,{"$f":"COUNTIFS(U3:U469,\"○\",AL3:AL462,\"<21\")","v":{"$error":"#VALUE!"}},null,null,null,null,null,null,null,null,null,null,null,null,null,null,null,null,null,null,null,null,null,null,null,null,null,null,null,null,null,{"$f":"SUM(AT637:AT646)","v":459}]
[]
[]
[]
[]
[]
[]
[]
[]
[]
[]
[]
[]
[]
[]
[]
[]
[]
[]
[]
[]
[]
[]
[]
[]
[]
[]
[]
[]
[]
[]
[]
[]
[]
[]
[]
[]
[]
[]
[]
[]
[]
[]
[]
[]
[]
[]
[]
[]
[]
[]
[]
[]
[]
[]
[]
[]
[]
[]
[]
[]
[]
[]
[]
[]
[]
[]
[]
[]
[]
[]
[]
[]
[]
[]
[]
[]
[]
[]
[]
[]
[]
[]
[]
[]
[]
[]
[]
[]
[]
[]
[]
[]
[]
[]
[]
[]
[]
[]
[]
[]
[]
[]
[]
[]
[]
[]
[]
[]
[]
[]
[]
[]
[]
[]
[]
[]
[]
[]
[]
[]
[]
[]
[]
[]
[]
[]
[]
[]
[]
[]
[]
[]
[]
[]
[]
[]
[]
[]
[]
[]
[]
[]
[]
[]
[]
[]
[]
[]
[]
[]
[]
[]
[]
[]
[]
[]
[]
[]
[]
[]
[]
[]
[]
[]
[]
[]
[]
[]
[]
[]
[]
[]
[]
[]
[]
[]
[]
[]
[]
[]
[]
[]
[]
[]
[]
[]
[]
[]
[]
[]
[]
[]
[]
[null,null,null,null,null,null,null,null,null,null,null,null,null,null,null,null,null,null,null,null,null,null,null,null,null,null,null,null,null,null,null,null,null,null,null,null,null,null,null,null,null,null,null,null,null,null,null,null,null,null,null,null,null,null,null,null,null,null,null,null,null,null,null,null,null,null,"sirabasu"]

{"sheet":"集計結果（都道府県別指定研修機関数）","index":7,"n_rows":64,"n_cols":14,"rows_kept":64,"cut":false,"hidden":true,"merged":[]}
["都道府県部別指定研修期間数",null,null,"入力方法","●COUNTIF関数が入力されている。"]
[null,null,null,null,"●各指定月の列の北海道のセルに、前期のセルの式をコピーする"]
[null,null,null,null,"●北海道セルに入力された計算式「=COUNTIF(基本データ!$G$72:$G$90,A8)」の赤字の部分に、「基本データ」シートの指定月の対象となる行番号を入力する。"]
[null,null,null,null,"●北海道セルを沖縄までコピーする"]
[]
["入力範囲G列","G3-G16","G3-G23","G3-G30","G3-G42","G3-G56","G3-G71","G3-G90","G3-116","G3-137","G3-194","G3-225","G3-275","G3-481"]
[]
[null,"H27年８月","H28年2月","H28年8月","H29年2月","H29年8月","H30年2月","H30年8月","H31年2月","R1年８月","R2年2月","R2年8月","R3年2月","R7年9月"]
["北海道",{"$f":"COUNTIF(基本データ!$J$3:$J$16,A9)","v":1},{"$f":"COUNTIF(基本データ!$J$3:$J$23,A9)","v":1},{"$f":"COUNTIF(基本データ!$J$3:$J$30,A9)","v":1},{"$f":"COUNTIF(基本データ!$J$3:$J$42,A9)","v":1},{"$f":"COUNTIF(基本データ!$J$3:$J$56,A9)","v":2},{"$f":"COUNTIF(基本データ!$J$3:$J$71,A9)","v":4},{"$f":"COUNTIF(基本データ!$J$3:$J$90,A9)","v":5},{"$f":"COUNTIF(基本データ!$J$3:$J$116,A9)","v":6},{"$f":"COUNTIF(基本データ!$J$3:$J$137,A9)","v":6},{"$f":"COUNTIF(基本データ!$J$3:$J$194,A9)","v":10},{"$f":"COUNTIF(基本データ!$J$3:$J$225,A9)","v":10},{"$f":"COUNTIF(基本データ!$J$3:$J$275,A9)","v":13},{"$f":"COUNTIF(基本データ!$G$3:$G$481,A9)","v":0}]
["青森県",{"$f":"COUNTIF(基本データ!$J$3:$J$16,A10)","v":0},{"$f":"COUNTIF(基本データ!$J$3:$J$23,A10)","v":0},{"$f":"COUNTIF(基本データ!$J$3:$J$30,A10)","v":0},{"$f":"COUNTIF(基本データ!$J$3:$J$42,A10)","v":0},{"$f":"COUNTIF(基本データ!$J$3:$J$56,A10)","v":0},{"$f":"COUNTIF(基本データ!$J$3:$J$71,A10)","v":0},{"$f":"COUNTIF(基本データ!$J$3:$J$90,A10)","v":0},{"$f":"COUNTIF(基本データ!$J$3:$J$116,A10)","v":0},{"$f":"COUNTIF(基本データ!$J$3:$J$137,A10)","v":0},{"$f":"COUNTIF(基本データ!$J$3:$J$194,A10)","v":1},{"$f":"COUNTIF(基本データ!$J$3:$J$225,A10)","v":2},{"$f":"COUNTIF(基本データ!$J$3:$J$275,A10)","v":2}]
["岩手県",{"$f":"COUNTIF(基本データ!$J$3:$J$16,A11)","v":1},{"$f":"COUNTIF(基本データ!$J$3:$J$23,A11)","v":1},{"$f":"COUNTIF(基本データ!$J$3:$J$30,A11)","v":1},{"$f":"COUNTIF(基本データ!$J$3:$J$42,A11)","v":1},{"$f":"COUNTIF(基本データ!$J$3:$J$56,A11)","v":1},{"$f":"COUNTIF(基本データ!$J$3:$J$71,A11)","v":1},{"$f":"COUNTIF(基本データ!$J$3:$J$90,A11)","v":1},{"$f":"COUNTIF(基本データ!$J$3:$J$116,A11)","v":1},{"$f":"COUNTIF(基本データ!$J$3:$J$137,A11)","v":1},{"$f":"COUNTIF(基本データ!$J$3:$J$194,A11)","v":1},{"$f":"COUNTIF(基本データ!$J$3:$J$225,A11)","v":1},{"$f":"COUNTIF(基本データ!$J$3:$J$275,A11)","v":2}]
["宮城県",{"$f":"COUNTIF(基本データ!$J$3:$J$16,A12)","v":0},{"$f":"COUNTIF(基本データ!$J$3:$J$23,A12)","v":1},{"$f":"COUNTIF(基本データ!$J$3:$J$30,A12)","v":1},{"$f":"COUNTIF(基本データ!$J$3:$J$42,A12)","v":1},{"$f":"COUNTIF(基本データ!$J$3:$J$56,A12)","v":1},{"$f":"COUNTIF(基本データ!$J$3:$J$71,A12)","v":1},{"$f":"COUNTIF(基本データ!$J$3:$J$90,A12)","v":1},{"$f":"COUNTIF(基本データ!$J$3:$J$116,A12)","v":3},{"$f":"COUNTIF(基本データ!$J$3:$J$137,A12)","v":3},{"$f":"COUNTIF(基本データ!$J$3:$J$194,A12)","v":3},{"$f":"COUNTIF(基本データ!$J$3:$J$225,A12)","v":5},{"$f":"COUNTIF(基本データ!$J$3:$J$275,A12)","v":5}]
["秋田県",{"$f":"COUNTIF(基本データ!$J$3:$J$16,A13)","v":0},{"$f":"COUNTIF(基本データ!$J$3:$J$23,A13)","v":0},{"$f":"COUNTIF(基本データ!$J$3:$J$30,A13)","v":0},{"$f":"COUNTIF(基本データ!$J$3:$J$42,A13)","v":0},{"$f":"COUNTIF(基本データ!$J$3:$J$56,A13)","v":0},{"$f":"COUNTIF(基本データ!$J$3:$J$71,A13)","v":1},{"$f":"COUNTIF(基本データ!$J$3:$J$90,A13)","v":2},{"$f":"COUNTIF(基本データ!$J$3:$J$116,A13)","v":2},{"$f":"COUNTIF(基本データ!$J$3:$J$137,A13)","v":2},{"$f":"COUNTIF(基本データ!$J$3:$J$194,A13)","v":3},{"$f":"COUNTIF(基本データ!$J$3:$J$225,A13)","v":3},{"$f":"COUNTIF(基本データ!$J$3:$J$275,A13)","v":3}]
["山形県",{"$f":"COUNTIF(基本データ!$J$3:$J$16,A14)","v":0},{"$f":"COUNTIF(基本データ!$J$3:$J$23,A14)","v":0},{"$f":"COUNTIF(基本データ!$J$3:$J$30,A14)","v":0},{"$f":"COUNTIF(基本データ!$J$3:$J$42,A14)","v":1},{"$f":"COUNTIF(基本データ!$J$3:$J$56,A14)","v":1},{"$f":"COUNTIF(基本データ!$J$3:$J$71,A14)","v":1},{"$f":"COUNTIF(基本データ!$J$3:$J$90,A14)","v":1},{"$f":"COUNTIF(基本データ!$J$3:$J$116,A14)","v":1},{"$f":"COUNTIF(基本データ!$J$3:$J$137,A14)","v":1},{"$f":"COUNTIF(基本データ!$J$3:$J$194,A14)","v":3},{"$f":"COUNTIF(基本データ!$J$3:$J$225,A14)","v":3},{"$f":"COUNTIF(基本データ!$J$3:$J$275,A14)","v":4}]
["福島県",{"$f":"COUNTIF(基本データ!$J$3:$J$16,A15)","v":0},{"$f":"COUNTIF(基本データ!$J$3:$J$23,A15)","v":1},{"$f":"COUNTIF(基本データ!$J$3:$J$30,A15)","v":1},{"$f":"COUNTIF(基本データ!$J$3:$J$42,A15)","v":2},{"$f":"COUNTIF(基本データ!$J$3:$J$56,A15)","v":2},{"$f":"COUNTIF(基本データ!$J$3:$J$71,A15)","v":2},{"$f":"COUNTIF(基本データ!$J$3:$J$90,A15)","v":2},{"$f":"COUNTIF(基本データ!$J$3:$J$116,A15)","v":2},{"$f":"COUNTIF(基本データ!$J$3:$J$137,A15)","v":2},{"$f":"COUNTIF(基本データ!$J$3:$J$194,A15)","v":2},{"$f":"COUNTIF(基本データ!$J$3:$J$225,A15)","v":2},{"$f":"COUNTIF(基本データ!$J$3:$J$275,A15)","v":2}]
["茨城県",{"$f":"COUNTIF(基本データ!$J$3:$J$16,A16)","v":0},{"$f":"COUNTIF(基本データ!$J$3:$J$23,A16)","v":0},{"$f":"COUNTIF(基本データ!$J$3:$J$30,A16)","v":1},{"$f":"COUNTIF(基本データ!$J$3:$J$42,A16)","v":1},{"$f":"COUNTIF(基本データ!$J$3:$J$56,A16)","v":1},{"$f":"COUNTIF(基本データ!$J$3:$J$71,A16)","v":1},{"$f":"COUNTIF(基本データ!$J$3:$J$90,A16)","v":2},{"$f":"COUNTIF(基本データ!$J$3:$J$116,A16)","v":2},{"$f":"COUNTIF(基本データ!$J$3:$J$137,A16)","v":2},{"$f":"COUNTIF(基本データ!$J$3:$J$194,A16)","v":2},{"$f":"COUNTIF(基本データ!$J$3:$J$225,A16)","v":2},{"$f":"COUNTIF(基本データ!$J$3:$J$275,A16)","v":3}]
["栃木県",{"$f":"COUNTIF(基本データ!$J$3:$J$16,A17)","v":1},{"$f":"COUNTIF(基本データ!$J$3:$J$23,A17)","v":1},{"$f":"COUNTIF(基本データ!$J$3:$J$30,A17)","v":1},{"$f":"COUNTIF(基本データ!$J$3:$J$42,A17)","v":1},{"$f":"COUNTIF(基本データ!$J$3:$J$56,A17)","v":1},{"$f":"COUNTIF(基本データ!$J$3:$J$71,A17)","v":1},{"$f":"COUNTIF(基本データ!$J$3:$J$90,A17)","v":1},{"$f":"COUNTIF(基本データ!$J$3:$J$116,A17)","v":1},{"$f":"COUNTIF(基本データ!$J$3:$J$137,A17)","v":2},{"$f":"COUNTIF(基本データ!$J$3:$J$194,A17)","v":2},{"$f":"COUNTIF(基本データ!$J$3:$J$225,A17)","v":2},{"$f":"COUNTIF(基本データ!$J$3:$J$275,A17)","v":2}]
["群馬県",{"$f":"COUNTIF(基本データ!$J$3:$J$16,A18)","v":0},{"$f":"COUNTIF(基本データ!$J$3:$J$23,A18)","v":0},{"$f":"COUNTIF(基本データ!$J$3:$J$30,A18)","v":1},{"$f":"COUNTIF(基本データ!$J$3:$J$42,A18)","v":1},{"$f":"COUNTIF(基本データ!$J$3:$J$56,A18)","v":1},{"$f":"COUNTIF(基本データ!$J$3:$J$71,A18)","v":1},{"$f":"COUNTIF(基本データ!$J$3:$J$90,A18)","v":1},{"$f":"COUNTIF(基本データ!$J$3:$J$116,A18)","v":1},{"$f":"COUNTIF(基本データ!$J$3:$J$137,A18)","v":3},{"$f":"COUNTIF(基本データ!$J$3:$J$194,A18)","v":4},{"$f":"COUNTIF(基本データ!$J$3:$J$225,A18)","v":4},{"$f":"COUNTIF(基本データ!$J$3:$J$275,A18)","v":7}]
["埼玉県",{"$f":"COUNTIF(基本データ!$J$3:$J$16,A19)","v":1},{"$f":"COUNTIF(基本データ!$J$3:$J$23,A19)","v":2},{"$f":"COUNTIF(基本データ!$J$3:$J$30,A19)","v":2},{"$f":"COUNTIF(基本データ!$J$3:$J$42,A19)","v":2},{"$f":"COUNTIF(基本データ!$J$3:$J$56,A19)","v":2},{"$f":"COUNTIF(基本データ!$J$3:$J$71,A19)","v":2},{"$f":"COUNTIF(基本データ!$J$3:$J$90,A19)","v":2},{"$f":"COUNTIF(基本データ!$J$3:$J$116,A19)","v":2},{"$f":"COUNTIF(基本データ!$J$3:$J$137,A19)","v":2},{"$f":"COUNTIF(基本データ!$J$3:$J$194,A19)","v":2},{"$f":"COUNTIF(基本データ!$J$3:$J$225,A19)","v":3},{"$f":"COUNTIF(基本データ!$J$3:$J$275,A19)","v":3}]
["千葉県",{"$f":"COUNTIF(基本データ!$J$3:$J$16,A20)","v":0},{"$f":"COUNTIF(基本データ!$J$3:$J$23,A20)","v":0},{"$f":"COUNTIF(基本データ!$J$3:$J$30,A20)","v":0},{"$f":"COUNTIF(基本データ!$J$3:$J$42,A20)","v":0},{"$f":"COUNTIF(基本データ!$J$3:$J$56,A20)","v":0},{"$f":"COUNTIF(基本データ!$J$3:$J$71,A20)","v":0},{"$f":"COUNTIF(基本データ!$J$3:$J$90,A20)","v":0},{"$f":"COUNTIF(基本データ!$J$3:$J$116,A20)","v":0},{"$f":"COUNTIF(基本データ!$J$3:$J$137,A20)","v":1},{"$f":"COUNTIF(基本データ!$J$3:$J$194,A20)","v":2},{"$f":"COUNTIF(基本データ!$J$3:$J$225,A20)","v":2},{"$f":"COUNTIF(基本データ!$J$3:$J$275,A20)","v":3}]
["東京都",{"$f":"COUNTIF(基本データ!$J$3:$J$16,A21)","v":5},{"$f":"COUNTIF(基本データ!$J$3:$J$23,A21)","v":6},{"$f":"COUNTIF(基本データ!$J$3:$J$30,A21)","v":6},{"$f":"COUNTIF(基本データ!$J$3:$J$42,A21)","v":9},{"$f":"COUNTIF(基本データ!$J$3:$J$56,A21)","v":12},{"$f":"COUNTIF(基本データ!$J$3:$J$71,A21)","v":15},{"$f":"COUNTIF(基本データ!$J$3:$J$90,A21)","v":15},{"$f":"COUNTIF(基本データ!$J$3:$J$116,A21)","v":17},{"$f":"COUNTIF(基本データ!$J$3:$J$137,A21)","v":17},{"$f":"COUNTIF(基本データ!$J$3:$J$194,A21)","v":24},{"$f":"COUNTIF(基本データ!$J$3:$J$225,A21)","v":25},{"$f":"COUNTIF(基本データ!$J$3:$J$275,A21)","v":30}]
["神奈川県",{"$f":"COUNTIF(基本データ!$J$3:$J$16,A22)","v":0},{"$f":"COUNTIF(基本データ!$J$3:$J$23,A22)","v":0},{"$f":"COUNTIF(基本データ!$J$3:$J$30,A22)","v":0},{"$f":"COUNTIF(基本データ!$J$3:$J$42,A22)","v":0},{"$f":"COUNTIF(基本データ!$J$3:$J$56,A22)","v":3},{"$f":"COUNTIF(基本データ!$J$3:$J$71,A22)","v":3},{"$f":"COUNTIF(基本データ!$J$3:$J$90,A22)","v":3},{"$f":"COUNTIF(基本データ!$J$3:$J$116,A22)","v":5},{"$f":"COUNTIF(基本データ!$J$3:$J$137,A22)","v":7},{"$f":"COUNTIF(基本データ!$J$3:$J$194,A22)","v":13},{"$f":"COUNTIF(基本データ!$J$3:$J$225,A22)","v":14},{"$f":"COUNTIF(基本データ!$J$3:$J$275,A22)","v":18}]
["新潟県",{"$f":"COUNTIF(基本データ!$J$3:$J$16,A23)","v":0},{"$f":"COUNTIF(基本データ!$J$3:$J$23,A23)","v":0},{"$f":"COUNTIF(基本データ!$J$3:$J$30,A23)","v":0},{"$f":"COUNTIF(基本データ!$J$3:$J$42,A23)","v":0},{"$f":"COUNTIF(基本データ!$J$3:$J$56,A23)","v":0},{"$f":"COUNTIF(基本データ!$J$3:$J$71,A23)","v":0},{"$f":"COUNTIF(基本データ!$J$3:$J$90,A23)","v":0},{"$f":"COUNTIF(基本データ!$J$3:$J$116,A23)","v":0},{"$f":"COUNTIF(基本データ!$J$3:$J$137,A23)","v":4},{"$f":"COUNTIF(基本データ!$J$3:$J$194,A23)","v":4},{"$f":"COUNTIF(基本データ!$J$3:$J$225,A23)","v":5},{"$f":"COUNTIF(基本データ!$J$3:$J$275,A23)","v":5}]
["富山県",{"$f":"COUNTIF(基本データ!$J$3:$J$16,A24)","v":0},{"$f":"COUNTIF(基本データ!$J$3:$J$23,A24)","v":0},{"$f":"COUNTIF(基本データ!$J$3:$J$30,A24)","v":0},{"$f":"COUNTIF(基本データ!$J$3:$J$42,A24)","v":0},{"$f":"COUNTIF(基本データ!$J$3:$J$56,A24)","v":0},{"$f":"COUNTIF(基本データ!$J$3:$J$71,A24)","v":0},{"$f":"COUNTIF(基本データ!$J$3:$J$90,A24)","v":1},{"$f":"COUNTIF(基本データ!$J$3:$J$116,A24)","v":3},{"$f":"COUNTIF(基本データ!$J$3:$J$137,A24)","v":4},{"$f":"COUNTIF(基本データ!$J$3:$J$194,A24)","v":5},{"$f":"COUNTIF(基本データ!$J$3:$J$225,A24)","v":6},{"$f":"COUNTIF(基本データ!$J$3:$J$275,A24)","v":6}]
["石川県",{"$f":"COUNTIF(基本データ!$J$3:$J$16,A25)","v":0},{"$f":"COUNTIF(基本データ!$J$3:$J$23,A25)","v":0},{"$f":"COUNTIF(基本データ!$J$3:$J$30,A25)","v":1},{"$f":"COUNTIF(基本データ!$J$3:$J$42,A25)","v":2},{"$f":"COUNTIF(基本データ!$J$3:$J$56,A25)","v":5},{"$f":"COUNTIF(基本データ!$J$3:$J$71,A25)","v":5},{"$f":"COUNTIF(基本データ!$J$3:$J$90,A25)","v":5},{"$f":"COUNTIF(基本データ!$J$3:$J$116,A25)","v":5},{"$f":"COUNTIF(基本データ!$J$3:$J$137,A25)","v":5},{"$f":"COUNTIF(基本データ!$J$3:$J$194,A25)","v":6},{"$f":"COUNTIF(基本データ!$J$3:$J$225,A25)","v":6},{"$f":"COUNTIF(基本データ!$J$3:$J$275,A25)","v":6}]
["福井県",{"$f":"COUNTIF(基本データ!$J$3:$J$16,A26)","v":0},{"$f":"COUNTIF(基本データ!$J$3:$J$23,A26)","v":0},{"$f":"COUNTIF(基本データ!$J$3:$J$30,A26)","v":1},{"$f":"COUNTIF(基本データ!$J$3:$J$42,A26)","v":1},{"$f":"COUNTIF(基本データ!$J$3:$J$56,A26)","v":1},{"$f":"COUNTIF(基本データ!$J$3:$J$71,A26)","v":1},{"$f":"COUNTIF(基本データ!$J$3:$J$90,A26)","v":2},{"$f":"COUNTIF(基本データ!$J$3:$J$116,A26)","v":2},{"$f":"COUNTIF(基本データ!$J$3:$J$137,A26)","v":2},{"$f":"COUNTIF(基本データ!$J$3:$J$194,A26)","v":3},{"$f":"COUNTIF(基本データ!$J$3:$J$225,A26)","v":3},{"$f":"COUNTIF(基本データ!$J$3:$J$275,A26)","v":3}]
["山梨県",{"$f":"COUNTIF(基本データ!$J$3:$J$16,A27)","v":0},{"$f":"COUNTIF(基本データ!$J$3:$J$23,A27)","v":0},{"$f":"COUNTIF(基本データ!$J$3:$J$30,A27)","v":0},{"$f":"COUNTIF(基本データ!$J$3:$J$42,A27)","v":0},{"$f":"COUNTIF(基本データ!$J$3:$J$56,A27)","v":0},{"$f":"COUNTIF(基本データ!$J$3:$J$71,A27)","v":0},{"$f":"COUNTIF(基本データ!$J$3:$J$90,A27)","v":0},{"$f":"COUNTIF(基本データ!$J$3:$J$116,A27)","v":0},{"$f":"COUNTIF(基本データ!$J$3:$J$137,A27)","v":0},{"$f":"COUNTIF(基本データ!$J$3:$J$194,A27)","v":0},{"$f":"COUNTIF(基本データ!$J$3:$J$225,A27)","v":1},{"$f":"COUNTIF(基本データ!$J$3:$J$275,A27)","v":1}]
["長野県",{"$f":"COUNTIF(基本データ!$J$3:$J$16,A28)","v":0},{"$f":"COUNTIF(基本データ!$J$3:$J$23,A28)","v":0},{"$f":"COUNTIF(基本データ!$J$3:$J$30,A28)","v":0},{"$f":"COUNTIF(基本データ!$J$3:$J$42,A28)","v":0},{"$f":"COUNTIF(基本データ!$J$3:$J$56,A28)","v":0},{"$f":"COUNTIF(基本データ!$J$3:$J$71,A28)","v":1},{"$f":"COUNTIF(基本データ!$J$3:$J$90,A28)","v":2},{"$f":"COUNTIF(基本データ!$J$3:$J$116,A28)","v":3},{"$f":"COUNTIF(基本データ!$J$3:$J$137,A28)","v":3},{"$f":"COUNTIF(基本データ!$J$3:$J$194,A28)","v":5},{"$f":"COUNTIF(基本データ!$J$3:$J$225,A28)","v":5},{"$f":"COUNTIF(基本データ!$J$3:$J$275,A28)","v":6}]
["岐阜県",{"$f":"COUNTIF(基本データ!$J$3:$J$16,A29)","v":0},{"$f":"COUNTIF(基本データ!$J$3:$J$23,A29)","v":0},{"$f":"COUNTIF(基本データ!$J$3:$J$30,A29)","v":0},{"$f":"COUNTIF(基本データ!$J$3:$J$42,A29)","v":0},{"$f":"COUNTIF(基本データ!$J$3:$J$56,A29)","v":0},{"$f":"COUNTIF(基本データ!$J$3:$J$71,A29)","v":0},{"$f":"COUNTIF(基本データ!$J$3:$J$90,A29)","v":6},{"$f":"COUNTIF(基本データ!$J$3:$J$116,A29)","v":7},{"$f":"COUNTIF(基本データ!$J$3:$J$137,A29)","v":8},{"$f":"COUNTIF(基本データ!$J$3:$J$194,A29)","v":11},{"$f":"COUNTIF(基本データ!$J$3:$J$225,A29)","v":12},{"$f":"COUNTIF(基本データ!$J$3:$J$275,A29)","v":12}]
["静岡県",{"$f":"COUNTIF(基本データ!$J$3:$J$16,A30)","v":0},{"$f":"COUNTIF(基本データ!$J$3:$J$23,A30)","v":0},{"$f":"COUNTIF(基本データ!$J$3:$J$30,A30)","v":0},{"$f":"COUNTIF(基本データ!$J$3:$J$42,A30)","v":0},{"$f":"COUNTIF(基本データ!$J$3:$J$56,A30)","v":0},{"$f":"COUNTIF(基本データ!$J$3:$J$71,A30)","v":0},{"$f":"COUNTIF(基本データ!$J$3:$J$90,A30)","v":2},{"$f":"COUNTIF(基本データ!$J$3:$J$116,A30)","v":3},{"$f":"COUNTIF(基本データ!$J$3:$J$137,A30)","v":6},{"$f":"COUNTIF(基本データ!$J$3:$J$194,A30)","v":7},{"$f":"COUNTIF(基本データ!$J$3:$J$225,A30)","v":9},{"$f":"COUNTIF(基本データ!$J$3:$J$275,A30)","v":10}]
["愛知県",{"$f":"COUNTIF(基本データ!$J$3:$J$16,A31)","v":2},{"$f":"COUNTIF(基本データ!$J$3:$J$23,A31)","v":2},{"$f":"COUNTIF(基本データ!$J$3:$J$30,A31)","v":2},{"$f":"COUNTIF(基本データ!$J$3:$J$42,A31)","v":2},{"$f":"COUNTIF(基本データ!$J$3:$J$56,A31)","v":2},{"$f":"COUNTIF(基本データ!$J$3:$J$71,A31)","v":2},{"$f":"COUNTIF(基本データ!$J$3:$J$90,A31)","v":2},{"$f":"COUNTIF(基本データ!$J$3:$J$116,A31)","v":5},{"$f":"COUNTIF(基本データ!$J$3:$J$137,A31)","v":5},{"$f":"COUNTIF(基本データ!$J$3:$J$194,A31)","v":6},{"$f":"COUNTIF(基本データ!$J$3:$J$225,A31)","v":9},{"$f":"COUNTIF(基本データ!$J$3:$J$275,A31)","v":12}]
["三重県",{"$f":"COUNTIF(基本データ!$J$3:$J$16,A32)","v":0},{"$f":"COUNTIF(基本データ!$J$3:$J$23,A32)","v":0},{"$f":"COUNTIF(基本データ!$J$3:$J$30,A32)","v":0},{"$f":"COUNTIF(基本データ!$J$3:$J$42,A32)","v":0},{"$f":"COUNTIF(基本データ!$J$3:$J$56,A32)","v":0},{"$f":"COUNTIF(基本データ!$J$3:$J$71,A32)","v":0},{"$f":"COUNTIF(基本データ!$J$3:$J$90,A32)","v":0},{"$f":"COUNTIF(基本データ!$J$3:$J$116,A32)","v":0},{"$f":"COUNTIF(基本データ!$J$3:$J$137,A32)","v":0},{"$f":"COUNTIF(基本データ!$J$3:$J$194,A32)","v":1},{"$f":"COUNTIF(基本データ!$J$3:$J$225,A32)","v":1},{"$f":"COUNTIF(基本データ!$J$3:$J$275,A32)","v":1}]
["滋賀県",{"$f":"COUNTIF(基本データ!$J$3:$J$16,A33)","v":0},{"$f":"COUNTIF(基本データ!$J$3:$J$23,A33)","v":1},{"$f":"COUNTIF(基本データ!$J$3:$J$30,A33)","v":1},{"$f":"COUNTIF(基本データ!$J$3:$J$42,A33)","v":1},{"$f":"COUNTIF(基本データ!$J$3:$J$56,A33)","v":1},{"$f":"COUNTIF(基本データ!$J$3:$J$71,A33)","v":1},{"$f":"COUNTIF(基本データ!$J$3:$J$90,A33)","v":1},{"$f":"COUNTIF(基本データ!$J$3:$J$116,A33)","v":1},{"$f":"COUNTIF(基本データ!$J$3:$J$137,A33)","v":1},{"$f":"COUNTIF(基本データ!$J$3:$J$194,A33)","v":1},{"$f":"COUNTIF(基本データ!$J$3:$J$225,A33)","v":1},{"$f":"COUNTIF(基本データ!$J$3:$J$275,A33)","v":1}]
["京都府",{"$f":"COUNTIF(基本データ!$J$3:$J$16,A34)","v":1},{"$f":"COUNTIF(基本データ!$J$3:$J$23,A34)","v":1},{"$f":"COUNTIF(基本データ!$J$3:$J$30,A34)","v":1},{"$f":"COUNTIF(基本データ!$J$3:$J$42,A34)","v":1},{"$f":"COUNTIF(基本データ!$J$3:$J$56,A34)","v":1},{"$f":"COUNTIF(基本データ!$J$3:$J$71,A34)","v":1},{"$f":"COUNTIF(基本データ!$J$3:$J$90,A34)","v":1},{"$f":"COUNTIF(基本データ!$J$3:$J$116,A34)","v":1},{"$f":"COUNTIF(基本データ!$J$3:$J$137,A34)","v":2},{"$f":"COUNTIF(基本データ!$J$3:$J$194,A34)","v":5},{"$f":"COUNTIF(基本データ!$J$3:$J$225,A34)","v":6},{"$f":"COUNTIF(基本データ!$J$3:$J$275,A34)","v":8}]
["大阪府",{"$f":"COUNTIF(基本データ!$J$3:$J$16,A35)","v":0},{"$f":"COUNTIF(基本データ!$J$3:$J$23,A35)","v":1},{"$f":"COUNTIF(基本データ!$J$3:$J$30,A35)","v":1},{"$f":"COUNTIF(基本データ!$J$3:$J$42,A35)","v":3},{"$f":"COUNTIF(基本データ!$J$3:$J$56,A35)","v":3},{"$f":"COUNTIF(基本データ!$J$3:$J$71,A35)","v":4},{"$f":"COUNTIF(基本データ!$J$3:$J$90,A35)","v":4},{"$f":"COUNTIF(基本データ!$J$3:$J$116,A35)","v":6},{"$f":"COUNTIF(基本データ!$J$3:$J$137,A35)","v":8},{"$f":"COUNTIF(基本データ!$J$3:$J$194,A35)","v":11},{"$f":"COUNTIF(基本データ!$J$3:$J$225,A35)","v":12},{"$f":"COUNTIF(基本データ!$J$3:$J$275,A35)","v":17}]
["兵庫県",{"$f":"COUNTIF(基本データ!$J$3:$J$16,A36)","v":0},{"$f":"COUNTIF(基本データ!$J$3:$J$23,A36)","v":0},{"$f":"COUNTIF(基本データ!$J$3:$J$30,A36)","v":0},{"$f":"COUNTIF(基本データ!$J$3:$J$42,A36)","v":1},{"$f":"COUNTIF(基本データ!$J$3:$J$56,A36)","v":1},{"$f":"COUNTIF(基本データ!$J$3:$J$71,A36)","v":2},{"$f":"COUNTIF(基本データ!$J$3:$J$90,A36)","v":3},{"$f":"COUNTIF(基本データ!$J$3:$J$116,A36)","v":3},{"$f":"COUNTIF(基本データ!$J$3:$J$137,A36)","v":4},{"$f":"COUNTIF(基本データ!$J$3:$J$194,A36)","v":6},{"$f":"COUNTIF(基本データ!$J$3:$J$225,A36)","v":8},{"$f":"COUNTIF(基本データ!$J$3:$J$275,A36)","v":9}]
["奈良県",{"$f":"COUNTIF(基本データ!$J$3:$J$16,A37)","v":1},{"$f":"COUNTIF(基本データ!$J$3:$J$23,A37)","v":1},{"$f":"COUNTIF(基本データ!$J$3:$J$30,A37)","v":1},{"$f":"COUNTIF(基本データ!$J$3:$J$42,A37)","v":1},{"$f":"COUNTIF(基本データ!$J$3:$J$56,A37)","v":1},{"$f":"COUNTIF(基本データ!$J$3:$J$71,A37)","v":1},{"$f":"COUNTIF(基本データ!$J$3:$J$90,A37)","v":1},{"$f":"COUNTIF(基本データ!$J$3:$J$116,A37)","v":1},{"$f":"COUNTIF(基本データ!$J$3:$J$137,A37)","v":1},{"$f":"COUNTIF(基本データ!$J$3:$J$194,A37)","v":1},{"$f":"COUNTIF(基本データ!$J$3:$J$225,A37)","v":2},{"$f":"COUNTIF(基本データ!$J$3:$J$275,A37)","v":3}]
["和歌山県",{"$f":"COUNTIF(基本データ!$J$3:$J$16,A38)","v":0},{"$f":"COUNTIF(基本データ!$J$3:$J$23,A38)","v":0},{"$f":"COUNTIF(基本データ!$J$3:$J$30,A38)","v":0},{"$f":"COUNTIF(基本データ!$J$3:$J$42,A38)","v":1},{"$f":"COUNTIF(基本データ!$J$3:$J$56,A38)","v":1},{"$f":"COUNTIF(基本データ!$J$3:$J$71,A38)","v":1},{"$f":"COUNTIF(基本データ!$J$3:$J$90,A38)","v":1},{"$f":"COUNTIF(基本データ!$J$3:$J$116,A38)","v":2},{"$f":"COUNTIF(基本データ!$J$3:$J$137,A38)","v":2},{"$f":"COUNTIF(基本データ!$J$3:$J$194,A38)","v":2},{"$f":"COUNTIF(基本データ!$J$3:$J$225,A38)","v":2},{"$f":"COUNTIF(基本データ!$J$3:$J$275,A38)","v":2}]
["鳥取県",{"$f":"COUNTIF(基本データ!$J$3:$J$16,A39)","v":0},{"$f":"COUNTIF(基本データ!$J$3:$J$23,A39)","v":0},{"$f":"COUNTIF(基本データ!$J$3:$J$30,A39)","v":0},{"$f":"COUNTIF(基本データ!$J$3:$J$42,A39)","v":0},{"$f":"COUNTIF(基本データ!$J$3:$J$56,A39)","v":0},{"$f":"COUNTIF(基本データ!$J$3:$J$71,A39)","v":1},{"$f":"COUNTIF(基本データ!$J$3:$J$90,A39)","v":1},{"$f":"COUNTIF(基本データ!$J$3:$J$116,A39)","v":2},{"$f":"COUNTIF(基本データ!$J$3:$J$137,A39)","v":2},{"$f":"COUNTIF(基本データ!$J$3:$J$194,A39)","v":2},{"$f":"COUNTIF(基本データ!$J$3:$J$225,A39)","v":2},{"$f":"COUNTIF(基本データ!$J$3:$J$275,A39)","v":2}]
["島根県",{"$f":"COUNTIF(基本データ!$J$3:$J$16,A40)","v":0},{"$f":"COUNTIF(基本データ!$J$3:$J$23,A40)","v":0},{"$f":"COUNTIF(基本データ!$J$3:$J$30,A40)","v":0},{"$f":"COUNTIF(基本データ!$J$3:$J$42,A40)","v":0},{"$f":"COUNTIF(基本データ!$J$3:$J$56,A40)","v":0},{"$f":"COUNTIF(基本データ!$J$3:$J$71,A40)","v":0},{"$f":"COUNTIF(基本データ!$J$3:$J$90,A40)","v":0},{"$f":"COUNTIF(基本データ!$J$3:$J$116,A40)","v":2},{"$f":"COUNTIF(基本データ!$J$3:$J$137,A40)","v":3},{"$f":"COUNTIF(基本データ!$J$3:$J$194,A40)","v":5},{"$f":"COUNTIF(基本データ!$J$3:$J$225,A40)","v":5},{"$f":"COUNTIF(基本データ!$J$3:$J$275,A40)","v":5}]
["岡山県",{"$f":"COUNTIF(基本データ!$J$3:$J$16,A41)","v":0},{"$f":"COUNTIF(基本データ!$J$3:$J$23,A41)","v":0},{"$f":"COUNTIF(基本データ!$J$3:$J$30,A41)","v":0},{"$f":"COUNTIF(基本データ!$J$3:$J$42,A41)","v":1},{"$f":"COUNTIF(基本データ!$J$3:$J$56,A41)","v":1},{"$f":"COUNTIF(基本データ!$J$3:$J$71,A41)","v":1},{"$f":"COUNTIF(基本データ!$J$3:$J$90,A41)","v":1},{"$f":"COUNTIF(基本データ!$J$3:$J$116,A41)","v":1},{"$f":"COUNTIF(基本データ!$J$3:$J$137,A41)","v":2},{"$f":"COUNTIF(基本データ!$J$3:$J$194,A41)","v":3},{"$f":"COUNTIF(基本データ!$J$3:$J$225,A41)","v":3},{"$f":"COUNTIF(基本データ!$J$3:$J$275,A41)","v":4}]
["広島県",{"$f":"COUNTIF(基本データ!$J$3:$J$16,A42)","v":0},{"$f":"COUNTIF(基本データ!$J$3:$J$23,A42)","v":0},{"$f":"COUNTIF(基本データ!$J$3:$J$30,A42)","v":0},{"$f":"COUNTIF(基本データ!$J$3:$J$42,A42)","v":0},{"$f":"COUNTIF(基本データ!$J$3:$J$56,A42)","v":0},{"$f":"COUNTIF(基本データ!$J$3:$J$71,A42)","v":0},{"$f":"COUNTIF(基本データ!$J$3:$J$90,A42)","v":0},{"$f":"COUNTIF(基本データ!$J$3:$J$116,A42)","v":1},{"$f":"COUNTIF(基本データ!$J$3:$J$137,A42)","v":1},{"$f":"COUNTIF(基本データ!$J$3:$J$194,A42)","v":1},{"$f":"COUNTIF(基本データ!$J$3:$J$225,A42)","v":3},{"$f":"COUNTIF(基本データ!$J$3:$J$275,A42)","v":4}]
["山口県",{"$f":"COUNTIF(基本データ!$J$3:$J$16,A43)","v":0},{"$f":"COUNTIF(基本データ!$J$3:$J$23,A43)","v":0},{"$f":"COUNTIF(基本データ!$J$3:$J$30,A43)","v":0},{"$f":"COUNTIF(基本データ!$J$3:$J$42,A43)","v":0},{"$f":"COUNTIF(基本データ!$J$3:$J$56,A43)","v":0},{"$f":"COUNTIF(基本データ!$J$3:$J$71,A43)","v":1},{"$f":"COUNTIF(基本データ!$J$3:$J$90,A43)","v":1},{"$f":"COUNTIF(基本データ!$J$3:$J$116,A43)","v":2},{"$f":"COUNTIF(基本データ!$J$3:$J$137,A43)","v":2},{"$f":"COUNTIF(基本データ!$J$3:$J$194,A43)","v":3},{"$f":"COUNTIF(基本データ!$J$3:$J$225,A43)","v":4},{"$f":"COUNTIF(基本データ!$J$3:$J$275,A43)","v":6}]
["徳島県",{"$f":"COUNTIF(基本データ!$J$3:$J$16,A44)","v":0},{"$f":"COUNTIF(基本データ!$J$3:$J$23,A44)","v":0},{"$f":"COUNTIF(基本データ!$J$3:$J$30,A44)","v":0},{"$f":"COUNTIF(基本データ!$J$3:$J$42,A44)","v":0},{"$f":"COUNTIF(基本データ!$J$3:$J$56,A44)","v":0},{"$f":"COUNTIF(基本データ!$J$3:$J$71,A44)","v":0},{"$f":"COUNTIF(基本データ!$J$3:$J$90,A44)","v":0},{"$f":"COUNTIF(基本データ!$J$3:$J$116,A44)","v":0},{"$f":"COUNTIF(基本データ!$J$3:$J$137,A44)","v":0},{"$f":"COUNTIF(基本データ!$J$3:$J$194,A44)","v":1},{"$f":"COUNTIF(基本データ!$J$3:$J$225,A44)","v":2},{"$f":"COUNTIF(基本データ!$J$3:$J$275,A44)","v":2}]
["香川県",{"$f":"COUNTIF(基本データ!$J$3:$J$16,A45)","v":0},{"$f":"COUNTIF(基本データ!$J$3:$J$23,A45)","v":0},{"$f":"COUNTIF(基本データ!$J$3:$J$30,A45)","v":0},{"$f":"COUNTIF(基本データ!$J$3:$J$42,A45)","v":1},{"$f":"COUNTIF(基本データ!$J$3:$J$56,A45)","v":1},{"$f":"COUNTIF(基本データ!$J$3:$J$71,A45)","v":2},{"$f":"COUNTIF(基本データ!$J$3:$J$90,A45)","v":2},{"$f":"COUNTIF(基本データ!$J$3:$J$116,A45)","v":2},{"$f":"COUNTIF(基本データ!$J$3:$J$137,A45)","v":2},{"$f":"COUNTIF(基本データ!$J$3:$J$194,A45)","v":3},{"$f":"COUNTIF(基本データ!$J$3:$J$225,A45)","v":3},{"$f":"COUNTIF(基本データ!$J$3:$J$275,A45)","v":3}]
["愛媛県",{"$f":"COUNTIF(基本データ!$J$3:$J$16,A46)","v":0},{"$f":"COUNTIF(基本データ!$J$3:$J$23,A46)","v":0},{"$f":"COUNTIF(基本データ!$J$3:$J$30,A46)","v":0},{"$f":"COUNTIF(基本データ!$J$3:$J$42,A46)","v":0},{"$f":"COUNTIF(基本データ!$J$3:$J$56,A46)","v":0},{"$f":"COUNTIF(基本データ!$J$3:$J$71,A46)","v":0},{"$f":"COUNTIF(基本データ!$J$3:$J$90,A46)","v":0},{"$f":"COUNTIF(基本データ!$J$3:$J$116,A46)","v":0},{"$f":"COUNTIF(基本データ!$J$3:$J$137,A46)","v":0},{"$f":"COUNTIF(基本データ!$J$3:$J$194,A46)","v":0},{"$f":"COUNTIF(基本データ!$J$3:$J$225,A46)","v":1},{"$f":"COUNTIF(基本データ!$J$3:$J$275,A46)","v":1}]
["高知県",{"$f":"COUNTIF(基本データ!$J$3:$J$16,A47)","v":0},{"$f":"COUNTIF(基本データ!$J$3:$J$23,A47)","v":0},{"$f":"COUNTIF(基本データ!$J$3:$J$30,A47)","v":1},{"$f":"COUNTIF(基本データ!$J$3:$J$42,A47)","v":1},{"$f":"COUNTIF(基本データ!$J$3:$J$56,A47)","v":1},{"$f":"COUNTIF(基本データ!$J$3:$J$71,A47)","v":1},{"$f":"COUNTIF(基本データ!$J$3:$J$90,A47)","v":1},{"$f":"COUNTIF(基本データ!$J$3:$J$116,A47)","v":1},{"$f":"COUNTIF(基本データ!$J$3:$J$137,A47)","v":1},{"$f":"COUNTIF(基本データ!$J$3:$J$194,A47)","v":2},{"$f":"COUNTIF(基本データ!$J$3:$J$225,A47)","v":2},{"$f":"COUNTIF(基本データ!$J$3:$J$275,A47)","v":2}]
["福岡県",{"$f":"COUNTIF(基本データ!$J$3:$J$16,A48)","v":0},{"$f":"COUNTIF(基本データ!$J$3:$J$23,A48)","v":0},{"$f":"COUNTIF(基本データ!$J$3:$J$30,A48)","v":0},{"$f":"COUNTIF(基本データ!$J$3:$J$42,A48)","v":0},{"$f":"COUNTIF(基本データ!$J$3:$J$56,A48)","v":2},{"$f":"COUNTIF(基本データ!$J$3:$J$71,A48)","v":3},{"$f":"COUNTIF(基本データ!$J$3:$J$90,A48)","v":4},{"$f":"COUNTIF(基本データ!$J$3:$J$116,A48)","v":4},{"$f":"COUNTIF(基本データ!$J$3:$J$137,A48)","v":4},{"$f":"COUNTIF(基本データ!$J$3:$J$194,A48)","v":7},{"$f":"COUNTIF(基本データ!$J$3:$J$225,A48)","v":9},{"$f":"COUNTIF(基本データ!$J$3:$J$275,A48)","v":15}]
["佐賀県",{"$f":"COUNTIF(基本データ!$J$3:$J$16,A49)","v":0},{"$f":"COUNTIF(基本データ!$J$3:$J$23,A49)","v":0},{"$f":"COUNTIF(基本データ!$J$3:$J$30,A49)","v":0},{"$f":"COUNTIF(基本データ!$J$3:$J$42,A49)","v":0},{"$f":"COUNTIF(基本データ!$J$3:$J$56,A49)","v":1},{"$f":"COUNTIF(基本データ!$J$3:$J$71,A49)","v":1},{"$f":"COUNTIF(基本データ!$J$3:$J$90,A49)","v":2},{"$f":"COUNTIF(基本データ!$J$3:$J$116,A49)","v":3},{"$f":"COUNTIF(基本データ!$J$3:$J$137,A49)","v":3},{"$f":"COUNTIF(基本データ!$J$3:$J$194,A49)","v":3},{"$f":"COUNTIF(基本データ!$J$3:$J$225,A49)","v":4},{"$f":"COUNTIF(基本データ!$J$3:$J$275,A49)","v":6}]
["長崎県",{"$f":"COUNTIF(基本データ!$J$3:$J$16,A50)","v":0},{"$f":"COUNTIF(基本データ!$J$3:$J$23,A50)","v":0},{"$f":"COUNTIF(基本データ!$J$3:$J$30,A50)","v":0},{"$f":"COUNTIF(基本データ!$J$3:$J$42,A50)","v":0},{"$f":"COUNTIF(基本データ!$J$3:$J$56,A50)","v":0},{"$f":"COUNTIF(基本データ!$J$3:$J$71,A50)","v":0},{"$f":"COUNTIF(基本データ!$J$3:$J$90,A50)","v":0},{"$f":"COUNTIF(基本データ!$J$3:$J$116,A50)","v":0},{"$f":"COUNTIF(基本データ!$J$3:$J$137,A50)","v":0},{"$f":"COUNTIF(基本データ!$J$3:$J$194,A50)","v":2},{"$f":"COUNTIF(基本データ!$J$3:$J$225,A50)","v":2},{"$f":"COUNTIF(基本データ!$J$3:$J$275,A50)","v":2}]
["熊本県",{"$f":"COUNTIF(基本データ!$J$3:$J$16,A51)","v":0},{"$f":"COUNTIF(基本データ!$J$3:$J$23,A51)","v":0},{"$f":"COUNTIF(基本データ!$J$3:$J$30,A51)","v":0},{"$f":"COUNTIF(基本データ!$J$3:$J$42,A51)","v":0},{"$f":"COUNTIF(基本データ!$J$3:$J$56,A51)","v":0},{"$f":"COUNTIF(基本データ!$J$3:$J$71,A51)","v":0},{"$f":"COUNTIF(基本データ!$J$3:$J$90,A51)","v":0},{"$f":"COUNTIF(基本データ!$J$3:$J$116,A51)","v":1},{"$f":"COUNTIF(基本データ!$J$3:$J$137,A51)","v":1},{"$f":"COUNTIF(基本データ!$J$3:$J$194,A51)","v":4},{"$f":"COUNTIF(基本データ!$J$3:$J$225,A51)","v":4},{"$f":"COUNTIF(基本データ!$J$3:$J$275,A51)","v":5}]
["大分県",{"$f":"COUNTIF(基本データ!$J$3:$J$16,A52)","v":1},{"$f":"COUNTIF(基本データ!$J$3:$J$23,A52)","v":1},{"$f":"COUNTIF(基本データ!$J$3:$J$30,A52)","v":1},{"$f":"COUNTIF(基本データ!$J$3:$J$42,A52)","v":1},{"$f":"COUNTIF(基本データ!$J$3:$J$56,A52)","v":1},{"$f":"COUNTIF(基本データ!$J$3:$J$71,A52)","v":1},{"$f":"COUNTIF(基本データ!$J$3:$J$90,A52)","v":2},{"$f":"COUNTIF(基本データ!$J$3:$J$116,A52)","v":2},{"$f":"COUNTIF(基本データ!$J$3:$J$137,A52)","v":2},{"$f":"COUNTIF(基本データ!$J$3:$J$194,A52)","v":2},{"$f":"COUNTIF(基本データ!$J$3:$J$225,A52)","v":4},{"$f":"COUNTIF(基本データ!$J$3:$J$275,A52)","v":4}]
["宮崎県",{"$f":"COUNTIF(基本データ!$J$3:$J$16,A53)","v":0},{"$f":"COUNTIF(基本データ!$J$3:$J$23,A53)","v":0},{"$f":"COUNTIF(基本データ!$J$3:$J$30,A53)","v":0},{"$f":"COUNTIF(基本データ!$J$3:$J$42,A53)","v":0},{"$f":"COUNTIF(基本データ!$J$3:$J$56,A53)","v":0},{"$f":"COUNTIF(基本データ!$J$3:$J$71,A53)","v":0},{"$f":"COUNTIF(基本データ!$J$3:$J$90,A53)","v":0},{"$f":"COUNTIF(基本データ!$J$3:$J$116,A53)","v":0},{"$f":"COUNTIF(基本データ!$J$3:$J$137,A53)","v":0},{"$f":"COUNTIF(基本データ!$J$3:$J$194,A53)","v":0},{"$f":"COUNTIF(基本データ!$J$3:$J$225,A53)","v":0},{"$f":"COUNTIF(基本データ!$J$3:$J$275,A53)","v":0}]
["鹿児島県",{"$f":"COUNTIF(基本データ!$J$3:$J$16,A54)","v":0},{"$f":"COUNTIF(基本データ!$J$3:$J$23,A54)","v":0},{"$f":"COUNTIF(基本データ!$J$3:$J$30,A54)","v":1},{"$f":"COUNTIF(基本データ!$J$3:$J$42,A54)","v":1},{"$f":"COUNTIF(基本データ!$J$3:$J$56,A54)","v":1},{"$f":"COUNTIF(基本データ!$J$3:$J$71,A54)","v":1},{"$f":"COUNTIF(基本データ!$J$3:$J$90,A54)","v":1},{"$f":"COUNTIF(基本データ!$J$3:$J$116,A54)","v":2},{"$f":"COUNTIF(基本データ!$J$3:$J$137,A54)","v":2},{"$f":"COUNTIF(基本データ!$J$3:$J$194,A54)","v":2},{"$f":"COUNTIF(基本データ!$J$3:$J$225,A54)","v":2},{"$f":"COUNTIF(基本データ!$J$3:$J$275,A54)","v":4}]
["沖縄県",{"$f":"COUNTIF(基本データ!$J$3:$J$16,A55)","v":0},{"$f":"COUNTIF(基本データ!$J$3:$J$23,A55)","v":0},{"$f":"COUNTIF(基本データ!$J$3:$J$30,A55)","v":0},{"$f":"COUNTIF(基本データ!$J$3:$J$42,A55)","v":0},{"$f":"COUNTIF(基本データ!$J$3:$J$56,A55)","v":0},{"$f":"COUNTIF(基本データ!$J$3:$J$71,A55)","v":2},{"$f":"COUNTIF(基本データ!$J$3:$J$90,A55)","v":3},{"$f":"COUNTIF(基本データ!$J$3:$J$116,A55)","v":3},{"$f":"COUNTIF(基本データ!$J$3:$J$137,A55)","v":3},{"$f":"COUNTIF(基本データ!$J$3:$J$194,A55)","v":3},{"$f":"COUNTIF(基本データ!$J$3:$J$225,A55)","v":4},{"$f":"COUNTIF(基本データ!$J$3:$J$275,A55)","v":6}]
["合計",{"$f":"SUM(B9:B55)","v":14},20,26,38,51,66,85,111,132,189,220,270,0]
[]
["北海道",{"$f":"B9","v":1},{"$f":"C9","v":1},1,1,2,4,5,6,6,10,10,{"$f":"M9","v":13}]
["東北",{"$f":"SUM(B10:B15)","v":1},{"$f":"SUM(C10:C15)","v":3},3,5,5,6,7,9,9,13,{"$f":"SUM(L10:L15)","v":16},{"$f":"SUM(M10:M15)","v":18}]
["関東信越",{"$f":"SUM(B16:B23)+SUM(B27:B28)","v":7},{"$f":"SUM(C16:C23)+SUM(C27:C28)","v":9},11,14,20,24,26,31,41,58,63,78]
["東海北陸",{"$f":"SUM(B24:B25)+SUM(B29:B32)","v":2},{"$f":"SUM(C24:C25)+SUM(C29:C32)","v":2},3,4,7,7,16,23,28,36,43,47]
["近畿",{"$f":"B26+SUM(B33:B38)","v":2},{"$f":"C26+SUM(C33:C38)","v":4},5,9,9,11,13,16,20,29,34,43]
["中国四国",{"$f":"SUM(B39:B47)","v":0},{"$f":"SUM(C39:C47)","v":0},1,3,3,6,6,11,13,20,25,29]
["九州",{"$f":"SUM(B48:B55)","v":1},{"$f":"SUM(C48:C55)","v":1},2,2,5,8,12,15,15,23,29,42]

{"sheet":"受講料","index":8,"n_rows":65,"n_cols":5,"rows_kept":65,"cut":false,"hidden":true,"merged":[]}
[null,"H29年8月現在の指定研修期間の受講料（2018年1月23日看護課調査HPまたは指定申請書より）"]
[]
[null,"大学院以外の指定研修期間","属性","受講料Min","受講料Max"]
[null,"学校法人岩手医科大学岩手医科大学附属病院高度看護研修センター","大学病院",77.3,80]
[null,"学校法人自治医科大学","大学",41.9,102.3]
[null,"医療法人社団愛友会上尾中央総合病院","病院",16,39]
[null,"一般社団法人日本慢性期医療協会","本部",57,81]
[null,"公益社団法人地域医療振興協会JADECOM-NDC研修センター","本部",150]
[null,"公益社団法人日本看護協会","協会",42.8,58.1]
[null,"医療法人社団洛和会洛和会音羽病院","病院",51.8,80.650000000000006]
[null,"公立大学法人奈良県立医科大学","大学",65,75]
[null,"公益財団法人星総合病院","病院",50]
[null,"学校法人埼玉医科大学埼玉医科大学総合医療センター","大学病院","無料"]
[null,"社会医療法人社団さつき会袖ヶ浦さつき台病院","病院",72.2,75]
[null,"独立行政法人地域医療機能推進機構東京メディカルセンター","病院","不明"]
[null,"国立大学法人滋賀医科大学","大学",60.4,92.9]
[null,"社会医療法人愛仁会","病院",35,80]
[null,"医療法人平心会　須賀川病院","病院",30,80]
[null,"国立大学法人筑波大学　筑波大学付属病院","大学病院"]
[null,"公益財団法人　脳血管研究所　美原記念病院","病院","不明"]
[null,"社会医療法人財団董仙会　恵寿総合病院","病院",44.25,56.75]
[null,"学校法人　新田塚学園　福井医療大学","短期大学","不明"]
[null,"社会医療法人近森会　近森病院","病院",40,47.2]
[null,"国立大学法人鹿児島大学　鹿児島大学病院","大学病院",33.799999999999997,98.7]
[null,"国立大学法人山形大学　山形大学大学院医学系研究科看護学専攻","大学院","不明"]
[null,"公立大学法人福島県立医科大学","大学",43.5,89.6]
[null,"医療法人社団　明芳会","病院","不明",47]
[null,"社会医療法人河北医療財団　河北総合病院","病院","不明"]
[null,"公立能登総合病院","病院",40]
[null,"公立大学法人大阪市立大学","大学","不明"]
[null,"社会医療法人きつこう会　多根総合病院","病院",54]
[null,"学校法人兵庫医科大学　医療人育成センター","大学","不明"]
[null,"公立大学法人和歌山県立医科大学","大学",22.9,32.35]
[null,"学校法人　川崎学園","大学",56,59]
[null,"独立行政法人国立病院機構　四国こどもとおとなの医療センター","病院",45]
[null,"独立行政法人地域医療機能推進機構","本部"]
[null,"社会医療法人恵和会　西岡病院","病院","不明"]
[null,"医療法人社団永生会　","病院","不明"]
[null,"社会福祉法人恩賜財団済生会支部東京都済生会　東京都済生会中央病院　","病院","不明"]
[null,"セコム医療システム株式会社","本部","病院負担"]
[null,"医療法人五星会　菊名記念病院","病院",24]
[null,"医療法人横浜柏堤会 戸塚共立第1病院　","病院","不明"]
[null,"社会福祉法人恩賜財団済生会支部神奈川県済生会　横浜市東部病院","病院",36,46]
[null,"医療法人社団藤聖会　八尾総合病院","病院",40]
[null,"医療法人社団和楽仁　芳珠記念病院","病院",40]
[null,"公立松任石川中央病院","病院",39.5,53.5]
[null,"国民健康保険小松市民病院","病院","不明"]
[null,"医療法人　弘恵会　ヨコクラ病院","病院",40]
[null,"社会医療法人雪の聖母会　聖マリア病院","病院",40]
[null,"社会医療法人祐愛会　織田病院","病院","不明"]
[null,null,null,"Min",{"$f":"MIN(D4:E50)","v":16}]
[null,null,null,"Max",{"$f":"MAX(D4:E50)","v":150}]
[null,null,null,"Ave",{"$f":"AVERAGE(D4:E50)","v":56.375510204081635}]
[]
[null,"大学院",null,"受講料"]
[null,"学校法人東日本学園北海道医療大学大学院看護福祉学研究科看護学専攻","大学院",328.6]
[null,"学校法人青葉学園東京医療保健大学大学院看護学研究科","大学院","不明"]
[null,"学校法人国際医療福祉大学国際医療福祉大学大学院医療福祉学研究科保健医療学専攻","大学院",250]
[null,"学校法人愛知医科大学大学院看護学研究科看護学専攻","大学院",185]
[null,"学校法人藤田学園藤田保健衛生大学大学院保健学研究科保健学専攻","大学院",165]
[null,"公立大学法人大分県立看護科学大学大学院看護学研究科看護学専攻","大学院",140.36000000000001]
[null,"学校法人東北文化学園大学東北文化学園大学大学院健康社会システム研究科健康福祉専攻","大学院",280]
[null,null,"Min",{"$f":"MIN(D56:D62)","v":140.36000000000001}]
[null,null,"Max",{"$f":"MAX(D56:D62)","v":328.6}]
[null,null,"Ave",{"$f":"AVERAGE(D56:D62)","v":224.82666666666668}]

{"sheet":"都道府県番号","index":9,"n_rows":48,"n_cols":2,"rows_kept":48,"cut":false,"hidden":true,"merged":[]}
["都道府県番号"]
["北海道","01"]
["青森県","02"]
["岩手県","03"]
["宮城県","04"]
["秋田県","05"]
["山形県","06"]
["福島県","07"]
["茨城県","08"]
["栃木県","09"]
["群馬県",10]
["埼玉県",11]
["千葉県",12]
["東京都",13]
["神奈川県",14]
["新潟県",15]
["富山県",16]
["石川県",17]
["福井県",18]
["山梨県",19]
["長野県",20]
["岐阜県",21]
["静岡県",22]
["愛知県",23]
["三重県",24]
["滋賀県",25]
["京都府",26]
["大阪府",27]
["兵庫県",28]
["奈良県",29]
["和歌山県",30]
["鳥取県",31]
["島根県",32]
["岡山県",33]
["広島県",34]
["山口県",35]
["徳島県",36]
["香川県",37]
["愛媛県",38]
["高知県",39]
["福岡県",40]
["佐賀県",41]
["長崎県",42]
["熊本県",43]
["大分県",44]
["宮崎県",45]
["鹿児島県",46]
["沖縄県",47]

{"sheet":"ホームページ用","index":10,"n_rows":613,"n_cols":33,"rows_kept":613,"cut":false,"hidden":false,"merged":[[2,5,2,25],[2,26,3,26],[2,27,2,32],[1,0,1,3],[2,0,3,0],[2,1,3,1],[2,2,3,2],[2,3,3,3],[2,4,3,4]]}
[null,null,null,"八尾総合病院","AK"]
["特定行為に係る看護師の研修制度　指定研修機関一覧\n（令和8年3月現在、指定年順）",null,null,null,"※休止中の区分・領域別パッケージ研修も○となっています。"]
["No","都道府県","指定年","指定研修機関名","区分数","区分別研修",null,null,null,null,null,null,null,null,null,null,null,null,null,null,null,null,null,null,null,null,"領域別パッケージ研修数","領域別パッケージ研修"]
[null,null,null,null,null,"呼吸器（気道確保に係るもの）","呼吸器（人工呼吸療法に係るもの）","呼吸器（長期呼吸療法に係るもの）","循環器","心嚢ドレーン管理","胸腔ドレーン管理","腹腔ドレーン管理","ろう孔管理","栄養に係るカテーテル管理（中心静脈カテーテル管理）","栄養に係るカテーテル管理（末梢留置型中心静脈注射用カテーテル管理）","創傷管理","創部ドレーン管理","動脈血液ガス\n分析","透析管理","栄養及び水分管理に係る薬剤投与","感染に係る薬剤投与","血糖コントロールに係る薬剤投与","術後疼痛管理","循環動態に係る薬剤投与","精神及び神経症状に係る薬剤投与","皮膚損傷に係る薬剤投与",null,"在宅","外科術後","麻酔","救急","外科基本","集中治療領域"]
[1,{"$f":"基本データ!J3","v":"北海道"},{"$f":"基本データ!B3","v":2015},{"$f":"基本データ!I3","v":"学校法人東日本学園北海道医療大学大学院看護福祉学研究科看護学専攻"},{"$f":"基本データ!AL3","v":13},{"$f":"IF(基本データ!AM3<>\"\",\"○\",\"\")","v":"○"},{"$f":"IF(基本データ!AN3<>\"\",\"○\",\"\")","v":""},{"$f":"IF(基本データ!AO3<>\"\",\"○\",\"\")","v":"○"},{"$f":"IF(基本データ!AP3<>\"\",\"○\",\"\")","v":""},{"$f":"IF(基本データ!AQ3<>\"\",\"○\",\"\")","v":""},{"$f":"IF(基本データ!AR3<>\"\",\"○\",\"\")","v":""},{"$f":"IF(基本データ!AS3<>\"\",\"○\",\"\")","v":""},{"$f":"IF(基本データ!AT3<>\"\",\"○\",\"\")","v":"○"},{"$f":"IF(基本データ!AU3<>\"\",\"○\",\"\")","v":"○"},{"$f":"IF(基本データ!AV3<>\"\",\"○\",\"\")","v":"○"},{"$f":"IF(基本データ!AW3<>\"\",\"○\",\"\")","v":"○"},{"$f":"IF(基本データ!AX3<>\"\",\"○\",\"\")","v":""},{"$f":"IF(基本データ!AY3<>\"\",\"○\",\"\")","v":"○"},{"$f":"IF(基本データ!AZ3<>\"\",\"○\",\"\")","v":""},{"$f":"IF(基本データ!BA3<>\"\",\"○\",\"\")","v":"○"},{"$f":"IF(基本データ!BB3<>\"\",\"○\",\"\")","v":"○"},{"$f":"IF(基本データ!BC3<>\"\",\"○\",\"\")","v":"○"},{"$f":"IF(基本データ!BD3<>\"\",\"○\",\"\")","v":""},{"$f":"IF(基本データ!BE3<>\"\",\"○\",\"\")","v":"○"},{"$f":"IF(基本データ!BF3<>\"\",\"○\",\"\")","v":"○"},{"$f":"IF(基本データ!BG3<>\"\",\"○\",\"\")","v":"○"},{"$f":"基本データ!BN3","v":0},{"$f":"IF(基本データ!BH3<>\"\",\"○\",\"\")","v":""},{"$f":"IF(基本データ!BI3<>\"\",\"○\",\"\")","v":""},{"$f":"IF(基本データ!BJ3<>\"\",\"○\",\"\")","v":""},{"$f":"IF(基本データ!BK3<>\"\",\"○\",\"\")","v":""},{"$f":"IF(基本データ!BL3<>\"\",\"○\",\"\")","v":""},{"$f":"IF(基本データ!BM3<>\"\",\"○\",\"\")","v":""}]
[2,{"$f":"基本データ!J4","v":"岩手県"},{"$f":"基本データ!B4","v":2015},{"$f":"基本データ!I4","v":"学校法人岩手医科大学　岩手医科大学附属病院高度看護研修センター"},{"$f":"基本データ!AL4","v":14},{"$f":"IF(基本データ!AM4<>\"\",\"○\",\"\")","v":"○"},{"$f":"IF(基本データ!AN4<>\"\",\"○\",\"\")","v":"○"},{"$f":"IF(基本データ!AO4<>\"\",\"○\",\"\")","v":"○"},{"$f":"IF(基本データ!AP4<>\"\",\"○\",\"\")","v":""},{"$f":"IF(基本データ!AQ4<>\"\",\"○\",\"\")","v":""},{"$f":"IF(基本データ!AR4<>\"\",\"○\",\"\")","v":"○"},{"$f":"IF(基本データ!AS4<>\"\",\"○\",\"\")","v":"○"},{"$f":"IF(基本データ!AT4<>\"\",\"○\",\"\")","v":"○"},{"$f":"IF(基本データ!AU4<>\"\",\"○\",\"\")","v":"○"},{"$f":"IF(基本データ!AV4<>\"\",\"○\",\"\")","v":"○"},{"$f":"IF(基本データ!AW4<>\"\",\"○\",\"\")","v":"○"},{"$f":"IF(基本データ!AX4<>\"\",\"○\",\"\")","v":"○"},{"$f":"IF(基本データ!AY4<>\"\",\"○\",\"\")","v":"○"},{"$f":"IF(基本データ!AZ4<>\"\",\"○\",\"\")","v":""},{"$f":"IF(基本データ!BA4<>\"\",\"○\",\"\")","v":"○"},{"$f":"IF(基本データ!BB4<>\"\",\"○\",\"\")","v":""},{"$f":"IF(基本データ!BC4<>\"\",\"○\",\"\")","v":""},{"$f":"IF(基本データ!BD4<>\"\",\"○\",\"\")","v":"○"},{"$f":"IF(基本データ!BE4<>\"\",\"○\",\"\")","v":"○"},{"$f":"IF(基本データ!BF4<>\"\",\"○\",\"\")","v":""},{"$f":"IF(基本データ!BG4<>\"\",\"○\",\"\")","v":""},{"$f":"基本データ!BN4","v":2},{"$f":"IF(基本データ!BH4<>\"\",\"○\",\"\")","v":"○"},{"$f":"IF(基本データ!BI4<>\"\",\"○\",\"\")","v":"○"},{"$f":"IF(基本データ!BJ4<>\"\",\"○\",\"\")","v":""},{"$f":"IF(基本データ!BK4<>\"\",\"○\",\"\")","v":""},{"$f":"IF(基本データ!BL4<>\"\",\"○\",\"\")","v":""},{"$f":"IF(基本データ!BM4<>\"\",\"○\",\"\")","v":""}]
[3,{"$f":"基本データ!J5","v":"栃木県"},{"$f":"基本データ!B5","v":2015},{"$f":"基本データ!I5","v":"学校法人自治医科大学　自治医科大学"},{"$f":"基本データ!AL5","v":20},{"$f":"IF(基本データ!AM5<>\"\",\"○\",\"\")","v":"○"},{"$f":"IF(基本データ!AN5<>\"\",\"○\",\"\")","v":"○"},{"$f":"IF(基本データ!AO5<>\"\",\"○\",\"\")","v":"○"},{"$f":"IF(基本データ!AP5<>\"\",\"○\",\"\")","v":"○"},{"$f":"IF(基本データ!AQ5<>\"\",\"○\",\"\")","v":""},{"$f":"IF(基本データ!AR5<>\"\",\"○\",\"\")","v":"○"},{"$f":"IF(基本データ!AS5<>\"\",\"○\",\"\")","v":"○"},{"$f":"IF(基本データ!AT5<>\"\",\"○\",\"\")","v":"○"},{"$f":"IF(基本データ!AU5<>\"\",\"○\",\"\")","v":"○"},{"$f":"IF(基本データ!AV5<>\"\",\"○\",\"\")","v":"○"},{"$f":"IF(基本データ!AW5<>\"\",\"○\",\"\")","v":"○"},{"$f":"IF(基本データ!AX5<>\"\",\"○\",\"\")","v":"○"},{"$f":"IF(基本データ!AY5<>\"\",\"○\",\"\")","v":"○"},{"$f":"IF(基本データ!AZ5<>\"\",\"○\",\"\")","v":"○"},{"$f":"IF(基本データ!BA5<>\"\",\"○\",\"\")","v":"○"},{"$f":"IF(基本データ!BB5<>\"\",\"○\",\"\")","v":"○"},{"$f":"IF(基本データ!BC5<>\"\",\"○\",\"\")","v":"○"},{"$f":"IF(基本データ!BD5<>\"\",\"○\",\"\")","v":"○"},{"$f":"IF(基本データ!BE5<>\"\",\"○\",\"\")","v":"○"},{"$f":"IF(基本データ!BF5<>\"\",\"○\",\"\")","v":"○"},{"$f":"IF(基本データ!BG5<>\"\",\"○\",\"\")","v":"○"},{"$f":"基本データ!BN5","v":5},{"$f":"IF(基本データ!BH5<>\"\",\"○\",\"\")","v":"○"},{"$f":"IF(基本データ!BI5<>\"\",\"○\",\"\")","v":"○"},{"$f":"IF(基本データ!BJ5<>\"\",\"○\",\"\")","v":"○"},{"$f":"IF(基本データ!BK5<>\"\",\"○\",\"\")","v":""},{"$f":"IF(基本データ!BL5<>\"\",\"○\",\"\")","v":"○"},{"$f":"IF(基本データ!BM5<>\"\",\"○\",\"\")","v":"○"}]
[4,{"$f":"基本データ!J6","v":"埼玉県"},{"$f":"基本データ!B6","v":2015},{"$f":"基本データ!I6","v":"医療法人社団愛友会上尾中央総合病院"},{"$f":"基本データ!AL6","v":14},{"$f":"IF(基本データ!AM6<>\"\",\"○\",\"\")","v":"○"},{"$f":"IF(基本データ!AN6<>\"\",\"○\",\"\")","v":"○"},{"$f":"IF(基本データ!AO6<>\"\",\"○\",\"\")","v":"○"},{"$f":"IF(基本データ!AP6<>\"\",\"○\",\"\")","v":"○"},{"$f":"IF(基本データ!AQ6<>\"\",\"○\",\"\")","v":"○"},{"$f":"IF(基本データ!AR6<>\"\",\"○\",\"\")","v":""},{"$f":"IF(基本データ!AS6<>\"\",\"○\",\"\")","v":""},{"$f":"IF(基本データ!AT6<>\"\",\"○\",\"\")","v":"○"},{"$f":"IF(基本データ!AU6<>\"\",\"○\",\"\")","v":"○"},{"$f":"IF(基本データ!AV6<>\"\",\"○\",\"\")","v":"○"},{"$f":"IF(基本データ!AW6<>\"\",\"○\",\"\")","v":"○"},{"$f":"IF(基本データ!AX6<>\"\",\"○\",\"\")","v":"○"},{"$f":"IF(基本データ!AY6<>\"\",\"○\",\"\")","v":"○"},{"$f":"IF(基本データ!AZ6<>\"\",\"○\",\"\")","v":""},{"$f":"IF(基本データ!BA6<>\"\",\"○\",\"\")","v":"○"},{"$f":"IF(基本データ!BB6<>\"\",\"○\",\"\")","v":"○"},{"$f":"IF(基本データ!BC6<>\"\",\"○\",\"\")","v":""},{"$f":"IF(基本データ!BD6<>\"\",\"○\",\"\")","v":"○"},{"$f":"IF(基本データ!BE6<>\"\",\"○\",\"\")","v":"○"},{"$f":"IF(基本データ!BF6<>\"\",\"○\",\"\")","v":"○"},{"$f":"IF(基本データ!BG6<>\"\",\"○\",\"\")","v":""},{"$f":"基本データ!BN6","v":0},{"$f":"IF(基本データ!BH6<>\"\",\"○\",\"\")","v":""},{"$f":"IF(基本データ!BI6<>\"\",\"○\",\"\")","v":""},{"$f":"IF(基本データ!BJ6<>\"\",\"○\",\"\")","v":""},{"$f":"IF(基本データ!BK6<>\"\",\"○\",\"\")","v":""},{"$f":"IF(基本データ!BL6<>\"\",\"○\",\"\")","v":""},{"$f":"IF(基本データ!BM6<>\"\",\"○\",\"\")","v":""}]
[5,{"$f":"基本データ!J7","v":"東京都"},{"$f":"基本データ!B7","v":2015},{"$f":"基本データ!I7","v":"一般社団法人日本慢性期医療協会"},{"$f":"基本データ!AL7","v":9},{"$f":"IF(基本データ!AM7<>\"\",\"○\",\"\")","v":""},{"$f":"IF(基本データ!AN7<>\"\",\"○\",\"\")","v":"○"},{"$f":"IF(基本データ!AO7<>\"\",\"○\",\"\")","v":"○"},{"$f":"IF(基本データ!AP7<>\"\",\"○\",\"\")","v":""},{"$f":"IF(基本データ!AQ7<>\"\",\"○\",\"\")","v":""},{"$f":"IF(基本データ!AR7<>\"\",\"○\",\"\")","v":""},{"$f":"IF(基本データ!AS7<>\"\",\"○\",\"\")","v":""},{"$f":"IF(基本データ!AT7<>\"\",\"○\",\"\")","v":""},{"$f":"IF(基本データ!AU7<>\"\",\"○\",\"\")","v":"○"},{"$f":"IF(基本データ!AV7<>\"\",\"○\",\"\")","v":"○"},{"$f":"IF(基本データ!AW7<>\"\",\"○\",\"\")","v":"○"},{"$f":"IF(基本データ!AX7<>\"\",\"○\",\"\")","v":""},{"$f":"IF(基本データ!AY7<>\"\",\"○\",\"\")","v":""},{"$f":"IF(基本データ!AZ7<>\"\",\"○\",\"\")","v":""},{"$f":"IF(基本データ!BA7<>\"\",\"○\",\"\")","v":"○"},{"$f":"IF(基本データ!BB7<>\"\",\"○\",\"\")","v":"○"},{"$f":"IF(基本データ!BC7<>\"\",\"○\",\"\")","v":"○"},{"$f":"IF(基本データ!BD7<>\"\",\"○\",\"\")","v":""},{"$f":"IF(基本データ!BE7<>\"\",\"○\",\"\")","v":""},{"$f":"IF(基本データ!BF7<>\"\",\"○\",\"\")","v":"○"},{"$f":"IF(基本データ!BG7<>\"\",\"○\",\"\")","v":""},{"$f":"基本データ!BN7","v":0},{"$f":"IF(基本データ!BH7<>\"\",\"○\",\"\")","v":""},{"$f":"IF(基本データ!BI7<>\"\",\"○\",\"\")","v":""},{"$f":"IF(基本データ!BJ7<>\"\",\"○\",\"\")","v":""},{"$f":"IF(基本データ!BK7<>\"\",\"○\",\"\")","v":""},{"$f":"IF(基本データ!BL7<>\"\",\"○\",\"\")","v":""},{"$f":"IF(基本データ!BM7<>\"\",\"○\",\"\")","v":""}]
[6,{"$f":"基本データ!J8","v":"東京都"},{"$f":"基本データ!B8","v":2015},{"$f":"基本データ!I8","v":"学校法人青葉学園東京医療保健大学大学院看護学研究科看護学専攻"},{"$f":"基本データ!AL8","v":21},{"$f":"IF(基本データ!AM8<>\"\",\"○\",\"\")","v":"○"},{"$f":"IF(基本データ!AN8<>\"\",\"○\",\"\")","v":"○"},{"$f":"IF(基本データ!AO8<>\"\",\"○\",\"\")","v":"○"},{"$f":"IF(基本データ!AP8<>\"\",\"○\",\"\")","v":"○"},{"$f":"IF(基本データ!AQ8<>\"\",\"○\",\"\")","v":"○"},{"$f":"IF(基本データ!AR8<>\"\",\"○\",\"\")","v":"○"},{"$f":"IF(基本データ!AS8<>\"\",\"○\",\"\")","v":"○"},{"$f":"IF(基本データ!AT8<>\"\",\"○\",\"\")","v":"○"},{"$f":"IF(基本データ!AU8<>\"\",\"○\",\"\")","v":"○"},{"$f":"IF(基本データ!AV8<>\"\",\"○\",\"\")","v":"○"},{"$f":"IF(基本データ!AW8<>\"\",\"○\",\"\")","v":"○"},{"$f":"IF(基本データ!AX8<>\"\",\"○\",\"\")","v":"○"},{"$f":"IF(基本データ!AY8<>\"\",\"○\",\"\")","v":"○"},{"$f":"IF(基本データ!AZ8<>\"\",\"○\",\"\")","v":"○"},{"$f":"IF(基本データ!BA8<>\"\",\"○\",\"\")","v":"○"},{"$f":"IF(基本データ!BB8<>\"\",\"○\",\"\")","v":"○"},{"$f":"IF(基本データ!BC8<>\"\",\"○\",\"\")","v":"○"},{"$f":"IF(基本データ!BD8<>\"\",\"○\",\"\")","v":"○"},{"$f":"IF(基本データ!BE8<>\"\",\"○\",\"\")","v":"○"},{"$f":"IF(基本データ!BF8<>\"\",\"○\",\"\")","v":"○"},{"$f":"IF(基本データ!BG8<>\"\",\"○\",\"\")","v":"○"},{"$f":"基本データ!BN8","v":0},{"$f":"IF(基本データ!BH8<>\"\",\"○\",\"\")","v":""},{"$f":"IF(基本データ!BI8<>\"\",\"○\",\"\")","v":""},{"$f":"IF(基本データ!BJ8<>\"\",\"○\",\"\")","v":""},{"$f":"IF(基本データ!BK8<>\"\",\"○\",\"\")","v":""},{"$f":"IF(基本データ!BL8<>\"\",\"○\",\"\")","v":""},{"$f":"IF(基本データ!BM8<>\"\",\"○\",\"\")","v":""}]
[7,{"$f":"基本データ!J9","v":"東京都"},{"$f":"基本データ!B9","v":2015},{"$f":"基本データ!I9","v":"学校法人国際医療福祉大学国際医療福祉大学大学院医療福祉学研究科保健医療学専攻"},{"$f":"基本データ!AL9","v":21},{"$f":"IF(基本データ!AM9<>\"\",\"○\",\"\")","v":"○"},{"$f":"IF(基本データ!AN9<>\"\",\"○\",\"\")","v":"○"},{"$f":"IF(基本データ!AO9<>\"\",\"○\",\"\")","v":"○"},{"$f":"IF(基本データ!AP9<>\"\",\"○\",\"\")","v":"○"},{"$f":"IF(基本データ!AQ9<>\"\",\"○\",\"\")","v":"○"},{"$f":"IF(基本データ!AR9<>\"\",\"○\",\"\")","v":"○"},{"$f":"IF(基本データ!AS9<>\"\",\"○\",\"\")","v":"○"},{"$f":"IF(基本データ!AT9<>\"\",\"○\",\"\")","v":"○"},{"$f":"IF(基本データ!AU9<>\"\",\"○\",\"\")","v":"○"},{"$f":"IF(基本データ!AV9<>\"\",\"○\",\"\")","v":"○"},{"$f":"IF(基本データ!AW9<>\"\",\"○\",\"\")","v":"○"},{"$f":"IF(基本データ!AX9<>\"\",\"○\",\"\")","v":"○"},{"$f":"IF(基本データ!AY9<>\"\",\"○\",\"\")","v":"○"},{"$f":"IF(基本データ!AZ9<>\"\",\"○\",\"\")","v":"○"},{"$f":"IF(基本データ!BA9<>\"\",\"○\",\"\")","v":"○"},{"$f":"IF(基本データ!BB9<>\"\",\"○\",\"\")","v":"○"},{"$f":"IF(基本データ!BC9<>\"\",\"○\",\"\")","v":"○"},{"$f":"IF(基本データ!BD9<>\"\",\"○\",\"\")","v":"○"},{"$f":"IF(基本データ!BE9<>\"\",\"○\",\"\")","v":"○"},{"$f":"IF(基本データ!BF9<>\"\",\"○\",\"\")","v":"○"},{"$f":"IF(基本データ!BG9<>\"\",\"○\",\"\")","v":"○"},{"$f":"基本データ!BN9","v":0},{"$f":"IF(基本データ!BH9<>\"\",\"○\",\"\")","v":""},{"$f":"IF(基本データ!BI9<>\"\",\"○\",\"\")","v":""},{"$f":"IF(基本データ!BJ9<>\"\",\"○\",\"\")","v":""},{"$f":"IF(基本データ!BK9<>\"\",\"○\",\"\")","v":""},{"$f":"IF(基本データ!BL9<>\"\",\"○\",\"\")","v":""},{"$f":"IF(基本データ!BM9<>\"\",\"○\",\"\")","v":""}]
[8,{"$f":"基本データ!J10","v":"東京都"},{"$f":"基本データ!B10","v":2015},{"$f":"基本データ!I10","v":"公益社団法人地域医療振興協会　NP・NDC研修センター"},{"$f":"基本データ!AL10","v":21},{"$f":"IF(基本データ!AM10<>\"\",\"○\",\"\")","v":"○"},{"$f":"IF(基本データ!AN10<>\"\",\"○\",\"\")","v":"○"},{"$f":"IF(基本データ!AO10<>\"\",\"○\",\"\")","v":"○"},{"$f":"IF(基本データ!AP10<>\"\",\"○\",\"\")","v":"○"},{"$f":"IF(基本データ!AQ10<>\"\",\"○\",\"\")","v":"○"},{"$f":"IF(基本データ!AR10<>\"\",\"○\",\"\")","v":"○"},{"$f":"IF(基本データ!AS10<>\"\",\"○\",\"\")","v":"○"},{"$f":"IF(基本データ!AT10<>\"\",\"○\",\"\")","v":"○"},{"$f":"IF(基本データ!AU10<>\"\",\"○\",\"\")","v":"○"},{"$f":"IF(基本データ!AV10<>\"\",\"○\",\"\")","v":"○"},{"$f":"IF(基本データ!AW10<>\"\",\"○\",\"\")","v":"○"},{"$f":"IF(基本データ!AX10<>\"\",\"○\",\"\")","v":"○"},{"$f":"IF(基本データ!AY10<>\"\",\"○\",\"\")","v":"○"},{"$f":"IF(基本データ!AZ10<>\"\",\"○\",\"\")","v":"○"},{"$f":"IF(基本データ!BA10<>\"\",\"○\",\"\")","v":"○"},{"$f":"IF(基本データ!BB10<>\"\",\"○\",\"\")","v":"○"},{"$f":"IF(基本データ!BC10<>\"\",\"○\",\"\")","v":"○"},{"$f":"IF(基本データ!BD10<>\"\",\"○\",\"\")","v":"○"},{"$f":"IF(基本データ!BE10<>\"\",\"○\",\"\")","v":"○"},{"$f":"IF(基本データ!BF10<>\"\",\"○\",\"\")","v":"○"},{"$f":"IF(基本データ!BG10<>\"\",\"○\",\"\")","v":"○"},{"$f":"基本データ!BN10","v":0},{"$f":"IF(基本データ!BH10<>\"\",\"○\",\"\")","v":""},{"$f":"IF(基本データ!BI10<>\"\",\"○\",\"\")","v":""},{"$f":"IF(基本データ!BJ10<>\"\",\"○\",\"\")","v":""},{"$f":"IF(基本データ!BK10<>\"\",\"○\",\"\")","v":""},{"$f":"IF(基本データ!BL10<>\"\",\"○\",\"\")","v":""},{"$f":"IF(基本データ!BM10<>\"\",\"○\",\"\")","v":""}]
[9,{"$f":"基本データ!J11","v":"東京都"},{"$f":"基本データ!B11","v":2015},{"$f":"基本データ!I11","v":"公益社団法人日本看護協会"},{"$f":"基本データ!AL11","v":12},{"$f":"IF(基本データ!AM11<>\"\",\"○\",\"\")","v":"○"},{"$f":"IF(基本データ!AN11<>\"\",\"○\",\"\")","v":"○"},{"$f":"IF(基本データ!AO11<>\"\",\"○\",\"\")","v":"○"},{"$f":"IF(基本データ!AP11<>\"\",\"○\",\"\")","v":""},{"$f":"IF(基本データ!AQ11<>\"\",\"○\",\"\")","v":""},{"$f":"IF(基本データ!AR11<>\"\",\"○\",\"\")","v":""},{"$f":"IF(基本データ!AS11<>\"\",\"○\",\"\")","v":""},{"$f":"IF(基本データ!AT11<>\"\",\"○\",\"\")","v":"○"},{"$f":"IF(基本データ!AU11<>\"\",\"○\",\"\")","v":""},{"$f":"IF(基本データ!AV11<>\"\",\"○\",\"\")","v":"○"},{"$f":"IF(基本データ!AW11<>\"\",\"○\",\"\")","v":"○"},{"$f":"IF(基本データ!AX11<>\"\",\"○\",\"\")","v":""},{"$f":"IF(基本データ!AY11<>\"\",\"○\",\"\")","v":"○"},{"$f":"IF(基本データ!AZ11<>\"\",\"○\",\"\")","v":""},{"$f":"IF(基本データ!BA11<>\"\",\"○\",\"\")","v":"○"},{"$f":"IF(基本データ!BB11<>\"\",\"○\",\"\")","v":"○"},{"$f":"IF(基本データ!BC11<>\"\",\"○\",\"\")","v":"○"},{"$f":"IF(基本データ!BD11<>\"\",\"○\",\"\")","v":""},{"$f":"IF(基本データ!BE11<>\"\",\"○\",\"\")","v":"○"},{"$f":"IF(基本データ!BF11<>\"\",\"○\",\"\")","v":"○"},{"$f":"IF(基本データ!BG11<>\"\",\"○\",\"\")","v":""},{"$f":"基本データ!BN11","v":1},{"$f":"IF(基本データ!BH11<>\"\",\"○\",\"\")","v":"○"},{"$f":"IF(基本データ!BI11<>\"\",\"○\",\"\")","v":""},{"$f":"IF(基本データ!BJ11<>\"\",\"○\",\"\")","v":""},{"$f":"IF(基本データ!BK11<>\"\",\"○\",\"\")","v":""},{"$f":"IF(基本データ!BL11<>\"\",\"○\",\"\")","v":""},{"$f":"IF(基本データ!BM11<>\"\",\"○\",\"\")","v":""}]
[10,{"$f":"基本データ!J12","v":"愛知県"},{"$f":"基本データ!B12","v":2015},{"$f":"基本データ!I12","v":"学校法人愛知医科大学大学院看護学研究科看護学専攻"},{"$f":"基本データ!AL12","v":21},{"$f":"IF(基本データ!AM12<>\"\",\"○\",\"\")","v":"○"},{"$f":"IF(基本データ!AN12<>\"\",\"○\",\"\")","v":"○"},{"$f":"IF(基本データ!AO12<>\"\",\"○\",\"\")","v":"○"},{"$f":"IF(基本データ!AP12<>\"\",\"○\",\"\")","v":"○"},{"$f":"IF(基本データ!AQ12<>\"\",\"○\",\"\")","v":"○"},{"$f":"IF(基本データ!AR12<>\"\",\"○\",\"\")","v":"○"},{"$f":"IF(基本データ!AS12<>\"\",\"○\",\"\")","v":"○"},{"$f":"IF(基本データ!AT12<>\"\",\"○\",\"\")","v":"○"},{"$f":"IF(基本データ!AU12<>\"\",\"○\",\"\")","v":"○"},{"$f":"IF(基本データ!AV12<>\"\",\"○\",\"\")","v":"○"},{"$f":"IF(基本データ!AW12<>\"\",\"○\",\"\")","v":"○"},{"$f":"IF(基本データ!AX12<>\"\",\"○\",\"\")","v":"○"},{"$f":"IF(基本データ!AY12<>\"\",\"○\",\"\")","v":"○"},{"$f":"IF(基本データ!AZ12<>\"\",\"○\",\"\")","v":"○"},{"$f":"IF(基本データ!BA12<>\"\",\"○\",\"\")","v":"○"},{"$f":"IF(基本データ!BB12<>\"\",\"○\",\"\")","v":"○"},{"$f":"IF(基本データ!BC12<>\"\",\"○\",\"\")","v":"○"},{"$f":"IF(基本データ!BD12<>\"\",\"○\",\"\")","v":"○"},{"$f":"IF(基本データ!BE12<>\"\",\"○\",\"\")","v":"○"},{"$f":"IF(基本データ!BF12<>\"\",\"○\",\"\")","v":"○"},{"$f":"IF(基本データ!BG12<>\"\",\"○\",\"\")","v":"○"},{"$f":"基本データ!BN12","v":0},{"$f":"IF(基本データ!BH12<>\"\",\"○\",\"\")","v":""},{"$f":"IF(基本データ!BI12<>\"\",\"○\",\"\")","v":""},{"$f":"IF(基本データ!BJ12<>\"\",\"○\",\"\")","v":""},{"$f":"IF(基本データ!BK12<>\"\",\"○\",\"\")","v":""},{"$f":"IF(基本データ!BL12<>\"\",\"○\",\"\")","v":""},{"$f":"IF(基本データ!BM12<>\"\",\"○\",\"\")","v":""}]
[11,{"$f":"基本データ!J13","v":"愛知県"},{"$f":"基本データ!B13","v":2015},{"$f":"基本データ!I13","v":"学校法人藤田学園藤田保健衛生大学大学院保健学研究科保健学専攻"},{"$f":"基本データ!AL13","v":21},{"$f":"IF(基本データ!AM13<>\"\",\"○\",\"\")","v":"○"},{"$f":"IF(基本データ!AN13<>\"\",\"○\",\"\")","v":"○"},{"$f":"IF(基本データ!AO13<>\"\",\"○\",\"\")","v":"○"},{"$f":"IF(基本データ!AP13<>\"\",\"○\",\"\")","v":"○"},{"$f":"IF(基本データ!AQ13<>\"\",\"○\",\"\")","v":"○"},{"$f":"IF(基本データ!AR13<>\"\",\"○\",\"\")","v":"○"},{"$f":"IF(基本データ!AS13<>\"\",\"○\",\"\")","v":"○"},{"$f":"IF(基本データ!AT13<>\"\",\"○\",\"\")","v":"○"},{"$f":"IF(基本データ!AU13<>\"\",\"○\",\"\")","v":"○"},{"$f":"IF(基本データ!AV13<>\"\",\"○\",\"\")","v":"○"},{"$f":"IF(基本データ!AW13<>\"\",\"○\",\"\")","v":"○"},{"$f":"IF(基本データ!AX13<>\"\",\"○\",\"\")","v":"○"},{"$f":"IF(基本データ!AY13<>\"\",\"○\",\"\")","v":"○"},{"$f":"IF(基本データ!AZ13<>\"\",\"○\",\"\")","v":"○"},{"$f":"IF(基本データ!BA13<>\"\",\"○\",\"\")","v":"○"},{"$f":"IF(基本データ!BB13<>\"\",\"○\",\"\")","v":"○"},{"$f":"IF(基本データ!BC13<>\"\",\"○\",\"\")","v":"○"},{"$f":"IF(基本データ!BD13<>\"\",\"○\",\"\")","v":"○"},{"$f":"IF(基本データ!BE13<>\"\",\"○\",\"\")","v":"○"},{"$f":"IF(基本データ!BF13<>\"\",\"○\",\"\")","v":"○"},{"$f":"IF(基本データ!BG13<>\"\",\"○\",\"\")","v":"○"},{"$f":"基本データ!BN13","v":1},{"$f":"IF(基本データ!BH13<>\"\",\"○\",\"\")","v":"○"},{"$f":"IF(基本データ!BI13<>\"\",\"○\",\"\")","v":""},{"$f":"IF(基本データ!BJ13<>\"\",\"○\",\"\")","v":""},{"$f":"IF(基本データ!BK13<>\"\",\"○\",\"\")","v":""},{"$f":"IF(基本データ!BL13<>\"\",\"○\",\"\")","v":""},{"$f":"IF(基本データ!BM13<>\"\",\"○\",\"\")","v":""}]
[12,{"$f":"基本データ!J14","v":"京都府"},{"$f":"基本データ!B14","v":2015},{"$f":"基本データ!I14","v":"医療法人社団洛和会洛和会音羽病院"},{"$f":"基本データ!AL14","v":10},{"$f":"IF(基本データ!AM14<>\"\",\"○\",\"\")","v":"○"},{"$f":"IF(基本データ!AN14<>\"\",\"○\",\"\")","v":"○"},{"$f":"IF(基本データ!AO14<>\"\",\"○\",\"\")","v":"○"},{"$f":"IF(基本データ!AP14<>\"\",\"○\",\"\")","v":""},{"$f":"IF(基本データ!AQ14<>\"\",\"○\",\"\")","v":""},{"$f":"IF(基本データ!AR14<>\"\",\"○\",\"\")","v":""},{"$f":"IF(基本データ!AS14<>\"\",\"○\",\"\")","v":""},{"$f":"IF(基本データ!AT14<>\"\",\"○\",\"\")","v":""},{"$f":"IF(基本データ!AU14<>\"\",\"○\",\"\")","v":""},{"$f":"IF(基本データ!AV14<>\"\",\"○\",\"\")","v":""},{"$f":"IF(基本データ!AW14<>\"\",\"○\",\"\")","v":"○"},{"$f":"IF(基本データ!AX14<>\"\",\"○\",\"\")","v":""},{"$f":"IF(基本データ!AY14<>\"\",\"○\",\"\")","v":"○"},{"$f":"IF(基本データ!AZ14<>\"\",\"○\",\"\")","v":""},{"$f":"IF(基本データ!BA14<>\"\",\"○\",\"\")","v":"○"},{"$f":"IF(基本データ!BB14<>\"\",\"○\",\"\")","v":""},{"$f":"IF(基本データ!BC14<>\"\",\"○\",\"\")","v":"○"},{"$f":"IF(基本データ!BD14<>\"\",\"○\",\"\")","v":"○"},{"$f":"IF(基本データ!BE14<>\"\",\"○\",\"\")","v":"○"},{"$f":"IF(基本データ!BF14<>\"\",\"○\",\"\")","v":"○"},{"$f":"IF(基本データ!BG14<>\"\",\"○\",\"\")","v":""},{"$f":"基本データ!BN14","v":1},{"$f":"IF(基本データ!BH14<>\"\",\"○\",\"\")","v":""},{"$f":"IF(基本データ!BI14<>\"\",\"○\",\"\")","v":""},{"$f":"IF(基本データ!BJ14<>\"\",\"○\",\"\")","v":"○"},{"$f":"IF(基本データ!BK14<>\"\",\"○\",\"\")","v":""},{"$f":"IF(基本データ!BL14<>\"\",\"○\",\"\")","v":""},{"$f":"IF(基本データ!BM14<>\"\",\"○\",\"\")","v":""}]
[13,{"$f":"基本データ!J15","v":"奈良県"},{"$f":"基本データ!B15","v":2015},{"$f":"基本データ!I15","v":"公立大学法人奈良県立医科大学"},{"$f":"基本データ!AL15","v":14},{"$f":"IF(基本データ!AM15<>\"\",\"○\",\"\")","v":"○"},{"$f":"IF(基本データ!AN15<>\"\",\"○\",\"\")","v":"○"},{"$f":"IF(基本データ!AO15<>\"\",\"○\",\"\")","v":"○"},{"$f":"IF(基本データ!AP15<>\"\",\"○\",\"\")","v":"○"},{"$f":"IF(基本データ!AQ15<>\"\",\"○\",\"\")","v":""},{"$f":"IF(基本データ!AR15<>\"\",\"○\",\"\")","v":""},{"$f":"IF(基本データ!AS15<>\"\",\"○\",\"\")","v":""},{"$f":"IF(基本データ!AT15<>\"\",\"○\",\"\")","v":"○"},{"$f":"IF(基本データ!AU15<>\"\",\"○\",\"\")","v":"○"},{"$f":"IF(基本データ!AV15<>\"\",\"○\",\"\")","v":"○"},{"$f":"IF(基本データ!AW15<>\"\",\"○\",\"\")","v":"○"},{"$f":"IF(基本データ!AX15<>\"\",\"○\",\"\")","v":""},{"$f":"IF(基本データ!AY15<>\"\",\"○\",\"\")","v":"○"},{"$f":"IF(基本データ!AZ15<>\"\",\"○\",\"\")","v":""},{"$f":"IF(基本データ!BA15<>\"\",\"○\",\"\")","v":"○"},{"$f":"IF(基本データ!BB15<>\"\",\"○\",\"\")","v":""},{"$f":"IF(基本データ!BC15<>\"\",\"○\",\"\")","v":"○"},{"$f":"IF(基本データ!BD15<>\"\",\"○\",\"\")","v":"○"},{"$f":"IF(基本データ!BE15<>\"\",\"○\",\"\")","v":"○"},{"$f":"IF(基本データ!BF15<>\"\",\"○\",\"\")","v":"○"},{"$f":"IF(基本データ!BG15<>\"\",\"○\",\"\")","v":""},{"$f":"基本データ!BN15","v":0},{"$f":"IF(基本データ!BH15<>\"\",\"○\",\"\")","v":""},{"$f":"IF(基本データ!BI15<>\"\",\"○\",\"\")","v":""},{"$f":"IF(基本データ!BJ15<>\"\",\"○\",\"\")","v":""},{"$f":"IF(基本データ!BK15<>\"\",\"○\",\"\")","v":""},{"$f":"IF(基本データ!BL15<>\"\",\"○\",\"\")","v":""},{"$f":"IF(基本データ!BM15<>\"\",\"○\",\"\")","v":""}]
[14,{"$f":"基本データ!J16","v":"大分県"},{"$f":"基本データ!B16","v":2015},{"$f":"基本データ!I16","v":"公立大学法人大分県立看護科学大学大学院看護学研究科看護学専攻"},{"$f":"基本データ!AL16","v":21},{"$f":"IF(基本データ!AM16<>\"\",\"○\",\"\")","v":"○"},{"$f":"IF(基本データ!AN16<>\"\",\"○\",\"\")","v":"○"},{"$f":"IF(基本データ!AO16<>\"\",\"○\",\"\")","v":"○"},{"$f":"IF(基本データ!AP16<>\"\",\"○\",\"\")","v":"○"},{"$f":"IF(基本データ!AQ16<>\"\",\"○\",\"\")","v":"○"},{"$f":"IF(基本データ!AR16<>\"\",\"○\",\"\")","v":"○"},{"$f":"IF(基本データ!AS16<>\"\",\"○\",\"\")","v":"○"},{"$f":"IF(基本データ!AT16<>\"\",\"○\",\"\")","v":"○"},{"$f":"IF(基本データ!AU16<>\"\",\"○\",\"\")","v":"○"},{"$f":"IF(基本データ!AV16<>\"\",\"○\",\"\")","v":"○"},{"$f":"IF(基本データ!AW16<>\"\",\"○\",\"\")","v":"○"},{"$f":"IF(基本データ!AX16<>\"\",\"○\",\"\")","v":"○"},{"$f":"IF(基本データ!AY16<>\"\",\"○\",\"\")","v":"○"},{"$f":"IF(基本データ!AZ16<>\"\",\"○\",\"\")","v":"○"},{"$f":"IF(基本データ!BA16<>\"\",\"○\",\"\")","v":"○"},{"$f":"IF(基本データ!BB16<>\"\",\"○\",\"\")","v":"○"},{"$f":"IF(基本データ!BC16<>\"\",\"○\",\"\")","v":"○"},{"$f":"IF(基本データ!BD16<>\"\",\"○\",\"\")","v":"○"},{"$f":"IF(基本データ!BE16<>\"\",\"○\",\"\")","v":"○"},{"$f":"IF(基本データ!BF16<>\"\",\"○\",\"\")","v":"○"},{"$f":"IF(基本データ!BG16<>\"\",\"○\",\"\")","v":"○"},{"$f":"基本データ!BN16","v":1},{"$f":"IF(基本データ!BH16<>\"\",\"○\",\"\")","v":"○"},{"$f":"IF(基本データ!BI16<>\"\",\"○\",\"\")","v":""},{"$f":"IF(基本データ!BJ16<>\"\",\"○\",\"\")","v":""},{"$f":"IF(基本データ!BK16<>\"\",\"○\",\"\")","v":""},{"$f":"IF(基本データ!BL16<>\"\",\"○\",\"\")","v":""},{"$f":"IF(基本データ!BM16<>\"\",\"○\",\"\")","v":""}]
[15,{"$f":"基本データ!J17","v":"宮城県"},{"$f":"基本データ!B17","v":2016},{"$f":"基本データ!I17","v":"学校法人東北文化学園大学東北文化学園大学大学院健康社会システム研究科健康福祉専攻"},{"$f":"基本データ!AL17","v":21},{"$f":"IF(基本データ!AM17<>\"\",\"○\",\"\")","v":"○"},{"$f":"IF(基本データ!AN17<>\"\",\"○\",\"\")","v":"○"},{"$f":"IF(基本データ!AO17<>\"\",\"○\",\"\")","v":"○"},{"$f":"IF(基本データ!AP17<>\"\",\"○\",\"\")","v":"○"},{"$f":"IF(基本データ!AQ17<>\"\",\"○\",\"\")","v":"○"},{"$f":"IF(基本データ!AR17<>\"\",\"○\",\"\")","v":"○"},{"$f":"IF(基本データ!AS17<>\"\",\"○\",\"\")","v":"○"},{"$f":"IF(基本データ!AT17<>\"\",\"○\",\"\")","v":"○"},{"$f":"IF(基本データ!AU17<>\"\",\"○\",\"\")","v":"○"},{"$f":"IF(基本データ!AV17<>\"\",\"○\",\"\")","v":"○"},{"$f":"IF(基本データ!AW17<>\"\",\"○\",\"\")","v":"○"},{"$f":"IF(基本データ!AX17<>\"\",\"○\",\"\")","v":"○"},{"$f":"IF(基本データ!AY17<>\"\",\"○\",\"\")","v":"○"},{"$f":"IF(基本データ!AZ17<>\"\",\"○\",\"\")","v":"○"},{"$f":"IF(基本データ!BA17<>\"\",\"○\",\"\")","v":"○"},{"$f":"IF(基本データ!BB17<>\"\",\"○\",\"\")","v":"○"},{"$f":"IF(基本データ!BC17<>\"\",\"○\",\"\")","v":"○"},{"$f":"IF(基本データ!BD17<>\"\",\"○\",\"\")","v":"○"},{"$f":"IF(基本データ!BE17<>\"\",\"○\",\"\")","v":"○"},{"$f":"IF(基本データ!BF17<>\"\",\"○\",\"\")","v":"○"},{"$f":"IF(基本データ!BG17<>\"\",\"○\",\"\")","v":"○"},{"$f":"基本データ!BN17","v":0},{"$f":"IF(基本データ!BH17<>\"\",\"○\",\"\")","v":""},{"$f":"IF(基本データ!BI17<>\"\",\"○\",\"\")","v":""},{"$f":"IF(基本データ!BJ17<>\"\",\"○\",\"\")","v":""},{"$f":"IF(基本データ!BK17<>\"\",\"○\",\"\")","v":""},{"$f":"IF(基本データ!BL17<>\"\",\"○\",\"\")","v":""},{"$f":"IF(基本データ!BM17<>\"\",\"○\",\"\")","v":""}]
[16,{"$f":"基本データ!J18","v":"福島県"},{"$f":"基本データ!B18","v":2016},{"$f":"基本データ!I18","v":"公益財団法人星総合病院"},{"$f":"基本データ!AL18","v":6},{"$f":"IF(基本データ!AM18<>\"\",\"○\",\"\")","v":""},{"$f":"IF(基本データ!AN18<>\"\",\"○\",\"\")","v":""},{"$f":"IF(基本データ!AO18<>\"\",\"○\",\"\")","v":""},{"$f":"IF(基本データ!AP18<>\"\",\"○\",\"\")","v":""},{"$f":"IF(基本データ!AQ18<>\"\",\"○\",\"\")","v":""},{"$f":"IF(基本データ!AR18<>\"\",\"○\",\"\")","v":""},{"$f":"IF(基本データ!AS18<>\"\",\"○\",\"\")","v":""},{"$f":"IF(基本データ!AT18<>\"\",\"○\",\"\")","v":"○"},{"$f":"IF(基本データ!AU18<>\"\",\"○\",\"\")","v":""},{"$f":"IF(基本データ!AV18<>\"\",\"○\",\"\")","v":""},{"$f":"IF(基本データ!AW18<>\"\",\"○\",\"\")","v":"○"},{"$f":"IF(基本データ!AX18<>\"\",\"○\",\"\")","v":""},{"$f":"IF(基本データ!AY18<>\"\",\"○\",\"\")","v":"○"},{"$f":"IF(基本データ!AZ18<>\"\",\"○\",\"\")","v":""},{"$f":"IF(基本データ!BA18<>\"\",\"○\",\"\")","v":"○"},{"$f":"IF(基本データ!BB18<>\"\",\"○\",\"\")","v":"○"},{"$f":"IF(基本データ!BC18<>\"\",\"○\",\"\")","v":""},{"$f":"IF(基本データ!BD18<>\"\",\"○\",\"\")","v":""},{"$f":"IF(基本データ!BE18<>\"\",\"○\",\"\")","v":""},{"$f":"IF(基本データ!BF18<>\"\",\"○\",\"\")","v":"○"},{"$f":"IF(基本データ!BG18<>\"\",\"○\",\"\")","v":""},{"$f":"基本データ!BN18","v":0},{"$f":"IF(基本データ!BH18<>\"\",\"○\",\"\")","v":""},{"$f":"IF(基本データ!BI18<>\"\",\"○\",\"\")","v":""},{"$f":"IF(基本データ!BJ18<>\"\",\"○\",\"\")","v":""},{"$f":"IF(基本データ!BK18<>\"\",\"○\",\"\")","v":""},{"$f":"IF(基本データ!BL18<>\"\",\"○\",\"\")","v":""},{"$f":"IF(基本データ!BM18<>\"\",\"○\",\"\")","v":""}]
[17,{"$f":"基本データ!J19","v":"埼玉県"},{"$f":"基本データ!B19","v":2016},{"$f":"基本データ!I19","v":"学校法人埼玉医科大学埼玉医科大学総合医療センター"},{"$f":"基本データ!AL19","v":7},{"$f":"IF(基本データ!AM19<>\"\",\"○\",\"\")","v":"○"},{"$f":"IF(基本データ!AN19<>\"\",\"○\",\"\")","v":"○"},{"$f":"IF(基本データ!AO19<>\"\",\"○\",\"\")","v":"○"},{"$f":"IF(基本データ!AP19<>\"\",\"○\",\"\")","v":""},{"$f":"IF(基本データ!AQ19<>\"\",\"○\",\"\")","v":""},{"$f":"IF(基本データ!AR19<>\"\",\"○\",\"\")","v":""},{"$f":"IF(基本データ!AS19<>\"\",\"○\",\"\")","v":""},{"$f":"IF(基本データ!AT19<>\"\",\"○\",\"\")","v":"○"},{"$f":"IF(基本データ!AU19<>\"\",\"○\",\"\")","v":""},{"$f":"IF(基本データ!AV19<>\"\",\"○\",\"\")","v":""},{"$f":"IF(基本データ!AW19<>\"\",\"○\",\"\")","v":""},{"$f":"IF(基本データ!AX19<>\"\",\"○\",\"\")","v":""},{"$f":"IF(基本データ!AY19<>\"\",\"○\",\"\")","v":""},{"$f":"IF(基本データ!AZ19<>\"\",\"○\",\"\")","v":"○"},{"$f":"IF(基本データ!BA19<>\"\",\"○\",\"\")","v":"○"},{"$f":"IF(基本データ!BB19<>\"\",\"○\",\"\")","v":""},{"$f":"IF(基本データ!BC19<>\"\",\"○\",\"\")","v":"○"},{"$f":"IF(基本データ!BD19<>\"\",\"○\",\"\")","v":""},{"$f":"IF(基本データ!BE19<>\"\",\"○\",\"\")","v":""},{"$f":"IF(基本データ!BF19<>\"\",\"○\",\"\")","v":""},{"$f":"IF(基本データ!BG19<>\"\",\"○\",\"\")","v":""},{"$f":"基本データ!BN19","v":0},{"$f":"IF(基本データ!BH19<>\"\",\"○\",\"\")","v":""},{"$f":"IF(基本データ!BI19<>\"\",\"○\",\"\")","v":""},{"$f":"IF(基本データ!BJ19<>\"\",\"○\",\"\")","v":""},{"$f":"IF(基本データ!BK19<>\"\",\"○\",\"\")","v":""},{"$f":"IF(基本データ!BL19<>\"\",\"○\",\"\")","v":""},{"$f":"IF(基本データ!BM19<>\"\",\"○\",\"\")","v":""}]
[18,{"$f":"基本データ!J20","v":0},{"$f":"基本データ!B20","v":2016},{"$f":"基本データ!I20","v":"社会医療法人社団さつき会袖ケ浦さつき台病院看護師特定行為研修センター"},{"$f":"基本データ!AL20","v":0},{"$f":"IF(基本データ!AM20<>\"\",\"○\",\"\")","v":""},{"$f":"IF(基本データ!AN20<>\"\",\"○\",\"\")","v":""},{"$f":"IF(基本データ!AO20<>\"\",\"○\",\"\")","v":""},{"$f":"IF(基本データ!AP20<>\"\",\"○\",\"\")","v":""},{"$f":"IF(基本データ!AQ20<>\"\",\"○\",\"\")","v":""},{"$f":"IF(基本データ!AR20<>\"\",\"○\",\"\")","v":""},{"$f":"IF(基本データ!AS20<>\"\",\"○\",\"\")","v":""},{"$f":"IF(基本データ!AT20<>\"\",\"○\",\"\")","v":""},{"$f":"IF(基本データ!AU20<>\"\",\"○\",\"\")","v":""},{"$f":"IF(基本データ!AV20<>\"\",\"○\",\"\")","v":""},{"$f":"IF(基本データ!AW20<>\"\",\"○\",\"\")","v":""},{"$f":"IF(基本データ!AX20<>\"\",\"○\",\"\")","v":""},{"$f":"IF(基本データ!AY20<>\"\",\"○\",\"\")","v":""},{"$f":"IF(基本データ!AZ20<>\"\",\"○\",\"\")","v":""},{"$f":"IF(基本データ!BA20<>\"\",\"○\",\"\")","v":""},{"$f":"IF(基本データ!BB20<>\"\",\"○\",\"\")","v":""},{"$f":"IF(基本データ!BC20<>\"\",\"○\",\"\")","v":""},{"$f":"IF(基本データ!BD20<>\"\",\"○\",\"\")","v":""},{"$f":"IF(基本データ!BE20<>\"\",\"○\",\"\")","v":""},{"$f":"IF(基本データ!BF20<>\"\",\"○\",\"\")","v":""},{"$f":"IF(基本データ!BG20<>\"\",\"○\",\"\")","v":""},{"$f":"基本データ!BN20","v":0},{"$f":"IF(基本データ!BH20<>\"\",\"○\",\"\")","v":""},{"$f":"IF(基本データ!BI20<>\"\",\"○\",\"\")","v":""},{"$f":"IF(基本データ!BJ20<>\"\",\"○\",\"\")","v":""},{"$f":"IF(基本データ!BK20<>\"\",\"○\",\"\")","v":""},{"$f":"IF(基本データ!BL20<>\"\",\"○\",\"\")","v":""},{"$f":"IF(基本データ!BM20<>\"\",\"○\",\"\")","v":""}]
[19,{"$f":"基本データ!J21","v":"東京都"},{"$f":"基本データ!B21","v":2016},{"$f":"基本データ!I21","v":"独立行政法人地域医療機能推進機構東京新宿メディカルセンター"},{"$f":"基本データ!AL21","v":2},{"$f":"IF(基本データ!AM21<>\"\",\"○\",\"\")","v":""},{"$f":"IF(基本データ!AN21<>\"\",\"○\",\"\")","v":""},{"$f":"IF(基本データ!AO21<>\"\",\"○\",\"\")","v":""},{"$f":"IF(基本データ!AP21<>\"\",\"○\",\"\")","v":""},{"$f":"IF(基本データ!AQ21<>\"\",\"○\",\"\")","v":""},{"$f":"IF(基本データ!AR21<>\"\",\"○\",\"\")","v":""},{"$f":"IF(基本データ!AS21<>\"\",\"○\",\"\")","v":""},{"$f":"IF(基本データ!AT21<>\"\",\"○\",\"\")","v":""},{"$f":"IF(基本データ!AU21<>\"\",\"○\",\"\")","v":""},{"$f":"IF(基本データ!AV21<>\"\",\"○\",\"\")","v":""},{"$f":"IF(基本データ!AW21<>\"\",\"○\",\"\")","v":""},{"$f":"IF(基本データ!AX21<>\"\",\"○\",\"\")","v":""},{"$f":"IF(基本データ!AY21<>\"\",\"○\",\"\")","v":""},{"$f":"IF(基本データ!AZ21<>\"\",\"○\",\"\")","v":""},{"$f":"IF(基本データ!BA21<>\"\",\"○\",\"\")","v":"○"},{"$f":"IF(基本データ!BB21<>\"\",\"○\",\"\")","v":""},{"$f":"IF(基本データ!BC21<>\"\",\"○\",\"\")","v":"○"},{"$f":"IF(基本データ!BD21<>\"\",\"○\",\"\")","v":""},{"$f":"IF(基本データ!BE21<>\"\",\"○\",\"\")","v":""},{"$f":"IF(基本データ!BF21<>\"\",\"○\",\"\")","v":""},{"$f":"IF(基本データ!BG21<>\"\",\"○\",\"\")","v":""},{"$f":"基本データ!BN21","v":0},{"$f":"IF(基本データ!BH21<>\"\",\"○\",\"\")","v":""},{"$f":"IF(基本データ!BI21<>\"\",\"○\",\"\")","v":""},{"$f":"IF(基本データ!BJ21<>\"\",\"○\",\"\")","v":""},{"$f":"IF(基本データ!BK21<>\"\",\"○\",\"\")","v":""},{"$f":"IF(基本データ!BL21<>\"\",\"○\",\"\")","v":""},{"$f":"IF(基本データ!BM21<>\"\",\"○\",\"\")","v":""}]
[20,{"$f":"基本データ!J22","v":"滋賀県"},{"$f":"基本データ!B22","v":2016},{"$f":"基本データ!I22","v":"国立大学法人　滋賀医科大学"},{"$f":"基本データ!AL22","v":21},{"$f":"IF(基本データ!AM22<>\"\",\"○\",\"\")","v":"○"},{"$f":"IF(基本データ!AN22<>\"\",\"○\",\"\")","v":"○"},{"$f":"IF(基本データ!AO22<>\"\",\"○\",\"\")","v":"○"},{"$f":"IF(基本データ!AP22<>\"\",\"○\",\"\")","v":"○"},{"$f":"IF(基本データ!AQ22<>\"\",\"○\",\"\")","v":"○"},{"$f":"IF(基本データ!AR22<>\"\",\"○\",\"\")","v":"○"},{"$f":"IF(基本データ!AS22<>\"\",\"○\",\"\")","v":"○"},{"$f":"IF(基本データ!AT22<>\"\",\"○\",\"\")","v":"○"},{"$f":"IF(基本データ!AU22<>\"\",\"○\",\"\")","v":"○"},{"$f":"IF(基本データ!AV22<>\"\",\"○\",\"\")","v":"○"},{"$f":"IF(基本データ!AW22<>\"\",\"○\",\"\")","v":"○"},{"$f":"IF(基本データ!AX22<>\"\",\"○\",\"\")","v":"○"},{"$f":"IF(基本データ!AY22<>\"\",\"○\",\"\")","v":"○"},{"$f":"IF(基本データ!AZ22<>\"\",\"○\",\"\")","v":"○"},{"$f":"IF(基本データ!BA22<>\"\",\"○\",\"\")","v":"○"},{"$f":"IF(基本データ!BB22<>\"\",\"○\",\"\")","v":"○"},{"$f":"IF(基本データ!BC22<>\"\",\"○\",\"\")","v":"○"},{"$f":"IF(基本データ!BD22<>\"\",\"○\",\"\")","v":"○"},{"$f":"IF(基本データ!BE22<>\"\",\"○\",\"\")","v":"○"},{"$f":"IF(基本データ!BF22<>\"\",\"○\",\"\")","v":"○"},{"$f":"IF(基本データ!BG22<>\"\",\"○\",\"\")","v":"○"},{"$f":"基本データ!BN22","v":6},{"$f":"IF(基本データ!BH22<>\"\",\"○\",\"\")","v":"○"},{"$f":"IF(基本データ!BI22<>\"\",\"○\",\"\")","v":"○"},{"$f":"IF(基本データ!BJ22<>\"\",\"○\",\"\")","v":"○"},{"$f":"IF(基本データ!BK22<>\"\",\"○\",\"\")","v":"○"},{"$f":"IF(基本データ!BL22<>\"\",\"○\",\"\")","v":"○"},{"$f":"IF(基本データ!BM22<>\"\",\"○\",\"\")","v":"○"}]
[21,{"$f":"基本データ!J23","v":"大阪府"},{"$f":"基本データ!B23","v":2016},{"$f":"基本データ!I23","v":"社会医療法人愛仁会"},{"$f":"基本データ!AL23","v":16},{"$f":"IF(基本データ!AM23<>\"\",\"○\",\"\")","v":"○"},{"$f":"IF(基本データ!AN23<>\"\",\"○\",\"\")","v":"○"},{"$f":"IF(基本データ!AO23<>\"\",\"○\",\"\")","v":"○"},{"$f":"IF(基本データ!AP23<>\"\",\"○\",\"\")","v":"○"},{"$f":"IF(基本データ!AQ23<>\"\",\"○\",\"\")","v":""},{"$f":"IF(基本データ!AR23<>\"\",\"○\",\"\")","v":""},{"$f":"IF(基本データ!AS23<>\"\",\"○\",\"\")","v":""},{"$f":"IF(基本データ!AT23<>\"\",\"○\",\"\")","v":"○"},{"$f":"IF(基本データ!AU23<>\"\",\"○\",\"\")","v":"○"},{"$f":"IF(基本データ!AV23<>\"\",\"○\",\"\")","v":"○"},{"$f":"IF(基本データ!AW23<>\"\",\"○\",\"\")","v":"○"},{"$f":"IF(基本データ!AX23<>\"\",\"○\",\"\")","v":""},{"$f":"IF(基本データ!AY23<>\"\",\"○\",\"\")","v":"○"},{"$f":"IF(基本データ!AZ23<>\"\",\"○\",\"\")","v":"○"},{"$f":"IF(基本データ!BA23<>\"\",\"○\",\"\")","v":"○"},{"$f":"IF(基本データ!BB23<>\"\",\"○\",\"\")","v":"○"},{"$f":"IF(基本データ!BC23<>\"\",\"○\",\"\")","v":"○"},{"$f":"IF(基本データ!BD23<>\"\",\"○\",\"\")","v":"○"},{"$f":"IF(基本データ!BE23<>\"\",\"○\",\"\")","v":"○"},{"$f":"IF(基本データ!BF23<>\"\",\"○\",\"\")","v":"○"},{"$f":"IF(基本データ!BG23<>\"\",\"○\",\"\")","v":""},{"$f":"基本データ!BN23","v":3},{"$f":"IF(基本データ!BH23<>\"\",\"○\",\"\")","v":"○"},{"$f":"IF(基本データ!BI23<>\"\",\"○\",\"\")","v":""},{"$f":"IF(基本データ!BJ23<>\"\",\"○\",\"\")","v":"○"},{"$f":"IF(基本データ!BK23<>\"\",\"○\",\"\")","v":"○"},{"$f":"IF(基本データ!BL23<>\"\",\"○\",\"\")","v":""},{"$f":"IF(基本データ!BM23<>\"\",\"○\",\"\")","v":""}]
[23,{"$f":"基本データ!J25","v":"茨城県"},{"$f":"基本データ!B25","v":2016},{"$f":"基本データ!I25","v":"国立大学法人筑波大学　筑波大学附属病院"},{"$f":"基本データ!AL25","v":20},{"$f":"IF(基本データ!AM25<>\"\",\"○\",\"\")","v":"○"},{"$f":"IF(基本データ!AN25<>\"\",\"○\",\"\")","v":"○"},{"$f":"IF(基本データ!AO25<>\"\",\"○\",\"\")","v":"○"},{"$f":"IF(基本データ!AP25<>\"\",\"○\",\"\")","v":"○"},{"$f":"IF(基本データ!AQ25<>\"\",\"○\",\"\")","v":""},{"$f":"IF(基本データ!AR25<>\"\",\"○\",\"\")","v":"○"},{"$f":"IF(基本データ!AS25<>\"\",\"○\",\"\")","v":"○"},{"$f":"IF(基本データ!AT25<>\"\",\"○\",\"\")","v":"○"},{"$f":"IF(基本データ!AU25<>\"\",\"○\",\"\")","v":"○"},{"$f":"IF(基本データ!AV25<>\"\",\"○\",\"\")","v":"○"},{"$f":"IF(基本データ!AW25<>\"\",\"○\",\"\")","v":"○"},{"$f":"IF(基本データ!AX25<>\"\",\"○\",\"\")","v":"○"},{"$f":"IF(基本データ!AY25<>\"\",\"○\",\"\")","v":"○"},{"$f":"IF(基本データ!AZ25<>\"\",\"○\",\"\")","v":"○"},{"$f":"IF(基本データ!BA25<>\"\",\"○\",\"\")","v":"○"},{"$f":"IF(基本データ!BB25<>\"\",\"○\",\"\")","v":"○"},{"$f":"IF(基本データ!BC25<>\"\",\"○\",\"\")","v":"○"},{"$f":"IF(基本データ!BD25<>\"\",\"○\",\"\")","v":"○"},{"$f":"IF(基本データ!BE25<>\"\",\"○\",\"\")","v":"○"},{"$f":"IF(基本データ!BF25<>\"\",\"○\",\"\")","v":"○"},{"$f":"IF(基本データ!BG25<>\"\",\"○\",\"\")","v":"○"},{"$f":"基本データ!BN25","v":6},{"$f":"IF(基本データ!BH25<>\"\",\"○\",\"\")","v":"○"},{"$f":"IF(基本データ!BI25<>\"\",\"○\",\"\")","v":"○"},{"$f":"IF(基本データ!BJ25<>\"\",\"○\",\"\")","v":"○"},{"$f":"IF(基本データ!BK25<>\"\",\"○\",\"\")","v":"○"},{"$f":"IF(基本データ!BL25<>\"\",\"○\",\"\")","v":"○"},{"$f":"IF(基本データ!BM25<>\"\",\"○\",\"\")","v":"○"}]
[24,{"$f":"基本データ!J26","v":"群馬県"},{"$f":"基本データ!B26","v":2016},{"$f":"基本データ!I26","v":"公益財団法人脳血管研究所　美原記念病院"},{"$f":"基本データ!AL26","v":7},{"$f":"IF(基本データ!AM26<>\"\",\"○\",\"\")","v":""},{"$f":"IF(基本データ!AN26<>\"\",\"○\",\"\")","v":""},{"$f":"IF(基本データ!AO26<>\"\",\"○\",\"\")","v":"○"},{"$f":"IF(基本データ!AP26<>\"\",\"○\",\"\")","v":""},{"$f":"IF(基本データ!AQ26<>\"\",\"○\",\"\")","v":""},{"$f":"IF(基本データ!AR26<>\"\",\"○\",\"\")","v":""},{"$f":"IF(基本データ!AS26<>\"\",\"○\",\"\")","v":""},{"$f":"IF(基本データ!AT26<>\"\",\"○\",\"\")","v":"○"},{"$f":"IF(基本データ!AU26<>\"\",\"○\",\"\")","v":""},{"$f":"IF(基本データ!AV26<>\"\",\"○\",\"\")","v":"○"},{"$f":"IF(基本データ!AW26<>\"\",\"○\",\"\")","v":"○"},{"$f":"IF(基本データ!AX26<>\"\",\"○\",\"\")","v":""},{"$f":"IF(基本データ!AY26<>\"\",\"○\",\"\")","v":"○"},{"$f":"IF(基本データ!AZ26<>\"\",\"○\",\"\")","v":""},{"$f":"IF(基本データ!BA26<>\"\",\"○\",\"\")","v":"○"},{"$f":"IF(基本データ!BB26<>\"\",\"○\",\"\")","v":""},{"$f":"IF(基本データ!BC26<>\"\",\"○\",\"\")","v":"○"},{"$f":"IF(基本データ!BD26<>\"\",\"○\",\"\")","v":""},{"$f":"IF(基本データ!BE26<>\"\",\"○\",\"\")","v":""},{"$f":"IF(基本データ!BF26<>\"\",\"○\",\"\")","v":""},{"$f":"IF(基本データ!BG26<>\"\",\"○\",\"\")","v":""},{"$f":"基本データ!BN26","v":1},{"$f":"IF(基本データ!BH26<>\"\",\"○\",\"\")","v":"○"},{"$f":"IF(基本データ!BI26<>\"\",\"○\",\"\")","v":""},{"$f":"IF(基本データ!BJ26<>\"\",\"○\",\"\")","v":""},{"$f":"IF(基本データ!BK26<>\"\",\"○\",\"\")","v":""},{"$f":"IF(基本データ!BL26<>\"\",\"○\",\"\")","v":""},{"$f":"IF(基本データ!BM26<>\"\",\"○\",\"\")","v":""}]
[25,{"$f":"基本データ!J27","v":"石川県"},{"$f":"基本データ!B27","v":2016},{"$f":"基本データ!I27","v":"社会医療法人財団董仙会　恵寿総合病院"},{"$f":"基本データ!AL27","v":9},{"$f":"IF(基本データ!AM27<>\"\",\"○\",\"\")","v":"○"},{"$f":"IF(基本データ!AN27<>\"\",\"○\",\"\")","v":"○"},{"$f":"IF(基本データ!AO27<>\"\",\"○\",\"\")","v":"○"},{"$f":"IF(基本データ!AP27<>\"\",\"○\",\"\")","v":""},{"$f":"IF(基本データ!AQ27<>\"\",\"○\",\"\")","v":""},{"$f":"IF(基本データ!AR27<>\"\",\"○\",\"\")","v":""},{"$f":"IF(基本データ!AS27<>\"\",\"○\",\"\")","v":""},{"$f":"IF(基本データ!AT27<>\"\",\"○\",\"\")","v":"○"},{"$f":"IF(基本データ!AU27<>\"\",\"○\",\"\")","v":""},{"$f":"IF(基本データ!AV27<>\"\",\"○\",\"\")","v":""},{"$f":"IF(基本データ!AW27<>\"\",\"○\",\"\")","v":"○"},{"$f":"IF(基本データ!AX27<>\"\",\"○\",\"\")","v":""},{"$f":"IF(基本データ!AY27<>\"\",\"○\",\"\")","v":"○"},{"$f":"IF(基本データ!AZ27<>\"\",\"○\",\"\")","v":""},{"$f":"IF(基本データ!BA27<>\"\",\"○\",\"\")","v":"○"},{"$f":"IF(基本データ!BB27<>\"\",\"○\",\"\")","v":""},{"$f":"IF(基本データ!BC27<>\"\",\"○\",\"\")","v":"○"},{"$f":"IF(基本データ!BD27<>\"\",\"○\",\"\")","v":""},{"$f":"IF(基本データ!BE27<>\"\",\"○\",\"\")","v":"○"},{"$f":"IF(基本データ!BF27<>\"\",\"○\",\"\")","v":""},{"$f":"IF(基本データ!BG27<>\"\",\"○\",\"\")","v":""},{"$f":"基本データ!BN27","v":1},{"$f":"IF(基本データ!BH27<>\"\",\"○\",\"\")","v":"○"},{"$f":"IF(基本データ!BI27<>\"\",\"○\",\"\")","v":""},{"$f":"IF(基本データ!BJ27<>\"\",\"○\",\"\")","v":""},{"$f":"IF(基本データ!BK27<>\"\",\"○\",\"\")","v":""},{"$f":"IF(基本データ!BL27<>\"\",\"○\",\"\")","v":""},{"$f":"IF(基本データ!BM27<>\"\",\"○\",\"\")","v":""}]
[26,{"$f":"基本データ!J28","v":"福井県"},{"$f":"基本データ!B28","v":2016},{"$f":"基本データ!I28","v":"学校法人　新田塚学園　福井医療大学"},{"$f":"基本データ!AL28","v":12},{"$f":"IF(基本データ!AM28<>\"\",\"○\",\"\")","v":"○"},{"$f":"IF(基本データ!AN28<>\"\",\"○\",\"\")","v":"○"},{"$f":"IF(基本データ!AO28<>\"\",\"○\",\"\")","v":"○"},{"$f":"IF(基本データ!AP28<>\"\",\"○\",\"\")","v":""},{"$f":"IF(基本データ!AQ28<>\"\",\"○\",\"\")","v":""},{"$f":"IF(基本データ!AR28<>\"\",\"○\",\"\")","v":""},{"$f":"IF(基本データ!AS28<>\"\",\"○\",\"\")","v":""},{"$f":"IF(基本データ!AT28<>\"\",\"○\",\"\")","v":"○"},{"$f":"IF(基本データ!AU28<>\"\",\"○\",\"\")","v":""},{"$f":"IF(基本データ!AV28<>\"\",\"○\",\"\")","v":""},{"$f":"IF(基本データ!AW28<>\"\",\"○\",\"\")","v":"○"},{"$f":"IF(基本データ!AX28<>\"\",\"○\",\"\")","v":""},{"$f":"IF(基本データ!AY28<>\"\",\"○\",\"\")","v":"○"},{"$f":"IF(基本データ!AZ28<>\"\",\"○\",\"\")","v":""},{"$f":"IF(基本データ!BA28<>\"\",\"○\",\"\")","v":"○"},{"$f":"IF(基本データ!BB28<>\"\",\"○\",\"\")","v":"○"},{"$f":"IF(基本データ!BC28<>\"\",\"○\",\"\")","v":"○"},{"$f":"IF(基本データ!BD28<>\"\",\"○\",\"\")","v":"○"},{"$f":"IF(基本データ!BE28<>\"\",\"○\",\"\")","v":"○"},{"$f":"IF(基本データ!BF28<>\"\",\"○\",\"\")","v":"○"},{"$f":"IF(基本データ!BG28<>\"\",\"○\",\"\")","v":""},{"$f":"基本データ!BN28","v":2},{"$f":"IF(基本データ!BH28<>\"\",\"○\",\"\")","v":"○"},{"$f":"IF(基本データ!BI28<>\"\",\"○\",\"\")","v":""},{"$f":"IF(基本データ!BJ28<>\"\",\"○\",\"\")","v":"○"},{"$f":"IF(基本データ!BK28<>\"\",\"○\",\"\")","v":""},{"$f":"IF(基本データ!BL28<>\"\",\"○\",\"\")","v":""},{"$f":"IF(基本データ!BM28<>\"\",\"○\",\"\")","v":""}]
[27,{"$f":"基本データ!J29","v":"高知県"},{"$f":"基本データ!B29","v":2016},{"$f":"基本データ!I29","v":"社会医療法人近森会　近森病院"},{"$f":"基本データ!AL29","v":17},{"$f":"IF(基本データ!AM29<>\"\",\"○\",\"\")","v":"○"},{"$f":"IF(基本データ!AN29<>\"\",\"○\",\"\")","v":"○"},{"$f":"IF(基本データ!AO29<>\"\",\"○\",\"\")","v":"○"},{"$f":"IF(基本データ!AP29<>\"\",\"○\",\"\")","v":"○"},{"$f":"IF(基本データ!AQ29<>\"\",\"○\",\"\")","v":""},{"$f":"IF(基本データ!AR29<>\"\",\"○\",\"\")","v":"○"},{"$f":"IF(基本データ!AS29<>\"\",\"○\",\"\")","v":"○"},{"$f":"IF(基本データ!AT29<>\"\",\"○\",\"\")","v":""},{"$f":"IF(基本データ!AU29<>\"\",\"○\",\"\")","v":"○"},{"$f":"IF(基本データ!AV29<>\"\",\"○\",\"\")","v":"○"},{"$f":"IF(基本データ!AW29<>\"\",\"○\",\"\")","v":"○"},{"$f":"IF(基本データ!AX29<>\"\",\"○\",\"\")","v":"○"},{"$f":"IF(基本データ!AY29<>\"\",\"○\",\"\")","v":"○"},{"$f":"IF(基本データ!AZ29<>\"\",\"○\",\"\")","v":""},{"$f":"IF(基本データ!BA29<>\"\",\"○\",\"\")","v":"○"},{"$f":"IF(基本データ!BB29<>\"\",\"○\",\"\")","v":"○"},{"$f":"IF(基本データ!BC29<>\"\",\"○\",\"\")","v":"○"},{"$f":"IF(基本データ!BD29<>\"\",\"○\",\"\")","v":"○"},{"$f":"IF(基本データ!BE29<>\"\",\"○\",\"\")","v":"○"},{"$f":"IF(基本データ!BF29<>\"\",\"○\",\"\")","v":"○"},{"$f":"IF(基本データ!BG29<>\"\",\"○\",\"\")","v":""},{"$f":"基本データ!BN29","v":5},{"$f":"IF(基本データ!BH29<>\"\",\"○\",\"\")","v":""},{"$f":"IF(基本データ!BI29<>\"\",\"○\",\"\")","v":"○"},{"$f":"IF(基本データ!BJ29<>\"\",\"○\",\"\")","v":"○"},{"$f":"IF(基本データ!BK29<>\"\",\"○\",\"\")","v":"○"},{"$f":"IF(基本データ!BL29<>\"\",\"○\",\"\")","v":"○"},{"$f":"IF(基本データ!BM29<>\"\",\"○\",\"\")","v":"○"}]
[28,{"$f":"基本データ!J30","v":"鹿児島県"},{"$f":"基本データ!B30","v":2016},{"$f":"基本データ!I30","v":"国立大学法人鹿児島大学　鹿児島大学病院"},{"$f":"基本データ!AL30","v":16},{"$f":"IF(基本データ!AM30<>\"\",\"○\",\"\")","v":"○"},{"$f":"IF(基本データ!AN30<>\"\",\"○\",\"\")","v":"○"},{"$f":"IF(基本データ!AO30<>\"\",\"○\",\"\")","v":"○"},{"$f":"IF(基本データ!AP30<>\"\",\"○\",\"\")","v":""},{"$f":"IF(基本データ!AQ30<>\"\",\"○\",\"\")","v":""},{"$f":"IF(基本データ!AR30<>\"\",\"○\",\"\")","v":"○"},{"$f":"IF(基本データ!AS30<>\"\",\"○\",\"\")","v":"○"},{"$f":"IF(基本データ!AT30<>\"\",\"○\",\"\")","v":"○"},{"$f":"IF(基本データ!AU30<>\"\",\"○\",\"\")","v":"○"},{"$f":"IF(基本データ!AV30<>\"\",\"○\",\"\")","v":"○"},{"$f":"IF(基本データ!AW30<>\"\",\"○\",\"\")","v":"○"},{"$f":"IF(基本データ!AX30<>\"\",\"○\",\"\")","v":"○"},{"$f":"IF(基本データ!AY30<>\"\",\"○\",\"\")","v":"○"},{"$f":"IF(基本データ!AZ30<>\"\",\"○\",\"\")","v":""},{"$f":"IF(基本データ!BA30<>\"\",\"○\",\"\")","v":"○"},{"$f":"IF(基本データ!BB30<>\"\",\"○\",\"\")","v":"○"},{"$f":"IF(基本データ!BC30<>\"\",\"○\",\"\")","v":"○"},{"$f":"IF(基本データ!BD30<>\"\",\"○\",\"\")","v":"○"},{"$f":"IF(基本データ!BE30<>\"\",\"○\",\"\")","v":"○"},{"$f":"IF(基本データ!BF30<>\"\",\"○\",\"\")","v":""},{"$f":"IF(基本データ!BG30<>\"\",\"○\",\"\")","v":""},{"$f":"基本データ!BN30","v":3},{"$f":"IF(基本データ!BH30<>\"\",\"○\",\"\")","v":"○"},{"$f":"IF(基本データ!BI30<>\"\",\"○\",\"\")","v":"○"},{"$f":"IF(基本データ!BJ30<>\"\",\"○\",\"\")","v":"○"},{"$f":"IF(基本データ!BK30<>\"\",\"○\",\"\")","v":""},{"$f":"IF(基本データ!BL30<>\"\",\"○\",\"\")","v":""},{"$f":"IF(基本データ!BM30<>\"\",\"○\",\"\")","v":""}]
[29,{"$f":"基本データ!J31","v":"山形県"},{"$f":"基本データ!B31","v":2017},{"$f":"基本データ!I31","v":"国立大学法人山形大学　山形大学大学院医学系研究科看護学専攻"},{"$f":"基本データ!AL31","v":21},{"$f":"IF(基本データ!AM31<>\"\",\"○\",\"\")","v":"○"},{"$f":"IF(基本データ!AN31<>\"\",\"○\",\"\")","v":"○"},{"$f":"IF(基本データ!AO31<>\"\",\"○\",\"\")","v":"○"},{"$f":"IF(基本データ!AP31<>\"\",\"○\",\"\")","v":"○"},{"$f":"IF(基本データ!AQ31<>\"\",\"○\",\"\")","v":"○"},{"$f":"IF(基本データ!AR31<>\"\",\"○\",\"\")","v":"○"},{"$f":"IF(基本データ!AS31<>\"\",\"○\",\"\")","v":"○"},{"$f":"IF(基本データ!AT31<>\"\",\"○\",\"\")","v":"○"},{"$f":"IF(基本データ!AU31<>\"\",\"○\",\"\")","v":"○"},{"$f":"IF(基本データ!AV31<>\"\",\"○\",\"\")","v":"○"},{"$f":"IF(基本データ!AW31<>\"\",\"○\",\"\")","v":"○"},{"$f":"IF(基本データ!AX31<>\"\",\"○\",\"\")","v":"○"},{"$f":"IF(基本データ!AY31<>\"\",\"○\",\"\")","v":"○"},{"$f":"IF(基本データ!AZ31<>\"\",\"○\",\"\")","v":"○"},{"$f":"IF(基本データ!BA31<>\"\",\"○\",\"\")","v":"○"},{"$f":"IF(基本データ!BB31<>\"\",\"○\",\"\")","v":"○"},{"$f":"IF(基本データ!BC31<>\"\",\"○\",\"\")","v":"○"},{"$f":"IF(基本データ!BD31<>\"\",\"○\",\"\")","v":"○"},{"$f":"IF(基本データ!BE31<>\"\",\"○\",\"\")","v":"○"},{"$f":"IF(基本データ!BF31<>\"\",\"○\",\"\")","v":"○"},{"$f":"IF(基本データ!BG31<>\"\",\"○\",\"\")","v":"○"},{"$f":"基本データ!BN31","v":0},{"$f":"IF(基本データ!BH31<>\"\",\"○\",\"\")","v":""},{"$f":"IF(基本データ!BI31<>\"\",\"○\",\"\")","v":""},{"$f":"IF(基本データ!BJ31<>\"\",\"○\",\"\")","v":""},{"$f":"IF(基本データ!BK31<>\"\",\"○\",\"\")","v":""},{"$f":"IF(基本データ!BL31<>\"\",\"○\",\"\")","v":""},{"$f":"IF(基本データ!BM31<>\"\",\"○\",\"\")","v":""}]
[30,{"$f":"基本データ!J32","v":"福島県"},{"$f":"基本データ!B32","v":2017},{"$f":"基本データ!I32","v":"公立大学法人福島県立医科大学"},{"$f":"基本データ!AL32","v":20},{"$f":"IF(基本データ!AM32<>\"\",\"○\",\"\")","v":"○"},{"$f":"IF(基本データ!AN32<>\"\",\"○\",\"\")","v":"○"},{"$f":"IF(基本データ!AO32<>\"\",\"○\",\"\")","v":"○"},{"$f":"IF(基本データ!AP32<>\"\",\"○\",\"\")","v":"○"},{"$f":"IF(基本データ!AQ32<>\"\",\"○\",\"\")","v":""},{"$f":"IF(基本データ!AR32<>\"\",\"○\",\"\")","v":"○"},{"$f":"IF(基本データ!AS32<>\"\",\"○\",\"\")","v":"○"},{"$f":"IF(基本データ!AT32<>\"\",\"○\",\"\")","v":"○"},{"$f":"IF(基本データ!AU32<>\"\",\"○\",\"\")","v":"○"},{"$f":"IF(基本データ!AV32<>\"\",\"○\",\"\")","v":"○"},{"$f":"IF(基本データ!AW32<>\"\",\"○\",\"\")","v":"○"},{"$f":"IF(基本データ!AX32<>\"\",\"○\",\"\")","v":"○"},{"$f":"IF(基本データ!AY32<>\"\",\"○\",\"\")","v":"○"},{"$f":"IF(基本データ!AZ32<>\"\",\"○\",\"\")","v":"○"},{"$f":"IF(基本データ!BA32<>\"\",\"○\",\"\")","v":"○"},{"$f":"IF(基本データ!BB32<>\"\",\"○\",\"\")","v":"○"},{"$f":"IF(基本データ!BC32<>\"\",\"○\",\"\")","v":"○"},{"$f":"IF(基本データ!BD32<>\"\",\"○\",\"\")","v":"○"},{"$f":"IF(基本データ!BE32<>\"\",\"○\",\"\")","v":"○"},{"$f":"IF(基本データ!BF32<>\"\",\"○\",\"\")","v":"○"},{"$f":"IF(基本データ!BG32<>\"\",\"○\",\"\")","v":"○"},{"$f":"基本データ!BN32","v":2},{"$f":"IF(基本データ!BH32<>\"\",\"○\",\"\")","v":"○"},{"$f":"IF(基本データ!BI32<>\"\",\"○\",\"\")","v":""},{"$f":"IF(基本データ!BJ32<>\"\",\"○\",\"\")","v":"○"},{"$f":"IF(基本データ!BK32<>\"\",\"○\",\"\")","v":""},{"$f":"IF(基本データ!BL32<>\"\",\"○\",\"\")","v":""},{"$f":"IF(基本データ!BM32<>\"\",\"○\",\"\")","v":""}]
[31,{"$f":"基本データ!J33","v":"東京都"},{"$f":"基本データ!B33","v":2017},{"$f":"基本データ!I33","v":"医療法人社団　明芳会"},{"$f":"基本データ!AL33","v":12},{"$f":"IF(基本データ!AM33<>\"\",\"○\",\"\")","v":"○"},{"$f":"IF(基本データ!AN33<>\"\",\"○\",\"\")","v":"○"},{"$f":"IF(基本データ!AO33<>\"\",\"○\",\"\")","v":"○"},{"$f":"IF(基本データ!AP33<>\"\",\"○\",\"\")","v":""},{"$f":"IF(基本データ!AQ33<>\"\",\"○\",\"\")","v":""},{"$f":"IF(基本データ!AR33<>\"\",\"○\",\"\")","v":""},{"$f":"IF(基本データ!AS33<>\"\",\"○\",\"\")","v":""},{"$f":"IF(基本データ!AT33<>\"\",\"○\",\"\")","v":""},{"$f":"IF(基本データ!AU33<>\"\",\"○\",\"\")","v":"○"},{"$f":"IF(基本データ!AV33<>\"\",\"○\",\"\")","v":"○"},{"$f":"IF(基本データ!AW33<>\"\",\"○\",\"\")","v":"○"},{"$f":"IF(基本データ!AX33<>\"\",\"○\",\"\")","v":""},{"$f":"IF(基本データ!AY33<>\"\",\"○\",\"\")","v":"○"},{"$f":"IF(基本データ!AZ33<>\"\",\"○\",\"\")","v":""},{"$f":"IF(基本データ!BA33<>\"\",\"○\",\"\")","v":"○"},{"$f":"IF(基本データ!BB33<>\"\",\"○\",\"\")","v":"○"},{"$f":"IF(基本データ!BC33<>\"\",\"○\",\"\")","v":"○"},{"$f":"IF(基本データ!BD33<>\"\",\"○\",\"\")","v":""},{"$f":"IF(基本データ!BE33<>\"\",\"○\",\"\")","v":"○"},{"$f":"IF(基本データ!BF33<>\"\",\"○\",\"\")","v":"○"},{"$f":"IF(基本データ!BG33<>\"\",\"○\",\"\")","v":""},{"$f":"基本データ!BN33","v":0},{"$f":"IF(基本データ!BH33<>\"\",\"○\",\"\")","v":""},{"$f":"IF(基本データ!BI33<>\"\",\"○\",\"\")","v":""},{"$f":"IF(基本データ!BJ33<>\"\",\"○\",\"\")","v":""},{"$f":"IF(基本データ!BK33<>\"\",\"○\",\"\")","v":""},{"$f":"IF(基本データ!BL33<>\"\",\"○\",\"\")","v":""},{"$f":"IF(基本データ!BM33<>\"\",\"○\",\"\")","v":""}]
[33,{"$f":"基本データ!J35","v":"石川県"},{"$f":"基本データ!B35","v":2017},{"$f":"基本データ!I35","v":"公立能登総合病院"},{"$f":"基本データ!AL35","v":4},{"$f":"IF(基本データ!AM35<>\"\",\"○\",\"\")","v":""},{"$f":"IF(基本データ!AN35<>\"\",\"○\",\"\")","v":""},{"$f":"IF(基本データ!AO35<>\"\",\"○\",\"\")","v":""},{"$f":"IF(基本データ!AP35<>\"\",\"○\",\"\")","v":""},{"$f":"IF(基本データ!AQ35<>\"\",\"○\",\"\")","v":""},{"$f":"IF(基本データ!AR35<>\"\",\"○\",\"\")","v":""},{"$f":"IF(基本データ!AS35<>\"\",\"○\",\"\")","v":""},{"$f":"IF(基本データ!AT35<>\"\",\"○\",\"\")","v":""},{"$f":"IF(基本データ!AU35<>\"\",\"○\",\"\")","v":""},{"$f":"IF(基本データ!AV35<>\"\",\"○\",\"\")","v":""},{"$f":"IF(基本データ!AW35<>\"\",\"○\",\"\")","v":"○"},{"$f":"IF(基本データ!AX35<>\"\",\"○\",\"\")","v":""},{"$f":"IF(基本データ!AY35<>\"\",\"○\",\"\")","v":""},{"$f":"IF(基本データ!AZ35<>\"\",\"○\",\"\")","v":"○"},{"$f":"IF(基本データ!BA35<>\"\",\"○\",\"\")","v":"○"},{"$f":"IF(基本データ!BB35<>\"\",\"○\",\"\")","v":""},{"$f":"IF(基本データ!BC35<>\"\",\"○\",\"\")","v":"○"},{"$f":"IF(基本データ!BD35<>\"\",\"○\",\"\")","v":""},{"$f":"IF(基本データ!BE35<>\"\",\"○\",\"\")","v":""},{"$f":"IF(基本データ!BF35<>\"\",\"○\",\"\")","v":""},{"$f":"IF(基本データ!BG35<>\"\",\"○\",\"\")","v":""},{"$f":"基本データ!BN35","v":0},{"$f":"IF(基本データ!BH35<>\"\",\"○\",\"\")","v":""},{"$f":"IF(基本データ!BI35<>\"\",\"○\",\"\")","v":""},{"$f":"IF(基本データ!BJ35<>\"\",\"○\",\"\")","v":""},{"$f":"IF(基本データ!BK35<>\"\",\"○\",\"\")","v":""},{"$f":"IF(基本データ!BL35<>\"\",\"○\",\"\")","v":""},{"$f":"IF(基本データ!BM35<>\"\",\"○\",\"\")","v":""}]
[34,{"$f":"基本データ!J36","v":"大阪府"},{"$f":"基本データ!B36","v":2017},{"$f":"基本データ!I36","v":"公立大学法人大阪（大阪公立大学）"},{"$f":"基本データ!AL36","v":10},{"$f":"IF(基本データ!AM36<>\"\",\"○\",\"\")","v":"○"},{"$f":"IF(基本データ!AN36<>\"\",\"○\",\"\")","v":"○"},{"$f":"IF(基本データ!AO36<>\"\",\"○\",\"\")","v":"○"},{"$f":"IF(基本データ!AP36<>\"\",\"○\",\"\")","v":"○"},{"$f":"IF(基本データ!AQ36<>\"\",\"○\",\"\")","v":""},{"$f":"IF(基本データ!AR36<>\"\",\"○\",\"\")","v":""},{"$f":"IF(基本データ!AS36<>\"\",\"○\",\"\")","v":""},{"$f":"IF(基本データ!AT36<>\"\",\"○\",\"\")","v":""},{"$f":"IF(基本データ!AU36<>\"\",\"○\",\"\")","v":"○"},{"$f":"IF(基本データ!AV36<>\"\",\"○\",\"\")","v":""},{"$f":"IF(基本データ!AW36<>\"\",\"○\",\"\")","v":""},{"$f":"IF(基本データ!AX36<>\"\",\"○\",\"\")","v":""},{"$f":"IF(基本データ!AY36<>\"\",\"○\",\"\")","v":"○"},{"$f":"IF(基本データ!AZ36<>\"\",\"○\",\"\")","v":""},{"$f":"IF(基本データ!BA36<>\"\",\"○\",\"\")","v":"○"},{"$f":"IF(基本データ!BB36<>\"\",\"○\",\"\")","v":"○"},{"$f":"IF(基本データ!BC36<>\"\",\"○\",\"\")","v":"○"},{"$f":"IF(基本データ!BD36<>\"\",\"○\",\"\")","v":""},{"$f":"IF(基本データ!BE36<>\"\",\"○\",\"\")","v":"○"},{"$f":"IF(基本データ!BF36<>\"\",\"○\",\"\")","v":""},{"$f":"IF(基本データ!BG36<>\"\",\"○\",\"\")","v":""},{"$f":"基本データ!BN36","v":1},{"$f":"IF(基本データ!BH36<>\"\",\"○\",\"\")","v":""},{"$f":"IF(基本データ!BI36<>\"\",\"○\",\"\")","v":""},{"$f":"IF(基本データ!BJ36<>\"\",\"○\",\"\")","v":""},{"$f":"IF(基本データ!BK36<>\"\",\"○\",\"\")","v":""},{"$f":"IF(基本データ!BL36<>\"\",\"○\",\"\")","v":""},{"$f":"IF(基本データ!BM36<>\"\",\"○\",\"\")","v":"○"}]
[35,{"$f":"基本データ!J37","v":"大阪府"},{"$f":"基本データ!B37","v":2017},{"$f":"基本データ!I37","v":"社会医療法人きつこう会　多根総合病院"},{"$f":"基本データ!AL37","v":7},{"$f":"IF(基本データ!AM37<>\"\",\"○\",\"\")","v":""},{"$f":"IF(基本データ!AN37<>\"\",\"○\",\"\")","v":""},{"$f":"IF(基本データ!AO37<>\"\",\"○\",\"\")","v":""},{"$f":"IF(基本データ!AP37<>\"\",\"○\",\"\")","v":""},{"$f":"IF(基本データ!AQ37<>\"\",\"○\",\"\")","v":""},{"$f":"IF(基本データ!AR37<>\"\",\"○\",\"\")","v":""},{"$f":"IF(基本データ!AS37<>\"\",\"○\",\"\")","v":"○"},{"$f":"IF(基本データ!AT37<>\"\",\"○\",\"\")","v":""},{"$f":"IF(基本データ!AU37<>\"\",\"○\",\"\")","v":"○"},{"$f":"IF(基本データ!AV37<>\"\",\"○\",\"\")","v":"○"},{"$f":"IF(基本データ!AW37<>\"\",\"○\",\"\")","v":"○"},{"$f":"IF(基本データ!AX37<>\"\",\"○\",\"\")","v":"○"},{"$f":"IF(基本データ!AY37<>\"\",\"○\",\"\")","v":"○"},{"$f":"IF(基本データ!AZ37<>\"\",\"○\",\"\")","v":""},{"$f":"IF(基本データ!BA37<>\"\",\"○\",\"\")","v":"○"},{"$f":"IF(基本データ!BB37<>\"\",\"○\",\"\")","v":""},{"$f":"IF(基本データ!BC37<>\"\",\"○\",\"\")","v":""},{"$f":"IF(基本データ!BD37<>\"\",\"○\",\"\")","v":""},{"$f":"IF(基本データ!BE37<>\"\",\"○\",\"\")","v":""},{"$f":"IF(基本データ!BF37<>\"\",\"○\",\"\")","v":""},{"$f":"IF(基本データ!BG37<>\"\",\"○\",\"\")","v":""},{"$f":"基本データ!BN37","v":0},{"$f":"IF(基本データ!BH37<>\"\",\"○\",\"\")","v":""},{"$f":"IF(基本データ!BI37<>\"\",\"○\",\"\")","v":""},{"$f":"IF(基本データ!BJ37<>\"\",\"○\",\"\")","v":""},{"$f":"IF(基本データ!BK37<>\"\",\"○\",\"\")","v":""},{"$f":"IF(基本データ!BL37<>\"\",\"○\",\"\")","v":""},{"$f":"IF(基本データ!BM37<>\"\",\"○\",\"\")","v":""}]
[36,{"$f":"基本データ!J38","v":"兵庫県"},{"$f":"基本データ!B38","v":2017},{"$f":"基本データ!I38","v":"兵庫医科大学　臨床教育統括センター"},{"$f":"基本データ!AL38","v":16},{"$f":"IF(基本データ!AM38<>\"\",\"○\",\"\")","v":"○"},{"$f":"IF(基本データ!AN38<>\"\",\"○\",\"\")","v":"○"},{"$f":"IF(基本データ!AO38<>\"\",\"○\",\"\")","v":"○"},{"$f":"IF(基本データ!AP38<>\"\",\"○\",\"\")","v":"○"},{"$f":"IF(基本データ!AQ38<>\"\",\"○\",\"\")","v":""},{"$f":"IF(基本データ!AR38<>\"\",\"○\",\"\")","v":""},{"$f":"IF(基本データ!AS38<>\"\",\"○\",\"\")","v":""},{"$f":"IF(基本データ!AT38<>\"\",\"○\",\"\")","v":"○"},{"$f":"IF(基本データ!AU38<>\"\",\"○\",\"\")","v":"○"},{"$f":"IF(基本データ!AV38<>\"\",\"○\",\"\")","v":"○"},{"$f":"IF(基本データ!AW38<>\"\",\"○\",\"\")","v":"○"},{"$f":"IF(基本データ!AX38<>\"\",\"○\",\"\")","v":"○"},{"$f":"IF(基本データ!AY38<>\"\",\"○\",\"\")","v":"○"},{"$f":"IF(基本データ!AZ38<>\"\",\"○\",\"\")","v":""},{"$f":"IF(基本データ!BA38<>\"\",\"○\",\"\")","v":"○"},{"$f":"IF(基本データ!BB38<>\"\",\"○\",\"\")","v":"○"},{"$f":"IF(基本データ!BC38<>\"\",\"○\",\"\")","v":"○"},{"$f":"IF(基本データ!BD38<>\"\",\"○\",\"\")","v":"○"},{"$f":"IF(基本データ!BE38<>\"\",\"○\",\"\")","v":"○"},{"$f":"IF(基本データ!BF38<>\"\",\"○\",\"\")","v":"○"},{"$f":"IF(基本データ!BG38<>\"\",\"○\",\"\")","v":""},{"$f":"基本データ!BN38","v":5},{"$f":"IF(基本データ!BH38<>\"\",\"○\",\"\")","v":"○"},{"$f":"IF(基本データ!BI38<>\"\",\"○\",\"\")","v":""},{"$f":"IF(基本データ!BJ38<>\"\",\"○\",\"\")","v":"○"},{"$f":"IF(基本データ!BK38<>\"\",\"○\",\"\")","v":"○"},{"$f":"IF(基本データ!BL38<>\"\",\"○\",\"\")","v":"○"},{"$f":"IF(基本データ!BM38<>\"\",\"○\",\"\")","v":"○"}]
[37,{"$f":"基本データ!J39","v":"和歌山県"},{"$f":"基本データ!B39","v":2017},{"$f":"基本データ!I39","v":"公立大学法人和歌山県立医科大学"},{"$f":"基本データ!AL39","v":9},{"$f":"IF(基本データ!AM39<>\"\",\"○\",\"\")","v":"○"},{"$f":"IF(基本データ!AN39<>\"\",\"○\",\"\")","v":""},{"$f":"IF(基本データ!AO39<>\"\",\"○\",\"\")","v":"○"},{"$f":"IF(基本データ!AP39<>\"\",\"○\",\"\")","v":""},{"$f":"IF(基本データ!AQ39<>\"\",\"○\",\"\")","v":""},{"$f":"IF(基本データ!AR39<>\"\",\"○\",\"\")","v":""},{"$f":"IF(基本データ!AS39<>\"\",\"○\",\"\")","v":""},{"$f":"IF(基本データ!AT39<>\"\",\"○\",\"\")","v":"○"},{"$f":"IF(基本データ!AU39<>\"\",\"○\",\"\")","v":"○"},{"$f":"IF(基本データ!AV39<>\"\",\"○\",\"\")","v":"○"},{"$f":"IF(基本データ!AW39<>\"\",\"○\",\"\")","v":"○"},{"$f":"IF(基本データ!AX39<>\"\",\"○\",\"\")","v":""},{"$f":"IF(基本データ!AY39<>\"\",\"○\",\"\")","v":"○"},{"$f":"IF(基本データ!AZ39<>\"\",\"○\",\"\")","v":""},{"$f":"IF(基本データ!BA39<>\"\",\"○\",\"\")","v":"○"},{"$f":"IF(基本データ!BB39<>\"\",\"○\",\"\")","v":""},{"$f":"IF(基本データ!BC39<>\"\",\"○\",\"\")","v":"○"},{"$f":"IF(基本データ!BD39<>\"\",\"○\",\"\")","v":""},{"$f":"IF(基本データ!BE39<>\"\",\"○\",\"\")","v":""},{"$f":"IF(基本データ!BF39<>\"\",\"○\",\"\")","v":""},{"$f":"IF(基本データ!BG39<>\"\",\"○\",\"\")","v":""},{"$f":"基本データ!BN39","v":1},{"$f":"IF(基本データ!BH39<>\"\",\"○\",\"\")","v":"○"},{"$f":"IF(基本データ!BI39<>\"\",\"○\",\"\")","v":""},{"$f":"IF(基本データ!BJ39<>\"\",\"○\",\"\")","v":""},{"$f":"IF(基本データ!BK39<>\"\",\"○\",\"\")","v":""},{"$f":"IF(基本データ!BL39<>\"\",\"○\",\"\")","v":""},{"$f":"IF(基本データ!BM39<>\"\",\"○\",\"\")","v":""}]
[38,{"$f":"基本データ!J40","v":"岡山県"},{"$f":"基本データ!B40","v":2017},{"$f":"基本データ!I40","v":"学校法人　川崎学園"},{"$f":"基本データ!AL40","v":15},{"$f":"IF(基本データ!AM40<>\"\",\"○\",\"\")","v":"○"},{"$f":"IF(基本データ!AN40<>\"\",\"○\",\"\")","v":"○"},{"$f":"IF(基本データ!AO40<>\"\",\"○\",\"\")","v":"○"},{"$f":"IF(基本データ!AP40<>\"\",\"○\",\"\")","v":""},{"$f":"IF(基本データ!AQ40<>\"\",\"○\",\"\")","v":""},{"$f":"IF(基本データ!AR40<>\"\",\"○\",\"\")","v":"○"},{"$f":"IF(基本データ!AS40<>\"\",\"○\",\"\")","v":"○"},{"$f":"IF(基本データ!AT40<>\"\",\"○\",\"\")","v":"○"},{"$f":"IF(基本データ!AU40<>\"\",\"○\",\"\")","v":"○"},{"$f":"IF(基本データ!AV40<>\"\",\"○\",\"\")","v":"○"},{"$f":"IF(基本データ!AW40<>\"\",\"○\",\"\")","v":"○"},{"$f":"IF(基本データ!AX40<>\"\",\"○\",\"\")","v":"○"},{"$f":"IF(基本データ!AY40<>\"\",\"○\",\"\")","v":"○"},{"$f":"IF(基本データ!AZ40<>\"\",\"○\",\"\")","v":""},{"$f":"IF(基本データ!BA40<>\"\",\"○\",\"\")","v":"○"},{"$f":"IF(基本データ!BB40<>\"\",\"○\",\"\")","v":"○"},{"$f":"IF(基本データ!BC40<>\"\",\"○\",\"\")","v":""},{"$f":"IF(基本データ!BD40<>\"\",\"○\",\"\")","v":"○"},{"$f":"IF(基本データ!BE40<>\"\",\"○\",\"\")","v":"○"},{"$f":"IF(基本データ!BF40<>\"\",\"○\",\"\")","v":""},{"$f":"IF(基本データ!BG40<>\"\",\"○\",\"\")","v":""},{"$f":"基本データ!BN40","v":2},{"$f":"IF(基本データ!BH40<>\"\",\"○\",\"\")","v":"○"},{"$f":"IF(基本データ!BI40<>\"\",\"○\",\"\")","v":""},{"$f":"IF(基本データ!BJ40<>\"\",\"○\",\"\")","v":"○"},{"$f":"IF(基本データ!BK40<>\"\",\"○\",\"\")","v":""},{"$f":"IF(基本データ!BL40<>\"\",\"○\",\"\")","v":""},{"$f":"IF(基本データ!BM40<>\"\",\"○\",\"\")","v":""}]
[39,{"$f":"基本データ!J41","v":"香川県"},{"$f":"基本データ!B41","v":2017},{"$f":"基本データ!I41","v":"独立行政法人国立病院機構　四国こどもとおとなの医療センター"},{"$f":"基本データ!AL41","v":7},{"$f":"IF(基本データ!AM41<>\"\",\"○\",\"\")","v":"○"},{"$f":"IF(基本データ!AN41<>\"\",\"○\",\"\")","v":"○"},{"$f":"IF(基本データ!AO41<>\"\",\"○\",\"\")","v":"○"},{"$f":"IF(基本データ!AP41<>\"\",\"○\",\"\")","v":""},{"$f":"IF(基本データ!AQ41<>\"\",\"○\",\"\")","v":""},{"$f":"IF(基本データ!AR41<>\"\",\"○\",\"\")","v":""},{"$f":"IF(基本データ!AS41<>\"\",\"○\",\"\")","v":""},{"$f":"IF(基本データ!AT41<>\"\",\"○\",\"\")","v":"○"},{"$f":"IF(基本データ!AU41<>\"\",\"○\",\"\")","v":""},{"$f":"IF(基本データ!AV41<>\"\",\"○\",\"\")","v":""},{"$f":"IF(基本データ!AW41<>\"\",\"○\",\"\")","v":"○"},{"$f":"IF(基本データ!AX41<>\"\",\"○\",\"\")","v":""},{"$f":"IF(基本データ!AY41<>\"\",\"○\",\"\")","v":""},{"$f":"IF(基本データ!AZ41<>\"\",\"○\",\"\")","v":""},{"$f":"IF(基本データ!BA41<>\"\",\"○\",\"\")","v":"○"},{"$f":"IF(基本データ!BB41<>\"\",\"○\",\"\")","v":""},{"$f":"IF(基本データ!BC41<>\"\",\"○\",\"\")","v":"○"},{"$f":"IF(基本データ!BD41<>\"\",\"○\",\"\")","v":""},{"$f":"IF(基本データ!BE41<>\"\",\"○\",\"\")","v":""},{"$f":"IF(基本データ!BF41<>\"\",\"○\",\"\")","v":""},{"$f":"IF(基本データ!BG41<>\"\",\"○\",\"\")","v":""},{"$f":"基本データ!BN41","v":1},{"$f":"IF(基本データ!BH41<>\"\",\"○\",\"\")","v":"○"},{"$f":"IF(基本データ!BI41<>\"\",\"○\",\"\")","v":""},{"$f":"IF(基本データ!BJ41<>\"\",\"○\",\"\")","v":""},{"$f":"IF(基本データ!BK41<>\"\",\"○\",\"\")","v":""},{"$f":"IF(基本データ!BL41<>\"\",\"○\",\"\")","v":""},{"$f":"IF(基本データ!BM41<>\"\",\"○\",\"\")","v":""}]
[40,{"$f":"基本データ!J42","v":"東京都"},{"$f":"基本データ!B42","v":2017},{"$f":"基本データ!I42","v":"独立行政法人地域医療機能推進機構"},{"$f":"基本データ!AL42","v":18},{"$f":"IF(基本データ!AM42<>\"\",\"○\",\"\")","v":"○"},{"$f":"IF(基本データ!AN42<>\"\",\"○\",\"\")","v":"○"},{"$f":"IF(基本データ!AO42<>\"\",\"○\",\"\")","v":"○"},{"$f":"IF(基本データ!AP42<>\"\",\"○\",\"\")","v":""},{"$f":"IF(基本データ!AQ42<>\"\",\"○\",\"\")","v":""},{"$f":"IF(基本データ!AR42<>\"\",\"○\",\"\")","v":"○"},{"$f":"IF(基本データ!AS42<>\"\",\"○\",\"\")","v":"○"},{"$f":"IF(基本データ!AT42<>\"\",\"○\",\"\")","v":"○"},{"$f":"IF(基本データ!AU42<>\"\",\"○\",\"\")","v":"○"},{"$f":"IF(基本データ!AV42<>\"\",\"○\",\"\")","v":"○"},{"$f":"IF(基本データ!AW42<>\"\",\"○\",\"\")","v":"○"},{"$f":"IF(基本データ!AX42<>\"\",\"○\",\"\")","v":"○"},{"$f":"IF(基本データ!AY42<>\"\",\"○\",\"\")","v":"○"},{"$f":"IF(基本データ!AZ42<>\"\",\"○\",\"\")","v":"○"},{"$f":"IF(基本データ!BA42<>\"\",\"○\",\"\")","v":"○"},{"$f":"IF(基本データ!BB42<>\"\",\"○\",\"\")","v":"○"},{"$f":"IF(基本データ!BC42<>\"\",\"○\",\"\")","v":"○"},{"$f":"IF(基本データ!BD42<>\"\",\"○\",\"\")","v":"○"},{"$f":"IF(基本データ!BE42<>\"\",\"○\",\"\")","v":"○"},{"$f":"IF(基本データ!BF42<>\"\",\"○\",\"\")","v":""},{"$f":"IF(基本データ!BG42<>\"\",\"○\",\"\")","v":"○"},{"$f":"基本データ!BN42","v":2},{"$f":"IF(基本データ!BH42<>\"\",\"○\",\"\")","v":"○"},{"$f":"IF(基本データ!BI42<>\"\",\"○\",\"\")","v":""},{"$f":"IF(基本データ!BJ42<>\"\",\"○\",\"\")","v":"○"},{"$f":"IF(基本データ!BK42<>\"\",\"○\",\"\")","v":""},{"$f":"IF(基本データ!BL42<>\"\",\"○\",\"\")","v":""},{"$f":"IF(基本データ!BM42<>\"\",\"○\",\"\")","v":""}]
[41,{"$f":"基本データ!J43","v":"北海道"},{"$f":"基本データ!B43","v":2017},{"$f":"基本データ!I43","v":"社会医療法人恵和会　西岡病院"},{"$f":"基本データ!AL43","v":1},{"$f":"IF(基本データ!AM43<>\"\",\"○\",\"\")","v":""},{"$f":"IF(基本データ!AN43<>\"\",\"○\",\"\")","v":""},{"$f":"IF(基本データ!AO43<>\"\",\"○\",\"\")","v":""},{"$f":"IF(基本データ!AP43<>\"\",\"○\",\"\")","v":""},{"$f":"IF(基本データ!AQ43<>\"\",\"○\",\"\")","v":""},{"$f":"IF(基本データ!AR43<>\"\",\"○\",\"\")","v":""},{"$f":"IF(基本データ!AS43<>\"\",\"○\",\"\")","v":""},{"$f":"IF(基本データ!AT43<>\"\",\"○\",\"\")","v":""},{"$f":"IF(基本データ!AU43<>\"\",\"○\",\"\")","v":""},{"$f":"IF(基本データ!AV43<>\"\",\"○\",\"\")","v":""},{"$f":"IF(基本データ!AW43<>\"\",\"○\",\"\")","v":""},{"$f":"IF(基本データ!AX43<>\"\",\"○\",\"\")","v":""},{"$f":"IF(基本データ!AY43<>\"\",\"○\",\"\")","v":""},{"$f":"IF(基本データ!AZ43<>\"\",\"○\",\"\")","v":""},{"$f":"IF(基本データ!BA43<>\"\",\"○\",\"\")","v":"○"},{"$f":"IF(基本データ!BB43<>\"\",\"○\",\"\")","v":""},{"$f":"IF(基本データ!BC43<>\"\",\"○\",\"\")","v":""},{"$f":"IF(基本データ!BD43<>\"\",\"○\",\"\")","v":""},{"$f":"IF(基本データ!BE43<>\"\",\"○\",\"\")","v":""},{"$f":"IF(基本データ!BF43<>\"\",\"○\",\"\")","v":""},{"$f":"IF(基本データ!BG43<>\"\",\"○\",\"\")","v":""},{"$f":"基本データ!BN43","v":0},{"$f":"IF(基本データ!BH43<>\"\",\"○\",\"\")","v":""},{"$f":"IF(基本データ!BI43<>\"\",\"○\",\"\")","v":""},{"$f":"IF(基本データ!BJ43<>\"\",\"○\",\"\")","v":""},{"$f":"IF(基本データ!BK43<>\"\",\"○\",\"\")","v":""},{"$f":"IF(基本データ!BL43<>\"\",\"○\",\"\")","v":""},{"$f":"IF(基本データ!BM43<>\"\",\"○\",\"\")","v":""}]
[42,{"$f":"基本データ!J44","v":"東京都"},{"$f":"基本データ!B44","v":2017},{"$f":"基本データ!I44","v":"医療法人社団永生会　"},{"$f":"基本データ!AL44","v":2},{"$f":"IF(基本データ!AM44<>\"\",\"○\",\"\")","v":""},{"$f":"IF(基本データ!AN44<>\"\",\"○\",\"\")","v":""},{"$f":"IF(基本データ!AO44<>\"\",\"○\",\"\")","v":"○"},{"$f":"IF(基本データ!AP44<>\"\",\"○\",\"\")","v":""},{"$f":"IF(基本データ!AQ44<>\"\",\"○\",\"\")","v":""},{"$f":"IF(基本データ!AR44<>\"\",\"○\",\"\")","v":""},{"$f":"IF(基本データ!AS44<>\"\",\"○\",\"\")","v":""},{"$f":"IF(基本データ!AT44<>\"\",\"○\",\"\")","v":""},{"$f":"IF(基本データ!AU44<>\"\",\"○\",\"\")","v":""},{"$f":"IF(基本データ!AV44<>\"\",\"○\",\"\")","v":""},{"$f":"IF(基本データ!AW44<>\"\",\"○\",\"\")","v":"○"},{"$f":"IF(基本データ!AX44<>\"\",\"○\",\"\")","v":""},{"$f":"IF(基本データ!AY44<>\"\",\"○\",\"\")","v":""},{"$f":"IF(基本データ!AZ44<>\"\",\"○\",\"\")","v":""},{"$f":"IF(基本データ!BA44<>\"\",\"○\",\"\")","v":""},{"$f":"IF(基本データ!BB44<>\"\",\"○\",\"\")","v":""},{"$f":"IF(基本データ!BC44<>\"\",\"○\",\"\")","v":""},{"$f":"IF(基本データ!BD44<>\"\",\"○\",\"\")","v":""},{"$f":"IF(基本データ!BE44<>\"\",\"○\",\"\")","v":""},{"$f":"IF(基本データ!BF44<>\"\",\"○\",\"\")","v":""},{"$f":"IF(基本データ!BG44<>\"\",\"○\",\"\")","v":""},{"$f":"基本データ!BN44","v":0},{"$f":"IF(基本データ!BH44<>\"\",\"○\",\"\")","v":""},{"$f":"IF(基本データ!BI44<>\"\",\"○\",\"\")","v":""},{"$f":"IF(基本データ!BJ44<>\"\",\"○\",\"\")","v":""},{"$f":"IF(基本データ!BK44<>\"\",\"○\",\"\")","v":""},{"$f":"IF(基本データ!BL44<>\"\",\"○\",\"\")","v":""},{"$f":"IF(基本データ!BM44<>\"\",\"○\",\"\")","v":""}]
[43,{"$f":"基本データ!J45","v":"東京都"},{"$f":"基本データ!B45","v":2017},{"$f":"基本データ!I45","v":"社会福祉法人恩賜財団済生会支部東京都済生会　東京都済生会中央病院　"},{"$f":"基本データ!AL45","v":10},{"$f":"IF(基本データ!AM45<>\"\",\"○\",\"\")","v":"○"},{"$f":"IF(基本データ!AN45<>\"\",\"○\",\"\")","v":"○"},{"$f":"IF(基本データ!AO45<>\"\",\"○\",\"\")","v":""},{"$f":"IF(基本データ!AP45<>\"\",\"○\",\"\")","v":"○"},{"$f":"IF(基本データ!AQ45<>\"\",\"○\",\"\")","v":""},{"$f":"IF(基本データ!AR45<>\"\",\"○\",\"\")","v":""},{"$f":"IF(基本データ!AS45<>\"\",\"○\",\"\")","v":""},{"$f":"IF(基本データ!AT45<>\"\",\"○\",\"\")","v":""},{"$f":"IF(基本データ!AU45<>\"\",\"○\",\"\")","v":""},{"$f":"IF(基本データ!AV45<>\"\",\"○\",\"\")","v":"○"},{"$f":"IF(基本データ!AW45<>\"\",\"○\",\"\")","v":""},{"$f":"IF(基本データ!AX45<>\"\",\"○\",\"\")","v":""},{"$f":"IF(基本データ!AY45<>\"\",\"○\",\"\")","v":"○"},{"$f":"IF(基本データ!AZ45<>\"\",\"○\",\"\")","v":""},{"$f":"IF(基本データ!BA45<>\"\",\"○\",\"\")","v":"○"},{"$f":"IF(基本データ!BB45<>\"\",\"○\",\"\")","v":""},{"$f":"IF(基本データ!BC45<>\"\",\"○\",\"\")","v":"○"},{"$f":"IF(基本データ!BD45<>\"\",\"○\",\"\")","v":"○"},{"$f":"IF(基本データ!BE45<>\"\",\"○\",\"\")","v":"○"},{"$f":"IF(基本データ!BF45<>\"\",\"○\",\"\")","v":"○"},{"$f":"IF(基本データ!BG45<>\"\",\"○\",\"\")","v":""},{"$f":"基本データ!BN45","v":1},{"$f":"IF(基本データ!BH45<>\"\",\"○\",\"\")","v":""},{"$f":"IF(基本データ!BI45<>\"\",\"○\",\"\")","v":""},{"$f":"IF(基本データ!BJ45<>\"\",\"○\",\"\")","v":"○"},{"$f":"IF(基本データ!BK45<>\"\",\"○\",\"\")","v":""},{"$f":"IF(基本データ!BL45<>\"\",\"○\",\"\")","v":""},{"$f":"IF(基本データ!BM45<>\"\",\"○\",\"\")","v":""}]
[44,{"$f":"基本データ!J46","v":"東京都"},{"$f":"基本データ!B46","v":2017},{"$f":"基本データ!I46","v":"セコム医療システム株式会社"},{"$f":"基本データ!AL46","v":14},{"$f":"IF(基本データ!AM46<>\"\",\"○\",\"\")","v":"○"},{"$f":"IF(基本データ!AN46<>\"\",\"○\",\"\")","v":"○"},{"$f":"IF(基本データ!AO46<>\"\",\"○\",\"\")","v":"○"},{"$f":"IF(基本データ!AP46<>\"\",\"○\",\"\")","v":""},{"$f":"IF(基本データ!AQ46<>\"\",\"○\",\"\")","v":""},{"$f":"IF(基本データ!AR46<>\"\",\"○\",\"\")","v":""},{"$f":"IF(基本データ!AS46<>\"\",\"○\",\"\")","v":""},{"$f":"IF(基本データ!AT46<>\"\",\"○\",\"\")","v":"○"},{"$f":"IF(基本データ!AU46<>\"\",\"○\",\"\")","v":"○"},{"$f":"IF(基本データ!AV46<>\"\",\"○\",\"\")","v":"○"},{"$f":"IF(基本データ!AW46<>\"\",\"○\",\"\")","v":"○"},{"$f":"IF(基本データ!AX46<>\"\",\"○\",\"\")","v":"○"},{"$f":"IF(基本データ!AY46<>\"\",\"○\",\"\")","v":"○"},{"$f":"IF(基本データ!AZ46<>\"\",\"○\",\"\")","v":""},{"$f":"IF(基本データ!BA46<>\"\",\"○\",\"\")","v":"○"},{"$f":"IF(基本データ!BB46<>\"\",\"○\",\"\")","v":"○"},{"$f":"IF(基本データ!BC46<>\"\",\"○\",\"\")","v":"○"},{"$f":"IF(基本データ!BD46<>\"\",\"○\",\"\")","v":"○"},{"$f":"IF(基本データ!BE46<>\"\",\"○\",\"\")","v":"○"},{"$f":"IF(基本データ!BF46<>\"\",\"○\",\"\")","v":""},{"$f":"IF(基本データ!BG46<>\"\",\"○\",\"\")","v":""},{"$f":"基本データ!BN46","v":3},{"$f":"IF(基本データ!BH46<>\"\",\"○\",\"\")","v":"○"},{"$f":"IF(基本データ!BI46<>\"\",\"○\",\"\")","v":""},{"$f":"IF(基本データ!BJ46<>\"\",\"○\",\"\")","v":"○"},{"$f":"IF(基本データ!BK46<>\"\",\"○\",\"\")","v":""},{"$f":"IF(基本データ!BL46<>\"\",\"○\",\"\")","v":"○"},{"$f":"IF(基本データ!BM46<>\"\",\"○\",\"\")","v":""}]
[45,{"$f":"基本データ!J47","v":"神奈川県"},{"$f":"基本データ!B47","v":2017},{"$f":"基本データ!I47","v":"医療法人五星会　菊名記念病院"},{"$f":"基本データ!AL47","v":2},{"$f":"IF(基本データ!AM47<>\"\",\"○\",\"\")","v":""},{"$f":"IF(基本データ!AN47<>\"\",\"○\",\"\")","v":""},{"$f":"IF(基本データ!AO47<>\"\",\"○\",\"\")","v":""},{"$f":"IF(基本データ!AP47<>\"\",\"○\",\"\")","v":""},{"$f":"IF(基本データ!AQ47<>\"\",\"○\",\"\")","v":""},{"$f":"IF(基本データ!AR47<>\"\",\"○\",\"\")","v":""},{"$f":"IF(基本データ!AS47<>\"\",\"○\",\"\")","v":""},{"$f":"IF(基本データ!AT47<>\"\",\"○\",\"\")","v":""},{"$f":"IF(基本データ!AU47<>\"\",\"○\",\"\")","v":""},{"$f":"IF(基本データ!AV47<>\"\",\"○\",\"\")","v":""},{"$f":"IF(基本データ!AW47<>\"\",\"○\",\"\")","v":""},{"$f":"IF(基本データ!AX47<>\"\",\"○\",\"\")","v":""},{"$f":"IF(基本データ!AY47<>\"\",\"○\",\"\")","v":""},{"$f":"IF(基本データ!AZ47<>\"\",\"○\",\"\")","v":""},{"$f":"IF(基本データ!BA47<>\"\",\"○\",\"\")","v":"○"},{"$f":"IF(基本データ!BB47<>\"\",\"○\",\"\")","v":""},{"$f":"IF(基本データ!BC47<>\"\",\"○\",\"\")","v":"○"},{"$f":"IF(基本データ!BD47<>\"\",\"○\",\"\")","v":""},{"$f":"IF(基本データ!BE47<>\"\",\"○\",\"\")","v":""},{"$f":"IF(基本データ!BF47<>\"\",\"○\",\"\")","v":""},{"$f":"IF(基本データ!BG47<>\"\",\"○\",\"\")","v":""},{"$f":"基本データ!BN47","v":0},{"$f":"IF(基本データ!BH47<>\"\",\"○\",\"\")","v":""},{"$f":"IF(基本データ!BI47<>\"\",\"○\",\"\")","v":""},{"$f":"IF(基本データ!BJ47<>\"\",\"○\",\"\")","v":""},{"$f":"IF(基本データ!BK47<>\"\",\"○\",\"\")","v":""},{"$f":"IF(基本データ!BL47<>\"\",\"○\",\"\")","v":""},{"$f":"IF(基本データ!BM47<>\"\",\"○\",\"\")","v":""}]
[46,{"$f":"基本データ!J48","v":"神奈川県"},{"$f":"基本データ!B48","v":2017},{"$f":"基本データ!I48","v":"医療法人横浜未来ヘルスケアシステム 戸塚共立第1病院　"},{"$f":"基本データ!AL48","v":18},{"$f":"IF(基本データ!AM48<>\"\",\"○\",\"\")","v":"○"},{"$f":"IF(基本データ!AN48<>\"\",\"○\",\"\")","v":"○"},{"$f":"IF(基本データ!AO48<>\"\",\"○\",\"\")","v":"○"},{"$f":"IF(基本データ!AP48<>\"\",\"○\",\"\")","v":""},{"$f":"IF(基本データ!AQ48<>\"\",\"○\",\"\")","v":""},{"$f":"IF(基本データ!AR48<>\"\",\"○\",\"\")","v":"○"},{"$f":"IF(基本データ!AS48<>\"\",\"○\",\"\")","v":"○"},{"$f":"IF(基本データ!AT48<>\"\",\"○\",\"\")","v":"○"},{"$f":"IF(基本データ!AU48<>\"\",\"○\",\"\")","v":"○"},{"$f":"IF(基本データ!AV48<>\"\",\"○\",\"\")","v":"○"},{"$f":"IF(基本データ!AW48<>\"\",\"○\",\"\")","v":""},{"$f":"IF(基本データ!AX48<>\"\",\"○\",\"\")","v":"○"},{"$f":"IF(基本データ!AY48<>\"\",\"○\",\"\")","v":"○"},{"$f":"IF(基本データ!AZ48<>\"\",\"○\",\"\")","v":"○"},{"$f":"IF(基本データ!BA48<>\"\",\"○\",\"\")","v":"○"},{"$f":"IF(基本データ!BB48<>\"\",\"○\",\"\")","v":"○"},{"$f":"IF(基本データ!BC48<>\"\",\"○\",\"\")","v":"○"},{"$f":"IF(基本データ!BD48<>\"\",\"○\",\"\")","v":"○"},{"$f":"IF(基本データ!BE48<>\"\",\"○\",\"\")","v":"○"},{"$f":"IF(基本データ!BF48<>\"\",\"○\",\"\")","v":"○"},{"$f":"IF(基本データ!BG48<>\"\",\"○\",\"\")","v":"○"},{"$f":"基本データ!BN48","v":0},{"$f":"IF(基本データ!BH48<>\"\",\"○\",\"\")","v":""},{"$f":"IF(基本データ!BI48<>\"\",\"○\",\"\")","v":""},{"$f":"IF(基本データ!BJ48<>\"\",\"○\",\"\")","v":""},{"$f":"IF(基本データ!BK48<>\"\",\"○\",\"\")","v":""},{"$f":"IF(基本データ!BL48<>\"\",\"○\",\"\")","v":""},{"$f":"IF(基本データ!BM48<>\"\",\"○\",\"\")","v":""}]
[47,{"$f":"基本データ!J49","v":"神奈川県"},{"$f":"基本データ!B49","v":2017},{"$f":"基本データ!I49","v":"社会福祉法人恩賜財団済生会支部神奈川県済生会横浜市東部病院"},{"$f":"基本データ!AL49","v":13},{"$f":"IF(基本データ!AM49<>\"\",\"○\",\"\")","v":"○"},{"$f":"IF(基本データ!AN49<>\"\",\"○\",\"\")","v":"○"},{"$f":"IF(基本データ!AO49<>\"\",\"○\",\"\")","v":"○"},{"$f":"IF(基本データ!AP49<>\"\",\"○\",\"\")","v":""},{"$f":"IF(基本データ!AQ49<>\"\",\"○\",\"\")","v":""},{"$f":"IF(基本データ!AR49<>\"\",\"○\",\"\")","v":""},{"$f":"IF(基本データ!AS49<>\"\",\"○\",\"\")","v":"○"},{"$f":"IF(基本データ!AT49<>\"\",\"○\",\"\")","v":"○"},{"$f":"IF(基本データ!AU49<>\"\",\"○\",\"\")","v":"○"},{"$f":"IF(基本データ!AV49<>\"\",\"○\",\"\")","v":"○"},{"$f":"IF(基本データ!AW49<>\"\",\"○\",\"\")","v":"○"},{"$f":"IF(基本データ!AX49<>\"\",\"○\",\"\")","v":"○"},{"$f":"IF(基本データ!AY49<>\"\",\"○\",\"\")","v":"○"},{"$f":"IF(基本データ!AZ49<>\"\",\"○\",\"\")","v":""},{"$f":"IF(基本データ!BA49<>\"\",\"○\",\"\")","v":"○"},{"$f":"IF(基本データ!BB49<>\"\",\"○\",\"\")","v":""},{"$f":"IF(基本データ!BC49<>\"\",\"○\",\"\")","v":"○"},{"$f":"IF(基本データ!BD49<>\"\",\"○\",\"\")","v":""},{"$f":"IF(基本データ!BE49<>\"\",\"○\",\"\")","v":""},{"$f":"IF(基本データ!BF49<>\"\",\"○\",\"\")","v":"○"},{"$f":"IF(基本データ!BG49<>\"\",\"○\",\"\")","v":""},{"$f":"基本データ!BN49","v":1},{"$f":"IF(基本データ!BH49<>\"\",\"○\",\"\")","v":"○"},{"$f":"IF(基本データ!BI49<>\"\",\"○\",\"\")","v":""},{"$f":"IF(基本データ!BJ49<>\"\",\"○\",\"\")","v":""},{"$f":"IF(基本データ!BK49<>\"\",\"○\",\"\")","v":""},{"$f":"IF(基本データ!BL49<>\"\",\"○\",\"\")","v":""},{"$f":"IF(基本データ!BM49<>\"\",\"○\",\"\")","v":""}]
[49,{"$f":"基本データ!J51","v":"石川県"},{"$f":"基本データ!B51","v":2017},{"$f":"基本データ!I51","v":"医療法人社団和楽仁　芳珠記念病院"},{"$f":"基本データ!AL51","v":5},{"$f":"IF(基本データ!AM51<>\"\",\"○\",\"\")","v":""},{"$f":"IF(基本データ!AN51<>\"\",\"○\",\"\")","v":""},{"$f":"IF(基本データ!AO51<>\"\",\"○\",\"\")","v":"○"},{"$f":"IF(基本データ!AP51<>\"\",\"○\",\"\")","v":""},{"$f":"IF(基本データ!AQ51<>\"\",\"○\",\"\")","v":""},{"$f":"IF(基本データ!AR51<>\"\",\"○\",\"\")","v":""},{"$f":"IF(基本データ!AS51<>\"\",\"○\",\"\")","v":""},{"$f":"IF(基本データ!AT51<>\"\",\"○\",\"\")","v":"○"},{"$f":"IF(基本データ!AU51<>\"\",\"○\",\"\")","v":""},{"$f":"IF(基本データ!AV51<>\"\",\"○\",\"\")","v":""},{"$f":"IF(基本データ!AW51<>\"\",\"○\",\"\")","v":"○"},{"$f":"IF(基本データ!AX51<>\"\",\"○\",\"\")","v":""},{"$f":"IF(基本データ!AY51<>\"\",\"○\",\"\")","v":""},{"$f":"IF(基本データ!AZ51<>\"\",\"○\",\"\")","v":""},{"$f":"IF(基本データ!BA51<>\"\",\"○\",\"\")","v":"○"},{"$f":"IF(基本データ!BB51<>\"\",\"○\",\"\")","v":""},{"$f":"IF(基本データ!BC51<>\"\",\"○\",\"\")","v":"○"},{"$f":"IF(基本データ!BD51<>\"\",\"○\",\"\")","v":""},{"$f":"IF(基本データ!BE51<>\"\",\"○\",\"\")","v":""},{"$f":"IF(基本データ!BF51<>\"\",\"○\",\"\")","v":""},{"$f":"IF(基本データ!BG51<>\"\",\"○\",\"\")","v":""},{"$f":"基本データ!BN51","v":1},{"$f":"IF(基本データ!BH51<>\"\",\"○\",\"\")","v":"○"},{"$f":"IF(基本データ!BI51<>\"\",\"○\",\"\")","v":""},{"$f":"IF(基本データ!BJ51<>\"\",\"○\",\"\")","v":""},{"$f":"IF(基本データ!BK51<>\"\",\"○\",\"\")","v":""},{"$f":"IF(基本データ!BL51<>\"\",\"○\",\"\")","v":""},{"$f":"IF(基本データ!BM51<>\"\",\"○\",\"\")","v":""}]
[50,{"$f":"基本データ!J52","v":"石川県"},{"$f":"基本データ!B52","v":2017},{"$f":"基本データ!I52","v":"公立松任石川中央病院"},{"$f":"基本データ!AL52","v":7},{"$f":"IF(基本データ!AM52<>\"\",\"○\",\"\")","v":""},{"$f":"IF(基本データ!AN52<>\"\",\"○\",\"\")","v":""},{"$f":"IF(基本データ!AO52<>\"\",\"○\",\"\")","v":""},{"$f":"IF(基本データ!AP52<>\"\",\"○\",\"\")","v":""},{"$f":"IF(基本データ!AQ52<>\"\",\"○\",\"\")","v":""},{"$f":"IF(基本データ!AR52<>\"\",\"○\",\"\")","v":""},{"$f":"IF(基本データ!AS52<>\"\",\"○\",\"\")","v":"○"},{"$f":"IF(基本データ!AT52<>\"\",\"○\",\"\")","v":""},{"$f":"IF(基本データ!AU52<>\"\",\"○\",\"\")","v":"○"},{"$f":"IF(基本データ!AV52<>\"\",\"○\",\"\")","v":"○"},{"$f":"IF(基本データ!AW52<>\"\",\"○\",\"\")","v":"○"},{"$f":"IF(基本データ!AX52<>\"\",\"○\",\"\")","v":""},{"$f":"IF(基本データ!AY52<>\"\",\"○\",\"\")","v":""},{"$f":"IF(基本データ!AZ52<>\"\",\"○\",\"\")","v":"○"},{"$f":"IF(基本データ!BA52<>\"\",\"○\",\"\")","v":"○"},{"$f":"IF(基本データ!BB52<>\"\",\"○\",\"\")","v":"○"},{"$f":"IF(基本データ!BC52<>\"\",\"○\",\"\")","v":""},{"$f":"IF(基本データ!BD52<>\"\",\"○\",\"\")","v":""},{"$f":"IF(基本データ!BE52<>\"\",\"○\",\"\")","v":""},{"$f":"IF(基本データ!BF52<>\"\",\"○\",\"\")","v":""},{"$f":"IF(基本データ!BG52<>\"\",\"○\",\"\")","v":""},{"$f":"基本データ!BN52","v":0},{"$f":"IF(基本データ!BH52<>\"\",\"○\",\"\")","v":""},{"$f":"IF(基本データ!BI52<>\"\",\"○\",\"\")","v":""},{"$f":"IF(基本データ!BJ52<>\"\",\"○\",\"\")","v":""},{"$f":"IF(基本データ!BK52<>\"\",\"○\",\"\")","v":""},{"$f":"IF(基本データ!BL52<>\"\",\"○\",\"\")","v":""},{"$f":"IF(基本データ!BM52<>\"\",\"○\",\"\")","v":""}]
[51,{"$f":"基本データ!J53","v":"石川県"},{"$f":"基本データ!B53","v":2017},{"$f":"基本データ!I53","v":"国民健康保険　小松市民病院"},{"$f":"基本データ!AL53","v":3},{"$f":"IF(基本データ!AM53<>\"\",\"○\",\"\")","v":""},{"$f":"IF(基本データ!AN53<>\"\",\"○\",\"\")","v":""},{"$f":"IF(基本データ!AO53<>\"\",\"○\",\"\")","v":""},{"$f":"IF(基本データ!AP53<>\"\",\"○\",\"\")","v":""},{"$f":"IF(基本データ!AQ53<>\"\",\"○\",\"\")","v":""},{"$f":"IF(基本データ!AR53<>\"\",\"○\",\"\")","v":""},{"$f":"IF(基本データ!AS53<>\"\",\"○\",\"\")","v":""},{"$f":"IF(基本データ!AT53<>\"\",\"○\",\"\")","v":""},{"$f":"IF(基本データ!AU53<>\"\",\"○\",\"\")","v":""},{"$f":"IF(基本データ!AV53<>\"\",\"○\",\"\")","v":""},{"$f":"IF(基本データ!AW53<>\"\",\"○\",\"\")","v":"○"},{"$f":"IF(基本データ!AX53<>\"\",\"○\",\"\")","v":""},{"$f":"IF(基本データ!AY53<>\"\",\"○\",\"\")","v":""},{"$f":"IF(基本データ!AZ53<>\"\",\"○\",\"\")","v":""},{"$f":"IF(基本データ!BA53<>\"\",\"○\",\"\")","v":"○"},{"$f":"IF(基本データ!BB53<>\"\",\"○\",\"\")","v":""},{"$f":"IF(基本データ!BC53<>\"\",\"○\",\"\")","v":"○"},{"$f":"IF(基本データ!BD53<>\"\",\"○\",\"\")","v":""},{"$f":"IF(基本データ!BE53<>\"\",\"○\",\"\")","v":""},{"$f":"IF(基本データ!BF53<>\"\",\"○\",\"\")","v":""},{"$f":"IF(基本データ!BG53<>\"\",\"○\",\"\")","v":""},{"$f":"基本データ!BN53","v":0},{"$f":"IF(基本データ!BH53<>\"\",\"○\",\"\")","v":""},{"$f":"IF(基本データ!BI53<>\"\",\"○\",\"\")","v":""},{"$f":"IF(基本データ!BJ53<>\"\",\"○\",\"\")","v":""},{"$f":"IF(基本データ!BK53<>\"\",\"○\",\"\")","v":""},{"$f":"IF(基本データ!BL53<>\"\",\"○\",\"\")","v":""},{"$f":"IF(基本データ!BM53<>\"\",\"○\",\"\")","v":""}]
[52,{"$f":"基本データ!J54","v":"福岡県"},{"$f":"基本データ!B54","v":2017},{"$f":"基本データ!I54","v":"社会医療法人　弘恵会　ヨコクラ病院"},{"$f":"基本データ!AL54","v":5},{"$f":"IF(基本データ!AM54<>\"\",\"○\",\"\")","v":""},{"$f":"IF(基本データ!AN54<>\"\",\"○\",\"\")","v":""},{"$f":"IF(基本データ!AO54<>\"\",\"○\",\"\")","v":"○"},{"$f":"IF(基本データ!AP54<>\"\",\"○\",\"\")","v":""},{"$f":"IF(基本データ!AQ54<>\"\",\"○\",\"\")","v":""},{"$f":"IF(基本データ!AR54<>\"\",\"○\",\"\")","v":""},{"$f":"IF(基本データ!AS54<>\"\",\"○\",\"\")","v":""},{"$f":"IF(基本データ!AT54<>\"\",\"○\",\"\")","v":"○"},{"$f":"IF(基本データ!AU54<>\"\",\"○\",\"\")","v":""},{"$f":"IF(基本データ!AV54<>\"\",\"○\",\"\")","v":""},{"$f":"IF(基本データ!AW54<>\"\",\"○\",\"\")","v":"○"},{"$f":"IF(基本データ!AX54<>\"\",\"○\",\"\")","v":""},{"$f":"IF(基本データ!AY54<>\"\",\"○\",\"\")","v":"○"},{"$f":"IF(基本データ!AZ54<>\"\",\"○\",\"\")","v":""},{"$f":"IF(基本データ!BA54<>\"\",\"○\",\"\")","v":"○"},{"$f":"IF(基本データ!BB54<>\"\",\"○\",\"\")","v":""},{"$f":"IF(基本データ!BC54<>\"\",\"○\",\"\")","v":""},{"$f":"IF(基本データ!BD54<>\"\",\"○\",\"\")","v":""},{"$f":"IF(基本データ!BE54<>\"\",\"○\",\"\")","v":""},{"$f":"IF(基本データ!BF54<>\"\",\"○\",\"\")","v":""},{"$f":"IF(基本データ!BG54<>\"\",\"○\",\"\")","v":""},{"$f":"基本データ!BN54","v":1},{"$f":"IF(基本データ!BH54<>\"\",\"○\",\"\")","v":"○"},{"$f":"IF(基本データ!BI54<>\"\",\"○\",\"\")","v":""},{"$f":"IF(基本データ!BJ54<>\"\",\"○\",\"\")","v":""},{"$f":"IF(基本データ!BK54<>\"\",\"○\",\"\")","v":""},{"$f":"IF(基本データ!BL54<>\"\",\"○\",\"\")","v":""},{"$f":"IF(基本データ!BM54<>\"\",\"○\",\"\")","v":""}]
[53,{"$f":"基本データ!J55","v":"福岡県"},{"$f":"基本データ!B55","v":2017},{"$f":"基本データ!I55","v":"社会医療法人雪の聖母会　聖マリア病院"},{"$f":"基本データ!AL55","v":11},{"$f":"IF(基本データ!AM55<>\"\",\"○\",\"\")","v":"○"},{"$f":"IF(基本データ!AN55<>\"\",\"○\",\"\")","v":"○"},{"$f":"IF(基本データ!AO55<>\"\",\"○\",\"\")","v":"○"},{"$f":"IF(基本データ!AP55<>\"\",\"○\",\"\")","v":"○"},{"$f":"IF(基本データ!AQ55<>\"\",\"○\",\"\")","v":""},{"$f":"IF(基本データ!AR55<>\"\",\"○\",\"\")","v":""},{"$f":"IF(基本データ!AS55<>\"\",\"○\",\"\")","v":""},{"$f":"IF(基本データ!AT55<>\"\",\"○\",\"\")","v":"○"},{"$f":"IF(基本データ!AU55<>\"\",\"○\",\"\")","v":"○"},{"$f":"IF(基本データ!AV55<>\"\",\"○\",\"\")","v":""},{"$f":"IF(基本データ!AW55<>\"\",\"○\",\"\")","v":"○"},{"$f":"IF(基本データ!AX55<>\"\",\"○\",\"\")","v":""},{"$f":"IF(基本データ!AY55<>\"\",\"○\",\"\")","v":"○"},{"$f":"IF(基本データ!AZ55<>\"\",\"○\",\"\")","v":""},{"$f":"IF(基本データ!BA55<>\"\",\"○\",\"\")","v":"○"},{"$f":"IF(基本データ!BB55<>\"\",\"○\",\"\")","v":""},{"$f":"IF(基本データ!BC55<>\"\",\"○\",\"\")","v":""},{"$f":"IF(基本データ!BD55<>\"\",\"○\",\"\")","v":"○"},{"$f":"IF(基本データ!BE55<>\"\",\"○\",\"\")","v":"○"},{"$f":"IF(基本データ!BF55<>\"\",\"○\",\"\")","v":""},{"$f":"IF(基本データ!BG55<>\"\",\"○\",\"\")","v":""},{"$f":"基本データ!BN55","v":3},{"$f":"IF(基本データ!BH55<>\"\",\"○\",\"\")","v":"○"},{"$f":"IF(基本データ!BI55<>\"\",\"○\",\"\")","v":""},{"$f":"IF(基本データ!BJ55<>\"\",\"○\",\"\")","v":"○"},{"$f":"IF(基本データ!BK55<>\"\",\"○\",\"\")","v":""},{"$f":"IF(基本データ!BL55<>\"\",\"○\",\"\")","v":""},{"$f":"IF(基本データ!BM55<>\"\",\"○\",\"\")","v":"○"}]
[54,{"$f":"基本データ!J56","v":"佐賀県"},{"$f":"基本データ!B56","v":2017},{"$f":"基本データ!I56","v":"社会医療法人祐愛会　織田病院"},{"$f":"基本データ!AL56","v":5},{"$f":"IF(基本データ!AM56<>\"\",\"○\",\"\")","v":""},{"$f":"IF(基本データ!AN56<>\"\",\"○\",\"\")","v":""},{"$f":"IF(基本データ!AO56<>\"\",\"○\",\"\")","v":"○"},{"$f":"IF(基本データ!AP56<>\"\",\"○\",\"\")","v":""},{"$f":"IF(基本データ!AQ56<>\"\",\"○\",\"\")","v":""},{"$f":"IF(基本データ!AR56<>\"\",\"○\",\"\")","v":""},{"$f":"IF(基本データ!AS56<>\"\",\"○\",\"\")","v":""},{"$f":"IF(基本データ!AT56<>\"\",\"○\",\"\")","v":"○"},{"$f":"IF(基本データ!AU56<>\"\",\"○\",\"\")","v":""},{"$f":"IF(基本データ!AV56<>\"\",\"○\",\"\")","v":""},{"$f":"IF(基本データ!AW56<>\"\",\"○\",\"\")","v":"○"},{"$f":"IF(基本データ!AX56<>\"\",\"○\",\"\")","v":""},{"$f":"IF(基本データ!AY56<>\"\",\"○\",\"\")","v":""},{"$f":"IF(基本データ!AZ56<>\"\",\"○\",\"\")","v":""},{"$f":"IF(基本データ!BA56<>\"\",\"○\",\"\")","v":"○"},{"$f":"IF(基本データ!BB56<>\"\",\"○\",\"\")","v":""},{"$f":"IF(基本データ!BC56<>\"\",\"○\",\"\")","v":""},{"$f":"IF(基本データ!BD56<>\"\",\"○\",\"\")","v":"○"},{"$f":"IF(基本データ!BE56<>\"\",\"○\",\"\")","v":""},{"$f":"IF(基本データ!BF56<>\"\",\"○\",\"\")","v":""},{"$f":"IF(基本データ!BG56<>\"\",\"○\",\"\")","v":""},{"$f":"基本データ!BN56","v":1},{"$f":"IF(基本データ!BH56<>\"\",\"○\",\"\")","v":"○"},{"$f":"IF(基本データ!BI56<>\"\",\"○\",\"\")","v":""},{"$f":"IF(基本データ!BJ56<>\"\",\"○\",\"\")","v":""},{"$f":"IF(基本データ!BK56<>\"\",\"○\",\"\")","v":""},{"$f":"IF(基本データ!BL56<>\"\",\"○\",\"\")","v":""},{"$f":"IF(基本データ!BM56<>\"\",\"○\",\"\")","v":""}]
[55,{"$f":"基本データ!J57","v":"北海道"},{"$f":"基本データ!B57","v":2018},{"$f":"基本データ!I57","v":"旭川赤十字病院"},{"$f":"基本データ!AL57","v":2},{"$f":"IF(基本データ!AM57<>\"\",\"○\",\"\")","v":""},{"$f":"IF(基本データ!AN57<>\"\",\"○\",\"\")","v":""},{"$f":"IF(基本データ!AO57<>\"\",\"○\",\"\")","v":""},{"$f":"IF(基本データ!AP57<>\"\",\"○\",\"\")","v":""},{"$f":"IF(基本データ!AQ57<>\"\",\"○\",\"\")","v":""},{"$f":"IF(基本データ!AR57<>\"\",\"○\",\"\")","v":""},{"$f":"IF(基本データ!AS57<>\"\",\"○\",\"\")","v":""},{"$f":"IF(基本データ!AT57<>\"\",\"○\",\"\")","v":""},{"$f":"IF(基本データ!AU57<>\"\",\"○\",\"\")","v":""},{"$f":"IF(基本データ!AV57<>\"\",\"○\",\"\")","v":""},{"$f":"IF(基本データ!AW57<>\"\",\"○\",\"\")","v":"○"},{"$f":"IF(基本データ!AX57<>\"\",\"○\",\"\")","v":""},{"$f":"IF(基本データ!AY57<>\"\",\"○\",\"\")","v":""},{"$f":"IF(基本データ!AZ57<>\"\",\"○\",\"\")","v":""},{"$f":"IF(基本データ!BA57<>\"\",\"○\",\"\")","v":""},{"$f":"IF(基本データ!BB57<>\"\",\"○\",\"\")","v":""},{"$f":"IF(基本データ!BC57<>\"\",\"○\",\"\")","v":"○"},{"$f":"IF(基本データ!BD57<>\"\",\"○\",\"\")","v":""},{"$f":"IF(基本データ!BE57<>\"\",\"○\",\"\")","v":""},{"$f":"IF(基本データ!BF57<>\"\",\"○\",\"\")","v":""},{"$f":"IF(基本データ!BG57<>\"\",\"○\",\"\")","v":""},{"$f":"基本データ!BN57","v":0},{"$f":"IF(基本データ!BH57<>\"\",\"○\",\"\")","v":""},{"$f":"IF(基本データ!BI57<>\"\",\"○\",\"\")","v":""},{"$f":"IF(基本データ!BJ57<>\"\",\"○\",\"\")","v":""},{"$f":"IF(基本データ!BK57<>\"\",\"○\",\"\")","v":""},{"$f":"IF(基本データ!BL57<>\"\",\"○\",\"\")","v":""},{"$f":"IF(基本データ!BM57<>\"\",\"○\",\"\")","v":""}]
[56,{"$f":"基本データ!J58","v":"北海道"},{"$f":"基本データ!B58","v":2018},{"$f":"基本データ!I58","v":"社会福祉法人恩賜財団済生会支部北海道済生会小樽病院"},{"$f":"基本データ!AL58","v":10},{"$f":"IF(基本データ!AM58<>\"\",\"○\",\"\")","v":"○"},{"$f":"IF(基本データ!AN58<>\"\",\"○\",\"\")","v":"○"},{"$f":"IF(基本データ!AO58<>\"\",\"○\",\"\")","v":""},{"$f":"IF(基本データ!AP58<>\"\",\"○\",\"\")","v":""},{"$f":"IF(基本データ!AQ58<>\"\",\"○\",\"\")","v":""},{"$f":"IF(基本データ!AR58<>\"\",\"○\",\"\")","v":""},{"$f":"IF(基本データ!AS58<>\"\",\"○\",\"\")","v":""},{"$f":"IF(基本データ!AT58<>\"\",\"○\",\"\")","v":"○"},{"$f":"IF(基本データ!AU58<>\"\",\"○\",\"\")","v":""},{"$f":"IF(基本データ!AV58<>\"\",\"○\",\"\")","v":""},{"$f":"IF(基本データ!AW58<>\"\",\"○\",\"\")","v":"○"},{"$f":"IF(基本データ!AX58<>\"\",\"○\",\"\")","v":""},{"$f":"IF(基本データ!AY58<>\"\",\"○\",\"\")","v":"○"},{"$f":"IF(基本データ!AZ58<>\"\",\"○\",\"\")","v":""},{"$f":"IF(基本データ!BA58<>\"\",\"○\",\"\")","v":"○"},{"$f":"IF(基本データ!BB58<>\"\",\"○\",\"\")","v":""},{"$f":"IF(基本データ!BC58<>\"\",\"○\",\"\")","v":"○"},{"$f":"IF(基本データ!BD58<>\"\",\"○\",\"\")","v":"○"},{"$f":"IF(基本データ!BE58<>\"\",\"○\",\"\")","v":"○"},{"$f":"IF(基本データ!BF58<>\"\",\"○\",\"\")","v":"○"},{"$f":"IF(基本データ!BG58<>\"\",\"○\",\"\")","v":""},{"$f":"基本データ!BN58","v":1},{"$f":"IF(基本データ!BH58<>\"\",\"○\",\"\")","v":""},{"$f":"IF(基本データ!BI58<>\"\",\"○\",\"\")","v":""},{"$f":"IF(基本データ!BJ58<>\"\",\"○\",\"\")","v":"○"},{"$f":"IF(基本データ!BK58<>\"\",\"○\",\"\")","v":""},{"$f":"IF(基本データ!BL58<>\"\",\"○\",\"\")","v":""},{"$f":"IF(基本データ!BM58<>\"\",\"○\",\"\")","v":""}]
[57,{"$f":"基本データ!J59","v":"秋田県"},{"$f":"基本データ!B59","v":2018},{"$f":"基本データ!I59","v":"社会医療法人青嵐会　本荘第一病院"},{"$f":"基本データ!AL59","v":4},{"$f":"IF(基本データ!AM59<>\"\",\"○\",\"\")","v":""},{"$f":"IF(基本データ!AN59<>\"\",\"○\",\"\")","v":""},{"$f":"IF(基本データ!AO59<>\"\",\"○\",\"\")","v":""},{"$f":"IF(基本データ!AP59<>\"\",\"○\",\"\")","v":""},{"$f":"IF(基本データ!AQ59<>\"\",\"○\",\"\")","v":""},{"$f":"IF(基本データ!AR59<>\"\",\"○\",\"\")","v":""},{"$f":"IF(基本データ!AS59<>\"\",\"○\",\"\")","v":""},{"$f":"IF(基本データ!AT59<>\"\",\"○\",\"\")","v":""},{"$f":"IF(基本データ!AU59<>\"\",\"○\",\"\")","v":"○"},{"$f":"IF(基本データ!AV59<>\"\",\"○\",\"\")","v":"○"},{"$f":"IF(基本データ!AW59<>\"\",\"○\",\"\")","v":""},{"$f":"IF(基本データ!AX59<>\"\",\"○\",\"\")","v":""},{"$f":"IF(基本データ!AY59<>\"\",\"○\",\"\")","v":"○"},{"$f":"IF(基本データ!AZ59<>\"\",\"○\",\"\")","v":""},{"$f":"IF(基本データ!BA59<>\"\",\"○\",\"\")","v":"○"},{"$f":"IF(基本データ!BB59<>\"\",\"○\",\"\")","v":""},{"$f":"IF(基本データ!BC59<>\"\",\"○\",\"\")","v":""},{"$f":"IF(基本データ!BD59<>\"\",\"○\",\"\")","v":""},{"$f":"IF(基本データ!BE59<>\"\",\"○\",\"\")","v":""},{"$f":"IF(基本データ!BF59<>\"\",\"○\",\"\")","v":""},{"$f":"IF(基本データ!BG59<>\"\",\"○\",\"\")","v":""},{"$f":"基本データ!BN59","v":0},{"$f":"IF(基本データ!BH59<>\"\",\"○\",\"\")","v":""},{"$f":"IF(基本データ!BI59<>\"\",\"○\",\"\")","v":""},{"$f":"IF(基本データ!BJ59<>\"\",\"○\",\"\")","v":""},{"$f":"IF(基本データ!BK59<>\"\",\"○\",\"\")","v":""},{"$f":"IF(基本データ!BL59<>\"\",\"○\",\"\")","v":""},{"$f":"IF(基本データ!BM59<>\"\",\"○\",\"\")","v":""}]
[58,{"$f":"基本データ!J60","v":"東京都"},{"$f":"基本データ!B60","v":2018},{"$f":"基本データ!I60","v":"医療法人財団慈生会　野村病院"},{"$f":"基本データ!AL60","v":1},{"$f":"IF(基本データ!AM60<>\"\",\"○\",\"\")","v":""},{"$f":"IF(基本データ!AN60<>\"\",\"○\",\"\")","v":""},{"$f":"IF(基本データ!AO60<>\"\",\"○\",\"\")","v":""},{"$f":"IF(基本データ!AP60<>\"\",\"○\",\"\")","v":""},{"$f":"IF(基本データ!AQ60<>\"\",\"○\",\"\")","v":""},{"$f":"IF(基本データ!AR60<>\"\",\"○\",\"\")","v":""},{"$f":"IF(基本データ!AS60<>\"\",\"○\",\"\")","v":""},{"$f":"IF(基本データ!AT60<>\"\",\"○\",\"\")","v":""},{"$f":"IF(基本データ!AU60<>\"\",\"○\",\"\")","v":""},{"$f":"IF(基本データ!AV60<>\"\",\"○\",\"\")","v":""},{"$f":"IF(基本データ!AW60<>\"\",\"○\",\"\")","v":""},{"$f":"IF(基本データ!AX60<>\"\",\"○\",\"\")","v":""},{"$f":"IF(基本データ!AY60<>\"\",\"○\",\"\")","v":""},{"$f":"IF(基本データ!AZ60<>\"\",\"○\",\"\")","v":""},{"$f":"IF(基本データ!BA60<>\"\",\"○\",\"\")","v":"○"},{"$f":"IF(基本データ!BB60<>\"\",\"○\",\"\")","v":""},{"$f":"IF(基本データ!BC60<>\"\",\"○\",\"\")","v":""},{"$f":"IF(基本データ!BD60<>\"\",\"○\",\"\")","v":""},{"$f":"IF(基本データ!BE60<>\"\",\"○\",\"\")","v":""},{"$f":"IF(基本データ!BF60<>\"\",\"○\",\"\")","v":""},{"$f":"IF(基本データ!BG60<>\"\",\"○\",\"\")","v":""},{"$f":"基本データ!BN60","v":0},{"$f":"IF(基本データ!BH60<>\"\",\"○\",\"\")","v":""},{"$f":"IF(基本データ!BI60<>\"\",\"○\",\"\")","v":""},{"$f":"IF(基本データ!BJ60<>\"\",\"○\",\"\")","v":""},{"$f":"IF(基本データ!BK60<>\"\",\"○\",\"\")","v":""},{"$f":"IF(基本データ!BL60<>\"\",\"○\",\"\")","v":""},{"$f":"IF(基本データ!BM60<>\"\",\"○\",\"\")","v":""}]
[59,{"$f":"基本データ!J61","v":"東京都"},{"$f":"基本データ!B61","v":2018},{"$f":"基本データ!I61","v":"日本赤十字社"},{"$f":"基本データ!AL61","v":12},{"$f":"IF(基本データ!AM61<>\"\",\"○\",\"\")","v":"○"},{"$f":"IF(基本データ!AN61<>\"\",\"○\",\"\")","v":"○"},{"$f":"IF(基本データ!AO61<>\"\",\"○\",\"\")","v":"○"},{"$f":"IF(基本データ!AP61<>\"\",\"○\",\"\")","v":""},{"$f":"IF(基本データ!AQ61<>\"\",\"○\",\"\")","v":""},{"$f":"IF(基本データ!AR61<>\"\",\"○\",\"\")","v":""},{"$f":"IF(基本データ!AS61<>\"\",\"○\",\"\")","v":""},{"$f":"IF(基本データ!AT61<>\"\",\"○\",\"\")","v":"○"},{"$f":"IF(基本データ!AU61<>\"\",\"○\",\"\")","v":""},{"$f":"IF(基本データ!AV61<>\"\",\"○\",\"\")","v":""},{"$f":"IF(基本データ!AW61<>\"\",\"○\",\"\")","v":"○"},{"$f":"IF(基本データ!AX61<>\"\",\"○\",\"\")","v":""},{"$f":"IF(基本データ!AY61<>\"\",\"○\",\"\")","v":"○"},{"$f":"IF(基本データ!AZ61<>\"\",\"○\",\"\")","v":""},{"$f":"IF(基本データ!BA61<>\"\",\"○\",\"\")","v":"○"},{"$f":"IF(基本データ!BB61<>\"\",\"○\",\"\")","v":"○"},{"$f":"IF(基本データ!BC61<>\"\",\"○\",\"\")","v":"○"},{"$f":"IF(基本データ!BD61<>\"\",\"○\",\"\")","v":"○"},{"$f":"IF(基本データ!BE61<>\"\",\"○\",\"\")","v":"○"},{"$f":"IF(基本データ!BF61<>\"\",\"○\",\"\")","v":"○"},{"$f":"IF(基本データ!BG61<>\"\",\"○\",\"\")","v":""},{"$f":"基本データ!BN61","v":3},{"$f":"IF(基本データ!BH61<>\"\",\"○\",\"\")","v":"○"},{"$f":"IF(基本データ!BI61<>\"\",\"○\",\"\")","v":""},{"$f":"IF(基本データ!BJ61<>\"\",\"○\",\"\")","v":"○"},{"$f":"IF(基本データ!BK61<>\"\",\"○\",\"\")","v":"○"},{"$f":"IF(基本データ!BL61<>\"\",\"○\",\"\")","v":""},{"$f":"IF(基本データ!BM61<>\"\",\"○\",\"\")","v":""}]
[60,{"$f":"基本データ!J62","v":"東京都"},{"$f":"基本データ!B62","v":2018},{"$f":"基本データ!I62","v":"武蔵野赤十字病院"},{"$f":"基本データ!AL62","v":11},{"$f":"IF(基本データ!AM62<>\"\",\"○\",\"\")","v":"○"},{"$f":"IF(基本データ!AN62<>\"\",\"○\",\"\")","v":"○"},{"$f":"IF(基本データ!AO62<>\"\",\"○\",\"\")","v":"○"},{"$f":"IF(基本データ!AP62<>\"\",\"○\",\"\")","v":""},{"$f":"IF(基本データ!AQ62<>\"\",\"○\",\"\")","v":""},{"$f":"IF(基本データ!AR62<>\"\",\"○\",\"\")","v":""},{"$f":"IF(基本データ!AS62<>\"\",\"○\",\"\")","v":""},{"$f":"IF(基本データ!AT62<>\"\",\"○\",\"\")","v":""},{"$f":"IF(基本データ!AU62<>\"\",\"○\",\"\")","v":""},{"$f":"IF(基本データ!AV62<>\"\",\"○\",\"\")","v":""},{"$f":"IF(基本データ!AW62<>\"\",\"○\",\"\")","v":"○"},{"$f":"IF(基本データ!AX62<>\"\",\"○\",\"\")","v":"○"},{"$f":"IF(基本データ!AY62<>\"\",\"○\",\"\")","v":"○"},{"$f":"IF(基本データ!AZ62<>\"\",\"○\",\"\")","v":""},{"$f":"IF(基本データ!BA62<>\"\",\"○\",\"\")","v":"○"},{"$f":"IF(基本データ!BB62<>\"\",\"○\",\"\")","v":"○"},{"$f":"IF(基本データ!BC62<>\"\",\"○\",\"\")","v":"○"},{"$f":"IF(基本データ!BD62<>\"\",\"○\",\"\")","v":"○"},{"$f":"IF(基本データ!BE62<>\"\",\"○\",\"\")","v":"○"},{"$f":"IF(基本データ!BF62<>\"\",\"○\",\"\")","v":""},{"$f":"IF(基本データ!BG62<>\"\",\"○\",\"\")","v":""},{"$f":"基本データ!BN62","v":1},{"$f":"IF(基本データ!BH62<>\"\",\"○\",\"\")","v":""},{"$f":"IF(基本データ!BI62<>\"\",\"○\",\"\")","v":""},{"$f":"IF(基本データ!BJ62<>\"\",\"○\",\"\")","v":"○"},{"$f":"IF(基本データ!BK62<>\"\",\"○\",\"\")","v":""},{"$f":"IF(基本データ!BL62<>\"\",\"○\",\"\")","v":""},{"$f":"IF(基本データ!BM62<>\"\",\"○\",\"\")","v":""}]
[61,{"$f":"基本データ!J63","v":"長野県"},{"$f":"基本データ!B63","v":2018},{"$f":"基本データ!I63","v":"学校法人佐久学園　佐久大学大学院看護学研究科看護学専攻"},{"$f":"基本データ!AL63","v":12},{"$f":"IF(基本データ!AM63<>\"\",\"○\",\"\")","v":"○"},{"$f":"IF(基本データ!AN63<>\"\",\"○\",\"\")","v":"○"},{"$f":"IF(基本データ!AO63<>\"\",\"○\",\"\")","v":"○"},{"$f":"IF(基本データ!AP63<>\"\",\"○\",\"\")","v":""},{"$f":"IF(基本データ!AQ63<>\"\",\"○\",\"\")","v":""},{"$f":"IF(基本データ!AR63<>\"\",\"○\",\"\")","v":""},{"$f":"IF(基本データ!AS63<>\"\",\"○\",\"\")","v":""},{"$f":"IF(基本データ!AT63<>\"\",\"○\",\"\")","v":"○"},{"$f":"IF(基本データ!AU63<>\"\",\"○\",\"\")","v":""},{"$f":"IF(基本データ!AV63<>\"\",\"○\",\"\")","v":""},{"$f":"IF(基本データ!AW63<>\"\",\"○\",\"\")","v":"○"},{"$f":"IF(基本データ!AX63<>\"\",\"○\",\"\")","v":""},{"$f":"IF(基本データ!AY63<>\"\",\"○\",\"\")","v":"○"},{"$f":"IF(基本データ!AZ63<>\"\",\"○\",\"\")","v":""},{"$f":"IF(基本データ!BA63<>\"\",\"○\",\"\")","v":"○"},{"$f":"IF(基本データ!BB63<>\"\",\"○\",\"\")","v":"○"},{"$f":"IF(基本データ!BC63<>\"\",\"○\",\"\")","v":"○"},{"$f":"IF(基本データ!BD63<>\"\",\"○\",\"\")","v":"○"},{"$f":"IF(基本データ!BE63<>\"\",\"○\",\"\")","v":"○"},{"$f":"IF(基本データ!BF63<>\"\",\"○\",\"\")","v":"○"},{"$f":"IF(基本データ!BG63<>\"\",\"○\",\"\")","v":""},{"$f":"基本データ!BN63","v":3},{"$f":"IF(基本データ!BH63<>\"\",\"○\",\"\")","v":"○"},{"$f":"IF(基本データ!BI63<>\"\",\"○\",\"\")","v":""},{"$f":"IF(基本データ!BJ63<>\"\",\"○\",\"\")","v":"○"},{"$f":"IF(基本データ!BK63<>\"\",\"○\",\"\")","v":"○"},{"$f":"IF(基本データ!BL63<>\"\",\"○\",\"\")","v":""},{"$f":"IF(基本データ!BM63<>\"\",\"○\",\"\")","v":""}]
[62,{"$f":"基本データ!J64","v":"大阪府"},{"$f":"基本データ!B64","v":2018},{"$f":"基本データ!I64","v":"公益社団法人　大阪府看護協会"},{"$f":"基本データ!AL64","v":14},{"$f":"IF(基本データ!AM64<>\"\",\"○\",\"\")","v":"○"},{"$f":"IF(基本データ!AN64<>\"\",\"○\",\"\")","v":"○"},{"$f":"IF(基本データ!AO64<>\"\",\"○\",\"\")","v":"○"},{"$f":"IF(基本データ!AP64<>\"\",\"○\",\"\")","v":""},{"$f":"IF(基本データ!AQ64<>\"\",\"○\",\"\")","v":""},{"$f":"IF(基本データ!AR64<>\"\",\"○\",\"\")","v":""},{"$f":"IF(基本データ!AS64<>\"\",\"○\",\"\")","v":""},{"$f":"IF(基本データ!AT64<>\"\",\"○\",\"\")","v":"○"},{"$f":"IF(基本データ!AU64<>\"\",\"○\",\"\")","v":"○"},{"$f":"IF(基本データ!AV64<>\"\",\"○\",\"\")","v":""},{"$f":"IF(基本データ!AW64<>\"\",\"○\",\"\")","v":"○"},{"$f":"IF(基本データ!AX64<>\"\",\"○\",\"\")","v":"○"},{"$f":"IF(基本データ!AY64<>\"\",\"○\",\"\")","v":"○"},{"$f":"IF(基本データ!AZ64<>\"\",\"○\",\"\")","v":""},{"$f":"IF(基本データ!BA64<>\"\",\"○\",\"\")","v":"○"},{"$f":"IF(基本データ!BB64<>\"\",\"○\",\"\")","v":"○"},{"$f":"IF(基本データ!BC64<>\"\",\"○\",\"\")","v":"○"},{"$f":"IF(基本データ!BD64<>\"\",\"○\",\"\")","v":"○"},{"$f":"IF(基本データ!BE64<>\"\",\"○\",\"\")","v":"○"},{"$f":"IF(基本データ!BF64<>\"\",\"○\",\"\")","v":"○"},{"$f":"IF(基本データ!BG64<>\"\",\"○\",\"\")","v":""},{"$f":"基本データ!BN64","v":3},{"$f":"IF(基本データ!BH64<>\"\",\"○\",\"\")","v":"○"},{"$f":"IF(基本データ!BI64<>\"\",\"○\",\"\")","v":""},{"$f":"IF(基本データ!BJ64<>\"\",\"○\",\"\")","v":""},{"$f":"IF(基本データ!BK64<>\"\",\"○\",\"\")","v":"○"},{"$f":"IF(基本データ!BL64<>\"\",\"○\",\"\")","v":"○"},{"$f":"IF(基本データ!BM64<>\"\",\"○\",\"\")","v":""}]
[63,{"$f":"基本データ!J65","v":"兵庫県"},{"$f":"基本データ!B65","v":2018},{"$f":"基本データ!I65","v":"姫路赤十字病院"},{"$f":"基本データ!AL65","v":12},{"$f":"IF(基本データ!AM65<>\"\",\"○\",\"\")","v":"○"},{"$f":"IF(基本データ!AN65<>\"\",\"○\",\"\")","v":"○"},{"$f":"IF(基本データ!AO65<>\"\",\"○\",\"\")","v":"○"},{"$f":"IF(基本データ!AP65<>\"\",\"○\",\"\")","v":""},{"$f":"IF(基本データ!AQ65<>\"\",\"○\",\"\")","v":""},{"$f":"IF(基本データ!AR65<>\"\",\"○\",\"\")","v":""},{"$f":"IF(基本データ!AS65<>\"\",\"○\",\"\")","v":""},{"$f":"IF(基本データ!AT65<>\"\",\"○\",\"\")","v":""},{"$f":"IF(基本データ!AU65<>\"\",\"○\",\"\")","v":""},{"$f":"IF(基本データ!AV65<>\"\",\"○\",\"\")","v":"○"},{"$f":"IF(基本データ!AW65<>\"\",\"○\",\"\")","v":"○"},{"$f":"IF(基本データ!AX65<>\"\",\"○\",\"\")","v":""},{"$f":"IF(基本データ!AY65<>\"\",\"○\",\"\")","v":"○"},{"$f":"IF(基本データ!AZ65<>\"\",\"○\",\"\")","v":""},{"$f":"IF(基本データ!BA65<>\"\",\"○\",\"\")","v":"○"},{"$f":"IF(基本データ!BB65<>\"\",\"○\",\"\")","v":"○"},{"$f":"IF(基本データ!BC65<>\"\",\"○\",\"\")","v":"○"},{"$f":"IF(基本データ!BD65<>\"\",\"○\",\"\")","v":"○"},{"$f":"IF(基本データ!BE65<>\"\",\"○\",\"\")","v":"○"},{"$f":"IF(基本データ!BF65<>\"\",\"○\",\"\")","v":"○"},{"$f":"IF(基本データ!BG65<>\"\",\"○\",\"\")","v":""},{"$f":"基本データ!BN65","v":1},{"$f":"IF(基本データ!BH65<>\"\",\"○\",\"\")","v":""},{"$f":"IF(基本データ!BI65<>\"\",\"○\",\"\")","v":""},{"$f":"IF(基本データ!BJ65<>\"\",\"○\",\"\")","v":"○"},{"$f":"IF(基本データ!BK65<>\"\",\"○\",\"\")","v":""},{"$f":"IF(基本データ!BL65<>\"\",\"○\",\"\")","v":""},{"$f":"IF(基本データ!BM65<>\"\",\"○\",\"\")","v":""}]
[64,{"$f":"基本データ!J66","v":"鳥取県"},{"$f":"基本データ!B66","v":2018},{"$f":"基本データ!I66","v":"国立大学法人　鳥取大学医学部附属病院"},{"$f":"基本データ!AL66","v":7},{"$f":"IF(基本データ!AM66<>\"\",\"○\",\"\")","v":"○"},{"$f":"IF(基本データ!AN66<>\"\",\"○\",\"\")","v":"○"},{"$f":"IF(基本データ!AO66<>\"\",\"○\",\"\")","v":""},{"$f":"IF(基本データ!AP66<>\"\",\"○\",\"\")","v":""},{"$f":"IF(基本データ!AQ66<>\"\",\"○\",\"\")","v":""},{"$f":"IF(基本データ!AR66<>\"\",\"○\",\"\")","v":""},{"$f":"IF(基本データ!AS66<>\"\",\"○\",\"\")","v":""},{"$f":"IF(基本データ!AT66<>\"\",\"○\",\"\")","v":""},{"$f":"IF(基本データ!AU66<>\"\",\"○\",\"\")","v":""},{"$f":"IF(基本データ!AV66<>\"\",\"○\",\"\")","v":""},{"$f":"IF(基本データ!AW66<>\"\",\"○\",\"\")","v":""},{"$f":"IF(基本データ!AX66<>\"\",\"○\",\"\")","v":""},{"$f":"IF(基本データ!AY66<>\"\",\"○\",\"\")","v":"○"},{"$f":"IF(基本データ!AZ66<>\"\",\"○\",\"\")","v":""},{"$f":"IF(基本データ!BA66<>\"\",\"○\",\"\")","v":"○"},{"$f":"IF(基本データ!BB66<>\"\",\"○\",\"\")","v":""},{"$f":"IF(基本データ!BC66<>\"\",\"○\",\"\")","v":"○"},{"$f":"IF(基本データ!BD66<>\"\",\"○\",\"\")","v":"○"},{"$f":"IF(基本データ!BE66<>\"\",\"○\",\"\")","v":"○"},{"$f":"IF(基本データ!BF66<>\"\",\"○\",\"\")","v":""},{"$f":"IF(基本データ!BG66<>\"\",\"○\",\"\")","v":""},{"$f":"基本データ!BN66","v":0},{"$f":"IF(基本データ!BH66<>\"\",\"○\",\"\")","v":""},{"$f":"IF(基本データ!BI66<>\"\",\"○\",\"\")","v":""},{"$f":"IF(基本データ!BJ66<>\"\",\"○\",\"\")","v":""},{"$f":"IF(基本データ!BK66<>\"\",\"○\",\"\")","v":""},{"$f":"IF(基本データ!BL66<>\"\",\"○\",\"\")","v":""},{"$f":"IF(基本データ!BM66<>\"\",\"○\",\"\")","v":""}]
[65,{"$f":"基本データ!J67","v":"山口県"},{"$f":"基本データ!B67","v":2018},{"$f":"基本データ!I67","v":"綜合病院　山口赤十字病院"},{"$f":"基本データ!AL67","v":4},{"$f":"IF(基本データ!AM67<>\"\",\"○\",\"\")","v":""},{"$f":"IF(基本データ!AN67<>\"\",\"○\",\"\")","v":""},{"$f":"IF(基本データ!AO67<>\"\",\"○\",\"\")","v":"○"},{"$f":"IF(基本データ!AP67<>\"\",\"○\",\"\")","v":""},{"$f":"IF(基本データ!AQ67<>\"\",\"○\",\"\")","v":""},{"$f":"IF(基本データ!AR67<>\"\",\"○\",\"\")","v":""},{"$f":"IF(基本データ!AS67<>\"\",\"○\",\"\")","v":""},{"$f":"IF(基本データ!AT67<>\"\",\"○\",\"\")","v":"○"},{"$f":"IF(基本データ!AU67<>\"\",\"○\",\"\")","v":""},{"$f":"IF(基本データ!AV67<>\"\",\"○\",\"\")","v":""},{"$f":"IF(基本データ!AW67<>\"\",\"○\",\"\")","v":"○"},{"$f":"IF(基本データ!AX67<>\"\",\"○\",\"\")","v":""},{"$f":"IF(基本データ!AY67<>\"\",\"○\",\"\")","v":""},{"$f":"IF(基本データ!AZ67<>\"\",\"○\",\"\")","v":""},{"$f":"IF(基本データ!BA67<>\"\",\"○\",\"\")","v":"○"},{"$f":"IF(基本データ!BB67<>\"\",\"○\",\"\")","v":""},{"$f":"IF(基本データ!BC67<>\"\",\"○\",\"\")","v":""},{"$f":"IF(基本データ!BD67<>\"\",\"○\",\"\")","v":""},{"$f":"IF(基本データ!BE67<>\"\",\"○\",\"\")","v":""},{"$f":"IF(基本データ!BF67<>\"\",\"○\",\"\")","v":""},{"$f":"IF(基本データ!BG67<>\"\",\"○\",\"\")","v":""},{"$f":"基本データ!BN67","v":1},{"$f":"IF(基本データ!BH67<>\"\",\"○\",\"\")","v":"○"},{"$f":"IF(基本データ!BI67<>\"\",\"○\",\"\")","v":""},{"$f":"IF(基本データ!BJ67<>\"\",\"○\",\"\")","v":""},{"$f":"IF(基本データ!BK67<>\"\",\"○\",\"\")","v":""},{"$f":"IF(基本データ!BL67<>\"\",\"○\",\"\")","v":""},{"$f":"IF(基本データ!BM67<>\"\",\"○\",\"\")","v":""}]
[66,{"$f":"基本データ!J68","v":"香川県"},{"$f":"基本データ!B68","v":2018},{"$f":"基本データ!I68","v":"高松赤十字病院"},{"$f":"基本データ!AL68","v":5},{"$f":"IF(基本データ!AM68<>\"\",\"○\",\"\")","v":""},{"$f":"IF(基本データ!AN68<>\"\",\"○\",\"\")","v":"○"},{"$f":"IF(基本データ!AO68<>\"\",\"○\",\"\")","v":"○"},{"$f":"IF(基本データ!AP68<>\"\",\"○\",\"\")","v":""},{"$f":"IF(基本データ!AQ68<>\"\",\"○\",\"\")","v":""},{"$f":"IF(基本データ!AR68<>\"\",\"○\",\"\")","v":""},{"$f":"IF(基本データ!AS68<>\"\",\"○\",\"\")","v":""},{"$f":"IF(基本データ!AT68<>\"\",\"○\",\"\")","v":""},{"$f":"IF(基本データ!AU68<>\"\",\"○\",\"\")","v":""},{"$f":"IF(基本データ!AV68<>\"\",\"○\",\"\")","v":""},{"$f":"IF(基本データ!AW68<>\"\",\"○\",\"\")","v":"○"},{"$f":"IF(基本データ!AX68<>\"\",\"○\",\"\")","v":""},{"$f":"IF(基本データ!AY68<>\"\",\"○\",\"\")","v":""},{"$f":"IF(基本データ!AZ68<>\"\",\"○\",\"\")","v":""},{"$f":"IF(基本データ!BA68<>\"\",\"○\",\"\")","v":"○"},{"$f":"IF(基本データ!BB68<>\"\",\"○\",\"\")","v":""},{"$f":"IF(基本データ!BC68<>\"\",\"○\",\"\")","v":"○"},{"$f":"IF(基本データ!BD68<>\"\",\"○\",\"\")","v":""},{"$f":"IF(基本データ!BE68<>\"\",\"○\",\"\")","v":""},{"$f":"IF(基本データ!BF68<>\"\",\"○\",\"\")","v":""},{"$f":"IF(基本データ!BG68<>\"\",\"○\",\"\")","v":""},{"$f":"基本データ!BN68","v":0},{"$f":"IF(基本データ!BH68<>\"\",\"○\",\"\")","v":""},{"$f":"IF(基本データ!BI68<>\"\",\"○\",\"\")","v":""},{"$f":"IF(基本データ!BJ68<>\"\",\"○\",\"\")","v":""},{"$f":"IF(基本データ!BK68<>\"\",\"○\",\"\")","v":""},{"$f":"IF(基本データ!BL68<>\"\",\"○\",\"\")","v":""},{"$f":"IF(基本データ!BM68<>\"\",\"○\",\"\")","v":""}]
[67,{"$f":"基本データ!J69","v":"福岡県"},{"$f":"基本データ!B69","v":2018},{"$f":"基本データ!I69","v":"社会医療法人共愛会　戸畑共立病院"},{"$f":"基本データ!AL69","v":12},{"$f":"IF(基本データ!AM69<>\"\",\"○\",\"\")","v":"○"},{"$f":"IF(基本データ!AN69<>\"\",\"○\",\"\")","v":"○"},{"$f":"IF(基本データ!AO69<>\"\",\"○\",\"\")","v":"○"},{"$f":"IF(基本データ!AP69<>\"\",\"○\",\"\")","v":""},{"$f":"IF(基本データ!AQ69<>\"\",\"○\",\"\")","v":""},{"$f":"IF(基本データ!AR69<>\"\",\"○\",\"\")","v":""},{"$f":"IF(基本データ!AS69<>\"\",\"○\",\"\")","v":""},{"$f":"IF(基本データ!AT69<>\"\",\"○\",\"\")","v":"○"},{"$f":"IF(基本データ!AU69<>\"\",\"○\",\"\")","v":"○"},{"$f":"IF(基本データ!AV69<>\"\",\"○\",\"\")","v":"○"},{"$f":"IF(基本データ!AW69<>\"\",\"○\",\"\")","v":"○"},{"$f":"IF(基本データ!AX69<>\"\",\"○\",\"\")","v":""},{"$f":"IF(基本データ!AY69<>\"\",\"○\",\"\")","v":"○"},{"$f":"IF(基本データ!AZ69<>\"\",\"○\",\"\")","v":"○"},{"$f":"IF(基本データ!BA69<>\"\",\"○\",\"\")","v":"○"},{"$f":"IF(基本データ!BB69<>\"\",\"○\",\"\")","v":""},{"$f":"IF(基本データ!BC69<>\"\",\"○\",\"\")","v":""},{"$f":"IF(基本データ!BD69<>\"\",\"○\",\"\")","v":"○"},{"$f":"IF(基本データ!BE69<>\"\",\"○\",\"\")","v":"○"},{"$f":"IF(基本データ!BF69<>\"\",\"○\",\"\")","v":""},{"$f":"IF(基本データ!BG69<>\"\",\"○\",\"\")","v":""},{"$f":"基本データ!BN69","v":2},{"$f":"IF(基本データ!BH69<>\"\",\"○\",\"\")","v":"○"},{"$f":"IF(基本データ!BI69<>\"\",\"○\",\"\")","v":""},{"$f":"IF(基本データ!BJ69<>\"\",\"○\",\"\")","v":"○"},{"$f":"IF(基本データ!BK69<>\"\",\"○\",\"\")","v":""},{"$f":"IF(基本データ!BL69<>\"\",\"○\",\"\")","v":""},{"$f":"IF(基本データ!BM69<>\"\",\"○\",\"\")","v":""}]
[68,{"$f":"基本データ!J70","v":"沖縄県"},{"$f":"基本データ!B70","v":2018},{"$f":"基本データ!I70","v":"国立大学法人琉球大学　琉球大学病院"},{"$f":"基本データ!AL70","v":20},{"$f":"IF(基本データ!AM70<>\"\",\"○\",\"\")","v":"○"},{"$f":"IF(基本データ!AN70<>\"\",\"○\",\"\")","v":"○"},{"$f":"IF(基本データ!AO70<>\"\",\"○\",\"\")","v":"○"},{"$f":"IF(基本データ!AP70<>\"\",\"○\",\"\")","v":"○"},{"$f":"IF(基本データ!AQ70<>\"\",\"○\",\"\")","v":"○"},{"$f":"IF(基本データ!AR70<>\"\",\"○\",\"\")","v":"○"},{"$f":"IF(基本データ!AS70<>\"\",\"○\",\"\")","v":"○"},{"$f":"IF(基本データ!AT70<>\"\",\"○\",\"\")","v":"○"},{"$f":"IF(基本データ!AU70<>\"\",\"○\",\"\")","v":"○"},{"$f":"IF(基本データ!AV70<>\"\",\"○\",\"\")","v":"○"},{"$f":"IF(基本データ!AW70<>\"\",\"○\",\"\")","v":"○"},{"$f":"IF(基本データ!AX70<>\"\",\"○\",\"\")","v":"○"},{"$f":"IF(基本データ!AY70<>\"\",\"○\",\"\")","v":"○"},{"$f":"IF(基本データ!AZ70<>\"\",\"○\",\"\")","v":"○"},{"$f":"IF(基本データ!BA70<>\"\",\"○\",\"\")","v":"○"},{"$f":"IF(基本データ!BB70<>\"\",\"○\",\"\")","v":"○"},{"$f":"IF(基本データ!BC70<>\"\",\"○\",\"\")","v":"○"},{"$f":"IF(基本データ!BD70<>\"\",\"○\",\"\")","v":"○"},{"$f":"IF(基本データ!BE70<>\"\",\"○\",\"\")","v":"○"},{"$f":"IF(基本データ!BF70<>\"\",\"○\",\"\")","v":"○"},{"$f":"IF(基本データ!BG70<>\"\",\"○\",\"\")","v":""},{"$f":"基本データ!BN70","v":5},{"$f":"IF(基本データ!BH70<>\"\",\"○\",\"\")","v":"○"},{"$f":"IF(基本データ!BI70<>\"\",\"○\",\"\")","v":""},{"$f":"IF(基本データ!BJ70<>\"\",\"○\",\"\")","v":"○"},{"$f":"IF(基本データ!BK70<>\"\",\"○\",\"\")","v":"○"},{"$f":"IF(基本データ!BL70<>\"\",\"○\",\"\")","v":"○"},{"$f":"IF(基本データ!BM70<>\"\",\"○\",\"\")","v":"○"}]
[69,{"$f":"基本データ!J71","v":"沖縄県"},{"$f":"基本データ!B71","v":2018},{"$f":"基本データ!I71","v":"社会医療法人仁愛会　浦添総合病院"},{"$f":"基本データ!AL71","v":10},{"$f":"IF(基本データ!AM71<>\"\",\"○\",\"\")","v":"○"},{"$f":"IF(基本データ!AN71<>\"\",\"○\",\"\")","v":"○"},{"$f":"IF(基本データ!AO71<>\"\",\"○\",\"\")","v":"○"},{"$f":"IF(基本データ!AP71<>\"\",\"○\",\"\")","v":"○"},{"$f":"IF(基本データ!AQ71<>\"\",\"○\",\"\")","v":""},{"$f":"IF(基本データ!AR71<>\"\",\"○\",\"\")","v":""},{"$f":"IF(基本データ!AS71<>\"\",\"○\",\"\")","v":""},{"$f":"IF(基本データ!AT71<>\"\",\"○\",\"\")","v":"○"},{"$f":"IF(基本データ!AU71<>\"\",\"○\",\"\")","v":"○"},{"$f":"IF(基本データ!AV71<>\"\",\"○\",\"\")","v":""},{"$f":"IF(基本データ!AW71<>\"\",\"○\",\"\")","v":""},{"$f":"IF(基本データ!AX71<>\"\",\"○\",\"\")","v":""},{"$f":"IF(基本データ!AY71<>\"\",\"○\",\"\")","v":"○"},{"$f":"IF(基本データ!AZ71<>\"\",\"○\",\"\")","v":""},{"$f":"IF(基本データ!BA71<>\"\",\"○\",\"\")","v":"○"},{"$f":"IF(基本データ!BB71<>\"\",\"○\",\"\")","v":""},{"$f":"IF(基本データ!BC71<>\"\",\"○\",\"\")","v":""},{"$f":"IF(基本データ!BD71<>\"\",\"○\",\"\")","v":""},{"$f":"IF(基本データ!BE71<>\"\",\"○\",\"\")","v":"○"},{"$f":"IF(基本データ!BF71<>\"\",\"○\",\"\")","v":"○"},{"$f":"IF(基本データ!BG71<>\"\",\"○\",\"\")","v":""},{"$f":"基本データ!BN71","v":2},{"$f":"IF(基本データ!BH71<>\"\",\"○\",\"\")","v":""},{"$f":"IF(基本データ!BI71<>\"\",\"○\",\"\")","v":""},{"$f":"IF(基本データ!BJ71<>\"\",\"○\",\"\")","v":""},{"$f":"IF(基本データ!BK71<>\"\",\"○\",\"\")","v":"○"},{"$f":"IF(基本データ!BL71<>\"\",\"○\",\"\")","v":""},{"$f":"IF(基本データ!BM71<>\"\",\"○\",\"\")","v":"○"}]
[70,{"$f":"基本データ!J72","v":"富山県"},{"$f":"基本データ!B72","v":2018},{"$f":"基本データ!I72","v":"医療法人社団藤聖会　富山西総合病院"},{"$f":"基本データ!AL72","v":3},{"$f":"IF(基本データ!AM72<>\"\",\"○\",\"\")","v":""},{"$f":"IF(基本データ!AN72<>\"\",\"○\",\"\")","v":""},{"$f":"IF(基本データ!AO72<>\"\",\"○\",\"\")","v":""},{"$f":"IF(基本データ!AP72<>\"\",\"○\",\"\")","v":""},{"$f":"IF(基本データ!AQ72<>\"\",\"○\",\"\")","v":""},{"$f":"IF(基本データ!AR72<>\"\",\"○\",\"\")","v":""},{"$f":"IF(基本データ!AS72<>\"\",\"○\",\"\")","v":""},{"$f":"IF(基本データ!AT72<>\"\",\"○\",\"\")","v":""},{"$f":"IF(基本データ!AU72<>\"\",\"○\",\"\")","v":""},{"$f":"IF(基本データ!AV72<>\"\",\"○\",\"\")","v":""},{"$f":"IF(基本データ!AW72<>\"\",\"○\",\"\")","v":""},{"$f":"IF(基本データ!AX72<>\"\",\"○\",\"\")","v":""},{"$f":"IF(基本データ!AY72<>\"\",\"○\",\"\")","v":""},{"$f":"IF(基本データ!AZ72<>\"\",\"○\",\"\")","v":""},{"$f":"IF(基本データ!BA72<>\"\",\"○\",\"\")","v":"○"},{"$f":"IF(基本データ!BB72<>\"\",\"○\",\"\")","v":""},{"$f":"IF(基本データ!BC72<>\"\",\"○\",\"\")","v":"○"},{"$f":"IF(基本データ!BD72<>\"\",\"○\",\"\")","v":""},{"$f":"IF(基本データ!BE72<>\"\",\"○\",\"\")","v":"○"},{"$f":"IF(基本データ!BF72<>\"\",\"○\",\"\")","v":""},{"$f":"IF(基本データ!BG72<>\"\",\"○\",\"\")","v":""},{"$f":"基本データ!BN72","v":0},{"$f":"IF(基本データ!BH72<>\"\",\"○\",\"\")","v":""},{"$f":"IF(基本データ!BI72<>\"\",\"○\",\"\")","v":""},{"$f":"IF(基本データ!BJ72<>\"\",\"○\",\"\")","v":""},{"$f":"IF(基本データ!BK72<>\"\",\"○\",\"\")","v":""},{"$f":"IF(基本データ!BL72<>\"\",\"○\",\"\")","v":""},{"$f":"IF(基本データ!BM72<>\"\",\"○\",\"\")","v":""}]
[71,{"$f":"基本データ!J73","v":"北海道"},{"$f":"基本データ!B73","v":2018},{"$f":"基本データ!I73","v":"医療法人社団　エス・エス・ジェイ　札幌整形循環器病院"},{"$f":"基本データ!AL73","v":3},{"$f":"IF(基本データ!AM73<>\"\",\"○\",\"\")","v":""},{"$f":"IF(基本データ!AN73<>\"\",\"○\",\"\")","v":""},{"$f":"IF(基本データ!AO73<>\"\",\"○\",\"\")","v":""},{"$f":"IF(基本データ!AP73<>\"\",\"○\",\"\")","v":""},{"$f":"IF(基本データ!AQ73<>\"\",\"○\",\"\")","v":""},{"$f":"IF(基本データ!AR73<>\"\",\"○\",\"\")","v":""},{"$f":"IF(基本データ!AS73<>\"\",\"○\",\"\")","v":""},{"$f":"IF(基本データ!AT73<>\"\",\"○\",\"\")","v":""},{"$f":"IF(基本データ!AU73<>\"\",\"○\",\"\")","v":""},{"$f":"IF(基本データ!AV73<>\"\",\"○\",\"\")","v":""},{"$f":"IF(基本データ!AW73<>\"\",\"○\",\"\")","v":""},{"$f":"IF(基本データ!AX73<>\"\",\"○\",\"\")","v":""},{"$f":"IF(基本データ!AY73<>\"\",\"○\",\"\")","v":""},{"$f":"IF(基本データ!AZ73<>\"\",\"○\",\"\")","v":""},{"$f":"IF(基本データ!BA73<>\"\",\"○\",\"\")","v":"○"},{"$f":"IF(基本データ!BB73<>\"\",\"○\",\"\")","v":""},{"$f":"IF(基本データ!BC73<>\"\",\"○\",\"\")","v":""},{"$f":"IF(基本データ!BD73<>\"\",\"○\",\"\")","v":"○"},{"$f":"IF(基本データ!BE73<>\"\",\"○\",\"\")","v":"○"},{"$f":"IF(基本データ!BF73<>\"\",\"○\",\"\")","v":""},{"$f":"IF(基本データ!BG73<>\"\",\"○\",\"\")","v":""},{"$f":"基本データ!BN73","v":0},{"$f":"IF(基本データ!BH73<>\"\",\"○\",\"\")","v":""},{"$f":"IF(基本データ!BI73<>\"\",\"○\",\"\")","v":""},{"$f":"IF(基本データ!BJ73<>\"\",\"○\",\"\")","v":""},{"$f":"IF(基本データ!BK73<>\"\",\"○\",\"\")","v":""},{"$f":"IF(基本データ!BL73<>\"\",\"○\",\"\")","v":""},{"$f":"IF(基本データ!BM73<>\"\",\"○\",\"\")","v":""}]
[72,{"$f":"基本データ!J74","v":"秋田県"},{"$f":"基本データ!B74","v":2018},{"$f":"基本データ!I74","v":"秋田赤十字病院"},{"$f":"基本データ!AL74","v":4},{"$f":"IF(基本データ!AM74<>\"\",\"○\",\"\")","v":""},{"$f":"IF(基本データ!AN74<>\"\",\"○\",\"\")","v":""},{"$f":"IF(基本データ!AO74<>\"\",\"○\",\"\")","v":"○"},{"$f":"IF(基本データ!AP74<>\"\",\"○\",\"\")","v":""},{"$f":"IF(基本データ!AQ74<>\"\",\"○\",\"\")","v":""},{"$f":"IF(基本データ!AR74<>\"\",\"○\",\"\")","v":""},{"$f":"IF(基本データ!AS74<>\"\",\"○\",\"\")","v":""},{"$f":"IF(基本データ!AT74<>\"\",\"○\",\"\")","v":"○"},{"$f":"IF(基本データ!AU74<>\"\",\"○\",\"\")","v":""},{"$f":"IF(基本データ!AV74<>\"\",\"○\",\"\")","v":""},{"$f":"IF(基本データ!AW74<>\"\",\"○\",\"\")","v":"○"},{"$f":"IF(基本データ!AX74<>\"\",\"○\",\"\")","v":""},{"$f":"IF(基本データ!AY74<>\"\",\"○\",\"\")","v":""},{"$f":"IF(基本データ!AZ74<>\"\",\"○\",\"\")","v":""},{"$f":"IF(基本データ!BA74<>\"\",\"○\",\"\")","v":"○"},{"$f":"IF(基本データ!BB74<>\"\",\"○\",\"\")","v":""},{"$f":"IF(基本データ!BC74<>\"\",\"○\",\"\")","v":""},{"$f":"IF(基本データ!BD74<>\"\",\"○\",\"\")","v":""},{"$f":"IF(基本データ!BE74<>\"\",\"○\",\"\")","v":""},{"$f":"IF(基本データ!BF74<>\"\",\"○\",\"\")","v":""},{"$f":"IF(基本データ!BG74<>\"\",\"○\",\"\")","v":""},{"$f":"基本データ!BN74","v":1},{"$f":"IF(基本データ!BH74<>\"\",\"○\",\"\")","v":"○"},{"$f":"IF(基本データ!BI74<>\"\",\"○\",\"\")","v":""},{"$f":"IF(基本データ!BJ74<>\"\",\"○\",\"\")","v":""},{"$f":"IF(基本データ!BK74<>\"\",\"○\",\"\")","v":""},{"$f":"IF(基本データ!BL74<>\"\",\"○\",\"\")","v":""},{"$f":"IF(基本データ!BM74<>\"\",\"○\",\"\")","v":""}]
[73,{"$f":"基本データ!J75","v":"茨城県"},{"$f":"基本データ!B75","v":2018},{"$f":"基本データ!I75","v":"社会福祉法人恩賜財団済生会支部　茨城県済生会水戸済生会総合病院"},{"$f":"基本データ!AL75","v":20},{"$f":"IF(基本データ!AM75<>\"\",\"○\",\"\")","v":"○"},{"$f":"IF(基本データ!AN75<>\"\",\"○\",\"\")","v":"○"},{"$f":"IF(基本データ!AO75<>\"\",\"○\",\"\")","v":"○"},{"$f":"IF(基本データ!AP75<>\"\",\"○\",\"\")","v":"○"},{"$f":"IF(基本データ!AQ75<>\"\",\"○\",\"\")","v":"○"},{"$f":"IF(基本データ!AR75<>\"\",\"○\",\"\")","v":"○"},{"$f":"IF(基本データ!AS75<>\"\",\"○\",\"\")","v":"○"},{"$f":"IF(基本データ!AT75<>\"\",\"○\",\"\")","v":"○"},{"$f":"IF(基本データ!AU75<>\"\",\"○\",\"\")","v":"○"},{"$f":"IF(基本データ!AV75<>\"\",\"○\",\"\")","v":"○"},{"$f":"IF(基本データ!AW75<>\"\",\"○\",\"\")","v":"○"},{"$f":"IF(基本データ!AX75<>\"\",\"○\",\"\")","v":"○"},{"$f":"IF(基本データ!AY75<>\"\",\"○\",\"\")","v":"○"},{"$f":"IF(基本データ!AZ75<>\"\",\"○\",\"\")","v":"○"},{"$f":"IF(基本データ!BA75<>\"\",\"○\",\"\")","v":"○"},{"$f":"IF(基本データ!BB75<>\"\",\"○\",\"\")","v":"○"},{"$f":"IF(基本データ!BC75<>\"\",\"○\",\"\")","v":"○"},{"$f":"IF(基本データ!BD75<>\"\",\"○\",\"\")","v":"○"},{"$f":"IF(基本データ!BE75<>\"\",\"○\",\"\")","v":"○"},{"$f":"IF(基本データ!BF75<>\"\",\"○\",\"\")","v":"○"},{"$f":"IF(基本データ!BG75<>\"\",\"○\",\"\")","v":""},{"$f":"基本データ!BN75","v":6},{"$f":"IF(基本データ!BH75<>\"\",\"○\",\"\")","v":"○"},{"$f":"IF(基本データ!BI75<>\"\",\"○\",\"\")","v":"○"},{"$f":"IF(基本データ!BJ75<>\"\",\"○\",\"\")","v":"○"},{"$f":"IF(基本データ!BK75<>\"\",\"○\",\"\")","v":"○"},{"$f":"IF(基本データ!BL75<>\"\",\"○\",\"\")","v":"○"},{"$f":"IF(基本データ!BM75<>\"\",\"○\",\"\")","v":"○"}]
[74,{"$f":"基本データ!J76","v":"福井県"},{"$f":"基本データ!B76","v":2018},{"$f":"基本データ!I76","v":"市立敦賀病院"},{"$f":"基本データ!AL76","v":5},{"$f":"IF(基本データ!AM76<>\"\",\"○\",\"\")","v":""},{"$f":"IF(基本データ!AN76<>\"\",\"○\",\"\")","v":""},{"$f":"IF(基本データ!AO76<>\"\",\"○\",\"\")","v":"○"},{"$f":"IF(基本データ!AP76<>\"\",\"○\",\"\")","v":""},{"$f":"IF(基本データ!AQ76<>\"\",\"○\",\"\")","v":""},{"$f":"IF(基本データ!AR76<>\"\",\"○\",\"\")","v":""},{"$f":"IF(基本データ!AS76<>\"\",\"○\",\"\")","v":""},{"$f":"IF(基本データ!AT76<>\"\",\"○\",\"\")","v":"○"},{"$f":"IF(基本データ!AU76<>\"\",\"○\",\"\")","v":""},{"$f":"IF(基本データ!AV76<>\"\",\"○\",\"\")","v":"○"},{"$f":"IF(基本データ!AW76<>\"\",\"○\",\"\")","v":"○"},{"$f":"IF(基本データ!AX76<>\"\",\"○\",\"\")","v":""},{"$f":"IF(基本データ!AY76<>\"\",\"○\",\"\")","v":""},{"$f":"IF(基本データ!AZ76<>\"\",\"○\",\"\")","v":""},{"$f":"IF(基本データ!BA76<>\"\",\"○\",\"\")","v":"○"},{"$f":"IF(基本データ!BB76<>\"\",\"○\",\"\")","v":""},{"$f":"IF(基本データ!BC76<>\"\",\"○\",\"\")","v":""},{"$f":"IF(基本データ!BD76<>\"\",\"○\",\"\")","v":""},{"$f":"IF(基本データ!BE76<>\"\",\"○\",\"\")","v":""},{"$f":"IF(基本データ!BF76<>\"\",\"○\",\"\")","v":""},{"$f":"IF(基本データ!BG76<>\"\",\"○\",\"\")","v":""},{"$f":"基本データ!BN76","v":1},{"$f":"IF(基本データ!BH76<>\"\",\"○\",\"\")","v":"○"},{"$f":"IF(基本データ!BI76<>\"\",\"○\",\"\")","v":""},{"$f":"IF(基本データ!BJ76<>\"\",\"○\",\"\")","v":""},{"$f":"IF(基本データ!BK76<>\"\",\"○\",\"\")","v":""},{"$f":"IF(基本データ!BL76<>\"\",\"○\",\"\")","v":""},{"$f":"IF(基本データ!BM76<>\"\",\"○\",\"\")","v":""}]
[75,{"$f":"基本データ!J77","v":"長野県"},{"$f":"基本データ!B77","v":2018},{"$f":"基本データ!I77","v":"伊那中央病院"},{"$f":"基本データ!AL77","v":10},{"$f":"IF(基本データ!AM77<>\"\",\"○\",\"\")","v":"○"},{"$f":"IF(基本データ!AN77<>\"\",\"○\",\"\")","v":"○"},{"$f":"IF(基本データ!AO77<>\"\",\"○\",\"\")","v":"○"},{"$f":"IF(基本データ!AP77<>\"\",\"○\",\"\")","v":""},{"$f":"IF(基本データ!AQ77<>\"\",\"○\",\"\")","v":""},{"$f":"IF(基本データ!AR77<>\"\",\"○\",\"\")","v":""},{"$f":"IF(基本データ!AS77<>\"\",\"○\",\"\")","v":""},{"$f":"IF(基本データ!AT77<>\"\",\"○\",\"\")","v":""},{"$f":"IF(基本データ!AU77<>\"\",\"○\",\"\")","v":"○"},{"$f":"IF(基本データ!AV77<>\"\",\"○\",\"\")","v":""},{"$f":"IF(基本データ!AW77<>\"\",\"○\",\"\")","v":"○"},{"$f":"IF(基本データ!AX77<>\"\",\"○\",\"\")","v":""},{"$f":"IF(基本データ!AY77<>\"\",\"○\",\"\")","v":"○"},{"$f":"IF(基本データ!AZ77<>\"\",\"○\",\"\")","v":""},{"$f":"IF(基本データ!BA77<>\"\",\"○\",\"\")","v":"○"},{"$f":"IF(基本データ!BB77<>\"\",\"○\",\"\")","v":""},{"$f":"IF(基本データ!BC77<>\"\",\"○\",\"\")","v":"○"},{"$f":"IF(基本データ!BD77<>\"\",\"○\",\"\")","v":""},{"$f":"IF(基本データ!BE77<>\"\",\"○\",\"\")","v":""},{"$f":"IF(基本データ!BF77<>\"\",\"○\",\"\")","v":"○"},{"$f":"IF(基本データ!BG77<>\"\",\"○\",\"\")","v":"○"},{"$f":"基本データ!BN77","v":0},{"$f":"IF(基本データ!BH77<>\"\",\"○\",\"\")","v":""},{"$f":"IF(基本データ!BI77<>\"\",\"○\",\"\")","v":""},{"$f":"IF(基本データ!BJ77<>\"\",\"○\",\"\")","v":""},{"$f":"IF(基本データ!BK77<>\"\",\"○\",\"\")","v":""},{"$f":"IF(基本データ!BL77<>\"\",\"○\",\"\")","v":""},{"$f":"IF(基本データ!BM77<>\"\",\"○\",\"\")","v":""}]
[76,{"$f":"基本データ!J78","v":"岐阜県"},{"$f":"基本データ!B78","v":2018},{"$f":"基本データ!I78","v":"岐阜県厚生農業協同組合連合会　岐阜・西濃医療センター　西濃厚生病院"},{"$f":"基本データ!AL78","v":2},{"$f":"IF(基本データ!AM78<>\"\",\"○\",\"\")","v":""},{"$f":"IF(基本データ!AN78<>\"\",\"○\",\"\")","v":""},{"$f":"IF(基本データ!AO78<>\"\",\"○\",\"\")","v":""},{"$f":"IF(基本データ!AP78<>\"\",\"○\",\"\")","v":""},{"$f":"IF(基本データ!AQ78<>\"\",\"○\",\"\")","v":""},{"$f":"IF(基本データ!AR78<>\"\",\"○\",\"\")","v":""},{"$f":"IF(基本データ!AS78<>\"\",\"○\",\"\")","v":""},{"$f":"IF(基本データ!AT78<>\"\",\"○\",\"\")","v":""},{"$f":"IF(基本データ!AU78<>\"\",\"○\",\"\")","v":""},{"$f":"IF(基本データ!AV78<>\"\",\"○\",\"\")","v":""},{"$f":"IF(基本データ!AW78<>\"\",\"○\",\"\")","v":"○"},{"$f":"IF(基本データ!AX78<>\"\",\"○\",\"\")","v":""},{"$f":"IF(基本データ!AY78<>\"\",\"○\",\"\")","v":"○"},{"$f":"IF(基本データ!AZ78<>\"\",\"○\",\"\")","v":""},{"$f":"IF(基本データ!BA78<>\"\",\"○\",\"\")","v":""},{"$f":"IF(基本データ!BB78<>\"\",\"○\",\"\")","v":""},{"$f":"IF(基本データ!BC78<>\"\",\"○\",\"\")","v":""},{"$f":"IF(基本データ!BD78<>\"\",\"○\",\"\")","v":""},{"$f":"IF(基本データ!BE78<>\"\",\"○\",\"\")","v":""},{"$f":"IF(基本データ!BF78<>\"\",\"○\",\"\")","v":""},{"$f":"IF(基本データ!BG78<>\"\",\"○\",\"\")","v":""},{"$f":"基本データ!BN78","v":0},{"$f":"IF(基本データ!BH78<>\"\",\"○\",\"\")","v":""},{"$f":"IF(基本データ!BI78<>\"\",\"○\",\"\")","v":""},{"$f":"IF(基本データ!BJ78<>\"\",\"○\",\"\")","v":""},{"$f":"IF(基本データ!BK78<>\"\",\"○\",\"\")","v":""},{"$f":"IF(基本データ!BL78<>\"\",\"○\",\"\")","v":""},{"$f":"IF(基本データ!BM78<>\"\",\"○\",\"\")","v":""}]
[77,{"$f":"基本データ!J79","v":"岐阜県"},{"$f":"基本データ!B79","v":2018},{"$f":"基本データ!I79","v":"岐阜県厚生農業協同組合連合会　岐阜・西濃医療センター　岐北厚生病院"},{"$f":"基本データ!AL79","v":1},{"$f":"IF(基本データ!AM79<>\"\",\"○\",\"\")","v":""},{"$f":"IF(基本データ!AN79<>\"\",\"○\",\"\")","v":""},{"$f":"IF(基本データ!AO79<>\"\",\"○\",\"\")","v":""},{"$f":"IF(基本データ!AP79<>\"\",\"○\",\"\")","v":""},{"$f":"IF(基本データ!AQ79<>\"\",\"○\",\"\")","v":""},{"$f":"IF(基本データ!AR79<>\"\",\"○\",\"\")","v":""},{"$f":"IF(基本データ!AS79<>\"\",\"○\",\"\")","v":""},{"$f":"IF(基本データ!AT79<>\"\",\"○\",\"\")","v":""},{"$f":"IF(基本データ!AU79<>\"\",\"○\",\"\")","v":"○"},{"$f":"IF(基本データ!AV79<>\"\",\"○\",\"\")","v":""},{"$f":"IF(基本データ!AW79<>\"\",\"○\",\"\")","v":""},{"$f":"IF(基本データ!AX79<>\"\",\"○\",\"\")","v":""},{"$f":"IF(基本データ!AY79<>\"\",\"○\",\"\")","v":""},{"$f":"IF(基本データ!AZ79<>\"\",\"○\",\"\")","v":""},{"$f":"IF(基本データ!BA79<>\"\",\"○\",\"\")","v":""},{"$f":"IF(基本データ!BB79<>\"\",\"○\",\"\")","v":""},{"$f":"IF(基本データ!BC79<>\"\",\"○\",\"\")","v":""},{"$f":"IF(基本データ!BD79<>\"\",\"○\",\"\")","v":""},{"$f":"IF(基本データ!BE79<>\"\",\"○\",\"\")","v":""},{"$f":"IF(基本データ!BF79<>\"\",\"○\",\"\")","v":""},{"$f":"IF(基本データ!BG79<>\"\",\"○\",\"\")","v":""},{"$f":"基本データ!BN79","v":0},{"$f":"IF(基本データ!BH79<>\"\",\"○\",\"\")","v":""},{"$f":"IF(基本データ!BI79<>\"\",\"○\",\"\")","v":""},{"$f":"IF(基本データ!BJ79<>\"\",\"○\",\"\")","v":""},{"$f":"IF(基本データ!BK79<>\"\",\"○\",\"\")","v":""},{"$f":"IF(基本データ!BL79<>\"\",\"○\",\"\")","v":""},{"$f":"IF(基本データ!BM79<>\"\",\"○\",\"\")","v":""}]
[78,{"$f":"基本データ!J80","v":"岐阜県"},{"$f":"基本データ!B80","v":2018},{"$f":"基本データ!I80","v":"岐阜県厚生農業協同組合連合会　飛騨医療センター　久美愛厚生病院"},{"$f":"基本データ!AL80","v":2},{"$f":"IF(基本データ!AM80<>\"\",\"○\",\"\")","v":""},{"$f":"IF(基本データ!AN80<>\"\",\"○\",\"\")","v":""},{"$f":"IF(基本データ!AO80<>\"\",\"○\",\"\")","v":""},{"$f":"IF(基本データ!AP80<>\"\",\"○\",\"\")","v":""},{"$f":"IF(基本データ!AQ80<>\"\",\"○\",\"\")","v":""},{"$f":"IF(基本データ!AR80<>\"\",\"○\",\"\")","v":""},{"$f":"IF(基本データ!AS80<>\"\",\"○\",\"\")","v":""},{"$f":"IF(基本データ!AT80<>\"\",\"○\",\"\")","v":""},{"$f":"IF(基本データ!AU80<>\"\",\"○\",\"\")","v":""},{"$f":"IF(基本データ!AV80<>\"\",\"○\",\"\")","v":""},{"$f":"IF(基本データ!AW80<>\"\",\"○\",\"\")","v":"○"},{"$f":"IF(基本データ!AX80<>\"\",\"○\",\"\")","v":""},{"$f":"IF(基本データ!AY80<>\"\",\"○\",\"\")","v":""},{"$f":"IF(基本データ!AZ80<>\"\",\"○\",\"\")","v":""},{"$f":"IF(基本データ!BA80<>\"\",\"○\",\"\")","v":"○"},{"$f":"IF(基本データ!BB80<>\"\",\"○\",\"\")","v":""},{"$f":"IF(基本データ!BC80<>\"\",\"○\",\"\")","v":""},{"$f":"IF(基本データ!BD80<>\"\",\"○\",\"\")","v":""},{"$f":"IF(基本データ!BE80<>\"\",\"○\",\"\")","v":""},{"$f":"IF(基本データ!BF80<>\"\",\"○\",\"\")","v":""},{"$f":"IF(基本データ!BG80<>\"\",\"○\",\"\")","v":""},{"$f":"基本データ!BN80","v":0},{"$f":"IF(基本データ!BH80<>\"\",\"○\",\"\")","v":""},{"$f":"IF(基本データ!BI80<>\"\",\"○\",\"\")","v":""},{"$f":"IF(基本データ!BJ80<>\"\",\"○\",\"\")","v":""},{"$f":"IF(基本データ!BK80<>\"\",\"○\",\"\")","v":""},{"$f":"IF(基本データ!BL80<>\"\",\"○\",\"\")","v":""},{"$f":"IF(基本データ!BM80<>\"\",\"○\",\"\")","v":""}]
[79,{"$f":"基本データ!J81","v":"岐阜県"},{"$f":"基本データ!B81","v":2018},{"$f":"基本データ!I81","v":"岐阜県厚生農業協同組合連合会　中濃厚生病院"},{"$f":"基本データ!AL81","v":5},{"$f":"IF(基本データ!AM81<>\"\",\"○\",\"\")","v":""},{"$f":"IF(基本データ!AN81<>\"\",\"○\",\"\")","v":""},{"$f":"IF(基本データ!AO81<>\"\",\"○\",\"\")","v":""},{"$f":"IF(基本データ!AP81<>\"\",\"○\",\"\")","v":""},{"$f":"IF(基本データ!AQ81<>\"\",\"○\",\"\")","v":""},{"$f":"IF(基本データ!AR81<>\"\",\"○\",\"\")","v":""},{"$f":"IF(基本データ!AS81<>\"\",\"○\",\"\")","v":""},{"$f":"IF(基本データ!AT81<>\"\",\"○\",\"\")","v":""},{"$f":"IF(基本データ!AU81<>\"\",\"○\",\"\")","v":"○"},{"$f":"IF(基本データ!AV81<>\"\",\"○\",\"\")","v":""},{"$f":"IF(基本データ!AW81<>\"\",\"○\",\"\")","v":""},{"$f":"IF(基本データ!AX81<>\"\",\"○\",\"\")","v":""},{"$f":"IF(基本データ!AY81<>\"\",\"○\",\"\")","v":"○"},{"$f":"IF(基本データ!AZ81<>\"\",\"○\",\"\")","v":"○"},{"$f":"IF(基本データ!BA81<>\"\",\"○\",\"\")","v":"○"},{"$f":"IF(基本データ!BB81<>\"\",\"○\",\"\")","v":""},{"$f":"IF(基本データ!BC81<>\"\",\"○\",\"\")","v":"○"},{"$f":"IF(基本データ!BD81<>\"\",\"○\",\"\")","v":""},{"$f":"IF(基本データ!BE81<>\"\",\"○\",\"\")","v":""},{"$f":"IF(基本データ!BF81<>\"\",\"○\",\"\")","v":""},{"$f":"IF(基本データ!BG81<>\"\",\"○\",\"\")","v":""},{"$f":"基本データ!BN81","v":0},{"$f":"IF(基本データ!BH81<>\"\",\"○\",\"\")","v":""},{"$f":"IF(基本データ!BI81<>\"\",\"○\",\"\")","v":""},{"$f":"IF(基本データ!BJ81<>\"\",\"○\",\"\")","v":""},{"$f":"IF(基本データ!BK81<>\"\",\"○\",\"\")","v":""},{"$f":"IF(基本データ!BL81<>\"\",\"○\",\"\")","v":""},{"$f":"IF(基本データ!BM81<>\"\",\"○\",\"\")","v":""}]
[80,{"$f":"基本データ!J82","v":"岐阜県"},{"$f":"基本データ!B82","v":2018},{"$f":"基本データ!I82","v":"岐阜県厚生農業協同組合連合会　東濃中部医療センター　東濃厚生病院"},{"$f":"基本データ!AL82","v":5},{"$f":"IF(基本データ!AM82<>\"\",\"○\",\"\")","v":""},{"$f":"IF(基本データ!AN82<>\"\",\"○\",\"\")","v":"○"},{"$f":"IF(基本データ!AO82<>\"\",\"○\",\"\")","v":""},{"$f":"IF(基本データ!AP82<>\"\",\"○\",\"\")","v":""},{"$f":"IF(基本データ!AQ82<>\"\",\"○\",\"\")","v":""},{"$f":"IF(基本データ!AR82<>\"\",\"○\",\"\")","v":""},{"$f":"IF(基本データ!AS82<>\"\",\"○\",\"\")","v":""},{"$f":"IF(基本データ!AT82<>\"\",\"○\",\"\")","v":""},{"$f":"IF(基本データ!AU82<>\"\",\"○\",\"\")","v":""},{"$f":"IF(基本データ!AV82<>\"\",\"○\",\"\")","v":""},{"$f":"IF(基本データ!AW82<>\"\",\"○\",\"\")","v":""},{"$f":"IF(基本データ!AX82<>\"\",\"○\",\"\")","v":""},{"$f":"IF(基本データ!AY82<>\"\",\"○\",\"\")","v":"○"},{"$f":"IF(基本データ!AZ82<>\"\",\"○\",\"\")","v":""},{"$f":"IF(基本データ!BA82<>\"\",\"○\",\"\")","v":"○"},{"$f":"IF(基本データ!BB82<>\"\",\"○\",\"\")","v":"○"},{"$f":"IF(基本データ!BC82<>\"\",\"○\",\"\")","v":""},{"$f":"IF(基本データ!BD82<>\"\",\"○\",\"\")","v":""},{"$f":"IF(基本データ!BE82<>\"\",\"○\",\"\")","v":""},{"$f":"IF(基本データ!BF82<>\"\",\"○\",\"\")","v":""},{"$f":"IF(基本データ!BG82<>\"\",\"○\",\"\")","v":"○"},{"$f":"基本データ!BN82","v":0},{"$f":"IF(基本データ!BH82<>\"\",\"○\",\"\")","v":""},{"$f":"IF(基本データ!BI82<>\"\",\"○\",\"\")","v":""},{"$f":"IF(基本データ!BJ82<>\"\",\"○\",\"\")","v":""},{"$f":"IF(基本データ!BK82<>\"\",\"○\",\"\")","v":""},{"$f":"IF(基本データ!BL82<>\"\",\"○\",\"\")","v":""},{"$f":"IF(基本データ!BM82<>\"\",\"○\",\"\")","v":""}]
[81,{"$f":"基本データ!J83","v":"岐阜県"},{"$f":"基本データ!B83","v":2018},{"$f":"基本データ!I83","v":"岐阜県厚生農業協同組合連合会　岐阜・西濃医療センター　西美濃厚生病院"},{"$f":"基本データ!AL83","v":1},{"$f":"IF(基本データ!AM83<>\"\",\"○\",\"\")","v":""},{"$f":"IF(基本データ!AN83<>\"\",\"○\",\"\")","v":""},{"$f":"IF(基本データ!AO83<>\"\",\"○\",\"\")","v":""},{"$f":"IF(基本データ!AP83<>\"\",\"○\",\"\")","v":""},{"$f":"IF(基本データ!AQ83<>\"\",\"○\",\"\")","v":""},{"$f":"IF(基本データ!AR83<>\"\",\"○\",\"\")","v":""},{"$f":"IF(基本データ!AS83<>\"\",\"○\",\"\")","v":""},{"$f":"IF(基本データ!AT83<>\"\",\"○\",\"\")","v":"○"},{"$f":"IF(基本データ!AU83<>\"\",\"○\",\"\")","v":""},{"$f":"IF(基本データ!AV83<>\"\",\"○\",\"\")","v":""},{"$f":"IF(基本データ!AW83<>\"\",\"○\",\"\")","v":""},{"$f":"IF(基本データ!AX83<>\"\",\"○\",\"\")","v":""},{"$f":"IF(基本データ!AY83<>\"\",\"○\",\"\")","v":""},{"$f":"IF(基本データ!AZ83<>\"\",\"○\",\"\")","v":""},{"$f":"IF(基本データ!BA83<>\"\",\"○\",\"\")","v":""},{"$f":"IF(基本データ!BB83<>\"\",\"○\",\"\")","v":""},{"$f":"IF(基本データ!BC83<>\"\",\"○\",\"\")","v":""},{"$f":"IF(基本データ!BD83<>\"\",\"○\",\"\")","v":""},{"$f":"IF(基本データ!BE83<>\"\",\"○\",\"\")","v":""},{"$f":"IF(基本データ!BF83<>\"\",\"○\",\"\")","v":""},{"$f":"IF(基本データ!BG83<>\"\",\"○\",\"\")","v":""},{"$f":"基本データ!BN83","v":0},{"$f":"IF(基本データ!BH83<>\"\",\"○\",\"\")","v":""},{"$f":"IF(基本データ!BI83<>\"\",\"○\",\"\")","v":""},{"$f":"IF(基本データ!BJ83<>\"\",\"○\",\"\")","v":""},{"$f":"IF(基本データ!BK83<>\"\",\"○\",\"\")","v":""},{"$f":"IF(基本データ!BL83<>\"\",\"○\",\"\")","v":""},{"$f":"IF(基本データ!BM83<>\"\",\"○\",\"\")","v":""}]
[82,{"$f":"基本データ!J84","v":"静岡県"},{"$f":"基本データ!B84","v":2018},{"$f":"基本データ!I84","v":"学校法人　聖隷学園　聖隷クリストファー大学"},{"$f":"基本データ!AL84","v":8},{"$f":"IF(基本データ!AM84<>\"\",\"○\",\"\")","v":""},{"$f":"IF(基本データ!AN84<>\"\",\"○\",\"\")","v":""},{"$f":"IF(基本データ!AO84<>\"\",\"○\",\"\")","v":"○"},{"$f":"IF(基本データ!AP84<>\"\",\"○\",\"\")","v":""},{"$f":"IF(基本データ!AQ84<>\"\",\"○\",\"\")","v":""},{"$f":"IF(基本データ!AR84<>\"\",\"○\",\"\")","v":""},{"$f":"IF(基本データ!AS84<>\"\",\"○\",\"\")","v":""},{"$f":"IF(基本データ!AT84<>\"\",\"○\",\"\")","v":"○"},{"$f":"IF(基本データ!AU84<>\"\",\"○\",\"\")","v":""},{"$f":"IF(基本データ!AV84<>\"\",\"○\",\"\")","v":""},{"$f":"IF(基本データ!AW84<>\"\",\"○\",\"\")","v":"○"},{"$f":"IF(基本データ!AX84<>\"\",\"○\",\"\")","v":""},{"$f":"IF(基本データ!AY84<>\"\",\"○\",\"\")","v":""},{"$f":"IF(基本データ!AZ84<>\"\",\"○\",\"\")","v":""},{"$f":"IF(基本データ!BA84<>\"\",\"○\",\"\")","v":"○"},{"$f":"IF(基本データ!BB84<>\"\",\"○\",\"\")","v":"○"},{"$f":"IF(基本データ!BC84<>\"\",\"○\",\"\")","v":"○"},{"$f":"IF(基本データ!BD84<>\"\",\"○\",\"\")","v":""},{"$f":"IF(基本データ!BE84<>\"\",\"○\",\"\")","v":"○"},{"$f":"IF(基本データ!BF84<>\"\",\"○\",\"\")","v":"○"},{"$f":"IF(基本データ!BG84<>\"\",\"○\",\"\")","v":""},{"$f":"基本データ!BN84","v":1},{"$f":"IF(基本データ!BH84<>\"\",\"○\",\"\")","v":"○"},{"$f":"IF(基本データ!BI84<>\"\",\"○\",\"\")","v":""},{"$f":"IF(基本データ!BJ84<>\"\",\"○\",\"\")","v":""},{"$f":"IF(基本データ!BK84<>\"\",\"○\",\"\")","v":""},{"$f":"IF(基本データ!BL84<>\"\",\"○\",\"\")","v":""},{"$f":"IF(基本データ!BM84<>\"\",\"○\",\"\")","v":""}]
[83,{"$f":"基本データ!J85","v":"静岡県"},{"$f":"基本データ!B85","v":2018},{"$f":"基本データ!I85","v":"公益社団法人有隣厚生会富士病院"},{"$f":"基本データ!AL85","v":17},{"$f":"IF(基本データ!AM85<>\"\",\"○\",\"\")","v":"○"},{"$f":"IF(基本データ!AN85<>\"\",\"○\",\"\")","v":"○"},{"$f":"IF(基本データ!AO85<>\"\",\"○\",\"\")","v":"○"},{"$f":"IF(基本データ!AP85<>\"\",\"○\",\"\")","v":""},{"$f":"IF(基本データ!AQ85<>\"\",\"○\",\"\")","v":""},{"$f":"IF(基本データ!AR85<>\"\",\"○\",\"\")","v":""},{"$f":"IF(基本データ!AS85<>\"\",\"○\",\"\")","v":"○"},{"$f":"IF(基本データ!AT85<>\"\",\"○\",\"\")","v":"○"},{"$f":"IF(基本データ!AU85<>\"\",\"○\",\"\")","v":"○"},{"$f":"IF(基本データ!AV85<>\"\",\"○\",\"\")","v":"○"},{"$f":"IF(基本データ!AW85<>\"\",\"○\",\"\")","v":"○"},{"$f":"IF(基本データ!AX85<>\"\",\"○\",\"\")","v":"○"},{"$f":"IF(基本データ!AY85<>\"\",\"○\",\"\")","v":"○"},{"$f":"IF(基本データ!AZ85<>\"\",\"○\",\"\")","v":"○"},{"$f":"IF(基本データ!BA85<>\"\",\"○\",\"\")","v":"○"},{"$f":"IF(基本データ!BB85<>\"\",\"○\",\"\")","v":"○"},{"$f":"IF(基本データ!BC85<>\"\",\"○\",\"\")","v":"○"},{"$f":"IF(基本データ!BD85<>\"\",\"○\",\"\")","v":"○"},{"$f":"IF(基本データ!BE85<>\"\",\"○\",\"\")","v":"○"},{"$f":"IF(基本データ!BF85<>\"\",\"○\",\"\")","v":"○"},{"$f":"IF(基本データ!BG85<>\"\",\"○\",\"\")","v":""},{"$f":"基本データ!BN85","v":3},{"$f":"IF(基本データ!BH85<>\"\",\"○\",\"\")","v":"○"},{"$f":"IF(基本データ!BI85<>\"\",\"○\",\"\")","v":""},{"$f":"IF(基本データ!BJ85<>\"\",\"○\",\"\")","v":"○"},{"$f":"IF(基本データ!BK85<>\"\",\"○\",\"\")","v":""},{"$f":"IF(基本データ!BL85<>\"\",\"○\",\"\")","v":"○"},{"$f":"IF(基本データ!BM85<>\"\",\"○\",\"\")","v":""}]
[84,{"$f":"基本データ!J86","v":"兵庫県"},{"$f":"基本データ!B86","v":2018},{"$f":"基本データ!I86","v":"医療法人社団慈恵会新須磨病院"},{"$f":"基本データ!AL86","v":6},{"$f":"IF(基本データ!AM86<>\"\",\"○\",\"\")","v":""},{"$f":"IF(基本データ!AN86<>\"\",\"○\",\"\")","v":""},{"$f":"IF(基本データ!AO86<>\"\",\"○\",\"\")","v":""},{"$f":"IF(基本データ!AP86<>\"\",\"○\",\"\")","v":""},{"$f":"IF(基本データ!AQ86<>\"\",\"○\",\"\")","v":""},{"$f":"IF(基本データ!AR86<>\"\",\"○\",\"\")","v":""},{"$f":"IF(基本データ!AS86<>\"\",\"○\",\"\")","v":""},{"$f":"IF(基本データ!AT86<>\"\",\"○\",\"\")","v":""},{"$f":"IF(基本データ!AU86<>\"\",\"○\",\"\")","v":"○"},{"$f":"IF(基本データ!AV86<>\"\",\"○\",\"\")","v":""},{"$f":"IF(基本データ!AW86<>\"\",\"○\",\"\")","v":"○"},{"$f":"IF(基本データ!AX86<>\"\",\"○\",\"\")","v":""},{"$f":"IF(基本データ!AY86<>\"\",\"○\",\"\")","v":"○"},{"$f":"IF(基本データ!AZ86<>\"\",\"○\",\"\")","v":""},{"$f":"IF(基本データ!BA86<>\"\",\"○\",\"\")","v":"○"},{"$f":"IF(基本データ!BB86<>\"\",\"○\",\"\")","v":""},{"$f":"IF(基本データ!BC86<>\"\",\"○\",\"\")","v":"○"},{"$f":"IF(基本データ!BD86<>\"\",\"○\",\"\")","v":""},{"$f":"IF(基本データ!BE86<>\"\",\"○\",\"\")","v":""},{"$f":"IF(基本データ!BF86<>\"\",\"○\",\"\")","v":"○"},{"$f":"IF(基本データ!BG86<>\"\",\"○\",\"\")","v":""},{"$f":"基本データ!BN86","v":0},{"$f":"IF(基本データ!BH86<>\"\",\"○\",\"\")","v":""},{"$f":"IF(基本データ!BI86<>\"\",\"○\",\"\")","v":""},{"$f":"IF(基本データ!BJ86<>\"\",\"○\",\"\")","v":""},{"$f":"IF(基本データ!BK86<>\"\",\"○\",\"\")","v":""},{"$f":"IF(基本データ!BL86<>\"\",\"○\",\"\")","v":""},{"$f":"IF(基本データ!BM86<>\"\",\"○\",\"\")","v":""}]
[85,{"$f":"基本データ!J87","v":"福岡県"},{"$f":"基本データ!B87","v":2018},{"$f":"基本データ!I87","v":"福岡赤十字病院"},{"$f":"基本データ!AL87","v":14},{"$f":"IF(基本データ!AM87<>\"\",\"○\",\"\")","v":"○"},{"$f":"IF(基本データ!AN87<>\"\",\"○\",\"\")","v":"○"},{"$f":"IF(基本データ!AO87<>\"\",\"○\",\"\")","v":"○"},{"$f":"IF(基本データ!AP87<>\"\",\"○\",\"\")","v":"○"},{"$f":"IF(基本データ!AQ87<>\"\",\"○\",\"\")","v":""},{"$f":"IF(基本データ!AR87<>\"\",\"○\",\"\")","v":""},{"$f":"IF(基本データ!AS87<>\"\",\"○\",\"\")","v":""},{"$f":"IF(基本データ!AT87<>\"\",\"○\",\"\")","v":""},{"$f":"IF(基本データ!AU87<>\"\",\"○\",\"\")","v":"○"},{"$f":"IF(基本データ!AV87<>\"\",\"○\",\"\")","v":"○"},{"$f":"IF(基本データ!AW87<>\"\",\"○\",\"\")","v":"○"},{"$f":"IF(基本データ!AX87<>\"\",\"○\",\"\")","v":""},{"$f":"IF(基本データ!AY87<>\"\",\"○\",\"\")","v":"○"},{"$f":"IF(基本データ!AZ87<>\"\",\"○\",\"\")","v":""},{"$f":"IF(基本データ!BA87<>\"\",\"○\",\"\")","v":"○"},{"$f":"IF(基本データ!BB87<>\"\",\"○\",\"\")","v":"○"},{"$f":"IF(基本データ!BC87<>\"\",\"○\",\"\")","v":"○"},{"$f":"IF(基本データ!BD87<>\"\",\"○\",\"\")","v":"○"},{"$f":"IF(基本データ!BE87<>\"\",\"○\",\"\")","v":"○"},{"$f":"IF(基本データ!BF87<>\"\",\"○\",\"\")","v":"○"},{"$f":"IF(基本データ!BG87<>\"\",\"○\",\"\")","v":""},{"$f":"基本データ!BN87","v":3},{"$f":"IF(基本データ!BH87<>\"\",\"○\",\"\")","v":""},{"$f":"IF(基本データ!BI87<>\"\",\"○\",\"\")","v":""},{"$f":"IF(基本データ!BJ87<>\"\",\"○\",\"\")","v":"○"},{"$f":"IF(基本データ!BK87<>\"\",\"○\",\"\")","v":"○"},{"$f":"IF(基本データ!BL87<>\"\",\"○\",\"\")","v":""},{"$f":"IF(基本データ!BM87<>\"\",\"○\",\"\")","v":"○"}]
[86,{"$f":"基本データ!J88","v":"佐賀県"},{"$f":"基本データ!B88","v":2018},{"$f":"基本データ!I88","v":"社会医療法人謙仁会　山元記念病院"},{"$f":"基本データ!AL88","v":5},{"$f":"IF(基本データ!AM88<>\"\",\"○\",\"\")","v":""},{"$f":"IF(基本データ!AN88<>\"\",\"○\",\"\")","v":""},{"$f":"IF(基本データ!AO88<>\"\",\"○\",\"\")","v":"○"},{"$f":"IF(基本データ!AP88<>\"\",\"○\",\"\")","v":""},{"$f":"IF(基本データ!AQ88<>\"\",\"○\",\"\")","v":""},{"$f":"IF(基本データ!AR88<>\"\",\"○\",\"\")","v":""},{"$f":"IF(基本データ!AS88<>\"\",\"○\",\"\")","v":""},{"$f":"IF(基本データ!AT88<>\"\",\"○\",\"\")","v":"○"},{"$f":"IF(基本データ!AU88<>\"\",\"○\",\"\")","v":"○"},{"$f":"IF(基本データ!AV88<>\"\",\"○\",\"\")","v":""},{"$f":"IF(基本データ!AW88<>\"\",\"○\",\"\")","v":"○"},{"$f":"IF(基本データ!AX88<>\"\",\"○\",\"\")","v":""},{"$f":"IF(基本データ!AY88<>\"\",\"○\",\"\")","v":""},{"$f":"IF(基本データ!AZ88<>\"\",\"○\",\"\")","v":""},{"$f":"IF(基本データ!BA88<>\"\",\"○\",\"\")","v":"○"},{"$f":"IF(基本データ!BB88<>\"\",\"○\",\"\")","v":""},{"$f":"IF(基本データ!BC88<>\"\",\"○\",\"\")","v":""},{"$f":"IF(基本データ!BD88<>\"\",\"○\",\"\")","v":""},{"$f":"IF(基本データ!BE88<>\"\",\"○\",\"\")","v":""},{"$f":"IF(基本データ!BF88<>\"\",\"○\",\"\")","v":""},{"$f":"IF(基本データ!BG88<>\"\",\"○\",\"\")","v":""},{"$f":"基本データ!BN88","v":1},{"$f":"IF(基本データ!BH88<>\"\",\"○\",\"\")","v":"○"},{"$f":"IF(基本データ!BI88<>\"\",\"○\",\"\")","v":""},{"$f":"IF(基本データ!BJ88<>\"\",\"○\",\"\")","v":""},{"$f":"IF(基本データ!BK88<>\"\",\"○\",\"\")","v":""},{"$f":"IF(基本データ!BL88<>\"\",\"○\",\"\")","v":""},{"$f":"IF(基本データ!BM88<>\"\",\"○\",\"\")","v":""}]
[87,{"$f":"基本データ!J89","v":"大分県"},{"$f":"基本データ!B89","v":2018},{"$f":"基本データ!I89","v":"社会医療法人敬和会　大分岡病院"},{"$f":"基本データ!AL89","v":15},{"$f":"IF(基本データ!AM89<>\"\",\"○\",\"\")","v":"○"},{"$f":"IF(基本データ!AN89<>\"\",\"○\",\"\")","v":"○"},{"$f":"IF(基本データ!AO89<>\"\",\"○\",\"\")","v":"○"},{"$f":"IF(基本データ!AP89<>\"\",\"○\",\"\")","v":""},{"$f":"IF(基本データ!AQ89<>\"\",\"○\",\"\")","v":""},{"$f":"IF(基本データ!AR89<>\"\",\"○\",\"\")","v":"○"},{"$f":"IF(基本データ!AS89<>\"\",\"○\",\"\")","v":"○"},{"$f":"IF(基本データ!AT89<>\"\",\"○\",\"\")","v":"○"},{"$f":"IF(基本データ!AU89<>\"\",\"○\",\"\")","v":"○"},{"$f":"IF(基本データ!AV89<>\"\",\"○\",\"\")","v":"○"},{"$f":"IF(基本データ!AW89<>\"\",\"○\",\"\")","v":"○"},{"$f":"IF(基本データ!AX89<>\"\",\"○\",\"\")","v":"○"},{"$f":"IF(基本データ!AY89<>\"\",\"○\",\"\")","v":"○"},{"$f":"IF(基本データ!AZ89<>\"\",\"○\",\"\")","v":""},{"$f":"IF(基本データ!BA89<>\"\",\"○\",\"\")","v":"○"},{"$f":"IF(基本データ!BB89<>\"\",\"○\",\"\")","v":"○"},{"$f":"IF(基本データ!BC89<>\"\",\"○\",\"\")","v":""},{"$f":"IF(基本データ!BD89<>\"\",\"○\",\"\")","v":"○"},{"$f":"IF(基本データ!BE89<>\"\",\"○\",\"\")","v":"○"},{"$f":"IF(基本データ!BF89<>\"\",\"○\",\"\")","v":""},{"$f":"IF(基本データ!BG89<>\"\",\"○\",\"\")","v":""},{"$f":"基本データ!BN89","v":4},{"$f":"IF(基本データ!BH89<>\"\",\"○\",\"\")","v":"○"},{"$f":"IF(基本データ!BI89<>\"\",\"○\",\"\")","v":"○"},{"$f":"IF(基本データ!BJ89<>\"\",\"○\",\"\")","v":"○"},{"$f":"IF(基本データ!BK89<>\"\",\"○\",\"\")","v":""},{"$f":"IF(基本データ!BL89<>\"\",\"○\",\"\")","v":"○"},{"$f":"IF(基本データ!BM89<>\"\",\"○\",\"\")","v":""}]
[88,{"$f":"基本データ!J90","v":"沖縄県"},{"$f":"基本データ!B90","v":2018},{"$f":"基本データ!I90","v":"医療法人徳洲会　南部徳洲会病院"},{"$f":"基本データ!AL90","v":7},{"$f":"IF(基本データ!AM90<>\"\",\"○\",\"\")","v":""},{"$f":"IF(基本データ!AN90<>\"\",\"○\",\"\")","v":""},{"$f":"IF(基本データ!AO90<>\"\",\"○\",\"\")","v":"○"},{"$f":"IF(基本データ!AP90<>\"\",\"○\",\"\")","v":""},{"$f":"IF(基本データ!AQ90<>\"\",\"○\",\"\")","v":""},{"$f":"IF(基本データ!AR90<>\"\",\"○\",\"\")","v":""},{"$f":"IF(基本データ!AS90<>\"\",\"○\",\"\")","v":""},{"$f":"IF(基本データ!AT90<>\"\",\"○\",\"\")","v":"○"},{"$f":"IF(基本データ!AU90<>\"\",\"○\",\"\")","v":"○"},{"$f":"IF(基本データ!AV90<>\"\",\"○\",\"\")","v":""},{"$f":"IF(基本データ!AW90<>\"\",\"○\",\"\")","v":"○"},{"$f":"IF(基本データ!AX90<>\"\",\"○\",\"\")","v":""},{"$f":"IF(基本データ!AY90<>\"\",\"○\",\"\")","v":"○"},{"$f":"IF(基本データ!AZ90<>\"\",\"○\",\"\")","v":""},{"$f":"IF(基本データ!BA90<>\"\",\"○\",\"\")","v":"○"},{"$f":"IF(基本データ!BB90<>\"\",\"○\",\"\")","v":""},{"$f":"IF(基本データ!BC90<>\"\",\"○\",\"\")","v":"○"},{"$f":"IF(基本データ!BD90<>\"\",\"○\",\"\")","v":""},{"$f":"IF(基本データ!BE90<>\"\",\"○\",\"\")","v":""},{"$f":"IF(基本データ!BF90<>\"\",\"○\",\"\")","v":""},{"$f":"IF(基本データ!BG90<>\"\",\"○\",\"\")","v":""},{"$f":"基本データ!BN90","v":1},{"$f":"IF(基本データ!BH90<>\"\",\"○\",\"\")","v":"○"},{"$f":"IF(基本データ!BI90<>\"\",\"○\",\"\")","v":""},{"$f":"IF(基本データ!BJ90<>\"\",\"○\",\"\")","v":""},{"$f":"IF(基本データ!BK90<>\"\",\"○\",\"\")","v":""},{"$f":"IF(基本データ!BL90<>\"\",\"○\",\"\")","v":""},{"$f":"IF(基本データ!BM90<>\"\",\"○\",\"\")","v":""}]
[89,{"$f":"基本データ!J91","v":"北海道"},{"$f":"基本データ!B91","v":2019},{"$f":"基本データ!I91","v":"清水赤十字病院"},{"$f":"基本データ!AL91","v":6},{"$f":"IF(基本データ!AM91<>\"\",\"○\",\"\")","v":""},{"$f":"IF(基本データ!AN91<>\"\",\"○\",\"\")","v":""},{"$f":"IF(基本データ!AO91<>\"\",\"○\",\"\")","v":"○"},{"$f":"IF(基本データ!AP91<>\"\",\"○\",\"\")","v":""},{"$f":"IF(基本データ!AQ91<>\"\",\"○\",\"\")","v":""},{"$f":"IF(基本データ!AR91<>\"\",\"○\",\"\")","v":""},{"$f":"IF(基本データ!AS91<>\"\",\"○\",\"\")","v":""},{"$f":"IF(基本データ!AT91<>\"\",\"○\",\"\")","v":"○"},{"$f":"IF(基本データ!AU91<>\"\",\"○\",\"\")","v":""},{"$f":"IF(基本データ!AV91<>\"\",\"○\",\"\")","v":""},{"$f":"IF(基本データ!AW91<>\"\",\"○\",\"\")","v":"○"},{"$f":"IF(基本データ!AX91<>\"\",\"○\",\"\")","v":""},{"$f":"IF(基本データ!AY91<>\"\",\"○\",\"\")","v":""},{"$f":"IF(基本データ!AZ91<>\"\",\"○\",\"\")","v":""},{"$f":"IF(基本データ!BA91<>\"\",\"○\",\"\")","v":"○"},{"$f":"IF(基本データ!BB91<>\"\",\"○\",\"\")","v":""},{"$f":"IF(基本データ!BC91<>\"\",\"○\",\"\")","v":"○"},{"$f":"IF(基本データ!BD91<>\"\",\"○\",\"\")","v":"○"},{"$f":"IF(基本データ!BE91<>\"\",\"○\",\"\")","v":""},{"$f":"IF(基本データ!BF91<>\"\",\"○\",\"\")","v":""},{"$f":"IF(基本データ!BG91<>\"\",\"○\",\"\")","v":""},{"$f":"基本データ!BN91","v":1},{"$f":"IF(基本データ!BH91<>\"\",\"○\",\"\")","v":"○"},{"$f":"IF(基本データ!BI91<>\"\",\"○\",\"\")","v":""},{"$f":"IF(基本データ!BJ91<>\"\",\"○\",\"\")","v":""},{"$f":"IF(基本データ!BK91<>\"\",\"○\",\"\")","v":""},{"$f":"IF(基本データ!BL91<>\"\",\"○\",\"\")","v":""},{"$f":"IF(基本データ!BM91<>\"\",\"○\",\"\")","v":""}]
[90,{"$f":"基本データ!J92","v":"宮城県"},{"$f":"基本データ!B92","v":2019},{"$f":"基本データ!I92","v":"石巻赤十字病院"},{"$f":"基本データ!AL92","v":7},{"$f":"IF(基本データ!AM92<>\"\",\"○\",\"\")","v":"○"},{"$f":"IF(基本データ!AN92<>\"\",\"○\",\"\")","v":"○"},{"$f":"IF(基本データ!AO92<>\"\",\"○\",\"\")","v":""},{"$f":"IF(基本データ!AP92<>\"\",\"○\",\"\")","v":""},{"$f":"IF(基本データ!AQ92<>\"\",\"○\",\"\")","v":""},{"$f":"IF(基本データ!AR92<>\"\",\"○\",\"\")","v":""},{"$f":"IF(基本データ!AS92<>\"\",\"○\",\"\")","v":""},{"$f":"IF(基本データ!AT92<>\"\",\"○\",\"\")","v":""},{"$f":"IF(基本データ!AU92<>\"\",\"○\",\"\")","v":""},{"$f":"IF(基本データ!AV92<>\"\",\"○\",\"\")","v":""},{"$f":"IF(基本データ!AW92<>\"\",\"○\",\"\")","v":"○"},{"$f":"IF(基本データ!AX92<>\"\",\"○\",\"\")","v":""},{"$f":"IF(基本データ!AY92<>\"\",\"○\",\"\")","v":"○"},{"$f":"IF(基本データ!AZ92<>\"\",\"○\",\"\")","v":""},{"$f":"IF(基本データ!BA92<>\"\",\"○\",\"\")","v":"○"},{"$f":"IF(基本データ!BB92<>\"\",\"○\",\"\")","v":"○"},{"$f":"IF(基本データ!BC92<>\"\",\"○\",\"\")","v":"○"},{"$f":"IF(基本データ!BD92<>\"\",\"○\",\"\")","v":""},{"$f":"IF(基本データ!BE92<>\"\",\"○\",\"\")","v":""},{"$f":"IF(基本データ!BF92<>\"\",\"○\",\"\")","v":""},{"$f":"IF(基本データ!BG92<>\"\",\"○\",\"\")","v":""},{"$f":"基本データ!BN92","v":0},{"$f":"IF(基本データ!BH92<>\"\",\"○\",\"\")","v":""},{"$f":"IF(基本データ!BI92<>\"\",\"○\",\"\")","v":""},{"$f":"IF(基本データ!BJ92<>\"\",\"○\",\"\")","v":""},{"$f":"IF(基本データ!BK92<>\"\",\"○\",\"\")","v":""},{"$f":"IF(基本データ!BL92<>\"\",\"○\",\"\")","v":""},{"$f":"IF(基本データ!BM92<>\"\",\"○\",\"\")","v":""}]
[91,{"$f":"基本データ!J93","v":"宮城県"},{"$f":"基本データ!B93","v":2019},{"$f":"基本データ!I93","v":"医療法人　浄仁会　大泉記念病院"},{"$f":"基本データ!AL93","v":4},{"$f":"IF(基本データ!AM93<>\"\",\"○\",\"\")","v":""},{"$f":"IF(基本データ!AN93<>\"\",\"○\",\"\")","v":""},{"$f":"IF(基本データ!AO93<>\"\",\"○\",\"\")","v":"○"},{"$f":"IF(基本データ!AP93<>\"\",\"○\",\"\")","v":""},{"$f":"IF(基本データ!AQ93<>\"\",\"○\",\"\")","v":""},{"$f":"IF(基本データ!AR93<>\"\",\"○\",\"\")","v":""},{"$f":"IF(基本データ!AS93<>\"\",\"○\",\"\")","v":""},{"$f":"IF(基本データ!AT93<>\"\",\"○\",\"\")","v":"○"},{"$f":"IF(基本データ!AU93<>\"\",\"○\",\"\")","v":""},{"$f":"IF(基本データ!AV93<>\"\",\"○\",\"\")","v":""},{"$f":"IF(基本データ!AW93<>\"\",\"○\",\"\")","v":"○"},{"$f":"IF(基本データ!AX93<>\"\",\"○\",\"\")","v":""},{"$f":"IF(基本データ!AY93<>\"\",\"○\",\"\")","v":""},{"$f":"IF(基本データ!AZ93<>\"\",\"○\",\"\")","v":""},{"$f":"IF(基本データ!BA93<>\"\",\"○\",\"\")","v":"○"},{"$f":"IF(基本データ!BB93<>\"\",\"○\",\"\")","v":""},{"$f":"IF(基本データ!BC93<>\"\",\"○\",\"\")","v":""},{"$f":"IF(基本データ!BD93<>\"\",\"○\",\"\")","v":""},{"$f":"IF(基本データ!BE93<>\"\",\"○\",\"\")","v":""},{"$f":"IF(基本データ!BF93<>\"\",\"○\",\"\")","v":""},{"$f":"IF(基本データ!BG93<>\"\",\"○\",\"\")","v":""},{"$f":"基本データ!BN93","v":1},{"$f":"IF(基本データ!BH93<>\"\",\"○\",\"\")","v":"○"},{"$f":"IF(基本データ!BI93<>\"\",\"○\",\"\")","v":""},{"$f":"IF(基本データ!BJ93<>\"\",\"○\",\"\")","v":""},{"$f":"IF(基本データ!BK93<>\"\",\"○\",\"\")","v":""},{"$f":"IF(基本データ!BL93<>\"\",\"○\",\"\")","v":""},{"$f":"IF(基本データ!BM93<>\"\",\"○\",\"\")","v":""}]
[92,{"$f":"基本データ!J94","v":"東京都"},{"$f":"基本データ!B94","v":2019},{"$f":"基本データ!I94","v":"公益財団法人日産厚生会玉川病院"},{"$f":"基本データ!AL94","v":8},{"$f":"IF(基本データ!AM94<>\"\",\"○\",\"\")","v":""},{"$f":"IF(基本データ!AN94<>\"\",\"○\",\"\")","v":""},{"$f":"IF(基本データ!AO94<>\"\",\"○\",\"\")","v":""},{"$f":"IF(基本データ!AP94<>\"\",\"○\",\"\")","v":""},{"$f":"IF(基本データ!AQ94<>\"\",\"○\",\"\")","v":""},{"$f":"IF(基本データ!AR94<>\"\",\"○\",\"\")","v":"○"},{"$f":"IF(基本データ!AS94<>\"\",\"○\",\"\")","v":""},{"$f":"IF(基本データ!AT94<>\"\",\"○\",\"\")","v":""},{"$f":"IF(基本データ!AU94<>\"\",\"○\",\"\")","v":""},{"$f":"IF(基本データ!AV94<>\"\",\"○\",\"\")","v":"○"},{"$f":"IF(基本データ!AW94<>\"\",\"○\",\"\")","v":"○"},{"$f":"IF(基本データ!AX94<>\"\",\"○\",\"\")","v":"○"},{"$f":"IF(基本データ!AY94<>\"\",\"○\",\"\")","v":"○"},{"$f":"IF(基本データ!AZ94<>\"\",\"○\",\"\")","v":""},{"$f":"IF(基本データ!BA94<>\"\",\"○\",\"\")","v":"○"},{"$f":"IF(基本データ!BB94<>\"\",\"○\",\"\")","v":"○"},{"$f":"IF(基本データ!BC94<>\"\",\"○\",\"\")","v":"○"},{"$f":"IF(基本データ!BD94<>\"\",\"○\",\"\")","v":""},{"$f":"IF(基本データ!BE94<>\"\",\"○\",\"\")","v":""},{"$f":"IF(基本データ!BF94<>\"\",\"○\",\"\")","v":""},{"$f":"IF(基本データ!BG94<>\"\",\"○\",\"\")","v":""},{"$f":"基本データ!BN94","v":0},{"$f":"IF(基本データ!BH94<>\"\",\"○\",\"\")","v":""},{"$f":"IF(基本データ!BI94<>\"\",\"○\",\"\")","v":""},{"$f":"IF(基本データ!BJ94<>\"\",\"○\",\"\")","v":""},{"$f":"IF(基本データ!BK94<>\"\",\"○\",\"\")","v":""},{"$f":"IF(基本データ!BL94<>\"\",\"○\",\"\")","v":""},{"$f":"IF(基本データ!BM94<>\"\",\"○\",\"\")","v":""}]
[93,{"$f":"基本データ!J95","v":"東京都"},{"$f":"基本データ!B95","v":2019},{"$f":"基本データ!I95","v":"社会医療法人社団正志会　花と森の東京病院"},{"$f":"基本データ!AL95","v":8},{"$f":"IF(基本データ!AM95<>\"\",\"○\",\"\")","v":"○"},{"$f":"IF(基本データ!AN95<>\"\",\"○\",\"\")","v":"○"},{"$f":"IF(基本データ!AO95<>\"\",\"○\",\"\")","v":"○"},{"$f":"IF(基本データ!AP95<>\"\",\"○\",\"\")","v":""},{"$f":"IF(基本データ!AQ95<>\"\",\"○\",\"\")","v":""},{"$f":"IF(基本データ!AR95<>\"\",\"○\",\"\")","v":""},{"$f":"IF(基本データ!AS95<>\"\",\"○\",\"\")","v":""},{"$f":"IF(基本データ!AT95<>\"\",\"○\",\"\")","v":""},{"$f":"IF(基本データ!AU95<>\"\",\"○\",\"\")","v":"○"},{"$f":"IF(基本データ!AV95<>\"\",\"○\",\"\")","v":"○"},{"$f":"IF(基本データ!AW95<>\"\",\"○\",\"\")","v":""},{"$f":"IF(基本データ!AX95<>\"\",\"○\",\"\")","v":""},{"$f":"IF(基本データ!AY95<>\"\",\"○\",\"\")","v":"○"},{"$f":"IF(基本データ!AZ95<>\"\",\"○\",\"\")","v":""},{"$f":"IF(基本データ!BA95<>\"\",\"○\",\"\")","v":"○"},{"$f":"IF(基本データ!BB95<>\"\",\"○\",\"\")","v":""},{"$f":"IF(基本データ!BC95<>\"\",\"○\",\"\")","v":""},{"$f":"IF(基本データ!BD95<>\"\",\"○\",\"\")","v":""},{"$f":"IF(基本データ!BE95<>\"\",\"○\",\"\")","v":""},{"$f":"IF(基本データ!BF95<>\"\",\"○\",\"\")","v":"○"},{"$f":"IF(基本データ!BG95<>\"\",\"○\",\"\")","v":""},{"$f":"基本データ!BN95","v":2},{"$f":"IF(基本データ!BH95<>\"\",\"○\",\"\")","v":""},{"$f":"IF(基本データ!BI95<>\"\",\"○\",\"\")","v":"○"},{"$f":"IF(基本データ!BJ95<>\"\",\"○\",\"\")","v":""},{"$f":"IF(基本データ!BK95<>\"\",\"○\",\"\")","v":"○"},{"$f":"IF(基本データ!BL95<>\"\",\"○\",\"\")","v":""},{"$f":"IF(基本データ!BM95<>\"\",\"○\",\"\")","v":""}]
[94,{"$f":"基本データ!J96","v":"神奈川県"},{"$f":"基本データ!B96","v":2019},{"$f":"基本データ!I96","v":"独立行政法人労働者健康安全機構"},{"$f":"基本データ!AL96","v":18},{"$f":"IF(基本データ!AM96<>\"\",\"○\",\"\")","v":"○"},{"$f":"IF(基本データ!AN96<>\"\",\"○\",\"\")","v":"○"},{"$f":"IF(基本データ!AO96<>\"\",\"○\",\"\")","v":"○"},{"$f":"IF(基本データ!AP96<>\"\",\"○\",\"\")","v":"○"},{"$f":"IF(基本データ!AQ96<>\"\",\"○\",\"\")","v":""},{"$f":"IF(基本データ!AR96<>\"\",\"○\",\"\")","v":""},{"$f":"IF(基本データ!AS96<>\"\",\"○\",\"\")","v":"○"},{"$f":"IF(基本データ!AT96<>\"\",\"○\",\"\")","v":"○"},{"$f":"IF(基本データ!AU96<>\"\",\"○\",\"\")","v":"○"},{"$f":"IF(基本データ!AV96<>\"\",\"○\",\"\")","v":"○"},{"$f":"IF(基本データ!AW96<>\"\",\"○\",\"\")","v":"○"},{"$f":"IF(基本データ!AX96<>\"\",\"○\",\"\")","v":"○"},{"$f":"IF(基本データ!AY96<>\"\",\"○\",\"\")","v":"○"},{"$f":"IF(基本データ!AZ96<>\"\",\"○\",\"\")","v":"○"},{"$f":"IF(基本データ!BA96<>\"\",\"○\",\"\")","v":"○"},{"$f":"IF(基本データ!BB96<>\"\",\"○\",\"\")","v":"○"},{"$f":"IF(基本データ!BC96<>\"\",\"○\",\"\")","v":"○"},{"$f":"IF(基本データ!BD96<>\"\",\"○\",\"\")","v":"○"},{"$f":"IF(基本データ!BE96<>\"\",\"○\",\"\")","v":"○"},{"$f":"IF(基本データ!BF96<>\"\",\"○\",\"\")","v":"○"},{"$f":"IF(基本データ!BG96<>\"\",\"○\",\"\")","v":""},{"$f":"基本データ!BN96","v":4},{"$f":"IF(基本データ!BH96<>\"\",\"○\",\"\")","v":""},{"$f":"IF(基本データ!BI96<>\"\",\"○\",\"\")","v":""},{"$f":"IF(基本データ!BJ96<>\"\",\"○\",\"\")","v":"○"},{"$f":"IF(基本データ!BK96<>\"\",\"○\",\"\")","v":"○"},{"$f":"IF(基本データ!BL96<>\"\",\"○\",\"\")","v":"○"},{"$f":"IF(基本データ!BM96<>\"\",\"○\",\"\")","v":"○"}]
[95,{"$f":"基本データ!J97","v":"神奈川県"},{"$f":"基本データ!B97","v":2019},{"$f":"基本データ!I97","v":"横浜市立みなと赤十字病院"},{"$f":"基本データ!AL97","v":11},{"$f":"IF(基本データ!AM97<>\"\",\"○\",\"\")","v":"○"},{"$f":"IF(基本データ!AN97<>\"\",\"○\",\"\")","v":"○"},{"$f":"IF(基本データ!AO97<>\"\",\"○\",\"\")","v":"○"},{"$f":"IF(基本データ!AP97<>\"\",\"○\",\"\")","v":""},{"$f":"IF(基本データ!AQ97<>\"\",\"○\",\"\")","v":""},{"$f":"IF(基本データ!AR97<>\"\",\"○\",\"\")","v":""},{"$f":"IF(基本データ!AS97<>\"\",\"○\",\"\")","v":"○"},{"$f":"IF(基本データ!AT97<>\"\",\"○\",\"\")","v":""},{"$f":"IF(基本データ!AU97<>\"\",\"○\",\"\")","v":""},{"$f":"IF(基本データ!AV97<>\"\",\"○\",\"\")","v":"○"},{"$f":"IF(基本データ!AW97<>\"\",\"○\",\"\")","v":"○"},{"$f":"IF(基本データ!AX97<>\"\",\"○\",\"\")","v":""},{"$f":"IF(基本データ!AY97<>\"\",\"○\",\"\")","v":"○"},{"$f":"IF(基本データ!AZ97<>\"\",\"○\",\"\")","v":""},{"$f":"IF(基本データ!BA97<>\"\",\"○\",\"\")","v":"○"},{"$f":"IF(基本データ!BB97<>\"\",\"○\",\"\")","v":"○"},{"$f":"IF(基本データ!BC97<>\"\",\"○\",\"\")","v":""},{"$f":"IF(基本データ!BD97<>\"\",\"○\",\"\")","v":"○"},{"$f":"IF(基本データ!BE97<>\"\",\"○\",\"\")","v":"○"},{"$f":"IF(基本データ!BF97<>\"\",\"○\",\"\")","v":""},{"$f":"IF(基本データ!BG97<>\"\",\"○\",\"\")","v":""},{"$f":"基本データ!BN97","v":1},{"$f":"IF(基本データ!BH97<>\"\",\"○\",\"\")","v":""},{"$f":"IF(基本データ!BI97<>\"\",\"○\",\"\")","v":""},{"$f":"IF(基本データ!BJ97<>\"\",\"○\",\"\")","v":"○"},{"$f":"IF(基本データ!BK97<>\"\",\"○\",\"\")","v":""},{"$f":"IF(基本データ!BL97<>\"\",\"○\",\"\")","v":""},{"$f":"IF(基本データ!BM97<>\"\",\"○\",\"\")","v":""}]
[96,{"$f":"基本データ!J98","v":"富山県"},{"$f":"基本データ!B98","v":2019},{"$f":"基本データ!I98","v":"富山県立中央病院"},{"$f":"基本データ!AL98","v":15},{"$f":"IF(基本データ!AM98<>\"\",\"○\",\"\")","v":"○"},{"$f":"IF(基本データ!AN98<>\"\",\"○\",\"\")","v":"○"},{"$f":"IF(基本データ!AO98<>\"\",\"○\",\"\")","v":"○"},{"$f":"IF(基本データ!AP98<>\"\",\"○\",\"\")","v":"○"},{"$f":"IF(基本データ!AQ98<>\"\",\"○\",\"\")","v":""},{"$f":"IF(基本データ!AR98<>\"\",\"○\",\"\")","v":""},{"$f":"IF(基本データ!AS98<>\"\",\"○\",\"\")","v":"○"},{"$f":"IF(基本データ!AT98<>\"\",\"○\",\"\")","v":""},{"$f":"IF(基本データ!AU98<>\"\",\"○\",\"\")","v":"○"},{"$f":"IF(基本データ!AV98<>\"\",\"○\",\"\")","v":"○"},{"$f":"IF(基本データ!AW98<>\"\",\"○\",\"\")","v":"○"},{"$f":"IF(基本データ!AX98<>\"\",\"○\",\"\")","v":"○"},{"$f":"IF(基本データ!AY98<>\"\",\"○\",\"\")","v":"○"},{"$f":"IF(基本データ!AZ98<>\"\",\"○\",\"\")","v":""},{"$f":"IF(基本データ!BA98<>\"\",\"○\",\"\")","v":"○"},{"$f":"IF(基本データ!BB98<>\"\",\"○\",\"\")","v":""},{"$f":"IF(基本データ!BC98<>\"\",\"○\",\"\")","v":"○"},{"$f":"IF(基本データ!BD98<>\"\",\"○\",\"\")","v":"○"},{"$f":"IF(基本データ!BE98<>\"\",\"○\",\"\")","v":"○"},{"$f":"IF(基本データ!BF98<>\"\",\"○\",\"\")","v":"○"},{"$f":"IF(基本データ!BG98<>\"\",\"○\",\"\")","v":""},{"$f":"基本データ!BN98","v":3},{"$f":"IF(基本データ!BH98<>\"\",\"○\",\"\")","v":""},{"$f":"IF(基本データ!BI98<>\"\",\"○\",\"\")","v":""},{"$f":"IF(基本データ!BJ98<>\"\",\"○\",\"\")","v":"○"},{"$f":"IF(基本データ!BK98<>\"\",\"○\",\"\")","v":"○"},{"$f":"IF(基本データ!BL98<>\"\",\"○\",\"\")","v":""},{"$f":"IF(基本データ!BM98<>\"\",\"○\",\"\")","v":"○"}]
[97,{"$f":"基本データ!J99","v":"富山県"},{"$f":"基本データ!B99","v":2019},{"$f":"基本データ!I99","v":"南砺市民病院"},{"$f":"基本データ!AL99","v":5},{"$f":"IF(基本データ!AM99<>\"\",\"○\",\"\")","v":""},{"$f":"IF(基本データ!AN99<>\"\",\"○\",\"\")","v":""},{"$f":"IF(基本データ!AO99<>\"\",\"○\",\"\")","v":"○"},{"$f":"IF(基本データ!AP99<>\"\",\"○\",\"\")","v":""},{"$f":"IF(基本データ!AQ99<>\"\",\"○\",\"\")","v":""},{"$f":"IF(基本データ!AR99<>\"\",\"○\",\"\")","v":""},{"$f":"IF(基本データ!AS99<>\"\",\"○\",\"\")","v":""},{"$f":"IF(基本データ!AT99<>\"\",\"○\",\"\")","v":"○"},{"$f":"IF(基本データ!AU99<>\"\",\"○\",\"\")","v":""},{"$f":"IF(基本データ!AV99<>\"\",\"○\",\"\")","v":""},{"$f":"IF(基本データ!AW99<>\"\",\"○\",\"\")","v":"○"},{"$f":"IF(基本データ!AX99<>\"\",\"○\",\"\")","v":""},{"$f":"IF(基本データ!AY99<>\"\",\"○\",\"\")","v":""},{"$f":"IF(基本データ!AZ99<>\"\",\"○\",\"\")","v":""},{"$f":"IF(基本データ!BA99<>\"\",\"○\",\"\")","v":"○"},{"$f":"IF(基本データ!BB99<>\"\",\"○\",\"\")","v":""},{"$f":"IF(基本データ!BC99<>\"\",\"○\",\"\")","v":"○"},{"$f":"IF(基本データ!BD99<>\"\",\"○\",\"\")","v":""},{"$f":"IF(基本データ!BE99<>\"\",\"○\",\"\")","v":""},{"$f":"IF(基本データ!BF99<>\"\",\"○\",\"\")","v":""},{"$f":"IF(基本データ!BG99<>\"\",\"○\",\"\")","v":""},{"$f":"基本データ!BN99","v":1},{"$f":"IF(基本データ!BH99<>\"\",\"○\",\"\")","v":"○"},{"$f":"IF(基本データ!BI99<>\"\",\"○\",\"\")","v":""},{"$f":"IF(基本データ!BJ99<>\"\",\"○\",\"\")","v":""},{"$f":"IF(基本データ!BK99<>\"\",\"○\",\"\")","v":""},{"$f":"IF(基本データ!BL99<>\"\",\"○\",\"\")","v":""},{"$f":"IF(基本データ!BM99<>\"\",\"○\",\"\")","v":""}]
[98,{"$f":"基本データ!J100","v":"長野県"},{"$f":"基本データ!B100","v":2019},{"$f":"基本データ!I100","v":"社会医療法人財団慈泉会　相澤病院"},{"$f":"基本データ!AL100","v":14},{"$f":"IF(基本データ!AM100<>\"\",\"○\",\"\")","v":"○"},{"$f":"IF(基本データ!AN100<>\"\",\"○\",\"\")","v":"○"},{"$f":"IF(基本データ!AO100<>\"\",\"○\",\"\")","v":"○"},{"$f":"IF(基本データ!AP100<>\"\",\"○\",\"\")","v":""},{"$f":"IF(基本データ!AQ100<>\"\",\"○\",\"\")","v":""},{"$f":"IF(基本データ!AR100<>\"\",\"○\",\"\")","v":"○"},{"$f":"IF(基本データ!AS100<>\"\",\"○\",\"\")","v":"○"},{"$f":"IF(基本データ!AT100<>\"\",\"○\",\"\")","v":""},{"$f":"IF(基本データ!AU100<>\"\",\"○\",\"\")","v":"○"},{"$f":"IF(基本データ!AV100<>\"\",\"○\",\"\")","v":"○"},{"$f":"IF(基本データ!AW100<>\"\",\"○\",\"\")","v":"○"},{"$f":"IF(基本データ!AX100<>\"\",\"○\",\"\")","v":"○"},{"$f":"IF(基本データ!AY100<>\"\",\"○\",\"\")","v":"○"},{"$f":"IF(基本データ!AZ100<>\"\",\"○\",\"\")","v":""},{"$f":"IF(基本データ!BA100<>\"\",\"○\",\"\")","v":"○"},{"$f":"IF(基本データ!BB100<>\"\",\"○\",\"\")","v":""},{"$f":"IF(基本データ!BC100<>\"\",\"○\",\"\")","v":"○"},{"$f":"IF(基本データ!BD100<>\"\",\"○\",\"\")","v":"○"},{"$f":"IF(基本データ!BE100<>\"\",\"○\",\"\")","v":"○"},{"$f":"IF(基本データ!BF100<>\"\",\"○\",\"\")","v":""},{"$f":"IF(基本データ!BG100<>\"\",\"○\",\"\")","v":""},{"$f":"基本データ!BN100","v":0},{"$f":"IF(基本データ!BH100<>\"\",\"○\",\"\")","v":""},{"$f":"IF(基本データ!BI100<>\"\",\"○\",\"\")","v":""},{"$f":"IF(基本データ!BJ100<>\"\",\"○\",\"\")","v":""},{"$f":"IF(基本データ!BK100<>\"\",\"○\",\"\")","v":""},{"$f":"IF(基本データ!BL100<>\"\",\"○\",\"\")","v":""},{"$f":"IF(基本データ!BM100<>\"\",\"○\",\"\")","v":""}]
[99,{"$f":"基本データ!J101","v":"岐阜県"},{"$f":"基本データ!B101","v":2019},{"$f":"基本データ!I101","v":"県北西部地域医療センター　国保白鳥病院"},{"$f":"基本データ!AL101","v":4},{"$f":"IF(基本データ!AM101<>\"\",\"○\",\"\")","v":""},{"$f":"IF(基本データ!AN101<>\"\",\"○\",\"\")","v":""},{"$f":"IF(基本データ!AO101<>\"\",\"○\",\"\")","v":"○"},{"$f":"IF(基本データ!AP101<>\"\",\"○\",\"\")","v":""},{"$f":"IF(基本データ!AQ101<>\"\",\"○\",\"\")","v":""},{"$f":"IF(基本データ!AR101<>\"\",\"○\",\"\")","v":""},{"$f":"IF(基本データ!AS101<>\"\",\"○\",\"\")","v":""},{"$f":"IF(基本データ!AT101<>\"\",\"○\",\"\")","v":"○"},{"$f":"IF(基本データ!AU101<>\"\",\"○\",\"\")","v":""},{"$f":"IF(基本データ!AV101<>\"\",\"○\",\"\")","v":""},{"$f":"IF(基本データ!AW101<>\"\",\"○\",\"\")","v":"○"},{"$f":"IF(基本データ!AX101<>\"\",\"○\",\"\")","v":""},{"$f":"IF(基本データ!AY101<>\"\",\"○\",\"\")","v":""},{"$f":"IF(基本データ!AZ101<>\"\",\"○\",\"\")","v":""},{"$f":"IF(基本データ!BA101<>\"\",\"○\",\"\")","v":"○"},{"$f":"IF(基本データ!BB101<>\"\",\"○\",\"\")","v":""},{"$f":"IF(基本データ!BC101<>\"\",\"○\",\"\")","v":""},{"$f":"IF(基本データ!BD101<>\"\",\"○\",\"\")","v":""},{"$f":"IF(基本データ!BE101<>\"\",\"○\",\"\")","v":""},{"$f":"IF(基本データ!BF101<>\"\",\"○\",\"\")","v":""},{"$f":"IF(基本データ!BG101<>\"\",\"○\",\"\")","v":""},{"$f":"基本データ!BN101","v":1},{"$f":"IF(基本データ!BH101<>\"\",\"○\",\"\")","v":"○"},{"$f":"IF(基本データ!BI101<>\"\",\"○\",\"\")","v":""},{"$f":"IF(基本データ!BJ101<>\"\",\"○\",\"\")","v":""},{"$f":"IF(基本データ!BK101<>\"\",\"○\",\"\")","v":""},{"$f":"IF(基本データ!BL101<>\"\",\"○\",\"\")","v":""},{"$f":"IF(基本データ!BM101<>\"\",\"○\",\"\")","v":""}]
[100,{"$f":"基本データ!J102","v":"静岡県"},{"$f":"基本データ!B102","v":2019},{"$f":"基本データ!I102","v":"国立大学法人浜松医科大学　浜松医科大学医学部附属病院"},{"$f":"基本データ!AL102","v":17},{"$f":"IF(基本データ!AM102<>\"\",\"○\",\"\")","v":"○"},{"$f":"IF(基本データ!AN102<>\"\",\"○\",\"\")","v":"○"},{"$f":"IF(基本データ!AO102<>\"\",\"○\",\"\")","v":"○"},{"$f":"IF(基本データ!AP102<>\"\",\"○\",\"\")","v":"○"},{"$f":"IF(基本データ!AQ102<>\"\",\"○\",\"\")","v":"○"},{"$f":"IF(基本データ!AR102<>\"\",\"○\",\"\")","v":"○"},{"$f":"IF(基本データ!AS102<>\"\",\"○\",\"\")","v":"○"},{"$f":"IF(基本データ!AT102<>\"\",\"○\",\"\")","v":""},{"$f":"IF(基本データ!AU102<>\"\",\"○\",\"\")","v":"○"},{"$f":"IF(基本データ!AV102<>\"\",\"○\",\"\")","v":"○"},{"$f":"IF(基本データ!AW102<>\"\",\"○\",\"\")","v":""},{"$f":"IF(基本データ!AX102<>\"\",\"○\",\"\")","v":"○"},{"$f":"IF(基本データ!AY102<>\"\",\"○\",\"\")","v":"○"},{"$f":"IF(基本データ!AZ102<>\"\",\"○\",\"\")","v":""},{"$f":"IF(基本データ!BA102<>\"\",\"○\",\"\")","v":"○"},{"$f":"IF(基本データ!BB102<>\"\",\"○\",\"\")","v":"○"},{"$f":"IF(基本データ!BC102<>\"\",\"○\",\"\")","v":"○"},{"$f":"IF(基本データ!BD102<>\"\",\"○\",\"\")","v":"○"},{"$f":"IF(基本データ!BE102<>\"\",\"○\",\"\")","v":"○"},{"$f":"IF(基本データ!BF102<>\"\",\"○\",\"\")","v":"○"},{"$f":"IF(基本データ!BG102<>\"\",\"○\",\"\")","v":""},{"$f":"基本データ!BN102","v":2},{"$f":"IF(基本データ!BH102<>\"\",\"○\",\"\")","v":""},{"$f":"IF(基本データ!BI102<>\"\",\"○\",\"\")","v":""},{"$f":"IF(基本データ!BJ102<>\"\",\"○\",\"\")","v":"○"},{"$f":"IF(基本データ!BK102<>\"\",\"○\",\"\")","v":"○"},{"$f":"IF(基本データ!BL102<>\"\",\"○\",\"\")","v":""},{"$f":"IF(基本データ!BM102<>\"\",\"○\",\"\")","v":""}]
[101,{"$f":"基本データ!J103","v":"愛知県"},{"$f":"基本データ!B103","v":2019},{"$f":"基本データ!I103","v":"医療法人名古屋澄心会　名古屋ハートセンター"},{"$f":"基本データ!AL103","v":10},{"$f":"IF(基本データ!AM103<>\"\",\"○\",\"\")","v":""},{"$f":"IF(基本データ!AN103<>\"\",\"○\",\"\")","v":"○"},{"$f":"IF(基本データ!AO103<>\"\",\"○\",\"\")","v":"○"},{"$f":"IF(基本データ!AP103<>\"\",\"○\",\"\")","v":""},{"$f":"IF(基本データ!AQ103<>\"\",\"○\",\"\")","v":""},{"$f":"IF(基本データ!AR103<>\"\",\"○\",\"\")","v":""},{"$f":"IF(基本データ!AS103<>\"\",\"○\",\"\")","v":""},{"$f":"IF(基本データ!AT103<>\"\",\"○\",\"\")","v":""},{"$f":"IF(基本データ!AU103<>\"\",\"○\",\"\")","v":"○"},{"$f":"IF(基本データ!AV103<>\"\",\"○\",\"\")","v":"○"},{"$f":"IF(基本データ!AW103<>\"\",\"○\",\"\")","v":""},{"$f":"IF(基本データ!AX103<>\"\",\"○\",\"\")","v":""},{"$f":"IF(基本データ!AY103<>\"\",\"○\",\"\")","v":"○"},{"$f":"IF(基本データ!AZ103<>\"\",\"○\",\"\")","v":"○"},{"$f":"IF(基本データ!BA103<>\"\",\"○\",\"\")","v":"○"},{"$f":"IF(基本データ!BB103<>\"\",\"○\",\"\")","v":"○"},{"$f":"IF(基本データ!BC103<>\"\",\"○\",\"\")","v":"○"},{"$f":"IF(基本データ!BD103<>\"\",\"○\",\"\")","v":""},{"$f":"IF(基本データ!BE103<>\"\",\"○\",\"\")","v":"○"},{"$f":"IF(基本データ!BF103<>\"\",\"○\",\"\")","v":""},{"$f":"IF(基本データ!BG103<>\"\",\"○\",\"\")","v":""},{"$f":"基本データ!BN103","v":0},{"$f":"IF(基本データ!BH103<>\"\",\"○\",\"\")","v":""},{"$f":"IF(基本データ!BI103<>\"\",\"○\",\"\")","v":""},{"$f":"IF(基本データ!BJ103<>\"\",\"○\",\"\")","v":""},{"$f":"IF(基本データ!BK103<>\"\",\"○\",\"\")","v":""},{"$f":"IF(基本データ!BL103<>\"\",\"○\",\"\")","v":""},{"$f":"IF(基本データ!BM103<>\"\",\"○\",\"\")","v":""}]
[102,{"$f":"基本データ!J104","v":"愛知県"},{"$f":"基本データ!B104","v":2019},{"$f":"基本データ!I104","v":"学校法人　藤田学園　藤田医科大学　保健衛生学部　臨床看護研修センター"},{"$f":"基本データ!AL104","v":18},{"$f":"IF(基本データ!AM104<>\"\",\"○\",\"\")","v":"○"},{"$f":"IF(基本データ!AN104<>\"\",\"○\",\"\")","v":"○"},{"$f":"IF(基本データ!AO104<>\"\",\"○\",\"\")","v":"○"},{"$f":"IF(基本データ!AP104<>\"\",\"○\",\"\")","v":"○"},{"$f":"IF(基本データ!AQ104<>\"\",\"○\",\"\")","v":""},{"$f":"IF(基本データ!AR104<>\"\",\"○\",\"\")","v":"○"},{"$f":"IF(基本データ!AS104<>\"\",\"○\",\"\")","v":"○"},{"$f":"IF(基本データ!AT104<>\"\",\"○\",\"\")","v":""},{"$f":"IF(基本データ!AU104<>\"\",\"○\",\"\")","v":"○"},{"$f":"IF(基本データ!AV104<>\"\",\"○\",\"\")","v":"○"},{"$f":"IF(基本データ!AW104<>\"\",\"○\",\"\")","v":"○"},{"$f":"IF(基本データ!AX104<>\"\",\"○\",\"\")","v":"○"},{"$f":"IF(基本データ!AY104<>\"\",\"○\",\"\")","v":"○"},{"$f":"IF(基本データ!AZ104<>\"\",\"○\",\"\")","v":"○"},{"$f":"IF(基本データ!BA104<>\"\",\"○\",\"\")","v":"○"},{"$f":"IF(基本データ!BB104<>\"\",\"○\",\"\")","v":"○"},{"$f":"IF(基本データ!BC104<>\"\",\"○\",\"\")","v":"○"},{"$f":"IF(基本データ!BD104<>\"\",\"○\",\"\")","v":"○"},{"$f":"IF(基本データ!BE104<>\"\",\"○\",\"\")","v":"○"},{"$f":"IF(基本データ!BF104<>\"\",\"○\",\"\")","v":"○"},{"$f":"IF(基本データ!BG104<>\"\",\"○\",\"\")","v":""},{"$f":"基本データ!BN104","v":4},{"$f":"IF(基本データ!BH104<>\"\",\"○\",\"\")","v":""},{"$f":"IF(基本データ!BI104<>\"\",\"○\",\"\")","v":"○"},{"$f":"IF(基本データ!BJ104<>\"\",\"○\",\"\")","v":"○"},{"$f":"IF(基本データ!BK104<>\"\",\"○\",\"\")","v":"○"},{"$f":"IF(基本データ!BL104<>\"\",\"○\",\"\")","v":""},{"$f":"IF(基本データ!BM104<>\"\",\"○\",\"\")","v":"○"}]
[103,{"$f":"基本データ!J105","v":"愛知県"},{"$f":"基本データ!B105","v":2019},{"$f":"基本データ!I105","v":"国立大学法人東海国立大学機構　名古屋大学医学部附属病院"},{"$f":"基本データ!AL105","v":18},{"$f":"IF(基本データ!AM105<>\"\",\"○\",\"\")","v":"○"},{"$f":"IF(基本データ!AN105<>\"\",\"○\",\"\")","v":"○"},{"$f":"IF(基本データ!AO105<>\"\",\"○\",\"\")","v":"○"},{"$f":"IF(基本データ!AP105<>\"\",\"○\",\"\")","v":"○"},{"$f":"IF(基本データ!AQ105<>\"\",\"○\",\"\")","v":""},{"$f":"IF(基本データ!AR105<>\"\",\"○\",\"\")","v":"○"},{"$f":"IF(基本データ!AS105<>\"\",\"○\",\"\")","v":"○"},{"$f":"IF(基本データ!AT105<>\"\",\"○\",\"\")","v":"○"},{"$f":"IF(基本データ!AU105<>\"\",\"○\",\"\")","v":"○"},{"$f":"IF(基本データ!AV105<>\"\",\"○\",\"\")","v":"○"},{"$f":"IF(基本データ!AW105<>\"\",\"○\",\"\")","v":"○"},{"$f":"IF(基本データ!AX105<>\"\",\"○\",\"\")","v":"○"},{"$f":"IF(基本データ!AY105<>\"\",\"○\",\"\")","v":"○"},{"$f":"IF(基本データ!AZ105<>\"\",\"○\",\"\")","v":""},{"$f":"IF(基本データ!BA105<>\"\",\"○\",\"\")","v":"○"},{"$f":"IF(基本データ!BB105<>\"\",\"○\",\"\")","v":"○"},{"$f":"IF(基本データ!BC105<>\"\",\"○\",\"\")","v":"○"},{"$f":"IF(基本データ!BD105<>\"\",\"○\",\"\")","v":"○"},{"$f":"IF(基本データ!BE105<>\"\",\"○\",\"\")","v":"○"},{"$f":"IF(基本データ!BF105<>\"\",\"○\",\"\")","v":"○"},{"$f":"IF(基本データ!BG105<>\"\",\"○\",\"\")","v":""},{"$f":"基本データ!BN105","v":4},{"$f":"IF(基本データ!BH105<>\"\",\"○\",\"\")","v":"○"},{"$f":"IF(基本データ!BI105<>\"\",\"○\",\"\")","v":"○"},{"$f":"IF(基本データ!BJ105<>\"\",\"○\",\"\")","v":""},{"$f":"IF(基本データ!BK105<>\"\",\"○\",\"\")","v":"○"},{"$f":"IF(基本データ!BL105<>\"\",\"○\",\"\")","v":"○"},{"$f":"IF(基本データ!BM105<>\"\",\"○\",\"\")","v":""}]
[104,{"$f":"基本データ!J106","v":"大阪府"},{"$f":"基本データ!B106","v":2019},{"$f":"基本データ!I106","v":"医療法人藤井会　石切生喜病院"},{"$f":"基本データ!AL106","v":13},{"$f":"IF(基本データ!AM106<>\"\",\"○\",\"\")","v":"○"},{"$f":"IF(基本データ!AN106<>\"\",\"○\",\"\")","v":"○"},{"$f":"IF(基本データ!AO106<>\"\",\"○\",\"\")","v":""},{"$f":"IF(基本データ!AP106<>\"\",\"○\",\"\")","v":"○"},{"$f":"IF(基本データ!AQ106<>\"\",\"○\",\"\")","v":""},{"$f":"IF(基本データ!AR106<>\"\",\"○\",\"\")","v":""},{"$f":"IF(基本データ!AS106<>\"\",\"○\",\"\")","v":""},{"$f":"IF(基本データ!AT106<>\"\",\"○\",\"\")","v":""},{"$f":"IF(基本データ!AU106<>\"\",\"○\",\"\")","v":"○"},{"$f":"IF(基本データ!AV106<>\"\",\"○\",\"\")","v":""},{"$f":"IF(基本データ!AW106<>\"\",\"○\",\"\")","v":"○"},{"$f":"IF(基本データ!AX106<>\"\",\"○\",\"\")","v":"○"},{"$f":"IF(基本データ!AY106<>\"\",\"○\",\"\")","v":"○"},{"$f":"IF(基本データ!AZ106<>\"\",\"○\",\"\")","v":"○"},{"$f":"IF(基本データ!BA106<>\"\",\"○\",\"\")","v":"○"},{"$f":"IF(基本データ!BB106<>\"\",\"○\",\"\")","v":"○"},{"$f":"IF(基本データ!BC106<>\"\",\"○\",\"\")","v":""},{"$f":"IF(基本データ!BD106<>\"\",\"○\",\"\")","v":"○"},{"$f":"IF(基本データ!BE106<>\"\",\"○\",\"\")","v":"○"},{"$f":"IF(基本データ!BF106<>\"\",\"○\",\"\")","v":"○"},{"$f":"IF(基本データ!BG106<>\"\",\"○\",\"\")","v":""},{"$f":"基本データ!BN106","v":2},{"$f":"IF(基本データ!BH106<>\"\",\"○\",\"\")","v":""},{"$f":"IF(基本データ!BI106<>\"\",\"○\",\"\")","v":""},{"$f":"IF(基本データ!BJ106<>\"\",\"○\",\"\")","v":""},{"$f":"IF(基本データ!BK106<>\"\",\"○\",\"\")","v":"○"},{"$f":"IF(基本データ!BL106<>\"\",\"○\",\"\")","v":"○"},{"$f":"IF(基本データ!BM106<>\"\",\"○\",\"\")","v":""}]
[105,{"$f":"基本データ!J107","v":"大阪府"},{"$f":"基本データ!B107","v":2019},{"$f":"基本データ!I107","v":"社会福祉法人恩賜財団済生会支部大阪府済生会泉南医療福祉センター"},{"$f":"基本データ!AL107","v":2},{"$f":"IF(基本データ!AM107<>\"\",\"○\",\"\")","v":""},{"$f":"IF(基本データ!AN107<>\"\",\"○\",\"\")","v":""},{"$f":"IF(基本データ!AO107<>\"\",\"○\",\"\")","v":""},{"$f":"IF(基本データ!AP107<>\"\",\"○\",\"\")","v":""},{"$f":"IF(基本データ!AQ107<>\"\",\"○\",\"\")","v":""},{"$f":"IF(基本データ!AR107<>\"\",\"○\",\"\")","v":""},{"$f":"IF(基本データ!AS107<>\"\",\"○\",\"\")","v":""},{"$f":"IF(基本データ!AT107<>\"\",\"○\",\"\")","v":""},{"$f":"IF(基本データ!AU107<>\"\",\"○\",\"\")","v":""},{"$f":"IF(基本データ!AV107<>\"\",\"○\",\"\")","v":""},{"$f":"IF(基本データ!AW107<>\"\",\"○\",\"\")","v":""},{"$f":"IF(基本データ!AX107<>\"\",\"○\",\"\")","v":""},{"$f":"IF(基本データ!AY107<>\"\",\"○\",\"\")","v":""},{"$f":"IF(基本データ!AZ107<>\"\",\"○\",\"\")","v":""},{"$f":"IF(基本データ!BA107<>\"\",\"○\",\"\")","v":"○"},{"$f":"IF(基本データ!BB107<>\"\",\"○\",\"\")","v":"○"},{"$f":"IF(基本データ!BC107<>\"\",\"○\",\"\")","v":""},{"$f":"IF(基本データ!BD107<>\"\",\"○\",\"\")","v":""},{"$f":"IF(基本データ!BE107<>\"\",\"○\",\"\")","v":""},{"$f":"IF(基本データ!BF107<>\"\",\"○\",\"\")","v":""},{"$f":"IF(基本データ!BG107<>\"\",\"○\",\"\")","v":""},{"$f":"基本データ!BN107","v":0},{"$f":"IF(基本データ!BH107<>\"\",\"○\",\"\")","v":""},{"$f":"IF(基本データ!BI107<>\"\",\"○\",\"\")","v":""},{"$f":"IF(基本データ!BJ107<>\"\",\"○\",\"\")","v":""},{"$f":"IF(基本データ!BK107<>\"\",\"○\",\"\")","v":""},{"$f":"IF(基本データ!BL107<>\"\",\"○\",\"\")","v":""},{"$f":"IF(基本データ!BM107<>\"\",\"○\",\"\")","v":""}]
[106,{"$f":"基本データ!J108","v":"和歌山県"},{"$f":"基本データ!B108","v":2019},{"$f":"基本データ!I108","v":"日本赤十字社　和歌山医療センター"},{"$f":"基本データ!AL108","v":11},{"$f":"IF(基本データ!AM108<>\"\",\"○\",\"\")","v":"○"},{"$f":"IF(基本データ!AN108<>\"\",\"○\",\"\")","v":"○"},{"$f":"IF(基本データ!AO108<>\"\",\"○\",\"\")","v":""},{"$f":"IF(基本データ!AP108<>\"\",\"○\",\"\")","v":""},{"$f":"IF(基本データ!AQ108<>\"\",\"○\",\"\")","v":""},{"$f":"IF(基本データ!AR108<>\"\",\"○\",\"\")","v":""},{"$f":"IF(基本データ!AS108<>\"\",\"○\",\"\")","v":""},{"$f":"IF(基本データ!AT108<>\"\",\"○\",\"\")","v":""},{"$f":"IF(基本データ!AU108<>\"\",\"○\",\"\")","v":""},{"$f":"IF(基本データ!AV108<>\"\",\"○\",\"\")","v":"○"},{"$f":"IF(基本データ!AW108<>\"\",\"○\",\"\")","v":"○"},{"$f":"IF(基本データ!AX108<>\"\",\"○\",\"\")","v":""},{"$f":"IF(基本データ!AY108<>\"\",\"○\",\"\")","v":"○"},{"$f":"IF(基本データ!AZ108<>\"\",\"○\",\"\")","v":""},{"$f":"IF(基本データ!BA108<>\"\",\"○\",\"\")","v":"○"},{"$f":"IF(基本データ!BB108<>\"\",\"○\",\"\")","v":"○"},{"$f":"IF(基本データ!BC108<>\"\",\"○\",\"\")","v":"○"},{"$f":"IF(基本データ!BD108<>\"\",\"○\",\"\")","v":"○"},{"$f":"IF(基本データ!BE108<>\"\",\"○\",\"\")","v":"○"},{"$f":"IF(基本データ!BF108<>\"\",\"○\",\"\")","v":"○"},{"$f":"IF(基本データ!BG108<>\"\",\"○\",\"\")","v":""},{"$f":"基本データ!BN108","v":2},{"$f":"IF(基本データ!BH108<>\"\",\"○\",\"\")","v":""},{"$f":"IF(基本データ!BI108<>\"\",\"○\",\"\")","v":""},{"$f":"IF(基本データ!BJ108<>\"\",\"○\",\"\")","v":"○"},{"$f":"IF(基本データ!BK108<>\"\",\"○\",\"\")","v":"○"},{"$f":"IF(基本データ!BL108<>\"\",\"○\",\"\")","v":""},{"$f":"IF(基本データ!BM108<>\"\",\"○\",\"\")","v":""}]
[107,{"$f":"基本データ!J109","v":"鳥取県"},{"$f":"基本データ!B109","v":2019},{"$f":"基本データ!I109","v":"鳥取赤十字病院"},{"$f":"基本データ!AL109","v":11},{"$f":"IF(基本データ!AM109<>\"\",\"○\",\"\")","v":"○"},{"$f":"IF(基本データ!AN109<>\"\",\"○\",\"\")","v":"○"},{"$f":"IF(基本データ!AO109<>\"\",\"○\",\"\")","v":"○"},{"$f":"IF(基本データ!AP109<>\"\",\"○\",\"\")","v":""},{"$f":"IF(基本データ!AQ109<>\"\",\"○\",\"\")","v":""},{"$f":"IF(基本データ!AR109<>\"\",\"○\",\"\")","v":""},{"$f":"IF(基本データ!AS109<>\"\",\"○\",\"\")","v":""},{"$f":"IF(基本データ!AT109<>\"\",\"○\",\"\")","v":""},{"$f":"IF(基本データ!AU109<>\"\",\"○\",\"\")","v":""},{"$f":"IF(基本データ!AV109<>\"\",\"○\",\"\")","v":"○"},{"$f":"IF(基本データ!AW109<>\"\",\"○\",\"\")","v":"○"},{"$f":"IF(基本データ!AX109<>\"\",\"○\",\"\")","v":""},{"$f":"IF(基本データ!AY109<>\"\",\"○\",\"\")","v":"○"},{"$f":"IF(基本データ!AZ109<>\"\",\"○\",\"\")","v":""},{"$f":"IF(基本データ!BA109<>\"\",\"○\",\"\")","v":"○"},{"$f":"IF(基本データ!BB109<>\"\",\"○\",\"\")","v":"○"},{"$f":"IF(基本データ!BC109<>\"\",\"○\",\"\")","v":"○"},{"$f":"IF(基本データ!BD109<>\"\",\"○\",\"\")","v":"○"},{"$f":"IF(基本データ!BE109<>\"\",\"○\",\"\")","v":"○"},{"$f":"IF(基本データ!BF109<>\"\",\"○\",\"\")","v":""},{"$f":"IF(基本データ!BG109<>\"\",\"○\",\"\")","v":""},{"$f":"基本データ!BN109","v":1},{"$f":"IF(基本データ!BH109<>\"\",\"○\",\"\")","v":""},{"$f":"IF(基本データ!BI109<>\"\",\"○\",\"\")","v":""},{"$f":"IF(基本データ!BJ109<>\"\",\"○\",\"\")","v":"○"},{"$f":"IF(基本データ!BK109<>\"\",\"○\",\"\")","v":""},{"$f":"IF(基本データ!BL109<>\"\",\"○\",\"\")","v":""},{"$f":"IF(基本データ!BM109<>\"\",\"○\",\"\")","v":""}]
[108,{"$f":"基本データ!J110","v":"島根県"},{"$f":"基本データ!B110","v":2019},{"$f":"基本データ!I110","v":"松江市立病院"},{"$f":"基本データ!AL110","v":7},{"$f":"IF(基本データ!AM110<>\"\",\"○\",\"\")","v":"○"},{"$f":"IF(基本データ!AN110<>\"\",\"○\",\"\")","v":"○"},{"$f":"IF(基本データ!AO110<>\"\",\"○\",\"\")","v":""},{"$f":"IF(基本データ!AP110<>\"\",\"○\",\"\")","v":""},{"$f":"IF(基本データ!AQ110<>\"\",\"○\",\"\")","v":""},{"$f":"IF(基本データ!AR110<>\"\",\"○\",\"\")","v":""},{"$f":"IF(基本データ!AS110<>\"\",\"○\",\"\")","v":""},{"$f":"IF(基本データ!AT110<>\"\",\"○\",\"\")","v":""},{"$f":"IF(基本データ!AU110<>\"\",\"○\",\"\")","v":""},{"$f":"IF(基本データ!AV110<>\"\",\"○\",\"\")","v":""},{"$f":"IF(基本データ!AW110<>\"\",\"○\",\"\")","v":""},{"$f":"IF(基本データ!AX110<>\"\",\"○\",\"\")","v":""},{"$f":"IF(基本データ!AY110<>\"\",\"○\",\"\")","v":"○"},{"$f":"IF(基本データ!AZ110<>\"\",\"○\",\"\")","v":""},{"$f":"IF(基本データ!BA110<>\"\",\"○\",\"\")","v":"○"},{"$f":"IF(基本データ!BB110<>\"\",\"○\",\"\")","v":""},{"$f":"IF(基本データ!BC110<>\"\",\"○\",\"\")","v":"○"},{"$f":"IF(基本データ!BD110<>\"\",\"○\",\"\")","v":"○"},{"$f":"IF(基本データ!BE110<>\"\",\"○\",\"\")","v":"○"},{"$f":"IF(基本データ!BF110<>\"\",\"○\",\"\")","v":""},{"$f":"IF(基本データ!BG110<>\"\",\"○\",\"\")","v":""},{"$f":"基本データ!BN110","v":1},{"$f":"IF(基本データ!BH110<>\"\",\"○\",\"\")","v":""},{"$f":"IF(基本データ!BI110<>\"\",\"○\",\"\")","v":""},{"$f":"IF(基本データ!BJ110<>\"\",\"○\",\"\")","v":"○"},{"$f":"IF(基本データ!BK110<>\"\",\"○\",\"\")","v":""},{"$f":"IF(基本データ!BL110<>\"\",\"○\",\"\")","v":""},{"$f":"IF(基本データ!BM110<>\"\",\"○\",\"\")","v":""}]
[109,{"$f":"基本データ!J111","v":"島根県"},{"$f":"基本データ!B111","v":2019},{"$f":"基本データ!I111","v":"松江赤十字病院"},{"$f":"基本データ!AL111","v":13},{"$f":"IF(基本データ!AM111<>\"\",\"○\",\"\")","v":"○"},{"$f":"IF(基本データ!AN111<>\"\",\"○\",\"\")","v":"○"},{"$f":"IF(基本データ!AO111<>\"\",\"○\",\"\")","v":"○"},{"$f":"IF(基本データ!AP111<>\"\",\"○\",\"\")","v":"○"},{"$f":"IF(基本データ!AQ111<>\"\",\"○\",\"\")","v":"○"},{"$f":"IF(基本データ!AR111<>\"\",\"○\",\"\")","v":"○"},{"$f":"IF(基本データ!AS111<>\"\",\"○\",\"\")","v":""},{"$f":"IF(基本データ!AT111<>\"\",\"○\",\"\")","v":""},{"$f":"IF(基本データ!AU111<>\"\",\"○\",\"\")","v":""},{"$f":"IF(基本データ!AV111<>\"\",\"○\",\"\")","v":""},{"$f":"IF(基本データ!AW111<>\"\",\"○\",\"\")","v":"○"},{"$f":"IF(基本データ!AX111<>\"\",\"○\",\"\")","v":""},{"$f":"IF(基本データ!AY111<>\"\",\"○\",\"\")","v":"○"},{"$f":"IF(基本データ!AZ111<>\"\",\"○\",\"\")","v":""},{"$f":"IF(基本データ!BA111<>\"\",\"○\",\"\")","v":"○"},{"$f":"IF(基本データ!BB111<>\"\",\"○\",\"\")","v":"○"},{"$f":"IF(基本データ!BC111<>\"\",\"○\",\"\")","v":"○"},{"$f":"IF(基本データ!BD111<>\"\",\"○\",\"\")","v":"○"},{"$f":"IF(基本データ!BE111<>\"\",\"○\",\"\")","v":"○"},{"$f":"IF(基本データ!BF111<>\"\",\"○\",\"\")","v":""},{"$f":"IF(基本データ!BG111<>\"\",\"○\",\"\")","v":""},{"$f":"基本データ!BN111","v":1},{"$f":"IF(基本データ!BH111<>\"\",\"○\",\"\")","v":""},{"$f":"IF(基本データ!BI111<>\"\",\"○\",\"\")","v":""},{"$f":"IF(基本データ!BJ111<>\"\",\"○\",\"\")","v":"○"},{"$f":"IF(基本データ!BK111<>\"\",\"○\",\"\")","v":""},{"$f":"IF(基本データ!BL111<>\"\",\"○\",\"\")","v":""},{"$f":"IF(基本データ!BM111<>\"\",\"○\",\"\")","v":""}]
[110,{"$f":"基本データ!J112","v":"広島県"},{"$f":"基本データ!B112","v":2019},{"$f":"基本データ!I112","v":"国立大学法人　広島大学病院"},{"$f":"基本データ!AL112","v":10},{"$f":"IF(基本データ!AM112<>\"\",\"○\",\"\")","v":"○"},{"$f":"IF(基本データ!AN112<>\"\",\"○\",\"\")","v":"○"},{"$f":"IF(基本データ!AO112<>\"\",\"○\",\"\")","v":""},{"$f":"IF(基本データ!AP112<>\"\",\"○\",\"\")","v":""},{"$f":"IF(基本データ!AQ112<>\"\",\"○\",\"\")","v":""},{"$f":"IF(基本データ!AR112<>\"\",\"○\",\"\")","v":""},{"$f":"IF(基本データ!AS112<>\"\",\"○\",\"\")","v":""},{"$f":"IF(基本データ!AT112<>\"\",\"○\",\"\")","v":""},{"$f":"IF(基本データ!AU112<>\"\",\"○\",\"\")","v":""},{"$f":"IF(基本データ!AV112<>\"\",\"○\",\"\")","v":"○"},{"$f":"IF(基本データ!AW112<>\"\",\"○\",\"\")","v":"○"},{"$f":"IF(基本データ!AX112<>\"\",\"○\",\"\")","v":""},{"$f":"IF(基本データ!AY112<>\"\",\"○\",\"\")","v":"○"},{"$f":"IF(基本データ!AZ112<>\"\",\"○\",\"\")","v":""},{"$f":"IF(基本データ!BA112<>\"\",\"○\",\"\")","v":"○"},{"$f":"IF(基本データ!BB112<>\"\",\"○\",\"\")","v":"○"},{"$f":"IF(基本データ!BC112<>\"\",\"○\",\"\")","v":"○"},{"$f":"IF(基本データ!BD112<>\"\",\"○\",\"\")","v":"○"},{"$f":"IF(基本データ!BE112<>\"\",\"○\",\"\")","v":"○"},{"$f":"IF(基本データ!BF112<>\"\",\"○\",\"\")","v":""},{"$f":"IF(基本データ!BG112<>\"\",\"○\",\"\")","v":""},{"$f":"基本データ!BN112","v":0},{"$f":"IF(基本データ!BH112<>\"\",\"○\",\"\")","v":""},{"$f":"IF(基本データ!BI112<>\"\",\"○\",\"\")","v":""},{"$f":"IF(基本データ!BJ112<>\"\",\"○\",\"\")","v":""},{"$f":"IF(基本データ!BK112<>\"\",\"○\",\"\")","v":""},{"$f":"IF(基本データ!BL112<>\"\",\"○\",\"\")","v":""},{"$f":"IF(基本データ!BM112<>\"\",\"○\",\"\")","v":""}]
[112,{"$f":"基本データ!J114","v":"佐賀県"},{"$f":"基本データ!B114","v":2019},{"$f":"基本データ!I114","v":"地方独立行政法人　佐賀県医療センター好生館"},{"$f":"基本データ!AL114","v":11},{"$f":"IF(基本データ!AM114<>\"\",\"○\",\"\")","v":"○"},{"$f":"IF(基本データ!AN114<>\"\",\"○\",\"\")","v":"○"},{"$f":"IF(基本データ!AO114<>\"\",\"○\",\"\")","v":""},{"$f":"IF(基本データ!AP114<>\"\",\"○\",\"\")","v":""},{"$f":"IF(基本データ!AQ114<>\"\",\"○\",\"\")","v":""},{"$f":"IF(基本データ!AR114<>\"\",\"○\",\"\")","v":"○"},{"$f":"IF(基本データ!AS114<>\"\",\"○\",\"\")","v":"○"},{"$f":"IF(基本データ!AT114<>\"\",\"○\",\"\")","v":""},{"$f":"IF(基本データ!AU114<>\"\",\"○\",\"\")","v":"○"},{"$f":"IF(基本データ!AV114<>\"\",\"○\",\"\")","v":""},{"$f":"IF(基本データ!AW114<>\"\",\"○\",\"\")","v":""},{"$f":"IF(基本データ!AX114<>\"\",\"○\",\"\")","v":"○"},{"$f":"IF(基本データ!AY114<>\"\",\"○\",\"\")","v":"○"},{"$f":"IF(基本データ!AZ114<>\"\",\"○\",\"\")","v":""},{"$f":"IF(基本データ!BA114<>\"\",\"○\",\"\")","v":"○"},{"$f":"IF(基本データ!BB114<>\"\",\"○\",\"\")","v":""},{"$f":"IF(基本データ!BC114<>\"\",\"○\",\"\")","v":""},{"$f":"IF(基本データ!BD114<>\"\",\"○\",\"\")","v":"○"},{"$f":"IF(基本データ!BE114<>\"\",\"○\",\"\")","v":"○"},{"$f":"IF(基本データ!BF114<>\"\",\"○\",\"\")","v":"○"},{"$f":"IF(基本データ!BG114<>\"\",\"○\",\"\")","v":""},{"$f":"基本データ!BN114","v":2},{"$f":"IF(基本データ!BH114<>\"\",\"○\",\"\")","v":""},{"$f":"IF(基本データ!BI114<>\"\",\"○\",\"\")","v":""},{"$f":"IF(基本データ!BJ114<>\"\",\"○\",\"\")","v":"○"},{"$f":"IF(基本データ!BK114<>\"\",\"○\",\"\")","v":"○"},{"$f":"IF(基本データ!BL114<>\"\",\"○\",\"\")","v":""},{"$f":"IF(基本データ!BM114<>\"\",\"○\",\"\")","v":""}]
[113,{"$f":"基本データ!J115","v":"熊本県"},{"$f":"基本データ!B115","v":2019},{"$f":"基本データ!I115","v":"独立行政法人国立病院機構　熊本医療センター"},{"$f":"基本データ!AL115","v":6},{"$f":"IF(基本データ!AM115<>\"\",\"○\",\"\")","v":"○"},{"$f":"IF(基本データ!AN115<>\"\",\"○\",\"\")","v":"○"},{"$f":"IF(基本データ!AO115<>\"\",\"○\",\"\")","v":""},{"$f":"IF(基本データ!AP115<>\"\",\"○\",\"\")","v":""},{"$f":"IF(基本データ!AQ115<>\"\",\"○\",\"\")","v":""},{"$f":"IF(基本データ!AR115<>\"\",\"○\",\"\")","v":""},{"$f":"IF(基本データ!AS115<>\"\",\"○\",\"\")","v":""},{"$f":"IF(基本データ!AT115<>\"\",\"○\",\"\")","v":""},{"$f":"IF(基本データ!AU115<>\"\",\"○\",\"\")","v":""},{"$f":"IF(基本データ!AV115<>\"\",\"○\",\"\")","v":""},{"$f":"IF(基本データ!AW115<>\"\",\"○\",\"\")","v":"○"},{"$f":"IF(基本データ!AX115<>\"\",\"○\",\"\")","v":""},{"$f":"IF(基本データ!AY115<>\"\",\"○\",\"\")","v":"○"},{"$f":"IF(基本データ!AZ115<>\"\",\"○\",\"\")","v":""},{"$f":"IF(基本データ!BA115<>\"\",\"○\",\"\")","v":"○"},{"$f":"IF(基本データ!BB115<>\"\",\"○\",\"\")","v":""},{"$f":"IF(基本データ!BC115<>\"\",\"○\",\"\")","v":""},{"$f":"IF(基本データ!BD115<>\"\",\"○\",\"\")","v":""},{"$f":"IF(基本データ!BE115<>\"\",\"○\",\"\")","v":""},{"$f":"IF(基本データ!BF115<>\"\",\"○\",\"\")","v":"○"},{"$f":"IF(基本データ!BG115<>\"\",\"○\",\"\")","v":""},{"$f":"基本データ!BN115","v":1},{"$f":"IF(基本データ!BH115<>\"\",\"○\",\"\")","v":""},{"$f":"IF(基本データ!BI115<>\"\",\"○\",\"\")","v":""},{"$f":"IF(基本データ!BJ115<>\"\",\"○\",\"\")","v":""},{"$f":"IF(基本データ!BK115<>\"\",\"○\",\"\")","v":"○"},{"$f":"IF(基本データ!BL115<>\"\",\"○\",\"\")","v":""},{"$f":"IF(基本データ!BM115<>\"\",\"○\",\"\")","v":""}]
[114,{"$f":"基本データ!J116","v":"鹿児島県"},{"$f":"基本データ!B116","v":2019},{"$f":"基本データ!I116","v":"公益財団法人慈愛会　今村総合病院"},{"$f":"基本データ!AL116","v":17},{"$f":"IF(基本データ!AM116<>\"\",\"○\",\"\")","v":"○"},{"$f":"IF(基本データ!AN116<>\"\",\"○\",\"\")","v":"○"},{"$f":"IF(基本データ!AO116<>\"\",\"○\",\"\")","v":"○"},{"$f":"IF(基本データ!AP116<>\"\",\"○\",\"\")","v":""},{"$f":"IF(基本データ!AQ116<>\"\",\"○\",\"\")","v":""},{"$f":"IF(基本データ!AR116<>\"\",\"○\",\"\")","v":""},{"$f":"IF(基本データ!AS116<>\"\",\"○\",\"\")","v":"○"},{"$f":"IF(基本データ!AT116<>\"\",\"○\",\"\")","v":"○"},{"$f":"IF(基本データ!AU116<>\"\",\"○\",\"\")","v":"○"},{"$f":"IF(基本データ!AV116<>\"\",\"○\",\"\")","v":"○"},{"$f":"IF(基本データ!AW116<>\"\",\"○\",\"\")","v":"○"},{"$f":"IF(基本データ!AX116<>\"\",\"○\",\"\")","v":"○"},{"$f":"IF(基本データ!AY116<>\"\",\"○\",\"\")","v":"○"},{"$f":"IF(基本データ!AZ116<>\"\",\"○\",\"\")","v":"○"},{"$f":"IF(基本データ!BA116<>\"\",\"○\",\"\")","v":"○"},{"$f":"IF(基本データ!BB116<>\"\",\"○\",\"\")","v":"○"},{"$f":"IF(基本データ!BC116<>\"\",\"○\",\"\")","v":"○"},{"$f":"IF(基本データ!BD116<>\"\",\"○\",\"\")","v":"○"},{"$f":"IF(基本データ!BE116<>\"\",\"○\",\"\")","v":"○"},{"$f":"IF(基本データ!BF116<>\"\",\"○\",\"\")","v":"○"},{"$f":"IF(基本データ!BG116<>\"\",\"○\",\"\")","v":""},{"$f":"基本データ!BN116","v":3},{"$f":"IF(基本データ!BH116<>\"\",\"○\",\"\")","v":"○"},{"$f":"IF(基本データ!BI116<>\"\",\"○\",\"\")","v":""},{"$f":"IF(基本データ!BJ116<>\"\",\"○\",\"\")","v":"○"},{"$f":"IF(基本データ!BK116<>\"\",\"○\",\"\")","v":"○"},{"$f":"IF(基本データ!BL116<>\"\",\"○\",\"\")","v":""},{"$f":"IF(基本データ!BM116<>\"\",\"○\",\"\")","v":""}]
[115,{"$f":"基本データ!J117","v":"栃木県"},{"$f":"基本データ!B117","v":2019},{"$f":"基本データ!I117","v":"学校法人獨協学園　獨協医科大学"},{"$f":"基本データ!AL117","v":21},{"$f":"IF(基本データ!AM117<>\"\",\"○\",\"\")","v":"○"},{"$f":"IF(基本データ!AN117<>\"\",\"○\",\"\")","v":"○"},{"$f":"IF(基本データ!AO117<>\"\",\"○\",\"\")","v":"○"},{"$f":"IF(基本データ!AP117<>\"\",\"○\",\"\")","v":"○"},{"$f":"IF(基本データ!AQ117<>\"\",\"○\",\"\")","v":"○"},{"$f":"IF(基本データ!AR117<>\"\",\"○\",\"\")","v":"○"},{"$f":"IF(基本データ!AS117<>\"\",\"○\",\"\")","v":"○"},{"$f":"IF(基本データ!AT117<>\"\",\"○\",\"\")","v":"○"},{"$f":"IF(基本データ!AU117<>\"\",\"○\",\"\")","v":"○"},{"$f":"IF(基本データ!AV117<>\"\",\"○\",\"\")","v":"○"},{"$f":"IF(基本データ!AW117<>\"\",\"○\",\"\")","v":"○"},{"$f":"IF(基本データ!AX117<>\"\",\"○\",\"\")","v":"○"},{"$f":"IF(基本データ!AY117<>\"\",\"○\",\"\")","v":"○"},{"$f":"IF(基本データ!AZ117<>\"\",\"○\",\"\")","v":"○"},{"$f":"IF(基本データ!BA117<>\"\",\"○\",\"\")","v":"○"},{"$f":"IF(基本データ!BB117<>\"\",\"○\",\"\")","v":"○"},{"$f":"IF(基本データ!BC117<>\"\",\"○\",\"\")","v":"○"},{"$f":"IF(基本データ!BD117<>\"\",\"○\",\"\")","v":"○"},{"$f":"IF(基本データ!BE117<>\"\",\"○\",\"\")","v":"○"},{"$f":"IF(基本データ!BF117<>\"\",\"○\",\"\")","v":"○"},{"$f":"IF(基本データ!BG117<>\"\",\"○\",\"\")","v":"○"},{"$f":"基本データ!BN117","v":6},{"$f":"IF(基本データ!BH117<>\"\",\"○\",\"\")","v":"○"},{"$f":"IF(基本データ!BI117<>\"\",\"○\",\"\")","v":"○"},{"$f":"IF(基本データ!BJ117<>\"\",\"○\",\"\")","v":"○"},{"$f":"IF(基本データ!BK117<>\"\",\"○\",\"\")","v":"○"},{"$f":"IF(基本データ!BL117<>\"\",\"○\",\"\")","v":"○"},{"$f":"IF(基本データ!BM117<>\"\",\"○\",\"\")","v":"○"}]
[116,{"$f":"基本データ!J118","v":"群馬県"},{"$f":"基本データ!B118","v":2019},{"$f":"基本データ!I118","v":"医療法人　群馬会　群馬病院"},{"$f":"基本データ!AL118","v":1},{"$f":"IF(基本データ!AM118<>\"\",\"○\",\"\")","v":""},{"$f":"IF(基本データ!AN118<>\"\",\"○\",\"\")","v":""},{"$f":"IF(基本データ!AO118<>\"\",\"○\",\"\")","v":""},{"$f":"IF(基本データ!AP118<>\"\",\"○\",\"\")","v":""},{"$f":"IF(基本データ!AQ118<>\"\",\"○\",\"\")","v":""},{"$f":"IF(基本データ!AR118<>\"\",\"○\",\"\")","v":""},{"$f":"IF(基本データ!AS118<>\"\",\"○\",\"\")","v":""},{"$f":"IF(基本データ!AT118<>\"\",\"○\",\"\")","v":""},{"$f":"IF(基本データ!AU118<>\"\",\"○\",\"\")","v":""},{"$f":"IF(基本データ!AV118<>\"\",\"○\",\"\")","v":""},{"$f":"IF(基本データ!AW118<>\"\",\"○\",\"\")","v":""},{"$f":"IF(基本データ!AX118<>\"\",\"○\",\"\")","v":""},{"$f":"IF(基本データ!AY118<>\"\",\"○\",\"\")","v":""},{"$f":"IF(基本データ!AZ118<>\"\",\"○\",\"\")","v":""},{"$f":"IF(基本データ!BA118<>\"\",\"○\",\"\")","v":""},{"$f":"IF(基本データ!BB118<>\"\",\"○\",\"\")","v":""},{"$f":"IF(基本データ!BC118<>\"\",\"○\",\"\")","v":""},{"$f":"IF(基本データ!BD118<>\"\",\"○\",\"\")","v":""},{"$f":"IF(基本データ!BE118<>\"\",\"○\",\"\")","v":""},{"$f":"IF(基本データ!BF118<>\"\",\"○\",\"\")","v":"○"},{"$f":"IF(基本データ!BG118<>\"\",\"○\",\"\")","v":""},{"$f":"基本データ!BN118","v":0},{"$f":"IF(基本データ!BH118<>\"\",\"○\",\"\")","v":""},{"$f":"IF(基本データ!BI118<>\"\",\"○\",\"\")","v":""},{"$f":"IF(基本データ!BJ118<>\"\",\"○\",\"\")","v":""},{"$f":"IF(基本データ!BK118<>\"\",\"○\",\"\")","v":""},{"$f":"IF(基本データ!BL118<>\"\",\"○\",\"\")","v":""},{"$f":"IF(基本データ!BM118<>\"\",\"○\",\"\")","v":""}]
[117,{"$f":"基本データ!J119","v":"群馬県"},{"$f":"基本データ!B119","v":2019},{"$f":"基本データ!I119","v":"前橋赤十字病院"},{"$f":"基本データ!AL119","v":12},{"$f":"IF(基本データ!AM119<>\"\",\"○\",\"\")","v":"○"},{"$f":"IF(基本データ!AN119<>\"\",\"○\",\"\")","v":"○"},{"$f":"IF(基本データ!AO119<>\"\",\"○\",\"\")","v":"○"},{"$f":"IF(基本データ!AP119<>\"\",\"○\",\"\")","v":""},{"$f":"IF(基本データ!AQ119<>\"\",\"○\",\"\")","v":""},{"$f":"IF(基本データ!AR119<>\"\",\"○\",\"\")","v":""},{"$f":"IF(基本データ!AS119<>\"\",\"○\",\"\")","v":""},{"$f":"IF(基本データ!AT119<>\"\",\"○\",\"\")","v":""},{"$f":"IF(基本データ!AU119<>\"\",\"○\",\"\")","v":""},{"$f":"IF(基本データ!AV119<>\"\",\"○\",\"\")","v":"○"},{"$f":"IF(基本データ!AW119<>\"\",\"○\",\"\")","v":"○"},{"$f":"IF(基本データ!AX119<>\"\",\"○\",\"\")","v":""},{"$f":"IF(基本データ!AY119<>\"\",\"○\",\"\")","v":"○"},{"$f":"IF(基本データ!AZ119<>\"\",\"○\",\"\")","v":""},{"$f":"IF(基本データ!BA119<>\"\",\"○\",\"\")","v":"○"},{"$f":"IF(基本データ!BB119<>\"\",\"○\",\"\")","v":"○"},{"$f":"IF(基本データ!BC119<>\"\",\"○\",\"\")","v":"○"},{"$f":"IF(基本データ!BD119<>\"\",\"○\",\"\")","v":"○"},{"$f":"IF(基本データ!BE119<>\"\",\"○\",\"\")","v":"○"},{"$f":"IF(基本データ!BF119<>\"\",\"○\",\"\")","v":"○"},{"$f":"IF(基本データ!BG119<>\"\",\"○\",\"\")","v":""},{"$f":"基本データ!BN119","v":2},{"$f":"IF(基本データ!BH119<>\"\",\"○\",\"\")","v":""},{"$f":"IF(基本データ!BI119<>\"\",\"○\",\"\")","v":""},{"$f":"IF(基本データ!BJ119<>\"\",\"○\",\"\")","v":"○"},{"$f":"IF(基本データ!BK119<>\"\",\"○\",\"\")","v":"○"},{"$f":"IF(基本データ!BL119<>\"\",\"○\",\"\")","v":""},{"$f":"IF(基本データ!BM119<>\"\",\"○\",\"\")","v":""}]
[118,{"$f":"基本データ!J120","v":"千葉県"},{"$f":"基本データ!B120","v":2019},{"$f":"基本データ!I120","v":"医療法人鉄蕉会　亀田総合病院"},{"$f":"基本データ!AL120","v":18},{"$f":"IF(基本データ!AM120<>\"\",\"○\",\"\")","v":"○"},{"$f":"IF(基本データ!AN120<>\"\",\"○\",\"\")","v":"○"},{"$f":"IF(基本データ!AO120<>\"\",\"○\",\"\")","v":"○"},{"$f":"IF(基本データ!AP120<>\"\",\"○\",\"\")","v":"○"},{"$f":"IF(基本データ!AQ120<>\"\",\"○\",\"\")","v":"○"},{"$f":"IF(基本データ!AR120<>\"\",\"○\",\"\")","v":"○"},{"$f":"IF(基本データ!AS120<>\"\",\"○\",\"\")","v":"○"},{"$f":"IF(基本データ!AT120<>\"\",\"○\",\"\")","v":"○"},{"$f":"IF(基本データ!AU120<>\"\",\"○\",\"\")","v":"○"},{"$f":"IF(基本データ!AV120<>\"\",\"○\",\"\")","v":"○"},{"$f":"IF(基本データ!AW120<>\"\",\"○\",\"\")","v":"○"},{"$f":"IF(基本データ!AX120<>\"\",\"○\",\"\")","v":"○"},{"$f":"IF(基本データ!AY120<>\"\",\"○\",\"\")","v":"○"},{"$f":"IF(基本データ!AZ120<>\"\",\"○\",\"\")","v":""},{"$f":"IF(基本データ!BA120<>\"\",\"○\",\"\")","v":"○"},{"$f":"IF(基本データ!BB120<>\"\",\"○\",\"\")","v":""},{"$f":"IF(基本データ!BC120<>\"\",\"○\",\"\")","v":"○"},{"$f":"IF(基本データ!BD120<>\"\",\"○\",\"\")","v":"○"},{"$f":"IF(基本データ!BE120<>\"\",\"○\",\"\")","v":"○"},{"$f":"IF(基本データ!BF120<>\"\",\"○\",\"\")","v":"○"},{"$f":"IF(基本データ!BG120<>\"\",\"○\",\"\")","v":""},{"$f":"基本データ!BN120","v":4},{"$f":"IF(基本データ!BH120<>\"\",\"○\",\"\")","v":"○"},{"$f":"IF(基本データ!BI120<>\"\",\"○\",\"\")","v":"○"},{"$f":"IF(基本データ!BJ120<>\"\",\"○\",\"\")","v":""},{"$f":"IF(基本データ!BK120<>\"\",\"○\",\"\")","v":"○"},{"$f":"IF(基本データ!BL120<>\"\",\"○\",\"\")","v":""},{"$f":"IF(基本データ!BM120<>\"\",\"○\",\"\")","v":"○"}]
[119,{"$f":"基本データ!J121","v":"神奈川県"},{"$f":"基本データ!B121","v":2019},{"$f":"基本データ!I121","v":"学校法人日本医科大学　日本医科大学武蔵小杉病院"},{"$f":"基本データ!AL121","v":8},{"$f":"IF(基本データ!AM121<>\"\",\"○\",\"\")","v":"○"},{"$f":"IF(基本データ!AN121<>\"\",\"○\",\"\")","v":"○"},{"$f":"IF(基本データ!AO121<>\"\",\"○\",\"\")","v":""},{"$f":"IF(基本データ!AP121<>\"\",\"○\",\"\")","v":""},{"$f":"IF(基本データ!AQ121<>\"\",\"○\",\"\")","v":""},{"$f":"IF(基本データ!AR121<>\"\",\"○\",\"\")","v":""},{"$f":"IF(基本データ!AS121<>\"\",\"○\",\"\")","v":""},{"$f":"IF(基本データ!AT121<>\"\",\"○\",\"\")","v":""},{"$f":"IF(基本データ!AU121<>\"\",\"○\",\"\")","v":"○"},{"$f":"IF(基本データ!AV121<>\"\",\"○\",\"\")","v":""},{"$f":"IF(基本データ!AW121<>\"\",\"○\",\"\")","v":""},{"$f":"IF(基本データ!AX121<>\"\",\"○\",\"\")","v":""},{"$f":"IF(基本データ!AY121<>\"\",\"○\",\"\")","v":"○"},{"$f":"IF(基本データ!AZ121<>\"\",\"○\",\"\")","v":""},{"$f":"IF(基本データ!BA121<>\"\",\"○\",\"\")","v":"○"},{"$f":"IF(基本データ!BB121<>\"\",\"○\",\"\")","v":""},{"$f":"IF(基本データ!BC121<>\"\",\"○\",\"\")","v":"○"},{"$f":"IF(基本データ!BD121<>\"\",\"○\",\"\")","v":"○"},{"$f":"IF(基本データ!BE121<>\"\",\"○\",\"\")","v":"○"},{"$f":"IF(基本データ!BF121<>\"\",\"○\",\"\")","v":""},{"$f":"IF(基本データ!BG121<>\"\",\"○\",\"\")","v":""},{"$f":"基本データ!BN121","v":1},{"$f":"IF(基本データ!BH121<>\"\",\"○\",\"\")","v":""},{"$f":"IF(基本データ!BI121<>\"\",\"○\",\"\")","v":""},{"$f":"IF(基本データ!BJ121<>\"\",\"○\",\"\")","v":"○"},{"$f":"IF(基本データ!BK121<>\"\",\"○\",\"\")","v":""},{"$f":"IF(基本データ!BL121<>\"\",\"○\",\"\")","v":""},{"$f":"IF(基本データ!BM121<>\"\",\"○\",\"\")","v":""}]
[120,{"$f":"基本データ!J122","v":"神奈川県"},{"$f":"基本データ!B122","v":2019},{"$f":"基本データ!I122","v":"学校法人　東海大学"},{"$f":"基本データ!AL122","v":18},{"$f":"IF(基本データ!AM122<>\"\",\"○\",\"\")","v":"○"},{"$f":"IF(基本データ!AN122<>\"\",\"○\",\"\")","v":"○"},{"$f":"IF(基本データ!AO122<>\"\",\"○\",\"\")","v":"○"},{"$f":"IF(基本データ!AP122<>\"\",\"○\",\"\")","v":"○"},{"$f":"IF(基本データ!AQ122<>\"\",\"○\",\"\")","v":""},{"$f":"IF(基本データ!AR122<>\"\",\"○\",\"\")","v":"○"},{"$f":"IF(基本データ!AS122<>\"\",\"○\",\"\")","v":"○"},{"$f":"IF(基本データ!AT122<>\"\",\"○\",\"\")","v":"○"},{"$f":"IF(基本データ!AU122<>\"\",\"○\",\"\")","v":"○"},{"$f":"IF(基本データ!AV122<>\"\",\"○\",\"\")","v":"○"},{"$f":"IF(基本データ!AW122<>\"\",\"○\",\"\")","v":"○"},{"$f":"IF(基本データ!AX122<>\"\",\"○\",\"\")","v":"○"},{"$f":"IF(基本データ!AY122<>\"\",\"○\",\"\")","v":"○"},{"$f":"IF(基本データ!AZ122<>\"\",\"○\",\"\")","v":""},{"$f":"IF(基本データ!BA122<>\"\",\"○\",\"\")","v":"○"},{"$f":"IF(基本データ!BB122<>\"\",\"○\",\"\")","v":"○"},{"$f":"IF(基本データ!BC122<>\"\",\"○\",\"\")","v":"○"},{"$f":"IF(基本データ!BD122<>\"\",\"○\",\"\")","v":"○"},{"$f":"IF(基本データ!BE122<>\"\",\"○\",\"\")","v":"○"},{"$f":"IF(基本データ!BF122<>\"\",\"○\",\"\")","v":"○"},{"$f":"IF(基本データ!BG122<>\"\",\"○\",\"\")","v":""},{"$f":"基本データ!BN122","v":6},{"$f":"IF(基本データ!BH122<>\"\",\"○\",\"\")","v":"○"},{"$f":"IF(基本データ!BI122<>\"\",\"○\",\"\")","v":"○"},{"$f":"IF(基本データ!BJ122<>\"\",\"○\",\"\")","v":"○"},{"$f":"IF(基本データ!BK122<>\"\",\"○\",\"\")","v":"○"},{"$f":"IF(基本データ!BL122<>\"\",\"○\",\"\")","v":"○"},{"$f":"IF(基本データ!BM122<>\"\",\"○\",\"\")","v":"○"}]
[121,{"$f":"基本データ!J123","v":"新潟県"},{"$f":"基本データ!B123","v":2019},{"$f":"基本データ!I123","v":"国立大学法人新潟大学　新潟大学医歯学総合病院"},{"$f":"基本データ!AL123","v":17},{"$f":"IF(基本データ!AM123<>\"\",\"○\",\"\")","v":"○"},{"$f":"IF(基本データ!AN123<>\"\",\"○\",\"\")","v":"○"},{"$f":"IF(基本データ!AO123<>\"\",\"○\",\"\")","v":"○"},{"$f":"IF(基本データ!AP123<>\"\",\"○\",\"\")","v":"○"},{"$f":"IF(基本データ!AQ123<>\"\",\"○\",\"\")","v":"○"},{"$f":"IF(基本データ!AR123<>\"\",\"○\",\"\")","v":"○"},{"$f":"IF(基本データ!AS123<>\"\",\"○\",\"\")","v":"○"},{"$f":"IF(基本データ!AT123<>\"\",\"○\",\"\")","v":""},{"$f":"IF(基本データ!AU123<>\"\",\"○\",\"\")","v":"○"},{"$f":"IF(基本データ!AV123<>\"\",\"○\",\"\")","v":""},{"$f":"IF(基本データ!AW123<>\"\",\"○\",\"\")","v":"○"},{"$f":"IF(基本データ!AX123<>\"\",\"○\",\"\")","v":"○"},{"$f":"IF(基本データ!AY123<>\"\",\"○\",\"\")","v":"○"},{"$f":"IF(基本データ!AZ123<>\"\",\"○\",\"\")","v":""},{"$f":"IF(基本データ!BA123<>\"\",\"○\",\"\")","v":"○"},{"$f":"IF(基本データ!BB123<>\"\",\"○\",\"\")","v":"○"},{"$f":"IF(基本データ!BC123<>\"\",\"○\",\"\")","v":"○"},{"$f":"IF(基本データ!BD123<>\"\",\"○\",\"\")","v":"○"},{"$f":"IF(基本データ!BE123<>\"\",\"○\",\"\")","v":"○"},{"$f":"IF(基本データ!BF123<>\"\",\"○\",\"\")","v":"○"},{"$f":"IF(基本データ!BG123<>\"\",\"○\",\"\")","v":""},{"$f":"基本データ!BN123","v":3},{"$f":"IF(基本データ!BH123<>\"\",\"○\",\"\")","v":""},{"$f":"IF(基本データ!BI123<>\"\",\"○\",\"\")","v":""},{"$f":"IF(基本データ!BJ123<>\"\",\"○\",\"\")","v":"○"},{"$f":"IF(基本データ!BK123<>\"\",\"○\",\"\")","v":""},{"$f":"IF(基本データ!BL123<>\"\",\"○\",\"\")","v":"○"},{"$f":"IF(基本データ!BM123<>\"\",\"○\",\"\")","v":"○"}]
[122,{"$f":"基本データ!J124","v":"新潟県"},{"$f":"基本データ!B124","v":2019},{"$f":"基本データ!I124","v":"新潟県厚生農業協同組合連合会　上越総合病院"},{"$f":"基本データ!AL124","v":6},{"$f":"IF(基本データ!AM124<>\"\",\"○\",\"\")","v":"○"},{"$f":"IF(基本データ!AN124<>\"\",\"○\",\"\")","v":"○"},{"$f":"IF(基本データ!AO124<>\"\",\"○\",\"\")","v":""},{"$f":"IF(基本データ!AP124<>\"\",\"○\",\"\")","v":""},{"$f":"IF(基本データ!AQ124<>\"\",\"○\",\"\")","v":""},{"$f":"IF(基本データ!AR124<>\"\",\"○\",\"\")","v":""},{"$f":"IF(基本データ!AS124<>\"\",\"○\",\"\")","v":""},{"$f":"IF(基本データ!AT124<>\"\",\"○\",\"\")","v":""},{"$f":"IF(基本データ!AU124<>\"\",\"○\",\"\")","v":""},{"$f":"IF(基本データ!AV124<>\"\",\"○\",\"\")","v":""},{"$f":"IF(基本データ!AW124<>\"\",\"○\",\"\")","v":""},{"$f":"IF(基本データ!AX124<>\"\",\"○\",\"\")","v":""},{"$f":"IF(基本データ!AY124<>\"\",\"○\",\"\")","v":"○"},{"$f":"IF(基本データ!AZ124<>\"\",\"○\",\"\")","v":""},{"$f":"IF(基本データ!BA124<>\"\",\"○\",\"\")","v":"○"},{"$f":"IF(基本データ!BB124<>\"\",\"○\",\"\")","v":""},{"$f":"IF(基本データ!BC124<>\"\",\"○\",\"\")","v":""},{"$f":"IF(基本データ!BD124<>\"\",\"○\",\"\")","v":"○"},{"$f":"IF(基本データ!BE124<>\"\",\"○\",\"\")","v":"○"},{"$f":"IF(基本データ!BF124<>\"\",\"○\",\"\")","v":""},{"$f":"IF(基本データ!BG124<>\"\",\"○\",\"\")","v":""},{"$f":"基本データ!BN124","v":1},{"$f":"IF(基本データ!BH124<>\"\",\"○\",\"\")","v":""},{"$f":"IF(基本データ!BI124<>\"\",\"○\",\"\")","v":""},{"$f":"IF(基本データ!BJ124<>\"\",\"○\",\"\")","v":"○"},{"$f":"IF(基本データ!BK124<>\"\",\"○\",\"\")","v":""},{"$f":"IF(基本データ!BL124<>\"\",\"○\",\"\")","v":""},{"$f":"IF(基本データ!BM124<>\"\",\"○\",\"\")","v":""}]
[123,{"$f":"基本データ!J125","v":"新潟県"},{"$f":"基本データ!B125","v":2019},{"$f":"基本データ!I125","v":"新潟県厚生農業協同組合連合会　長岡中央綜合病院"},{"$f":"基本データ!AL125","v":5},{"$f":"IF(基本データ!AM125<>\"\",\"○\",\"\")","v":""},{"$f":"IF(基本データ!AN125<>\"\",\"○\",\"\")","v":""},{"$f":"IF(基本データ!AO125<>\"\",\"○\",\"\")","v":"○"},{"$f":"IF(基本データ!AP125<>\"\",\"○\",\"\")","v":""},{"$f":"IF(基本データ!AQ125<>\"\",\"○\",\"\")","v":""},{"$f":"IF(基本データ!AR125<>\"\",\"○\",\"\")","v":""},{"$f":"IF(基本データ!AS125<>\"\",\"○\",\"\")","v":""},{"$f":"IF(基本データ!AT125<>\"\",\"○\",\"\")","v":"○"},{"$f":"IF(基本データ!AU125<>\"\",\"○\",\"\")","v":""},{"$f":"IF(基本データ!AV125<>\"\",\"○\",\"\")","v":""},{"$f":"IF(基本データ!AW125<>\"\",\"○\",\"\")","v":"○"},{"$f":"IF(基本データ!AX125<>\"\",\"○\",\"\")","v":""},{"$f":"IF(基本データ!AY125<>\"\",\"○\",\"\")","v":"○"},{"$f":"IF(基本データ!AZ125<>\"\",\"○\",\"\")","v":""},{"$f":"IF(基本データ!BA125<>\"\",\"○\",\"\")","v":"○"},{"$f":"IF(基本データ!BB125<>\"\",\"○\",\"\")","v":""},{"$f":"IF(基本データ!BC125<>\"\",\"○\",\"\")","v":""},{"$f":"IF(基本データ!BD125<>\"\",\"○\",\"\")","v":""},{"$f":"IF(基本データ!BE125<>\"\",\"○\",\"\")","v":""},{"$f":"IF(基本データ!BF125<>\"\",\"○\",\"\")","v":""},{"$f":"IF(基本データ!BG125<>\"\",\"○\",\"\")","v":""},{"$f":"基本データ!BN125","v":1},{"$f":"IF(基本データ!BH125<>\"\",\"○\",\"\")","v":"○"},{"$f":"IF(基本データ!BI125<>\"\",\"○\",\"\")","v":""},{"$f":"IF(基本データ!BJ125<>\"\",\"○\",\"\")","v":""},{"$f":"IF(基本データ!BK125<>\"\",\"○\",\"\")","v":""},{"$f":"IF(基本データ!BL125<>\"\",\"○\",\"\")","v":""},{"$f":"IF(基本データ!BM125<>\"\",\"○\",\"\")","v":""}]
[124,{"$f":"基本データ!J126","v":"新潟県"},{"$f":"基本データ!B126","v":2019},{"$f":"基本データ!I126","v":"新潟県厚生農業協同組合連合会　新潟医療センター"},{"$f":"基本データ!AL126","v":2},{"$f":"IF(基本データ!AM126<>\"\",\"○\",\"\")","v":""},{"$f":"IF(基本データ!AN126<>\"\",\"○\",\"\")","v":""},{"$f":"IF(基本データ!AO126<>\"\",\"○\",\"\")","v":""},{"$f":"IF(基本データ!AP126<>\"\",\"○\",\"\")","v":""},{"$f":"IF(基本データ!AQ126<>\"\",\"○\",\"\")","v":""},{"$f":"IF(基本データ!AR126<>\"\",\"○\",\"\")","v":""},{"$f":"IF(基本データ!AS126<>\"\",\"○\",\"\")","v":""},{"$f":"IF(基本データ!AT126<>\"\",\"○\",\"\")","v":""},{"$f":"IF(基本データ!AU126<>\"\",\"○\",\"\")","v":"○"},{"$f":"IF(基本データ!AV126<>\"\",\"○\",\"\")","v":""},{"$f":"IF(基本データ!AW126<>\"\",\"○\",\"\")","v":""},{"$f":"IF(基本データ!AX126<>\"\",\"○\",\"\")","v":""},{"$f":"IF(基本データ!AY126<>\"\",\"○\",\"\")","v":"○"},{"$f":"IF(基本データ!AZ126<>\"\",\"○\",\"\")","v":""},{"$f":"IF(基本データ!BA126<>\"\",\"○\",\"\")","v":""},{"$f":"IF(基本データ!BB126<>\"\",\"○\",\"\")","v":""},{"$f":"IF(基本データ!BC126<>\"\",\"○\",\"\")","v":""},{"$f":"IF(基本データ!BD126<>\"\",\"○\",\"\")","v":""},{"$f":"IF(基本データ!BE126<>\"\",\"○\",\"\")","v":""},{"$f":"IF(基本データ!BF126<>\"\",\"○\",\"\")","v":""},{"$f":"IF(基本データ!BG126<>\"\",\"○\",\"\")","v":""},{"$f":"基本データ!BN126","v":0},{"$f":"IF(基本データ!BH126<>\"\",\"○\",\"\")","v":""},{"$f":"IF(基本データ!BI126<>\"\",\"○\",\"\")","v":""},{"$f":"IF(基本データ!BJ126<>\"\",\"○\",\"\")","v":""},{"$f":"IF(基本データ!BK126<>\"\",\"○\",\"\")","v":""},{"$f":"IF(基本データ!BL126<>\"\",\"○\",\"\")","v":""},{"$f":"IF(基本データ!BM126<>\"\",\"○\",\"\")","v":""}]
[125,{"$f":"基本データ!J127","v":"富山県"},{"$f":"基本データ!B127","v":2019},{"$f":"基本データ!I127","v":"国立大学法人富山大学附属病院"},{"$f":"基本データ!AL127","v":15},{"$f":"IF(基本データ!AM127<>\"\",\"○\",\"\")","v":"○"},{"$f":"IF(基本データ!AN127<>\"\",\"○\",\"\")","v":"○"},{"$f":"IF(基本データ!AO127<>\"\",\"○\",\"\")","v":""},{"$f":"IF(基本データ!AP127<>\"\",\"○\",\"\")","v":"○"},{"$f":"IF(基本データ!AQ127<>\"\",\"○\",\"\")","v":"○"},{"$f":"IF(基本データ!AR127<>\"\",\"○\",\"\")","v":"○"},{"$f":"IF(基本データ!AS127<>\"\",\"○\",\"\")","v":"○"},{"$f":"IF(基本データ!AT127<>\"\",\"○\",\"\")","v":""},{"$f":"IF(基本データ!AU127<>\"\",\"○\",\"\")","v":"○"},{"$f":"IF(基本データ!AV127<>\"\",\"○\",\"\")","v":""},{"$f":"IF(基本データ!AW127<>\"\",\"○\",\"\")","v":""},{"$f":"IF(基本データ!AX127<>\"\",\"○\",\"\")","v":"○"},{"$f":"IF(基本データ!AY127<>\"\",\"○\",\"\")","v":"○"},{"$f":"IF(基本データ!AZ127<>\"\",\"○\",\"\")","v":""},{"$f":"IF(基本データ!BA127<>\"\",\"○\",\"\")","v":"○"},{"$f":"IF(基本データ!BB127<>\"\",\"○\",\"\")","v":"○"},{"$f":"IF(基本データ!BC127<>\"\",\"○\",\"\")","v":"○"},{"$f":"IF(基本データ!BD127<>\"\",\"○\",\"\")","v":"○"},{"$f":"IF(基本データ!BE127<>\"\",\"○\",\"\")","v":"○"},{"$f":"IF(基本データ!BF127<>\"\",\"○\",\"\")","v":"○"},{"$f":"IF(基本データ!BG127<>\"\",\"○\",\"\")","v":""},{"$f":"基本データ!BN127","v":0},{"$f":"IF(基本データ!BH127<>\"\",\"○\",\"\")","v":""},{"$f":"IF(基本データ!BI127<>\"\",\"○\",\"\")","v":""},{"$f":"IF(基本データ!BJ127<>\"\",\"○\",\"\")","v":""},{"$f":"IF(基本データ!BK127<>\"\",\"○\",\"\")","v":""},{"$f":"IF(基本データ!BL127<>\"\",\"○\",\"\")","v":""},{"$f":"IF(基本データ!BM127<>\"\",\"○\",\"\")","v":""}]
[126,{"$f":"基本データ!J128","v":"岐阜県"},{"$f":"基本データ!B128","v":2019},{"$f":"基本データ!I128","v":"医療法人澄心会　岐阜ハートセンター"},{"$f":"基本データ!AL128","v":9},{"$f":"IF(基本データ!AM128<>\"\",\"○\",\"\")","v":"○"},{"$f":"IF(基本データ!AN128<>\"\",\"○\",\"\")","v":"○"},{"$f":"IF(基本データ!AO128<>\"\",\"○\",\"\")","v":""},{"$f":"IF(基本データ!AP128<>\"\",\"○\",\"\")","v":""},{"$f":"IF(基本データ!AQ128<>\"\",\"○\",\"\")","v":"○"},{"$f":"IF(基本データ!AR128<>\"\",\"○\",\"\")","v":"○"},{"$f":"IF(基本データ!AS128<>\"\",\"○\",\"\")","v":""},{"$f":"IF(基本データ!AT128<>\"\",\"○\",\"\")","v":""},{"$f":"IF(基本データ!AU128<>\"\",\"○\",\"\")","v":"○"},{"$f":"IF(基本データ!AV128<>\"\",\"○\",\"\")","v":""},{"$f":"IF(基本データ!AW128<>\"\",\"○\",\"\")","v":"○"},{"$f":"IF(基本データ!AX128<>\"\",\"○\",\"\")","v":"○"},{"$f":"IF(基本データ!AY128<>\"\",\"○\",\"\")","v":"○"},{"$f":"IF(基本データ!AZ128<>\"\",\"○\",\"\")","v":""},{"$f":"IF(基本データ!BA128<>\"\",\"○\",\"\")","v":"○"},{"$f":"IF(基本データ!BB128<>\"\",\"○\",\"\")","v":""},{"$f":"IF(基本データ!BC128<>\"\",\"○\",\"\")","v":""},{"$f":"IF(基本データ!BD128<>\"\",\"○\",\"\")","v":""},{"$f":"IF(基本データ!BE128<>\"\",\"○\",\"\")","v":""},{"$f":"IF(基本データ!BF128<>\"\",\"○\",\"\")","v":""},{"$f":"IF(基本データ!BG128<>\"\",\"○\",\"\")","v":""},{"$f":"基本データ!BN128","v":0},{"$f":"IF(基本データ!BH128<>\"\",\"○\",\"\")","v":""},{"$f":"IF(基本データ!BI128<>\"\",\"○\",\"\")","v":""},{"$f":"IF(基本データ!BJ128<>\"\",\"○\",\"\")","v":""},{"$f":"IF(基本データ!BK128<>\"\",\"○\",\"\")","v":""},{"$f":"IF(基本データ!BL128<>\"\",\"○\",\"\")","v":""},{"$f":"IF(基本データ!BM128<>\"\",\"○\",\"\")","v":""}]
[127,{"$f":"基本データ!J129","v":"静岡県"},{"$f":"基本データ!B129","v":2019},{"$f":"基本データ!I129","v":"静岡県立静岡がんセンター"},{"$f":"基本データ!AL129","v":3},{"$f":"IF(基本データ!AM129<>\"\",\"○\",\"\")","v":""},{"$f":"IF(基本データ!AN129<>\"\",\"○\",\"\")","v":""},{"$f":"IF(基本データ!AO129<>\"\",\"○\",\"\")","v":""},{"$f":"IF(基本データ!AP129<>\"\",\"○\",\"\")","v":""},{"$f":"IF(基本データ!AQ129<>\"\",\"○\",\"\")","v":""},{"$f":"IF(基本データ!AR129<>\"\",\"○\",\"\")","v":""},{"$f":"IF(基本データ!AS129<>\"\",\"○\",\"\")","v":""},{"$f":"IF(基本データ!AT129<>\"\",\"○\",\"\")","v":""},{"$f":"IF(基本データ!AU129<>\"\",\"○\",\"\")","v":""},{"$f":"IF(基本データ!AV129<>\"\",\"○\",\"\")","v":""},{"$f":"IF(基本データ!AW129<>\"\",\"○\",\"\")","v":"○"},{"$f":"IF(基本データ!AX129<>\"\",\"○\",\"\")","v":"○"},{"$f":"IF(基本データ!AY129<>\"\",\"○\",\"\")","v":""},{"$f":"IF(基本データ!AZ129<>\"\",\"○\",\"\")","v":""},{"$f":"IF(基本データ!BA129<>\"\",\"○\",\"\")","v":"○"},{"$f":"IF(基本データ!BB129<>\"\",\"○\",\"\")","v":""},{"$f":"IF(基本データ!BC129<>\"\",\"○\",\"\")","v":""},{"$f":"IF(基本データ!BD129<>\"\",\"○\",\"\")","v":""},{"$f":"IF(基本データ!BE129<>\"\",\"○\",\"\")","v":""},{"$f":"IF(基本データ!BF129<>\"\",\"○\",\"\")","v":""},{"$f":"IF(基本データ!BG129<>\"\",\"○\",\"\")","v":""},{"$f":"基本データ!BN129","v":0},{"$f":"IF(基本データ!BH129<>\"\",\"○\",\"\")","v":""},{"$f":"IF(基本データ!BI129<>\"\",\"○\",\"\")","v":""},{"$f":"IF(基本データ!BJ129<>\"\",\"○\",\"\")","v":""},{"$f":"IF(基本データ!BK129<>\"\",\"○\",\"\")","v":""},{"$f":"IF(基本データ!BL129<>\"\",\"○\",\"\")","v":""},{"$f":"IF(基本データ!BM129<>\"\",\"○\",\"\")","v":""}]
[128,{"$f":"基本データ!J130","v":"静岡県"},{"$f":"基本データ!B130","v":2019},{"$f":"基本データ!I130","v":"社会福祉法人 聖隷福祉事業団"},{"$f":"基本データ!AL130","v":11},{"$f":"IF(基本データ!AM130<>\"\",\"○\",\"\")","v":"○"},{"$f":"IF(基本データ!AN130<>\"\",\"○\",\"\")","v":"○"},{"$f":"IF(基本データ!AO130<>\"\",\"○\",\"\")","v":"○"},{"$f":"IF(基本データ!AP130<>\"\",\"○\",\"\")","v":""},{"$f":"IF(基本データ!AQ130<>\"\",\"○\",\"\")","v":""},{"$f":"IF(基本データ!AR130<>\"\",\"○\",\"\")","v":""},{"$f":"IF(基本データ!AS130<>\"\",\"○\",\"\")","v":""},{"$f":"IF(基本データ!AT130<>\"\",\"○\",\"\")","v":"○"},{"$f":"IF(基本データ!AU130<>\"\",\"○\",\"\")","v":""},{"$f":"IF(基本データ!AV130<>\"\",\"○\",\"\")","v":""},{"$f":"IF(基本データ!AW130<>\"\",\"○\",\"\")","v":"○"},{"$f":"IF(基本データ!AX130<>\"\",\"○\",\"\")","v":""},{"$f":"IF(基本データ!AY130<>\"\",\"○\",\"\")","v":"○"},{"$f":"IF(基本データ!AZ130<>\"\",\"○\",\"\")","v":""},{"$f":"IF(基本データ!BA130<>\"\",\"○\",\"\")","v":"○"},{"$f":"IF(基本データ!BB130<>\"\",\"○\",\"\")","v":"○"},{"$f":"IF(基本データ!BC130<>\"\",\"○\",\"\")","v":""},{"$f":"IF(基本データ!BD130<>\"\",\"○\",\"\")","v":"○"},{"$f":"IF(基本データ!BE130<>\"\",\"○\",\"\")","v":"○"},{"$f":"IF(基本データ!BF130<>\"\",\"○\",\"\")","v":"○"},{"$f":"IF(基本データ!BG130<>\"\",\"○\",\"\")","v":""},{"$f":"基本データ!BN130","v":3},{"$f":"IF(基本データ!BH130<>\"\",\"○\",\"\")","v":"○"},{"$f":"IF(基本データ!BI130<>\"\",\"○\",\"\")","v":""},{"$f":"IF(基本データ!BJ130<>\"\",\"○\",\"\")","v":"○"},{"$f":"IF(基本データ!BK130<>\"\",\"○\",\"\")","v":"○"},{"$f":"IF(基本データ!BL130<>\"\",\"○\",\"\")","v":""},{"$f":"IF(基本データ!BM130<>\"\",\"○\",\"\")","v":""}]
[129,{"$f":"基本データ!J131","v":"静岡県"},{"$f":"基本データ!B131","v":2019},{"$f":"基本データ!I131","v":"社会福祉法人 聖隷福祉事業団　総合病院　聖隷三方原病院"},{"$f":"基本データ!AL131","v":17},{"$f":"IF(基本データ!AM131<>\"\",\"○\",\"\")","v":"○"},{"$f":"IF(基本データ!AN131<>\"\",\"○\",\"\")","v":"○"},{"$f":"IF(基本データ!AO131<>\"\",\"○\",\"\")","v":"○"},{"$f":"IF(基本データ!AP131<>\"\",\"○\",\"\")","v":""},{"$f":"IF(基本データ!AQ131<>\"\",\"○\",\"\")","v":""},{"$f":"IF(基本データ!AR131<>\"\",\"○\",\"\")","v":"○"},{"$f":"IF(基本データ!AS131<>\"\",\"○\",\"\")","v":"○"},{"$f":"IF(基本データ!AT131<>\"\",\"○\",\"\")","v":"○"},{"$f":"IF(基本データ!AU131<>\"\",\"○\",\"\")","v":"○"},{"$f":"IF(基本データ!AV131<>\"\",\"○\",\"\")","v":"○"},{"$f":"IF(基本データ!AW131<>\"\",\"○\",\"\")","v":"○"},{"$f":"IF(基本データ!AX131<>\"\",\"○\",\"\")","v":"○"},{"$f":"IF(基本データ!AY131<>\"\",\"○\",\"\")","v":"○"},{"$f":"IF(基本データ!AZ131<>\"\",\"○\",\"\")","v":""},{"$f":"IF(基本データ!BA131<>\"\",\"○\",\"\")","v":"○"},{"$f":"IF(基本データ!BB131<>\"\",\"○\",\"\")","v":"○"},{"$f":"IF(基本データ!BC131<>\"\",\"○\",\"\")","v":"○"},{"$f":"IF(基本データ!BD131<>\"\",\"○\",\"\")","v":"○"},{"$f":"IF(基本データ!BE131<>\"\",\"○\",\"\")","v":"○"},{"$f":"IF(基本データ!BF131<>\"\",\"○\",\"\")","v":"○"},{"$f":"IF(基本データ!BG131<>\"\",\"○\",\"\")","v":""},{"$f":"基本データ!BN131","v":2},{"$f":"IF(基本データ!BH131<>\"\",\"○\",\"\")","v":""},{"$f":"IF(基本データ!BI131<>\"\",\"○\",\"\")","v":"○"},{"$f":"IF(基本データ!BJ131<>\"\",\"○\",\"\")","v":"○"},{"$f":"IF(基本データ!BK131<>\"\",\"○\",\"\")","v":""},{"$f":"IF(基本データ!BL131<>\"\",\"○\",\"\")","v":""},{"$f":"IF(基本データ!BM131<>\"\",\"○\",\"\")","v":""}]
[130,{"$f":"基本データ!J132","v":"京都府"},{"$f":"基本データ!B132","v":2019},{"$f":"基本データ!I132","v":"市立福知山市民病院"},{"$f":"基本データ!AL132","v":14},{"$f":"IF(基本データ!AM132<>\"\",\"○\",\"\")","v":"○"},{"$f":"IF(基本データ!AN132<>\"\",\"○\",\"\")","v":"○"},{"$f":"IF(基本データ!AO132<>\"\",\"○\",\"\")","v":"○"},{"$f":"IF(基本データ!AP132<>\"\",\"○\",\"\")","v":""},{"$f":"IF(基本データ!AQ132<>\"\",\"○\",\"\")","v":""},{"$f":"IF(基本データ!AR132<>\"\",\"○\",\"\")","v":"○"},{"$f":"IF(基本データ!AS132<>\"\",\"○\",\"\")","v":"○"},{"$f":"IF(基本データ!AT132<>\"\",\"○\",\"\")","v":"○"},{"$f":"IF(基本データ!AU132<>\"\",\"○\",\"\")","v":"○"},{"$f":"IF(基本データ!AV132<>\"\",\"○\",\"\")","v":"○"},{"$f":"IF(基本データ!AW132<>\"\",\"○\",\"\")","v":"○"},{"$f":"IF(基本データ!AX132<>\"\",\"○\",\"\")","v":"○"},{"$f":"IF(基本データ!AY132<>\"\",\"○\",\"\")","v":"○"},{"$f":"IF(基本データ!AZ132<>\"\",\"○\",\"\")","v":""},{"$f":"IF(基本データ!BA132<>\"\",\"○\",\"\")","v":"○"},{"$f":"IF(基本データ!BB132<>\"\",\"○\",\"\")","v":""},{"$f":"IF(基本データ!BC132<>\"\",\"○\",\"\")","v":""},{"$f":"IF(基本データ!BD132<>\"\",\"○\",\"\")","v":"○"},{"$f":"IF(基本データ!BE132<>\"\",\"○\",\"\")","v":"○"},{"$f":"IF(基本データ!BF132<>\"\",\"○\",\"\")","v":""},{"$f":"IF(基本データ!BG132<>\"\",\"○\",\"\")","v":""},{"$f":"基本データ!BN132","v":3},{"$f":"IF(基本データ!BH132<>\"\",\"○\",\"\")","v":"○"},{"$f":"IF(基本データ!BI132<>\"\",\"○\",\"\")","v":"○"},{"$f":"IF(基本データ!BJ132<>\"\",\"○\",\"\")","v":"○"},{"$f":"IF(基本データ!BK132<>\"\",\"○\",\"\")","v":""},{"$f":"IF(基本データ!BL132<>\"\",\"○\",\"\")","v":""},{"$f":"IF(基本データ!BM132<>\"\",\"○\",\"\")","v":""}]
[131,{"$f":"基本データ!J133","v":"大阪府"},{"$f":"基本データ!B133","v":2019},{"$f":"基本データ!I133","v":"大阪赤十字病院"},{"$f":"基本データ!AL133","v":10},{"$f":"IF(基本データ!AM133<>\"\",\"○\",\"\")","v":"○"},{"$f":"IF(基本データ!AN133<>\"\",\"○\",\"\")","v":"○"},{"$f":"IF(基本データ!AO133<>\"\",\"○\",\"\")","v":"○"},{"$f":"IF(基本データ!AP133<>\"\",\"○\",\"\")","v":""},{"$f":"IF(基本データ!AQ133<>\"\",\"○\",\"\")","v":""},{"$f":"IF(基本データ!AR133<>\"\",\"○\",\"\")","v":""},{"$f":"IF(基本データ!AS133<>\"\",\"○\",\"\")","v":""},{"$f":"IF(基本データ!AT133<>\"\",\"○\",\"\")","v":""},{"$f":"IF(基本データ!AU133<>\"\",\"○\",\"\")","v":""},{"$f":"IF(基本データ!AV133<>\"\",\"○\",\"\")","v":""},{"$f":"IF(基本データ!AW133<>\"\",\"○\",\"\")","v":"○"},{"$f":"IF(基本データ!AX133<>\"\",\"○\",\"\")","v":""},{"$f":"IF(基本データ!AY133<>\"\",\"○\",\"\")","v":"○"},{"$f":"IF(基本データ!AZ133<>\"\",\"○\",\"\")","v":""},{"$f":"IF(基本データ!BA133<>\"\",\"○\",\"\")","v":"○"},{"$f":"IF(基本データ!BB133<>\"\",\"○\",\"\")","v":"○"},{"$f":"IF(基本データ!BC133<>\"\",\"○\",\"\")","v":"○"},{"$f":"IF(基本データ!BD133<>\"\",\"○\",\"\")","v":"○"},{"$f":"IF(基本データ!BE133<>\"\",\"○\",\"\")","v":"○"},{"$f":"IF(基本データ!BF133<>\"\",\"○\",\"\")","v":""},{"$f":"IF(基本データ!BG133<>\"\",\"○\",\"\")","v":""},{"$f":"基本データ!BN133","v":1},{"$f":"IF(基本データ!BH133<>\"\",\"○\",\"\")","v":""},{"$f":"IF(基本データ!BI133<>\"\",\"○\",\"\")","v":""},{"$f":"IF(基本データ!BJ133<>\"\",\"○\",\"\")","v":"○"},{"$f":"IF(基本データ!BK133<>\"\",\"○\",\"\")","v":""},{"$f":"IF(基本データ!BL133<>\"\",\"○\",\"\")","v":""},{"$f":"IF(基本データ!BM133<>\"\",\"○\",\"\")","v":""}]
[132,{"$f":"基本データ!J134","v":"大阪府"},{"$f":"基本データ!B134","v":2019},{"$f":"基本データ!I134","v":"国立研究開発法人　国立循環器病研究センター"},{"$f":"基本データ!AL134","v":11},{"$f":"IF(基本データ!AM134<>\"\",\"○\",\"\")","v":"○"},{"$f":"IF(基本データ!AN134<>\"\",\"○\",\"\")","v":"○"},{"$f":"IF(基本データ!AO134<>\"\",\"○\",\"\")","v":""},{"$f":"IF(基本データ!AP134<>\"\",\"○\",\"\")","v":"○"},{"$f":"IF(基本データ!AQ134<>\"\",\"○\",\"\")","v":""},{"$f":"IF(基本データ!AR134<>\"\",\"○\",\"\")","v":""},{"$f":"IF(基本データ!AS134<>\"\",\"○\",\"\")","v":""},{"$f":"IF(基本データ!AT134<>\"\",\"○\",\"\")","v":""},{"$f":"IF(基本データ!AU134<>\"\",\"○\",\"\")","v":"○"},{"$f":"IF(基本データ!AV134<>\"\",\"○\",\"\")","v":"○"},{"$f":"IF(基本データ!AW134<>\"\",\"○\",\"\")","v":""},{"$f":"IF(基本データ!AX134<>\"\",\"○\",\"\")","v":""},{"$f":"IF(基本データ!AY134<>\"\",\"○\",\"\")","v":"○"},{"$f":"IF(基本データ!AZ134<>\"\",\"○\",\"\")","v":""},{"$f":"IF(基本データ!BA134<>\"\",\"○\",\"\")","v":"○"},{"$f":"IF(基本データ!BB134<>\"\",\"○\",\"\")","v":""},{"$f":"IF(基本データ!BC134<>\"\",\"○\",\"\")","v":"○"},{"$f":"IF(基本データ!BD134<>\"\",\"○\",\"\")","v":"○"},{"$f":"IF(基本データ!BE134<>\"\",\"○\",\"\")","v":"○"},{"$f":"IF(基本データ!BF134<>\"\",\"○\",\"\")","v":"○"},{"$f":"IF(基本データ!BG134<>\"\",\"○\",\"\")","v":""},{"$f":"基本データ!BN134","v":0},{"$f":"IF(基本データ!BH134<>\"\",\"○\",\"\")","v":""},{"$f":"IF(基本データ!BI134<>\"\",\"○\",\"\")","v":""},{"$f":"IF(基本データ!BJ134<>\"\",\"○\",\"\")","v":""},{"$f":"IF(基本データ!BK134<>\"\",\"○\",\"\")","v":""},{"$f":"IF(基本データ!BL134<>\"\",\"○\",\"\")","v":""},{"$f":"IF(基本データ!BM134<>\"\",\"○\",\"\")","v":""}]
[133,{"$f":"基本データ!J135","v":"兵庫県"},{"$f":"基本データ!B135","v":2019},{"$f":"基本データ!I135","v":"神戸アドベンチスト病院"},{"$f":"基本データ!AL135","v":4},{"$f":"IF(基本データ!AM135<>\"\",\"○\",\"\")","v":""},{"$f":"IF(基本データ!AN135<>\"\",\"○\",\"\")","v":""},{"$f":"IF(基本データ!AO135<>\"\",\"○\",\"\")","v":""},{"$f":"IF(基本データ!AP135<>\"\",\"○\",\"\")","v":""},{"$f":"IF(基本データ!AQ135<>\"\",\"○\",\"\")","v":""},{"$f":"IF(基本データ!AR135<>\"\",\"○\",\"\")","v":""},{"$f":"IF(基本データ!AS135<>\"\",\"○\",\"\")","v":""},{"$f":"IF(基本データ!AT135<>\"\",\"○\",\"\")","v":""},{"$f":"IF(基本データ!AU135<>\"\",\"○\",\"\")","v":""},{"$f":"IF(基本データ!AV135<>\"\",\"○\",\"\")","v":"○"},{"$f":"IF(基本データ!AW135<>\"\",\"○\",\"\")","v":""},{"$f":"IF(基本データ!AX135<>\"\",\"○\",\"\")","v":""},{"$f":"IF(基本データ!AY135<>\"\",\"○\",\"\")","v":"○"},{"$f":"IF(基本データ!AZ135<>\"\",\"○\",\"\")","v":""},{"$f":"IF(基本データ!BA135<>\"\",\"○\",\"\")","v":"○"},{"$f":"IF(基本データ!BB135<>\"\",\"○\",\"\")","v":"○"},{"$f":"IF(基本データ!BC135<>\"\",\"○\",\"\")","v":""},{"$f":"IF(基本データ!BD135<>\"\",\"○\",\"\")","v":""},{"$f":"IF(基本データ!BE135<>\"\",\"○\",\"\")","v":""},{"$f":"IF(基本データ!BF135<>\"\",\"○\",\"\")","v":""},{"$f":"IF(基本データ!BG135<>\"\",\"○\",\"\")","v":""},{"$f":"基本データ!BN135","v":0},{"$f":"IF(基本データ!BH135<>\"\",\"○\",\"\")","v":""},{"$f":"IF(基本データ!BI135<>\"\",\"○\",\"\")","v":""},{"$f":"IF(基本データ!BJ135<>\"\",\"○\",\"\")","v":""},{"$f":"IF(基本データ!BK135<>\"\",\"○\",\"\")","v":""},{"$f":"IF(基本データ!BL135<>\"\",\"○\",\"\")","v":""},{"$f":"IF(基本データ!BM135<>\"\",\"○\",\"\")","v":""}]
[134,{"$f":"基本データ!J136","v":"島根県"},{"$f":"基本データ!B136","v":2019},{"$f":"基本データ!I136","v":"島根県立中央病院"},{"$f":"基本データ!AL136","v":13},{"$f":"IF(基本データ!AM136<>\"\",\"○\",\"\")","v":"○"},{"$f":"IF(基本データ!AN136<>\"\",\"○\",\"\")","v":"○"},{"$f":"IF(基本データ!AO136<>\"\",\"○\",\"\")","v":"○"},{"$f":"IF(基本データ!AP136<>\"\",\"○\",\"\")","v":""},{"$f":"IF(基本データ!AQ136<>\"\",\"○\",\"\")","v":""},{"$f":"IF(基本データ!AR136<>\"\",\"○\",\"\")","v":""},{"$f":"IF(基本データ!AS136<>\"\",\"○\",\"\")","v":"○"},{"$f":"IF(基本データ!AT136<>\"\",\"○\",\"\")","v":""},{"$f":"IF(基本データ!AU136<>\"\",\"○\",\"\")","v":"○"},{"$f":"IF(基本データ!AV136<>\"\",\"○\",\"\")","v":""},{"$f":"IF(基本データ!AW136<>\"\",\"○\",\"\")","v":"○"},{"$f":"IF(基本データ!AX136<>\"\",\"○\",\"\")","v":"○"},{"$f":"IF(基本データ!AY136<>\"\",\"○\",\"\")","v":"○"},{"$f":"IF(基本データ!AZ136<>\"\",\"○\",\"\")","v":""},{"$f":"IF(基本データ!BA136<>\"\",\"○\",\"\")","v":"○"},{"$f":"IF(基本データ!BB136<>\"\",\"○\",\"\")","v":"○"},{"$f":"IF(基本データ!BC136<>\"\",\"○\",\"\")","v":"○"},{"$f":"IF(基本データ!BD136<>\"\",\"○\",\"\")","v":"○"},{"$f":"IF(基本データ!BE136<>\"\",\"○\",\"\")","v":"○"},{"$f":"IF(基本データ!BF136<>\"\",\"○\",\"\")","v":""},{"$f":"IF(基本データ!BG136<>\"\",\"○\",\"\")","v":""},{"$f":"基本データ!BN136","v":1},{"$f":"IF(基本データ!BH136<>\"\",\"○\",\"\")","v":""},{"$f":"IF(基本データ!BI136<>\"\",\"○\",\"\")","v":""},{"$f":"IF(基本データ!BJ136<>\"\",\"○\",\"\")","v":"○"},{"$f":"IF(基本データ!BK136<>\"\",\"○\",\"\")","v":""},{"$f":"IF(基本データ!BL136<>\"\",\"○\",\"\")","v":""},{"$f":"IF(基本データ!BM136<>\"\",\"○\",\"\")","v":""}]
[135,{"$f":"基本データ!J137","v":"岡山県"},{"$f":"基本データ!B137","v":2019},{"$f":"基本データ!I137","v":"公益財団法人　大原記念倉敷中央医療機構　倉敷中央病院"},{"$f":"基本データ!AL137","v":11},{"$f":"IF(基本データ!AM137<>\"\",\"○\",\"\")","v":"○"},{"$f":"IF(基本データ!AN137<>\"\",\"○\",\"\")","v":"○"},{"$f":"IF(基本データ!AO137<>\"\",\"○\",\"\")","v":""},{"$f":"IF(基本データ!AP137<>\"\",\"○\",\"\")","v":"○"},{"$f":"IF(基本データ!AQ137<>\"\",\"○\",\"\")","v":""},{"$f":"IF(基本データ!AR137<>\"\",\"○\",\"\")","v":""},{"$f":"IF(基本データ!AS137<>\"\",\"○\",\"\")","v":""},{"$f":"IF(基本データ!AT137<>\"\",\"○\",\"\")","v":""},{"$f":"IF(基本データ!AU137<>\"\",\"○\",\"\")","v":"○"},{"$f":"IF(基本データ!AV137<>\"\",\"○\",\"\")","v":"○"},{"$f":"IF(基本データ!AW137<>\"\",\"○\",\"\")","v":""},{"$f":"IF(基本データ!AX137<>\"\",\"○\",\"\")","v":""},{"$f":"IF(基本データ!AY137<>\"\",\"○\",\"\")","v":"○"},{"$f":"IF(基本データ!AZ137<>\"\",\"○\",\"\")","v":""},{"$f":"IF(基本データ!BA137<>\"\",\"○\",\"\")","v":"○"},{"$f":"IF(基本データ!BB137<>\"\",\"○\",\"\")","v":""},{"$f":"IF(基本データ!BC137<>\"\",\"○\",\"\")","v":"○"},{"$f":"IF(基本データ!BD137<>\"\",\"○\",\"\")","v":"○"},{"$f":"IF(基本データ!BE137<>\"\",\"○\",\"\")","v":"○"},{"$f":"IF(基本データ!BF137<>\"\",\"○\",\"\")","v":"○"},{"$f":"IF(基本データ!BG137<>\"\",\"○\",\"\")","v":""},{"$f":"基本データ!BN137","v":2},{"$f":"IF(基本データ!BH137<>\"\",\"○\",\"\")","v":""},{"$f":"IF(基本データ!BI137<>\"\",\"○\",\"\")","v":""},{"$f":"IF(基本データ!BJ137<>\"\",\"○\",\"\")","v":""},{"$f":"IF(基本データ!BK137<>\"\",\"○\",\"\")","v":"○"},{"$f":"IF(基本データ!BL137<>\"\",\"○\",\"\")","v":""},{"$f":"IF(基本データ!BM137<>\"\",\"○\",\"\")","v":"○"}]
[136,{"$f":"基本データ!J138","v":"北海道"},{"$f":"基本データ!B138","v":2020},{"$f":"基本データ!I138","v":"医療法人渓仁会　法人本部"},{"$f":"基本データ!AL138","v":11},{"$f":"IF(基本データ!AM138<>\"\",\"○\",\"\")","v":"○"},{"$f":"IF(基本データ!AN138<>\"\",\"○\",\"\")","v":"○"},{"$f":"IF(基本データ!AO138<>\"\",\"○\",\"\")","v":"○"},{"$f":"IF(基本データ!AP138<>\"\",\"○\",\"\")","v":""},{"$f":"IF(基本データ!AQ138<>\"\",\"○\",\"\")","v":""},{"$f":"IF(基本データ!AR138<>\"\",\"○\",\"\")","v":""},{"$f":"IF(基本データ!AS138<>\"\",\"○\",\"\")","v":""},{"$f":"IF(基本データ!AT138<>\"\",\"○\",\"\")","v":"○"},{"$f":"IF(基本データ!AU138<>\"\",\"○\",\"\")","v":""},{"$f":"IF(基本データ!AV138<>\"\",\"○\",\"\")","v":"○"},{"$f":"IF(基本データ!AW138<>\"\",\"○\",\"\")","v":"○"},{"$f":"IF(基本データ!AX138<>\"\",\"○\",\"\")","v":""},{"$f":"IF(基本データ!AY138<>\"\",\"○\",\"\")","v":"○"},{"$f":"IF(基本データ!AZ138<>\"\",\"○\",\"\")","v":""},{"$f":"IF(基本データ!BA138<>\"\",\"○\",\"\")","v":"○"},{"$f":"IF(基本データ!BB138<>\"\",\"○\",\"\")","v":""},{"$f":"IF(基本データ!BC138<>\"\",\"○\",\"\")","v":"○"},{"$f":"IF(基本データ!BD138<>\"\",\"○\",\"\")","v":"○"},{"$f":"IF(基本データ!BE138<>\"\",\"○\",\"\")","v":"○"},{"$f":"IF(基本データ!BF138<>\"\",\"○\",\"\")","v":""},{"$f":"IF(基本データ!BG138<>\"\",\"○\",\"\")","v":""},{"$f":"基本データ!BN138","v":2},{"$f":"IF(基本データ!BH138<>\"\",\"○\",\"\")","v":"○"},{"$f":"IF(基本データ!BI138<>\"\",\"○\",\"\")","v":""},{"$f":"IF(基本データ!BJ138<>\"\",\"○\",\"\")","v":"○"},{"$f":"IF(基本データ!BK138<>\"\",\"○\",\"\")","v":""},{"$f":"IF(基本データ!BL138<>\"\",\"○\",\"\")","v":""},{"$f":"IF(基本データ!BM138<>\"\",\"○\",\"\")","v":""}]
[137,{"$f":"基本データ!J139","v":"北海道"},{"$f":"基本データ!B139","v":2020},{"$f":"基本データ!I139","v":"医療法人徳洲会　札幌徳洲会病院"},{"$f":"基本データ!AL139","v":13},{"$f":"IF(基本データ!AM139<>\"\",\"○\",\"\")","v":"○"},{"$f":"IF(基本データ!AN139<>\"\",\"○\",\"\")","v":"○"},{"$f":"IF(基本データ!AO139<>\"\",\"○\",\"\")","v":"○"},{"$f":"IF(基本データ!AP139<>\"\",\"○\",\"\")","v":""},{"$f":"IF(基本データ!AQ139<>\"\",\"○\",\"\")","v":""},{"$f":"IF(基本データ!AR139<>\"\",\"○\",\"\")","v":""},{"$f":"IF(基本データ!AS139<>\"\",\"○\",\"\")","v":""},{"$f":"IF(基本データ!AT139<>\"\",\"○\",\"\")","v":"○"},{"$f":"IF(基本データ!AU139<>\"\",\"○\",\"\")","v":"○"},{"$f":"IF(基本データ!AV139<>\"\",\"○\",\"\")","v":"○"},{"$f":"IF(基本データ!AW139<>\"\",\"○\",\"\")","v":"○"},{"$f":"IF(基本データ!AX139<>\"\",\"○\",\"\")","v":"○"},{"$f":"IF(基本データ!AY139<>\"\",\"○\",\"\")","v":"○"},{"$f":"IF(基本データ!AZ139<>\"\",\"○\",\"\")","v":""},{"$f":"IF(基本データ!BA139<>\"\",\"○\",\"\")","v":"○"},{"$f":"IF(基本データ!BB139<>\"\",\"○\",\"\")","v":""},{"$f":"IF(基本データ!BC139<>\"\",\"○\",\"\")","v":""},{"$f":"IF(基本データ!BD139<>\"\",\"○\",\"\")","v":"○"},{"$f":"IF(基本データ!BE139<>\"\",\"○\",\"\")","v":"○"},{"$f":"IF(基本データ!BF139<>\"\",\"○\",\"\")","v":"○"},{"$f":"IF(基本データ!BG139<>\"\",\"○\",\"\")","v":""},{"$f":"基本データ!BN139","v":3},{"$f":"IF(基本データ!BH139<>\"\",\"○\",\"\")","v":"○"},{"$f":"IF(基本データ!BI139<>\"\",\"○\",\"\")","v":""},{"$f":"IF(基本データ!BJ139<>\"\",\"○\",\"\")","v":"○"},{"$f":"IF(基本データ!BK139<>\"\",\"○\",\"\")","v":"○"},{"$f":"IF(基本データ!BL139<>\"\",\"○\",\"\")","v":""},{"$f":"IF(基本データ!BM139<>\"\",\"○\",\"\")","v":""}]
[138,{"$f":"基本データ!J140","v":"北海道"},{"$f":"基本データ!B140","v":2020},{"$f":"基本データ!I140","v":"国立大学法人北海道大学病院"},{"$f":"基本データ!AL140","v":15},{"$f":"IF(基本データ!AM140<>\"\",\"○\",\"\")","v":"○"},{"$f":"IF(基本データ!AN140<>\"\",\"○\",\"\")","v":"○"},{"$f":"IF(基本データ!AO140<>\"\",\"○\",\"\")","v":"○"},{"$f":"IF(基本データ!AP140<>\"\",\"○\",\"\")","v":"○"},{"$f":"IF(基本データ!AQ140<>\"\",\"○\",\"\")","v":""},{"$f":"IF(基本データ!AR140<>\"\",\"○\",\"\")","v":"○"},{"$f":"IF(基本データ!AS140<>\"\",\"○\",\"\")","v":"○"},{"$f":"IF(基本データ!AT140<>\"\",\"○\",\"\")","v":""},{"$f":"IF(基本データ!AU140<>\"\",\"○\",\"\")","v":"○"},{"$f":"IF(基本データ!AV140<>\"\",\"○\",\"\")","v":"○"},{"$f":"IF(基本データ!AW140<>\"\",\"○\",\"\")","v":"○"},{"$f":"IF(基本データ!AX140<>\"\",\"○\",\"\")","v":"○"},{"$f":"IF(基本データ!AY140<>\"\",\"○\",\"\")","v":"○"},{"$f":"IF(基本データ!AZ140<>\"\",\"○\",\"\")","v":""},{"$f":"IF(基本データ!BA140<>\"\",\"○\",\"\")","v":"○"},{"$f":"IF(基本データ!BB140<>\"\",\"○\",\"\")","v":""},{"$f":"IF(基本データ!BC140<>\"\",\"○\",\"\")","v":"○"},{"$f":"IF(基本データ!BD140<>\"\",\"○\",\"\")","v":"○"},{"$f":"IF(基本データ!BE140<>\"\",\"○\",\"\")","v":"○"},{"$f":"IF(基本データ!BF140<>\"\",\"○\",\"\")","v":""},{"$f":"IF(基本データ!BG140<>\"\",\"○\",\"\")","v":""},{"$f":"基本データ!BN140","v":2},{"$f":"IF(基本データ!BH140<>\"\",\"○\",\"\")","v":""},{"$f":"IF(基本データ!BI140<>\"\",\"○\",\"\")","v":"○"},{"$f":"IF(基本データ!BJ140<>\"\",\"○\",\"\")","v":"○"},{"$f":"IF(基本データ!BK140<>\"\",\"○\",\"\")","v":""},{"$f":"IF(基本データ!BL140<>\"\",\"○\",\"\")","v":""},{"$f":"IF(基本データ!BM140<>\"\",\"○\",\"\")","v":""}]
[139,{"$f":"基本データ!J141","v":"北海道"},{"$f":"基本データ!B141","v":2020},{"$f":"基本データ!I141","v":"社会医療法人禎心会　札幌禎心会病院"},{"$f":"基本データ!AL141","v":4},{"$f":"IF(基本データ!AM141<>\"\",\"○\",\"\")","v":""},{"$f":"IF(基本データ!AN141<>\"\",\"○\",\"\")","v":""},{"$f":"IF(基本データ!AO141<>\"\",\"○\",\"\")","v":""},{"$f":"IF(基本データ!AP141<>\"\",\"○\",\"\")","v":""},{"$f":"IF(基本データ!AQ141<>\"\",\"○\",\"\")","v":""},{"$f":"IF(基本データ!AR141<>\"\",\"○\",\"\")","v":""},{"$f":"IF(基本データ!AS141<>\"\",\"○\",\"\")","v":""},{"$f":"IF(基本データ!AT141<>\"\",\"○\",\"\")","v":""},{"$f":"IF(基本データ!AU141<>\"\",\"○\",\"\")","v":""},{"$f":"IF(基本データ!AV141<>\"\",\"○\",\"\")","v":"○"},{"$f":"IF(基本データ!AW141<>\"\",\"○\",\"\")","v":""},{"$f":"IF(基本データ!AX141<>\"\",\"○\",\"\")","v":""},{"$f":"IF(基本データ!AY141<>\"\",\"○\",\"\")","v":"○"},{"$f":"IF(基本データ!AZ141<>\"\",\"○\",\"\")","v":""},{"$f":"IF(基本データ!BA141<>\"\",\"○\",\"\")","v":"○"},{"$f":"IF(基本データ!BB141<>\"\",\"○\",\"\")","v":"○"},{"$f":"IF(基本データ!BC141<>\"\",\"○\",\"\")","v":""},{"$f":"IF(基本データ!BD141<>\"\",\"○\",\"\")","v":""},{"$f":"IF(基本データ!BE141<>\"\",\"○\",\"\")","v":""},{"$f":"IF(基本データ!BF141<>\"\",\"○\",\"\")","v":""},{"$f":"IF(基本データ!BG141<>\"\",\"○\",\"\")","v":""},{"$f":"基本データ!BN141","v":0},{"$f":"IF(基本データ!BH141<>\"\",\"○\",\"\")","v":""},{"$f":"IF(基本データ!BI141<>\"\",\"○\",\"\")","v":""},{"$f":"IF(基本データ!BJ141<>\"\",\"○\",\"\")","v":""},{"$f":"IF(基本データ!BK141<>\"\",\"○\",\"\")","v":""},{"$f":"IF(基本データ!BL141<>\"\",\"○\",\"\")","v":""},{"$f":"IF(基本データ!BM141<>\"\",\"○\",\"\")","v":""}]
[140,{"$f":"基本データ!J142","v":"青森県"},{"$f":"基本データ!B142","v":2020},{"$f":"基本データ!I142","v":"学校法人青森田中学園　青森中央学院大学"},{"$f":"基本データ!AL142","v":4},{"$f":"IF(基本データ!AM142<>\"\",\"○\",\"\")","v":""},{"$f":"IF(基本データ!AN142<>\"\",\"○\",\"\")","v":""},{"$f":"IF(基本データ!AO142<>\"\",\"○\",\"\")","v":"○"},{"$f":"IF(基本データ!AP142<>\"\",\"○\",\"\")","v":""},{"$f":"IF(基本データ!AQ142<>\"\",\"○\",\"\")","v":""},{"$f":"IF(基本データ!AR142<>\"\",\"○\",\"\")","v":""},{"$f":"IF(基本データ!AS142<>\"\",\"○\",\"\")","v":""},{"$f":"IF(基本データ!AT142<>\"\",\"○\",\"\")","v":"○"},{"$f":"IF(基本データ!AU142<>\"\",\"○\",\"\")","v":""},{"$f":"IF(基本データ!AV142<>\"\",\"○\",\"\")","v":""},{"$f":"IF(基本データ!AW142<>\"\",\"○\",\"\")","v":"○"},{"$f":"IF(基本データ!AX142<>\"\",\"○\",\"\")","v":""},{"$f":"IF(基本データ!AY142<>\"\",\"○\",\"\")","v":""},{"$f":"IF(基本データ!AZ142<>\"\",\"○\",\"\")","v":""},{"$f":"IF(基本データ!BA142<>\"\",\"○\",\"\")","v":"○"},{"$f":"IF(基本データ!BB142<>\"\",\"○\",\"\")","v":""},{"$f":"IF(基本データ!BC142<>\"\",\"○\",\"\")","v":""},{"$f":"IF(基本データ!BD142<>\"\",\"○\",\"\")","v":""},{"$f":"IF(基本データ!BE142<>\"\",\"○\",\"\")","v":""},{"$f":"IF(基本データ!BF142<>\"\",\"○\",\"\")","v":""},{"$f":"IF(基本データ!BG142<>\"\",\"○\",\"\")","v":""},{"$f":"基本データ!BN142","v":1},{"$f":"IF(基本データ!BH142<>\"\",\"○\",\"\")","v":"○"},{"$f":"IF(基本データ!BI142<>\"\",\"○\",\"\")","v":""},{"$f":"IF(基本データ!BJ142<>\"\",\"○\",\"\")","v":""},{"$f":"IF(基本データ!BK142<>\"\",\"○\",\"\")","v":""},{"$f":"IF(基本データ!BL142<>\"\",\"○\",\"\")","v":""},{"$f":"IF(基本データ!BM142<>\"\",\"○\",\"\")","v":""}]
[141,{"$f":"基本データ!J143","v":"秋田県"},{"$f":"基本データ!B143","v":2020},{"$f":"基本データ!I143","v":"国立大学法人秋田大学大学院医学系研究科保健学専攻（博士前期課程）臨床看護学分野"},{"$f":"基本データ!AL143","v":21},{"$f":"IF(基本データ!AM143<>\"\",\"○\",\"\")","v":"○"},{"$f":"IF(基本データ!AN143<>\"\",\"○\",\"\")","v":"○"},{"$f":"IF(基本データ!AO143<>\"\",\"○\",\"\")","v":"○"},{"$f":"IF(基本データ!AP143<>\"\",\"○\",\"\")","v":"○"},{"$f":"IF(基本データ!AQ143<>\"\",\"○\",\"\")","v":"○"},{"$f":"IF(基本データ!AR143<>\"\",\"○\",\"\")","v":"○"},{"$f":"IF(基本データ!AS143<>\"\",\"○\",\"\")","v":"○"},{"$f":"IF(基本データ!AT143<>\"\",\"○\",\"\")","v":"○"},{"$f":"IF(基本データ!AU143<>\"\",\"○\",\"\")","v":"○"},{"$f":"IF(基本データ!AV143<>\"\",\"○\",\"\")","v":"○"},{"$f":"IF(基本データ!AW143<>\"\",\"○\",\"\")","v":"○"},{"$f":"IF(基本データ!AX143<>\"\",\"○\",\"\")","v":"○"},{"$f":"IF(基本データ!AY143<>\"\",\"○\",\"\")","v":"○"},{"$f":"IF(基本データ!AZ143<>\"\",\"○\",\"\")","v":"○"},{"$f":"IF(基本データ!BA143<>\"\",\"○\",\"\")","v":"○"},{"$f":"IF(基本データ!BB143<>\"\",\"○\",\"\")","v":"○"},{"$f":"IF(基本データ!BC143<>\"\",\"○\",\"\")","v":"○"},{"$f":"IF(基本データ!BD143<>\"\",\"○\",\"\")","v":"○"},{"$f":"IF(基本データ!BE143<>\"\",\"○\",\"\")","v":"○"},{"$f":"IF(基本データ!BF143<>\"\",\"○\",\"\")","v":"○"},{"$f":"IF(基本データ!BG143<>\"\",\"○\",\"\")","v":"○"},{"$f":"基本データ!BN143","v":0},{"$f":"IF(基本データ!BH143<>\"\",\"○\",\"\")","v":""},{"$f":"IF(基本データ!BI143<>\"\",\"○\",\"\")","v":""},{"$f":"IF(基本データ!BJ143<>\"\",\"○\",\"\")","v":""},{"$f":"IF(基本データ!BK143<>\"\",\"○\",\"\")","v":""},{"$f":"IF(基本データ!BL143<>\"\",\"○\",\"\")","v":""},{"$f":"IF(基本データ!BM143<>\"\",\"○\",\"\")","v":""}]
[142,{"$f":"基本データ!J144","v":"山形県"},{"$f":"基本データ!B144","v":2020},{"$f":"基本データ!I144","v":"国立大学法人山形大学医学部附属病院"},{"$f":"基本データ!AL144","v":14},{"$f":"IF(基本データ!AM144<>\"\",\"○\",\"\")","v":"○"},{"$f":"IF(基本データ!AN144<>\"\",\"○\",\"\")","v":"○"},{"$f":"IF(基本データ!AO144<>\"\",\"○\",\"\")","v":"○"},{"$f":"IF(基本データ!AP144<>\"\",\"○\",\"\")","v":"○"},{"$f":"IF(基本データ!AQ144<>\"\",\"○\",\"\")","v":""},{"$f":"IF(基本データ!AR144<>\"\",\"○\",\"\")","v":"○"},{"$f":"IF(基本データ!AS144<>\"\",\"○\",\"\")","v":"○"},{"$f":"IF(基本データ!AT144<>\"\",\"○\",\"\")","v":""},{"$f":"IF(基本データ!AU144<>\"\",\"○\",\"\")","v":"○"},{"$f":"IF(基本データ!AV144<>\"\",\"○\",\"\")","v":"○"},{"$f":"IF(基本データ!AW144<>\"\",\"○\",\"\")","v":""},{"$f":"IF(基本データ!AX144<>\"\",\"○\",\"\")","v":"○"},{"$f":"IF(基本データ!AY144<>\"\",\"○\",\"\")","v":"○"},{"$f":"IF(基本データ!AZ144<>\"\",\"○\",\"\")","v":""},{"$f":"IF(基本データ!BA144<>\"\",\"○\",\"\")","v":"○"},{"$f":"IF(基本データ!BB144<>\"\",\"○\",\"\")","v":""},{"$f":"IF(基本データ!BC144<>\"\",\"○\",\"\")","v":""},{"$f":"IF(基本データ!BD144<>\"\",\"○\",\"\")","v":"○"},{"$f":"IF(基本データ!BE144<>\"\",\"○\",\"\")","v":"○"},{"$f":"IF(基本データ!BF144<>\"\",\"○\",\"\")","v":"○"},{"$f":"IF(基本データ!BG144<>\"\",\"○\",\"\")","v":""},{"$f":"基本データ!BN144","v":4},{"$f":"IF(基本データ!BH144<>\"\",\"○\",\"\")","v":""},{"$f":"IF(基本データ!BI144<>\"\",\"○\",\"\")","v":"○"},{"$f":"IF(基本データ!BJ144<>\"\",\"○\",\"\")","v":"○"},{"$f":"IF(基本データ!BK144<>\"\",\"○\",\"\")","v":"○"},{"$f":"IF(基本データ!BL144<>\"\",\"○\",\"\")","v":""},{"$f":"IF(基本データ!BM144<>\"\",\"○\",\"\")","v":"○"}]
[143,{"$f":"基本データ!J145","v":"山形県"},{"$f":"基本データ!B145","v":2020},{"$f":"基本データ!I145","v":"地方独立行政法人山形県・酒田市病院機構　日本海総合病院"},{"$f":"基本データ!AL145","v":6},{"$f":"IF(基本データ!AM145<>\"\",\"○\",\"\")","v":"○"},{"$f":"IF(基本データ!AN145<>\"\",\"○\",\"\")","v":"○"},{"$f":"IF(基本データ!AO145<>\"\",\"○\",\"\")","v":""},{"$f":"IF(基本データ!AP145<>\"\",\"○\",\"\")","v":""},{"$f":"IF(基本データ!AQ145<>\"\",\"○\",\"\")","v":""},{"$f":"IF(基本データ!AR145<>\"\",\"○\",\"\")","v":""},{"$f":"IF(基本データ!AS145<>\"\",\"○\",\"\")","v":""},{"$f":"IF(基本データ!AT145<>\"\",\"○\",\"\")","v":""},{"$f":"IF(基本データ!AU145<>\"\",\"○\",\"\")","v":""},{"$f":"IF(基本データ!AV145<>\"\",\"○\",\"\")","v":""},{"$f":"IF(基本データ!AW145<>\"\",\"○\",\"\")","v":""},{"$f":"IF(基本データ!AX145<>\"\",\"○\",\"\")","v":""},{"$f":"IF(基本データ!AY145<>\"\",\"○\",\"\")","v":"○"},{"$f":"IF(基本データ!AZ145<>\"\",\"○\",\"\")","v":""},{"$f":"IF(基本データ!BA145<>\"\",\"○\",\"\")","v":"○"},{"$f":"IF(基本データ!BB145<>\"\",\"○\",\"\")","v":""},{"$f":"IF(基本データ!BC145<>\"\",\"○\",\"\")","v":""},{"$f":"IF(基本データ!BD145<>\"\",\"○\",\"\")","v":"○"},{"$f":"IF(基本データ!BE145<>\"\",\"○\",\"\")","v":"○"},{"$f":"IF(基本データ!BF145<>\"\",\"○\",\"\")","v":""},{"$f":"IF(基本データ!BG145<>\"\",\"○\",\"\")","v":""},{"$f":"基本データ!BN145","v":1},{"$f":"IF(基本データ!BH145<>\"\",\"○\",\"\")","v":""},{"$f":"IF(基本データ!BI145<>\"\",\"○\",\"\")","v":""},{"$f":"IF(基本データ!BJ145<>\"\",\"○\",\"\")","v":"○"},{"$f":"IF(基本データ!BK145<>\"\",\"○\",\"\")","v":""},{"$f":"IF(基本データ!BL145<>\"\",\"○\",\"\")","v":""},{"$f":"IF(基本データ!BM145<>\"\",\"○\",\"\")","v":""}]
[144,{"$f":"基本データ!J146","v":"群馬県"},{"$f":"基本データ!B146","v":2020},{"$f":"基本データ!I146","v":"群馬県公立大学法人　群馬県立県民健康科学大学"},{"$f":"基本データ!AL146","v":3},{"$f":"IF(基本データ!AM146<>\"\",\"○\",\"\")","v":""},{"$f":"IF(基本データ!AN146<>\"\",\"○\",\"\")","v":""},{"$f":"IF(基本データ!AO146<>\"\",\"○\",\"\")","v":"○"},{"$f":"IF(基本データ!AP146<>\"\",\"○\",\"\")","v":""},{"$f":"IF(基本データ!AQ146<>\"\",\"○\",\"\")","v":""},{"$f":"IF(基本データ!AR146<>\"\",\"○\",\"\")","v":""},{"$f":"IF(基本データ!AS146<>\"\",\"○\",\"\")","v":""},{"$f":"IF(基本データ!AT146<>\"\",\"○\",\"\")","v":""},{"$f":"IF(基本データ!AU146<>\"\",\"○\",\"\")","v":""},{"$f":"IF(基本データ!AV146<>\"\",\"○\",\"\")","v":""},{"$f":"IF(基本データ!AW146<>\"\",\"○\",\"\")","v":""},{"$f":"IF(基本データ!AX146<>\"\",\"○\",\"\")","v":""},{"$f":"IF(基本データ!AY146<>\"\",\"○\",\"\")","v":""},{"$f":"IF(基本データ!AZ146<>\"\",\"○\",\"\")","v":""},{"$f":"IF(基本データ!BA146<>\"\",\"○\",\"\")","v":"○"},{"$f":"IF(基本データ!BB146<>\"\",\"○\",\"\")","v":""},{"$f":"IF(基本データ!BC146<>\"\",\"○\",\"\")","v":"○"},{"$f":"IF(基本データ!BD146<>\"\",\"○\",\"\")","v":""},{"$f":"IF(基本データ!BE146<>\"\",\"○\",\"\")","v":""},{"$f":"IF(基本データ!BF146<>\"\",\"○\",\"\")","v":""},{"$f":"IF(基本データ!BG146<>\"\",\"○\",\"\")","v":""},{"$f":"基本データ!BN146","v":0},{"$f":"IF(基本データ!BH146<>\"\",\"○\",\"\")","v":""},{"$f":"IF(基本データ!BI146<>\"\",\"○\",\"\")","v":""},{"$f":"IF(基本データ!BJ146<>\"\",\"○\",\"\")","v":""},{"$f":"IF(基本データ!BK146<>\"\",\"○\",\"\")","v":""},{"$f":"IF(基本データ!BL146<>\"\",\"○\",\"\")","v":""},{"$f":"IF(基本データ!BM146<>\"\",\"○\",\"\")","v":""}]
[145,{"$f":"基本データ!J147","v":"千葉県"},{"$f":"基本データ!B147","v":2020},{"$f":"基本データ!I147","v":"千葉大学医学部附属病院"},{"$f":"基本データ!AL147","v":21},{"$f":"IF(基本データ!AM147<>\"\",\"○\",\"\")","v":"○"},{"$f":"IF(基本データ!AN147<>\"\",\"○\",\"\")","v":"○"},{"$f":"IF(基本データ!AO147<>\"\",\"○\",\"\")","v":"○"},{"$f":"IF(基本データ!AP147<>\"\",\"○\",\"\")","v":"○"},{"$f":"IF(基本データ!AQ147<>\"\",\"○\",\"\")","v":"○"},{"$f":"IF(基本データ!AR147<>\"\",\"○\",\"\")","v":"○"},{"$f":"IF(基本データ!AS147<>\"\",\"○\",\"\")","v":"○"},{"$f":"IF(基本データ!AT147<>\"\",\"○\",\"\")","v":"○"},{"$f":"IF(基本データ!AU147<>\"\",\"○\",\"\")","v":"○"},{"$f":"IF(基本データ!AV147<>\"\",\"○\",\"\")","v":"○"},{"$f":"IF(基本データ!AW147<>\"\",\"○\",\"\")","v":"○"},{"$f":"IF(基本データ!AX147<>\"\",\"○\",\"\")","v":"○"},{"$f":"IF(基本データ!AY147<>\"\",\"○\",\"\")","v":"○"},{"$f":"IF(基本データ!AZ147<>\"\",\"○\",\"\")","v":"○"},{"$f":"IF(基本データ!BA147<>\"\",\"○\",\"\")","v":"○"},{"$f":"IF(基本データ!BB147<>\"\",\"○\",\"\")","v":"○"},{"$f":"IF(基本データ!BC147<>\"\",\"○\",\"\")","v":"○"},{"$f":"IF(基本データ!BD147<>\"\",\"○\",\"\")","v":"○"},{"$f":"IF(基本データ!BE147<>\"\",\"○\",\"\")","v":"○"},{"$f":"IF(基本データ!BF147<>\"\",\"○\",\"\")","v":"○"},{"$f":"IF(基本データ!BG147<>\"\",\"○\",\"\")","v":"○"},{"$f":"基本データ!BN147","v":2},{"$f":"IF(基本データ!BH147<>\"\",\"○\",\"\")","v":""},{"$f":"IF(基本データ!BI147<>\"\",\"○\",\"\")","v":""},{"$f":"IF(基本データ!BJ147<>\"\",\"○\",\"\")","v":"○"},{"$f":"IF(基本データ!BK147<>\"\",\"○\",\"\")","v":""},{"$f":"IF(基本データ!BL147<>\"\",\"○\",\"\")","v":""},{"$f":"IF(基本データ!BM147<>\"\",\"○\",\"\")","v":"○"}]
[146,{"$f":"基本データ!J148","v":"東京都"},{"$f":"基本データ!B148","v":2020},{"$f":"基本データ!I148","v":"医療法人社団ダイアステップ"},{"$f":"基本データ!AL148","v":5},{"$f":"IF(基本データ!AM148<>\"\",\"○\",\"\")","v":""},{"$f":"IF(基本データ!AN148<>\"\",\"○\",\"\")","v":""},{"$f":"IF(基本データ!AO148<>\"\",\"○\",\"\")","v":"○"},{"$f":"IF(基本データ!AP148<>\"\",\"○\",\"\")","v":""},{"$f":"IF(基本データ!AQ148<>\"\",\"○\",\"\")","v":""},{"$f":"IF(基本データ!AR148<>\"\",\"○\",\"\")","v":""},{"$f":"IF(基本データ!AS148<>\"\",\"○\",\"\")","v":""},{"$f":"IF(基本データ!AT148<>\"\",\"○\",\"\")","v":"○"},{"$f":"IF(基本データ!AU148<>\"\",\"○\",\"\")","v":""},{"$f":"IF(基本データ!AV148<>\"\",\"○\",\"\")","v":""},{"$f":"IF(基本データ!AW148<>\"\",\"○\",\"\")","v":"○"},{"$f":"IF(基本データ!AX148<>\"\",\"○\",\"\")","v":""},{"$f":"IF(基本データ!AY148<>\"\",\"○\",\"\")","v":""},{"$f":"IF(基本データ!AZ148<>\"\",\"○\",\"\")","v":""},{"$f":"IF(基本データ!BA148<>\"\",\"○\",\"\")","v":"○"},{"$f":"IF(基本データ!BB148<>\"\",\"○\",\"\")","v":""},{"$f":"IF(基本データ!BC148<>\"\",\"○\",\"\")","v":"○"},{"$f":"IF(基本データ!BD148<>\"\",\"○\",\"\")","v":""},{"$f":"IF(基本データ!BE148<>\"\",\"○\",\"\")","v":""},{"$f":"IF(基本データ!BF148<>\"\",\"○\",\"\")","v":""},{"$f":"IF(基本データ!BG148<>\"\",\"○\",\"\")","v":""},{"$f":"基本データ!BN148","v":1},{"$f":"IF(基本データ!BH148<>\"\",\"○\",\"\")","v":"○"},{"$f":"IF(基本データ!BI148<>\"\",\"○\",\"\")","v":""},{"$f":"IF(基本データ!BJ148<>\"\",\"○\",\"\")","v":""},{"$f":"IF(基本データ!BK148<>\"\",\"○\",\"\")","v":""},{"$f":"IF(基本データ!BL148<>\"\",\"○\",\"\")","v":""},{"$f":"IF(基本データ!BM148<>\"\",\"○\",\"\")","v":""}]
[147,{"$f":"基本データ!J149","v":"東京都"},{"$f":"基本データ!B149","v":2020},{"$f":"基本データ!I149","v":"学校法人順天堂　順天堂大学医学部附属順天堂医院"},{"$f":"基本データ!AL149","v":6},{"$f":"IF(基本データ!AM149<>\"\",\"○\",\"\")","v":"○"},{"$f":"IF(基本データ!AN149<>\"\",\"○\",\"\")","v":"○"},{"$f":"IF(基本データ!AO149<>\"\",\"○\",\"\")","v":""},{"$f":"IF(基本データ!AP149<>\"\",\"○\",\"\")","v":""},{"$f":"IF(基本データ!AQ149<>\"\",\"○\",\"\")","v":""},{"$f":"IF(基本データ!AR149<>\"\",\"○\",\"\")","v":""},{"$f":"IF(基本データ!AS149<>\"\",\"○\",\"\")","v":""},{"$f":"IF(基本データ!AT149<>\"\",\"○\",\"\")","v":""},{"$f":"IF(基本データ!AU149<>\"\",\"○\",\"\")","v":""},{"$f":"IF(基本データ!AV149<>\"\",\"○\",\"\")","v":""},{"$f":"IF(基本データ!AW149<>\"\",\"○\",\"\")","v":""},{"$f":"IF(基本データ!AX149<>\"\",\"○\",\"\")","v":""},{"$f":"IF(基本データ!AY149<>\"\",\"○\",\"\")","v":"○"},{"$f":"IF(基本データ!AZ149<>\"\",\"○\",\"\")","v":""},{"$f":"IF(基本データ!BA149<>\"\",\"○\",\"\")","v":"○"},{"$f":"IF(基本データ!BB149<>\"\",\"○\",\"\")","v":""},{"$f":"IF(基本データ!BC149<>\"\",\"○\",\"\")","v":""},{"$f":"IF(基本データ!BD149<>\"\",\"○\",\"\")","v":"○"},{"$f":"IF(基本データ!BE149<>\"\",\"○\",\"\")","v":"○"},{"$f":"IF(基本データ!BF149<>\"\",\"○\",\"\")","v":""},{"$f":"IF(基本データ!BG149<>\"\",\"○\",\"\")","v":""},{"$f":"基本データ!BN149","v":1},{"$f":"IF(基本データ!BH149<>\"\",\"○\",\"\")","v":""},{"$f":"IF(基本データ!BI149<>\"\",\"○\",\"\")","v":""},{"$f":"IF(基本データ!BJ149<>\"\",\"○\",\"\")","v":"○"},{"$f":"IF(基本データ!BK149<>\"\",\"○\",\"\")","v":""},{"$f":"IF(基本データ!BL149<>\"\",\"○\",\"\")","v":""},{"$f":"IF(基本データ!BM149<>\"\",\"○\",\"\")","v":""}]
[148,{"$f":"基本データ!J150","v":"東京都"},{"$f":"基本データ!B150","v":2020},{"$f":"基本データ!I150","v":"学校法人東邦大学"},{"$f":"基本データ!AL150","v":13},{"$f":"IF(基本データ!AM150<>\"\",\"○\",\"\")","v":"○"},{"$f":"IF(基本データ!AN150<>\"\",\"○\",\"\")","v":"○"},{"$f":"IF(基本データ!AO150<>\"\",\"○\",\"\")","v":"○"},{"$f":"IF(基本データ!AP150<>\"\",\"○\",\"\")","v":""},{"$f":"IF(基本データ!AQ150<>\"\",\"○\",\"\")","v":""},{"$f":"IF(基本データ!AR150<>\"\",\"○\",\"\")","v":""},{"$f":"IF(基本データ!AS150<>\"\",\"○\",\"\")","v":""},{"$f":"IF(基本データ!AT150<>\"\",\"○\",\"\")","v":""},{"$f":"IF(基本データ!AU150<>\"\",\"○\",\"\")","v":"○"},{"$f":"IF(基本データ!AV150<>\"\",\"○\",\"\")","v":"○"},{"$f":"IF(基本データ!AW150<>\"\",\"○\",\"\")","v":"○"},{"$f":"IF(基本データ!AX150<>\"\",\"○\",\"\")","v":"○"},{"$f":"IF(基本データ!AY150<>\"\",\"○\",\"\")","v":"○"},{"$f":"IF(基本データ!AZ150<>\"\",\"○\",\"\")","v":""},{"$f":"IF(基本データ!BA150<>\"\",\"○\",\"\")","v":"○"},{"$f":"IF(基本データ!BB150<>\"\",\"○\",\"\")","v":"○"},{"$f":"IF(基本データ!BC150<>\"\",\"○\",\"\")","v":""},{"$f":"IF(基本データ!BD150<>\"\",\"○\",\"\")","v":"○"},{"$f":"IF(基本データ!BE150<>\"\",\"○\",\"\")","v":"○"},{"$f":"IF(基本データ!BF150<>\"\",\"○\",\"\")","v":"○"},{"$f":"IF(基本データ!BG150<>\"\",\"○\",\"\")","v":""},{"$f":"基本データ!BN150","v":2},{"$f":"IF(基本データ!BH150<>\"\",\"○\",\"\")","v":""},{"$f":"IF(基本データ!BI150<>\"\",\"○\",\"\")","v":""},{"$f":"IF(基本データ!BJ150<>\"\",\"○\",\"\")","v":"○"},{"$f":"IF(基本データ!BK150<>\"\",\"○\",\"\")","v":""},{"$f":"IF(基本データ!BL150<>\"\",\"○\",\"\")","v":"○"},{"$f":"IF(基本データ!BM150<>\"\",\"○\",\"\")","v":""}]
[149,{"$f":"基本データ!J151","v":"東京都"},{"$f":"基本データ!B151","v":2020},{"$f":"基本データ!I151","v":"国立健康危機管理研究機構"},{"$f":"基本データ!AL151","v":8},{"$f":"IF(基本データ!AM151<>\"\",\"○\",\"\")","v":"○"},{"$f":"IF(基本データ!AN151<>\"\",\"○\",\"\")","v":"○"},{"$f":"IF(基本データ!AO151<>\"\",\"○\",\"\")","v":""},{"$f":"IF(基本データ!AP151<>\"\",\"○\",\"\")","v":""},{"$f":"IF(基本データ!AQ151<>\"\",\"○\",\"\")","v":""},{"$f":"IF(基本データ!AR151<>\"\",\"○\",\"\")","v":""},{"$f":"IF(基本データ!AS151<>\"\",\"○\",\"\")","v":"○"},{"$f":"IF(基本データ!AT151<>\"\",\"○\",\"\")","v":""},{"$f":"IF(基本データ!AU151<>\"\",\"○\",\"\")","v":""},{"$f":"IF(基本データ!AV151<>\"\",\"○\",\"\")","v":"○"},{"$f":"IF(基本データ!AW151<>\"\",\"○\",\"\")","v":""},{"$f":"IF(基本データ!AX151<>\"\",\"○\",\"\")","v":"○"},{"$f":"IF(基本データ!AY151<>\"\",\"○\",\"\")","v":"○"},{"$f":"IF(基本データ!AZ151<>\"\",\"○\",\"\")","v":""},{"$f":"IF(基本データ!BA151<>\"\",\"○\",\"\")","v":"○"},{"$f":"IF(基本データ!BB151<>\"\",\"○\",\"\")","v":"○"},{"$f":"IF(基本データ!BC151<>\"\",\"○\",\"\")","v":""},{"$f":"IF(基本データ!BD151<>\"\",\"○\",\"\")","v":""},{"$f":"IF(基本データ!BE151<>\"\",\"○\",\"\")","v":""},{"$f":"IF(基本データ!BF151<>\"\",\"○\",\"\")","v":""},{"$f":"IF(基本データ!BG151<>\"\",\"○\",\"\")","v":""},{"$f":"基本データ!BN151","v":0},{"$f":"IF(基本データ!BH151<>\"\",\"○\",\"\")","v":""},{"$f":"IF(基本データ!BI151<>\"\",\"○\",\"\")","v":""},{"$f":"IF(基本データ!BJ151<>\"\",\"○\",\"\")","v":""},{"$f":"IF(基本データ!BK151<>\"\",\"○\",\"\")","v":""},{"$f":"IF(基本データ!BL151<>\"\",\"○\",\"\")","v":""},{"$f":"IF(基本データ!BM151<>\"\",\"○\",\"\")","v":""}]
[150,{"$f":"基本データ!J152","v":"東京都"},{"$f":"基本データ!B152","v":2020},{"$f":"基本データ!I152","v":"東京科学大学病院"},{"$f":"基本データ!AL152","v":20},{"$f":"IF(基本データ!AM152<>\"\",\"○\",\"\")","v":"○"},{"$f":"IF(基本データ!AN152<>\"\",\"○\",\"\")","v":"○"},{"$f":"IF(基本データ!AO152<>\"\",\"○\",\"\")","v":"○"},{"$f":"IF(基本データ!AP152<>\"\",\"○\",\"\")","v":"○"},{"$f":"IF(基本データ!AQ152<>\"\",\"○\",\"\")","v":"○"},{"$f":"IF(基本データ!AR152<>\"\",\"○\",\"\")","v":"○"},{"$f":"IF(基本データ!AS152<>\"\",\"○\",\"\")","v":"○"},{"$f":"IF(基本データ!AT152<>\"\",\"○\",\"\")","v":"○"},{"$f":"IF(基本データ!AU152<>\"\",\"○\",\"\")","v":"○"},{"$f":"IF(基本データ!AV152<>\"\",\"○\",\"\")","v":"○"},{"$f":"IF(基本データ!AW152<>\"\",\"○\",\"\")","v":"○"},{"$f":"IF(基本データ!AX152<>\"\",\"○\",\"\")","v":"○"},{"$f":"IF(基本データ!AY152<>\"\",\"○\",\"\")","v":"○"},{"$f":"IF(基本データ!AZ152<>\"\",\"○\",\"\")","v":"○"},{"$f":"IF(基本データ!BA152<>\"\",\"○\",\"\")","v":"○"},{"$f":"IF(基本データ!BB152<>\"\",\"○\",\"\")","v":"○"},{"$f":"IF(基本データ!BC152<>\"\",\"○\",\"\")","v":"○"},{"$f":"IF(基本データ!BD152<>\"\",\"○\",\"\")","v":"○"},{"$f":"IF(基本データ!BE152<>\"\",\"○\",\"\")","v":"○"},{"$f":"IF(基本データ!BF152<>\"\",\"○\",\"\")","v":"○"},{"$f":"IF(基本データ!BG152<>\"\",\"○\",\"\")","v":""},{"$f":"基本データ!BN152","v":0},{"$f":"IF(基本データ!BH152<>\"\",\"○\",\"\")","v":""},{"$f":"IF(基本データ!BI152<>\"\",\"○\",\"\")","v":""},{"$f":"IF(基本データ!BJ152<>\"\",\"○\",\"\")","v":""},{"$f":"IF(基本データ!BK152<>\"\",\"○\",\"\")","v":""},{"$f":"IF(基本データ!BL152<>\"\",\"○\",\"\")","v":""},{"$f":"IF(基本データ!BM152<>\"\",\"○\",\"\")","v":""}]
[151,{"$f":"基本データ!J153","v":"東京都"},{"$f":"基本データ!B153","v":2020},{"$f":"基本データ!I153","v":"国立大学法人東京大学　東京大学医学部附属病院"},{"$f":"基本データ!AL153","v":6},{"$f":"IF(基本データ!AM153<>\"\",\"○\",\"\")","v":"○"},{"$f":"IF(基本データ!AN153<>\"\",\"○\",\"\")","v":"○"},{"$f":"IF(基本データ!AO153<>\"\",\"○\",\"\")","v":""},{"$f":"IF(基本データ!AP153<>\"\",\"○\",\"\")","v":""},{"$f":"IF(基本データ!AQ153<>\"\",\"○\",\"\")","v":""},{"$f":"IF(基本データ!AR153<>\"\",\"○\",\"\")","v":""},{"$f":"IF(基本データ!AS153<>\"\",\"○\",\"\")","v":""},{"$f":"IF(基本データ!AT153<>\"\",\"○\",\"\")","v":""},{"$f":"IF(基本データ!AU153<>\"\",\"○\",\"\")","v":""},{"$f":"IF(基本データ!AV153<>\"\",\"○\",\"\")","v":""},{"$f":"IF(基本データ!AW153<>\"\",\"○\",\"\")","v":""},{"$f":"IF(基本データ!AX153<>\"\",\"○\",\"\")","v":""},{"$f":"IF(基本データ!AY153<>\"\",\"○\",\"\")","v":"○"},{"$f":"IF(基本データ!AZ153<>\"\",\"○\",\"\")","v":""},{"$f":"IF(基本データ!BA153<>\"\",\"○\",\"\")","v":"○"},{"$f":"IF(基本データ!BB153<>\"\",\"○\",\"\")","v":""},{"$f":"IF(基本データ!BC153<>\"\",\"○\",\"\")","v":""},{"$f":"IF(基本データ!BD153<>\"\",\"○\",\"\")","v":"○"},{"$f":"IF(基本データ!BE153<>\"\",\"○\",\"\")","v":"○"},{"$f":"IF(基本データ!BF153<>\"\",\"○\",\"\")","v":""},{"$f":"IF(基本データ!BG153<>\"\",\"○\",\"\")","v":""},{"$f":"基本データ!BN153","v":1},{"$f":"IF(基本データ!BH153<>\"\",\"○\",\"\")","v":""},{"$f":"IF(基本データ!BI153<>\"\",\"○\",\"\")","v":""},{"$f":"IF(基本データ!BJ153<>\"\",\"○\",\"\")","v":"○"},{"$f":"IF(基本データ!BK153<>\"\",\"○\",\"\")","v":""},{"$f":"IF(基本データ!BL153<>\"\",\"○\",\"\")","v":""},{"$f":"IF(基本データ!BM153<>\"\",\"○\",\"\")","v":""}]
[152,{"$f":"基本データ!J154","v":"東京都"},{"$f":"基本データ!B154","v":2020},{"$f":"基本データ!I154","v":"町田市民病院"},{"$f":"基本データ!AL154","v":7},{"$f":"IF(基本データ!AM154<>\"\",\"○\",\"\")","v":""},{"$f":"IF(基本データ!AN154<>\"\",\"○\",\"\")","v":"○"},{"$f":"IF(基本データ!AO154<>\"\",\"○\",\"\")","v":""},{"$f":"IF(基本データ!AP154<>\"\",\"○\",\"\")","v":""},{"$f":"IF(基本データ!AQ154<>\"\",\"○\",\"\")","v":""},{"$f":"IF(基本データ!AR154<>\"\",\"○\",\"\")","v":""},{"$f":"IF(基本データ!AS154<>\"\",\"○\",\"\")","v":""},{"$f":"IF(基本データ!AT154<>\"\",\"○\",\"\")","v":"○"},{"$f":"IF(基本データ!AU154<>\"\",\"○\",\"\")","v":"○"},{"$f":"IF(基本データ!AV154<>\"\",\"○\",\"\")","v":""},{"$f":"IF(基本データ!AW154<>\"\",\"○\",\"\")","v":"○"},{"$f":"IF(基本データ!AX154<>\"\",\"○\",\"\")","v":""},{"$f":"IF(基本データ!AY154<>\"\",\"○\",\"\")","v":"○"},{"$f":"IF(基本データ!AZ154<>\"\",\"○\",\"\")","v":""},{"$f":"IF(基本データ!BA154<>\"\",\"○\",\"\")","v":"○"},{"$f":"IF(基本データ!BB154<>\"\",\"○\",\"\")","v":""},{"$f":"IF(基本データ!BC154<>\"\",\"○\",\"\")","v":""},{"$f":"IF(基本データ!BD154<>\"\",\"○\",\"\")","v":""},{"$f":"IF(基本データ!BE154<>\"\",\"○\",\"\")","v":""},{"$f":"IF(基本データ!BF154<>\"\",\"○\",\"\")","v":"○"},{"$f":"IF(基本データ!BG154<>\"\",\"○\",\"\")","v":""},{"$f":"基本データ!BN154","v":0},{"$f":"IF(基本データ!BH154<>\"\",\"○\",\"\")","v":""},{"$f":"IF(基本データ!BI154<>\"\",\"○\",\"\")","v":""},{"$f":"IF(基本データ!BJ154<>\"\",\"○\",\"\")","v":""},{"$f":"IF(基本データ!BK154<>\"\",\"○\",\"\")","v":""},{"$f":"IF(基本データ!BL154<>\"\",\"○\",\"\")","v":""},{"$f":"IF(基本データ!BM154<>\"\",\"○\",\"\")","v":""}]
[153,{"$f":"基本データ!J155","v":"神奈川県"},{"$f":"基本データ!B155","v":2020},{"$f":"基本データ!I155","v":"医療法人徳洲会　湘南鎌倉総合病院"},{"$f":"基本データ!AL155","v":16},{"$f":"IF(基本データ!AM155<>\"\",\"○\",\"\")","v":"○"},{"$f":"IF(基本データ!AN155<>\"\",\"○\",\"\")","v":"○"},{"$f":"IF(基本データ!AO155<>\"\",\"○\",\"\")","v":"○"},{"$f":"IF(基本データ!AP155<>\"\",\"○\",\"\")","v":"○"},{"$f":"IF(基本データ!AQ155<>\"\",\"○\",\"\")","v":""},{"$f":"IF(基本データ!AR155<>\"\",\"○\",\"\")","v":"○"},{"$f":"IF(基本データ!AS155<>\"\",\"○\",\"\")","v":"○"},{"$f":"IF(基本データ!AT155<>\"\",\"○\",\"\")","v":""},{"$f":"IF(基本データ!AU155<>\"\",\"○\",\"\")","v":"○"},{"$f":"IF(基本データ!AV155<>\"\",\"○\",\"\")","v":"○"},{"$f":"IF(基本データ!AW155<>\"\",\"○\",\"\")","v":"○"},{"$f":"IF(基本データ!AX155<>\"\",\"○\",\"\")","v":"○"},{"$f":"IF(基本データ!AY155<>\"\",\"○\",\"\")","v":"○"},{"$f":"IF(基本データ!AZ155<>\"\",\"○\",\"\")","v":""},{"$f":"IF(基本データ!BA155<>\"\",\"○\",\"\")","v":"○"},{"$f":"IF(基本データ!BB155<>\"\",\"○\",\"\")","v":"○"},{"$f":"IF(基本データ!BC155<>\"\",\"○\",\"\")","v":""},{"$f":"IF(基本データ!BD155<>\"\",\"○\",\"\")","v":"○"},{"$f":"IF(基本データ!BE155<>\"\",\"○\",\"\")","v":"○"},{"$f":"IF(基本データ!BF155<>\"\",\"○\",\"\")","v":"○"},{"$f":"IF(基本データ!BG155<>\"\",\"○\",\"\")","v":""},{"$f":"基本データ!BN155","v":4},{"$f":"IF(基本データ!BH155<>\"\",\"○\",\"\")","v":""},{"$f":"IF(基本データ!BI155<>\"\",\"○\",\"\")","v":"○"},{"$f":"IF(基本データ!BJ155<>\"\",\"○\",\"\")","v":"○"},{"$f":"IF(基本データ!BK155<>\"\",\"○\",\"\")","v":"○"},{"$f":"IF(基本データ!BL155<>\"\",\"○\",\"\")","v":"○"},{"$f":"IF(基本データ!BM155<>\"\",\"○\",\"\")","v":""}]
[154,{"$f":"基本データ!J156","v":"神奈川県"},{"$f":"基本データ!B156","v":2020},{"$f":"基本データ!I156","v":"学校法人北里研究所　北里大学病院"},{"$f":"基本データ!AL156","v":12},{"$f":"IF(基本データ!AM156<>\"\",\"○\",\"\")","v":"○"},{"$f":"IF(基本データ!AN156<>\"\",\"○\",\"\")","v":"○"},{"$f":"IF(基本データ!AO156<>\"\",\"○\",\"\")","v":"○"},{"$f":"IF(基本データ!AP156<>\"\",\"○\",\"\")","v":""},{"$f":"IF(基本データ!AQ156<>\"\",\"○\",\"\")","v":""},{"$f":"IF(基本データ!AR156<>\"\",\"○\",\"\")","v":""},{"$f":"IF(基本データ!AS156<>\"\",\"○\",\"\")","v":"○"},{"$f":"IF(基本データ!AT156<>\"\",\"○\",\"\")","v":""},{"$f":"IF(基本データ!AU156<>\"\",\"○\",\"\")","v":""},{"$f":"IF(基本データ!AV156<>\"\",\"○\",\"\")","v":"○"},{"$f":"IF(基本データ!AW156<>\"\",\"○\",\"\")","v":"○"},{"$f":"IF(基本データ!AX156<>\"\",\"○\",\"\")","v":"○"},{"$f":"IF(基本データ!AY156<>\"\",\"○\",\"\")","v":"○"},{"$f":"IF(基本データ!AZ156<>\"\",\"○\",\"\")","v":""},{"$f":"IF(基本データ!BA156<>\"\",\"○\",\"\")","v":"○"},{"$f":"IF(基本データ!BB156<>\"\",\"○\",\"\")","v":""},{"$f":"IF(基本データ!BC156<>\"\",\"○\",\"\")","v":"○"},{"$f":"IF(基本データ!BD156<>\"\",\"○\",\"\")","v":"○"},{"$f":"IF(基本データ!BE156<>\"\",\"○\",\"\")","v":"○"},{"$f":"IF(基本データ!BF156<>\"\",\"○\",\"\")","v":""},{"$f":"IF(基本データ!BG156<>\"\",\"○\",\"\")","v":""},{"$f":"基本データ!BN156","v":0},{"$f":"IF(基本データ!BH156<>\"\",\"○\",\"\")","v":""},{"$f":"IF(基本データ!BI156<>\"\",\"○\",\"\")","v":""},{"$f":"IF(基本データ!BJ156<>\"\",\"○\",\"\")","v":""},{"$f":"IF(基本データ!BK156<>\"\",\"○\",\"\")","v":""},{"$f":"IF(基本データ!BL156<>\"\",\"○\",\"\")","v":""},{"$f":"IF(基本データ!BM156<>\"\",\"○\",\"\")","v":""}]
[155,{"$f":"基本データ!J157","v":"神奈川県"},{"$f":"基本データ!B157","v":2020},{"$f":"基本データ!I157","v":"学校法人　聖マリアンナ医科大学　聖マリアンナ医科大学病院　看護師特定行為研修センター"},{"$f":"基本データ!AL157","v":21},{"$f":"IF(基本データ!AM157<>\"\",\"○\",\"\")","v":"○"},{"$f":"IF(基本データ!AN157<>\"\",\"○\",\"\")","v":"○"},{"$f":"IF(基本データ!AO157<>\"\",\"○\",\"\")","v":"○"},{"$f":"IF(基本データ!AP157<>\"\",\"○\",\"\")","v":"○"},{"$f":"IF(基本データ!AQ157<>\"\",\"○\",\"\")","v":"○"},{"$f":"IF(基本データ!AR157<>\"\",\"○\",\"\")","v":"○"},{"$f":"IF(基本データ!AS157<>\"\",\"○\",\"\")","v":"○"},{"$f":"IF(基本データ!AT157<>\"\",\"○\",\"\")","v":"○"},{"$f":"IF(基本データ!AU157<>\"\",\"○\",\"\")","v":"○"},{"$f":"IF(基本データ!AV157<>\"\",\"○\",\"\")","v":"○"},{"$f":"IF(基本データ!AW157<>\"\",\"○\",\"\")","v":"○"},{"$f":"IF(基本データ!AX157<>\"\",\"○\",\"\")","v":"○"},{"$f":"IF(基本データ!AY157<>\"\",\"○\",\"\")","v":"○"},{"$f":"IF(基本データ!AZ157<>\"\",\"○\",\"\")","v":"○"},{"$f":"IF(基本データ!BA157<>\"\",\"○\",\"\")","v":"○"},{"$f":"IF(基本データ!BB157<>\"\",\"○\",\"\")","v":"○"},{"$f":"IF(基本データ!BC157<>\"\",\"○\",\"\")","v":"○"},{"$f":"IF(基本データ!BD157<>\"\",\"○\",\"\")","v":"○"},{"$f":"IF(基本データ!BE157<>\"\",\"○\",\"\")","v":"○"},{"$f":"IF(基本データ!BF157<>\"\",\"○\",\"\")","v":"○"},{"$f":"IF(基本データ!BG157<>\"\",\"○\",\"\")","v":"○"},{"$f":"基本データ!BN157","v":5},{"$f":"IF(基本データ!BH157<>\"\",\"○\",\"\")","v":"○"},{"$f":"IF(基本データ!BI157<>\"\",\"○\",\"\")","v":"○"},{"$f":"IF(基本データ!BJ157<>\"\",\"○\",\"\")","v":"○"},{"$f":"IF(基本データ!BK157<>\"\",\"○\",\"\")","v":"○"},{"$f":"IF(基本データ!BL157<>\"\",\"○\",\"\")","v":""},{"$f":"IF(基本データ!BM157<>\"\",\"○\",\"\")","v":"○"}]
[156,{"$f":"基本データ!J158","v":"神奈川県"},{"$f":"基本データ!B158","v":2020},{"$f":"基本データ!I158","v":"公立大学法人横浜市立大学　YCU看護キャリア開発支援センター"},{"$f":"基本データ!AL158","v":18},{"$f":"IF(基本データ!AM158<>\"\",\"○\",\"\")","v":"○"},{"$f":"IF(基本データ!AN158<>\"\",\"○\",\"\")","v":"○"},{"$f":"IF(基本データ!AO158<>\"\",\"○\",\"\")","v":"○"},{"$f":"IF(基本データ!AP158<>\"\",\"○\",\"\")","v":""},{"$f":"IF(基本データ!AQ158<>\"\",\"○\",\"\")","v":""},{"$f":"IF(基本データ!AR158<>\"\",\"○\",\"\")","v":"○"},{"$f":"IF(基本データ!AS158<>\"\",\"○\",\"\")","v":"○"},{"$f":"IF(基本データ!AT158<>\"\",\"○\",\"\")","v":"○"},{"$f":"IF(基本データ!AU158<>\"\",\"○\",\"\")","v":"○"},{"$f":"IF(基本データ!AV158<>\"\",\"○\",\"\")","v":"○"},{"$f":"IF(基本データ!AW158<>\"\",\"○\",\"\")","v":"○"},{"$f":"IF(基本データ!AX158<>\"\",\"○\",\"\")","v":"○"},{"$f":"IF(基本データ!AY158<>\"\",\"○\",\"\")","v":"○"},{"$f":"IF(基本データ!AZ158<>\"\",\"○\",\"\")","v":""},{"$f":"IF(基本データ!BA158<>\"\",\"○\",\"\")","v":"○"},{"$f":"IF(基本データ!BB158<>\"\",\"○\",\"\")","v":"○"},{"$f":"IF(基本データ!BC158<>\"\",\"○\",\"\")","v":"○"},{"$f":"IF(基本データ!BD158<>\"\",\"○\",\"\")","v":"○"},{"$f":"IF(基本データ!BE158<>\"\",\"○\",\"\")","v":"○"},{"$f":"IF(基本データ!BF158<>\"\",\"○\",\"\")","v":"○"},{"$f":"IF(基本データ!BG158<>\"\",\"○\",\"\")","v":"○"},{"$f":"基本データ!BN158","v":1},{"$f":"IF(基本データ!BH158<>\"\",\"○\",\"\")","v":""},{"$f":"IF(基本データ!BI158<>\"\",\"○\",\"\")","v":"○"},{"$f":"IF(基本データ!BJ158<>\"\",\"○\",\"\")","v":""},{"$f":"IF(基本データ!BK158<>\"\",\"○\",\"\")","v":""},{"$f":"IF(基本データ!BL158<>\"\",\"○\",\"\")","v":""},{"$f":"IF(基本データ!BM158<>\"\",\"○\",\"\")","v":""}]
[157,{"$f":"基本データ!J159","v":"神奈川県"},{"$f":"基本データ!B159","v":2020},{"$f":"基本データ!I159","v":"公立大学法人横浜市立大学　横浜市立大学大学院医学研究科看護学専攻"},{"$f":"基本データ!AL159","v":8},{"$f":"IF(基本データ!AM159<>\"\",\"○\",\"\")","v":"○"},{"$f":"IF(基本データ!AN159<>\"\",\"○\",\"\")","v":"○"},{"$f":"IF(基本データ!AO159<>\"\",\"○\",\"\")","v":""},{"$f":"IF(基本データ!AP159<>\"\",\"○\",\"\")","v":""},{"$f":"IF(基本データ!AQ159<>\"\",\"○\",\"\")","v":""},{"$f":"IF(基本データ!AR159<>\"\",\"○\",\"\")","v":""},{"$f":"IF(基本データ!AS159<>\"\",\"○\",\"\")","v":""},{"$f":"IF(基本データ!AT159<>\"\",\"○\",\"\")","v":""},{"$f":"IF(基本データ!AU159<>\"\",\"○\",\"\")","v":""},{"$f":"IF(基本データ!AV159<>\"\",\"○\",\"\")","v":"○"},{"$f":"IF(基本データ!AW159<>\"\",\"○\",\"\")","v":""},{"$f":"IF(基本データ!AX159<>\"\",\"○\",\"\")","v":""},{"$f":"IF(基本データ!AY159<>\"\",\"○\",\"\")","v":"○"},{"$f":"IF(基本データ!AZ159<>\"\",\"○\",\"\")","v":""},{"$f":"IF(基本データ!BA159<>\"\",\"○\",\"\")","v":"○"},{"$f":"IF(基本データ!BB159<>\"\",\"○\",\"\")","v":""},{"$f":"IF(基本データ!BC159<>\"\",\"○\",\"\")","v":"○"},{"$f":"IF(基本データ!BD159<>\"\",\"○\",\"\")","v":"○"},{"$f":"IF(基本データ!BE159<>\"\",\"○\",\"\")","v":"○"},{"$f":"IF(基本データ!BF159<>\"\",\"○\",\"\")","v":""},{"$f":"IF(基本データ!BG159<>\"\",\"○\",\"\")","v":""},{"$f":"基本データ!BN159","v":1},{"$f":"IF(基本データ!BH159<>\"\",\"○\",\"\")","v":""},{"$f":"IF(基本データ!BI159<>\"\",\"○\",\"\")","v":""},{"$f":"IF(基本データ!BJ159<>\"\",\"○\",\"\")","v":"○"},{"$f":"IF(基本データ!BK159<>\"\",\"○\",\"\")","v":""},{"$f":"IF(基本データ!BL159<>\"\",\"○\",\"\")","v":""},{"$f":"IF(基本データ!BM159<>\"\",\"○\",\"\")","v":""}]
[158,{"$f":"基本データ!J160","v":"神奈川県"},{"$f":"基本データ!B160","v":2020},{"$f":"基本データ!I160","v":"社会福祉法人　親善福祉協会　国際親善総合病院"},{"$f":"基本データ!AL160","v":10},{"$f":"IF(基本データ!AM160<>\"\",\"○\",\"\")","v":"○"},{"$f":"IF(基本データ!AN160<>\"\",\"○\",\"\")","v":"○"},{"$f":"IF(基本データ!AO160<>\"\",\"○\",\"\")","v":"○"},{"$f":"IF(基本データ!AP160<>\"\",\"○\",\"\")","v":""},{"$f":"IF(基本データ!AQ160<>\"\",\"○\",\"\")","v":""},{"$f":"IF(基本データ!AR160<>\"\",\"○\",\"\")","v":""},{"$f":"IF(基本データ!AS160<>\"\",\"○\",\"\")","v":"○"},{"$f":"IF(基本データ!AT160<>\"\",\"○\",\"\")","v":""},{"$f":"IF(基本データ!AU160<>\"\",\"○\",\"\")","v":"○"},{"$f":"IF(基本データ!AV160<>\"\",\"○\",\"\")","v":""},{"$f":"IF(基本データ!AW160<>\"\",\"○\",\"\")","v":"○"},{"$f":"IF(基本データ!AX160<>\"\",\"○\",\"\")","v":"○"},{"$f":"IF(基本データ!AY160<>\"\",\"○\",\"\")","v":"○"},{"$f":"IF(基本データ!AZ160<>\"\",\"○\",\"\")","v":""},{"$f":"IF(基本データ!BA160<>\"\",\"○\",\"\")","v":"○"},{"$f":"IF(基本データ!BB160<>\"\",\"○\",\"\")","v":""},{"$f":"IF(基本データ!BC160<>\"\",\"○\",\"\")","v":""},{"$f":"IF(基本データ!BD160<>\"\",\"○\",\"\")","v":"○"},{"$f":"IF(基本データ!BE160<>\"\",\"○\",\"\")","v":""},{"$f":"IF(基本データ!BF160<>\"\",\"○\",\"\")","v":""},{"$f":"IF(基本データ!BG160<>\"\",\"○\",\"\")","v":""},{"$f":"基本データ!BN160","v":0},{"$f":"IF(基本データ!BH160<>\"\",\"○\",\"\")","v":""},{"$f":"IF(基本データ!BI160<>\"\",\"○\",\"\")","v":""},{"$f":"IF(基本データ!BJ160<>\"\",\"○\",\"\")","v":""},{"$f":"IF(基本データ!BK160<>\"\",\"○\",\"\")","v":""},{"$f":"IF(基本データ!BL160<>\"\",\"○\",\"\")","v":""},{"$f":"IF(基本データ!BM160<>\"\",\"○\",\"\")","v":""}]
[159,{"$f":"基本データ!J161","v":"富山県"},{"$f":"基本データ!B161","v":2020},{"$f":"基本データ!I161","v":"黒部市民病院"},{"$f":"基本データ!AL161","v":3},{"$f":"IF(基本データ!AM161<>\"\",\"○\",\"\")","v":""},{"$f":"IF(基本データ!AN161<>\"\",\"○\",\"\")","v":""},{"$f":"IF(基本データ!AO161<>\"\",\"○\",\"\")","v":""},{"$f":"IF(基本データ!AP161<>\"\",\"○\",\"\")","v":""},{"$f":"IF(基本データ!AQ161<>\"\",\"○\",\"\")","v":""},{"$f":"IF(基本データ!AR161<>\"\",\"○\",\"\")","v":""},{"$f":"IF(基本データ!AS161<>\"\",\"○\",\"\")","v":""},{"$f":"IF(基本データ!AT161<>\"\",\"○\",\"\")","v":""},{"$f":"IF(基本データ!AU161<>\"\",\"○\",\"\")","v":""},{"$f":"IF(基本データ!AV161<>\"\",\"○\",\"\")","v":""},{"$f":"IF(基本データ!AW161<>\"\",\"○\",\"\")","v":""},{"$f":"IF(基本データ!AX161<>\"\",\"○\",\"\")","v":""},{"$f":"IF(基本データ!AY161<>\"\",\"○\",\"\")","v":"○"},{"$f":"IF(基本データ!AZ161<>\"\",\"○\",\"\")","v":""},{"$f":"IF(基本データ!BA161<>\"\",\"○\",\"\")","v":"○"},{"$f":"IF(基本データ!BB161<>\"\",\"○\",\"\")","v":""},{"$f":"IF(基本データ!BC161<>\"\",\"○\",\"\")","v":"○"},{"$f":"IF(基本データ!BD161<>\"\",\"○\",\"\")","v":""},{"$f":"IF(基本データ!BE161<>\"\",\"○\",\"\")","v":""},{"$f":"IF(基本データ!BF161<>\"\",\"○\",\"\")","v":""},{"$f":"IF(基本データ!BG161<>\"\",\"○\",\"\")","v":""},{"$f":"基本データ!BN161","v":0},{"$f":"IF(基本データ!BH161<>\"\",\"○\",\"\")","v":""},{"$f":"IF(基本データ!BI161<>\"\",\"○\",\"\")","v":""},{"$f":"IF(基本データ!BJ161<>\"\",\"○\",\"\")","v":""},{"$f":"IF(基本データ!BK161<>\"\",\"○\",\"\")","v":""},{"$f":"IF(基本データ!BL161<>\"\",\"○\",\"\")","v":""},{"$f":"IF(基本データ!BM161<>\"\",\"○\",\"\")","v":""}]
[160,{"$f":"基本データ!J162","v":"石川県"},{"$f":"基本データ!B162","v":2020},{"$f":"基本データ!I162","v":"金沢医科大学病院"},{"$f":"基本データ!AL162","v":10},{"$f":"IF(基本データ!AM162<>\"\",\"○\",\"\")","v":"○"},{"$f":"IF(基本データ!AN162<>\"\",\"○\",\"\")","v":"○"},{"$f":"IF(基本データ!AO162<>\"\",\"○\",\"\")","v":""},{"$f":"IF(基本データ!AP162<>\"\",\"○\",\"\")","v":""},{"$f":"IF(基本データ!AQ162<>\"\",\"○\",\"\")","v":""},{"$f":"IF(基本データ!AR162<>\"\",\"○\",\"\")","v":""},{"$f":"IF(基本データ!AS162<>\"\",\"○\",\"\")","v":""},{"$f":"IF(基本データ!AT162<>\"\",\"○\",\"\")","v":""},{"$f":"IF(基本データ!AU162<>\"\",\"○\",\"\")","v":"○"},{"$f":"IF(基本データ!AV162<>\"\",\"○\",\"\")","v":"○"},{"$f":"IF(基本データ!AW162<>\"\",\"○\",\"\")","v":""},{"$f":"IF(基本データ!AX162<>\"\",\"○\",\"\")","v":""},{"$f":"IF(基本データ!AY162<>\"\",\"○\",\"\")","v":"○"},{"$f":"IF(基本データ!AZ162<>\"\",\"○\",\"\")","v":"○"},{"$f":"IF(基本データ!BA162<>\"\",\"○\",\"\")","v":"○"},{"$f":"IF(基本データ!BB162<>\"\",\"○\",\"\")","v":"○"},{"$f":"IF(基本データ!BC162<>\"\",\"○\",\"\")","v":""},{"$f":"IF(基本データ!BD162<>\"\",\"○\",\"\")","v":"○"},{"$f":"IF(基本データ!BE162<>\"\",\"○\",\"\")","v":"○"},{"$f":"IF(基本データ!BF162<>\"\",\"○\",\"\")","v":""},{"$f":"IF(基本データ!BG162<>\"\",\"○\",\"\")","v":""},{"$f":"基本データ!BN162","v":1},{"$f":"IF(基本データ!BH162<>\"\",\"○\",\"\")","v":""},{"$f":"IF(基本データ!BI162<>\"\",\"○\",\"\")","v":""},{"$f":"IF(基本データ!BJ162<>\"\",\"○\",\"\")","v":"○"},{"$f":"IF(基本データ!BK162<>\"\",\"○\",\"\")","v":""},{"$f":"IF(基本データ!BL162<>\"\",\"○\",\"\")","v":""},{"$f":"IF(基本データ!BM162<>\"\",\"○\",\"\")","v":""}]
[161,{"$f":"基本データ!J163","v":"福井県"},{"$f":"基本データ!B163","v":2020},{"$f":"基本データ!I163","v":"国立大学法人　福井大学大学院医学系研究科"},{"$f":"基本データ!AL163","v":10},{"$f":"IF(基本データ!AM163<>\"\",\"○\",\"\")","v":"○"},{"$f":"IF(基本データ!AN163<>\"\",\"○\",\"\")","v":"○"},{"$f":"IF(基本データ!AO163<>\"\",\"○\",\"\")","v":""},{"$f":"IF(基本データ!AP163<>\"\",\"○\",\"\")","v":""},{"$f":"IF(基本データ!AQ163<>\"\",\"○\",\"\")","v":""},{"$f":"IF(基本データ!AR163<>\"\",\"○\",\"\")","v":""},{"$f":"IF(基本データ!AS163<>\"\",\"○\",\"\")","v":""},{"$f":"IF(基本データ!AT163<>\"\",\"○\",\"\")","v":""},{"$f":"IF(基本データ!AU163<>\"\",\"○\",\"\")","v":"○"},{"$f":"IF(基本データ!AV163<>\"\",\"○\",\"\")","v":"○"},{"$f":"IF(基本データ!AW163<>\"\",\"○\",\"\")","v":""},{"$f":"IF(基本データ!AX163<>\"\",\"○\",\"\")","v":""},{"$f":"IF(基本データ!AY163<>\"\",\"○\",\"\")","v":"○"},{"$f":"IF(基本データ!AZ163<>\"\",\"○\",\"\")","v":""},{"$f":"IF(基本データ!BA163<>\"\",\"○\",\"\")","v":"○"},{"$f":"IF(基本データ!BB163<>\"\",\"○\",\"\")","v":"○"},{"$f":"IF(基本データ!BC163<>\"\",\"○\",\"\")","v":""},{"$f":"IF(基本データ!BD163<>\"\",\"○\",\"\")","v":"○"},{"$f":"IF(基本データ!BE163<>\"\",\"○\",\"\")","v":"○"},{"$f":"IF(基本データ!BF163<>\"\",\"○\",\"\")","v":"○"},{"$f":"IF(基本データ!BG163<>\"\",\"○\",\"\")","v":""},{"$f":"基本データ!BN163","v":2},{"$f":"IF(基本データ!BH163<>\"\",\"○\",\"\")","v":""},{"$f":"IF(基本データ!BI163<>\"\",\"○\",\"\")","v":""},{"$f":"IF(基本データ!BJ163<>\"\",\"○\",\"\")","v":"○"},{"$f":"IF(基本データ!BK163<>\"\",\"○\",\"\")","v":"○"},{"$f":"IF(基本データ!BL163<>\"\",\"○\",\"\")","v":""},{"$f":"IF(基本データ!BM163<>\"\",\"○\",\"\")","v":""}]
[162,{"$f":"基本データ!J164","v":"長野県"},{"$f":"基本データ!B164","v":2020},{"$f":"基本データ!I164","v":"地方独立行政法人長野県立病院機構　長野県立信州医療センター"},{"$f":"基本データ!AL164","v":5},{"$f":"IF(基本データ!AM164<>\"\",\"○\",\"\")","v":""},{"$f":"IF(基本データ!AN164<>\"\",\"○\",\"\")","v":""},{"$f":"IF(基本データ!AO164<>\"\",\"○\",\"\")","v":"○"},{"$f":"IF(基本データ!AP164<>\"\",\"○\",\"\")","v":""},{"$f":"IF(基本データ!AQ164<>\"\",\"○\",\"\")","v":""},{"$f":"IF(基本データ!AR164<>\"\",\"○\",\"\")","v":""},{"$f":"IF(基本データ!AS164<>\"\",\"○\",\"\")","v":""},{"$f":"IF(基本データ!AT164<>\"\",\"○\",\"\")","v":"○"},{"$f":"IF(基本データ!AU164<>\"\",\"○\",\"\")","v":""},{"$f":"IF(基本データ!AV164<>\"\",\"○\",\"\")","v":""},{"$f":"IF(基本データ!AW164<>\"\",\"○\",\"\")","v":"○"},{"$f":"IF(基本データ!AX164<>\"\",\"○\",\"\")","v":""},{"$f":"IF(基本データ!AY164<>\"\",\"○\",\"\")","v":""},{"$f":"IF(基本データ!AZ164<>\"\",\"○\",\"\")","v":""},{"$f":"IF(基本データ!BA164<>\"\",\"○\",\"\")","v":"○"},{"$f":"IF(基本データ!BB164<>\"\",\"○\",\"\")","v":""},{"$f":"IF(基本データ!BC164<>\"\",\"○\",\"\")","v":"○"},{"$f":"IF(基本データ!BD164<>\"\",\"○\",\"\")","v":""},{"$f":"IF(基本データ!BE164<>\"\",\"○\",\"\")","v":""},{"$f":"IF(基本データ!BF164<>\"\",\"○\",\"\")","v":""},{"$f":"IF(基本データ!BG164<>\"\",\"○\",\"\")","v":""},{"$f":"基本データ!BN164","v":1},{"$f":"IF(基本データ!BH164<>\"\",\"○\",\"\")","v":"○"},{"$f":"IF(基本データ!BI164<>\"\",\"○\",\"\")","v":""},{"$f":"IF(基本データ!BJ164<>\"\",\"○\",\"\")","v":""},{"$f":"IF(基本データ!BK164<>\"\",\"○\",\"\")","v":""},{"$f":"IF(基本データ!BL164<>\"\",\"○\",\"\")","v":""},{"$f":"IF(基本データ!BM164<>\"\",\"○\",\"\")","v":""}]
[163,{"$f":"基本データ!J165","v":"長野県"},{"$f":"基本データ!B165","v":2020},{"$f":"基本データ!I165","v":"長野赤十字病院"},{"$f":"基本データ!AL165","v":3},{"$f":"IF(基本データ!AM165<>\"\",\"○\",\"\")","v":""},{"$f":"IF(基本データ!AN165<>\"\",\"○\",\"\")","v":""},{"$f":"IF(基本データ!AO165<>\"\",\"○\",\"\")","v":"○"},{"$f":"IF(基本データ!AP165<>\"\",\"○\",\"\")","v":""},{"$f":"IF(基本データ!AQ165<>\"\",\"○\",\"\")","v":""},{"$f":"IF(基本データ!AR165<>\"\",\"○\",\"\")","v":""},{"$f":"IF(基本データ!AS165<>\"\",\"○\",\"\")","v":""},{"$f":"IF(基本データ!AT165<>\"\",\"○\",\"\")","v":""},{"$f":"IF(基本データ!AU165<>\"\",\"○\",\"\")","v":""},{"$f":"IF(基本データ!AV165<>\"\",\"○\",\"\")","v":""},{"$f":"IF(基本データ!AW165<>\"\",\"○\",\"\")","v":"○"},{"$f":"IF(基本データ!AX165<>\"\",\"○\",\"\")","v":""},{"$f":"IF(基本データ!AY165<>\"\",\"○\",\"\")","v":""},{"$f":"IF(基本データ!AZ165<>\"\",\"○\",\"\")","v":""},{"$f":"IF(基本データ!BA165<>\"\",\"○\",\"\")","v":"○"},{"$f":"IF(基本データ!BB165<>\"\",\"○\",\"\")","v":""},{"$f":"IF(基本データ!BC165<>\"\",\"○\",\"\")","v":""},{"$f":"IF(基本データ!BD165<>\"\",\"○\",\"\")","v":""},{"$f":"IF(基本データ!BE165<>\"\",\"○\",\"\")","v":""},{"$f":"IF(基本データ!BF165<>\"\",\"○\",\"\")","v":""},{"$f":"IF(基本データ!BG165<>\"\",\"○\",\"\")","v":""},{"$f":"基本データ!BN165","v":0},{"$f":"IF(基本データ!BH165<>\"\",\"○\",\"\")","v":""},{"$f":"IF(基本データ!BI165<>\"\",\"○\",\"\")","v":""},{"$f":"IF(基本データ!BJ165<>\"\",\"○\",\"\")","v":""},{"$f":"IF(基本データ!BK165<>\"\",\"○\",\"\")","v":""},{"$f":"IF(基本データ!BL165<>\"\",\"○\",\"\")","v":""},{"$f":"IF(基本データ!BM165<>\"\",\"○\",\"\")","v":""}]
[164,{"$f":"基本データ!J166","v":"岐阜県"},{"$f":"基本データ!B166","v":2020},{"$f":"基本データ!I166","v":"岐阜大学医学部附属病院"},{"$f":"基本データ!AL166","v":10},{"$f":"IF(基本データ!AM166<>\"\",\"○\",\"\")","v":"○"},{"$f":"IF(基本データ!AN166<>\"\",\"○\",\"\")","v":"○"},{"$f":"IF(基本データ!AO166<>\"\",\"○\",\"\")","v":""},{"$f":"IF(基本データ!AP166<>\"\",\"○\",\"\")","v":""},{"$f":"IF(基本データ!AQ166<>\"\",\"○\",\"\")","v":""},{"$f":"IF(基本データ!AR166<>\"\",\"○\",\"\")","v":"○"},{"$f":"IF(基本データ!AS166<>\"\",\"○\",\"\")","v":"○"},{"$f":"IF(基本データ!AT166<>\"\",\"○\",\"\")","v":""},{"$f":"IF(基本データ!AU166<>\"\",\"○\",\"\")","v":"○"},{"$f":"IF(基本データ!AV166<>\"\",\"○\",\"\")","v":""},{"$f":"IF(基本データ!AW166<>\"\",\"○\",\"\")","v":""},{"$f":"IF(基本データ!AX166<>\"\",\"○\",\"\")","v":"○"},{"$f":"IF(基本データ!AY166<>\"\",\"○\",\"\")","v":"○"},{"$f":"IF(基本データ!AZ166<>\"\",\"○\",\"\")","v":""},{"$f":"IF(基本データ!BA166<>\"\",\"○\",\"\")","v":"○"},{"$f":"IF(基本データ!BB166<>\"\",\"○\",\"\")","v":""},{"$f":"IF(基本データ!BC166<>\"\",\"○\",\"\")","v":""},{"$f":"IF(基本データ!BD166<>\"\",\"○\",\"\")","v":"○"},{"$f":"IF(基本データ!BE166<>\"\",\"○\",\"\")","v":"○"},{"$f":"IF(基本データ!BF166<>\"\",\"○\",\"\")","v":""},{"$f":"IF(基本データ!BG166<>\"\",\"○\",\"\")","v":""},{"$f":"基本データ!BN166","v":1},{"$f":"IF(基本データ!BH166<>\"\",\"○\",\"\")","v":""},{"$f":"IF(基本データ!BI166<>\"\",\"○\",\"\")","v":""},{"$f":"IF(基本データ!BJ166<>\"\",\"○\",\"\")","v":"○"},{"$f":"IF(基本データ!BK166<>\"\",\"○\",\"\")","v":""},{"$f":"IF(基本データ!BL166<>\"\",\"○\",\"\")","v":""},{"$f":"IF(基本データ!BM166<>\"\",\"○\",\"\")","v":""}]
[165,{"$f":"基本データ!J167","v":"岐阜県"},{"$f":"基本データ!B167","v":2020},{"$f":"基本データ!I167","v":"社会医療法人蘇西厚生会　松波総合病院"},{"$f":"基本データ!AL167","v":1},{"$f":"IF(基本データ!AM167<>\"\",\"○\",\"\")","v":""},{"$f":"IF(基本データ!AN167<>\"\",\"○\",\"\")","v":""},{"$f":"IF(基本データ!AO167<>\"\",\"○\",\"\")","v":"○"},{"$f":"IF(基本データ!AP167<>\"\",\"○\",\"\")","v":""},{"$f":"IF(基本データ!AQ167<>\"\",\"○\",\"\")","v":""},{"$f":"IF(基本データ!AR167<>\"\",\"○\",\"\")","v":""},{"$f":"IF(基本データ!AS167<>\"\",\"○\",\"\")","v":""},{"$f":"IF(基本データ!AT167<>\"\",\"○\",\"\")","v":""},{"$f":"IF(基本データ!AU167<>\"\",\"○\",\"\")","v":""},{"$f":"IF(基本データ!AV167<>\"\",\"○\",\"\")","v":""},{"$f":"IF(基本データ!AW167<>\"\",\"○\",\"\")","v":""},{"$f":"IF(基本データ!AX167<>\"\",\"○\",\"\")","v":""},{"$f":"IF(基本データ!AY167<>\"\",\"○\",\"\")","v":""},{"$f":"IF(基本データ!AZ167<>\"\",\"○\",\"\")","v":""},{"$f":"IF(基本データ!BA167<>\"\",\"○\",\"\")","v":""},{"$f":"IF(基本データ!BB167<>\"\",\"○\",\"\")","v":""},{"$f":"IF(基本データ!BC167<>\"\",\"○\",\"\")","v":""},{"$f":"IF(基本データ!BD167<>\"\",\"○\",\"\")","v":""},{"$f":"IF(基本データ!BE167<>\"\",\"○\",\"\")","v":""},{"$f":"IF(基本データ!BF167<>\"\",\"○\",\"\")","v":""},{"$f":"IF(基本データ!BG167<>\"\",\"○\",\"\")","v":""},{"$f":"基本データ!BN167","v":0},{"$f":"IF(基本データ!BH167<>\"\",\"○\",\"\")","v":""},{"$f":"IF(基本データ!BI167<>\"\",\"○\",\"\")","v":""},{"$f":"IF(基本データ!BJ167<>\"\",\"○\",\"\")","v":""},{"$f":"IF(基本データ!BK167<>\"\",\"○\",\"\")","v":""},{"$f":"IF(基本データ!BL167<>\"\",\"○\",\"\")","v":""},{"$f":"IF(基本データ!BM167<>\"\",\"○\",\"\")","v":""}]
[166,{"$f":"基本データ!J168","v":"岐阜県"},{"$f":"基本データ!B168","v":2020},{"$f":"基本データ!I168","v":"美濃市立美濃病院"},{"$f":"基本データ!AL168","v":4},{"$f":"IF(基本データ!AM168<>\"\",\"○\",\"\")","v":""},{"$f":"IF(基本データ!AN168<>\"\",\"○\",\"\")","v":""},{"$f":"IF(基本データ!AO168<>\"\",\"○\",\"\")","v":"○"},{"$f":"IF(基本データ!AP168<>\"\",\"○\",\"\")","v":""},{"$f":"IF(基本データ!AQ168<>\"\",\"○\",\"\")","v":""},{"$f":"IF(基本データ!AR168<>\"\",\"○\",\"\")","v":""},{"$f":"IF(基本データ!AS168<>\"\",\"○\",\"\")","v":""},{"$f":"IF(基本データ!AT168<>\"\",\"○\",\"\")","v":"○"},{"$f":"IF(基本データ!AU168<>\"\",\"○\",\"\")","v":""},{"$f":"IF(基本データ!AV168<>\"\",\"○\",\"\")","v":""},{"$f":"IF(基本データ!AW168<>\"\",\"○\",\"\")","v":"○"},{"$f":"IF(基本データ!AX168<>\"\",\"○\",\"\")","v":""},{"$f":"IF(基本データ!AY168<>\"\",\"○\",\"\")","v":""},{"$f":"IF(基本データ!AZ168<>\"\",\"○\",\"\")","v":""},{"$f":"IF(基本データ!BA168<>\"\",\"○\",\"\")","v":"○"},{"$f":"IF(基本データ!BB168<>\"\",\"○\",\"\")","v":""},{"$f":"IF(基本データ!BC168<>\"\",\"○\",\"\")","v":""},{"$f":"IF(基本データ!BD168<>\"\",\"○\",\"\")","v":""},{"$f":"IF(基本データ!BE168<>\"\",\"○\",\"\")","v":""},{"$f":"IF(基本データ!BF168<>\"\",\"○\",\"\")","v":""},{"$f":"IF(基本データ!BG168<>\"\",\"○\",\"\")","v":""},{"$f":"基本データ!BN168","v":1},{"$f":"IF(基本データ!BH168<>\"\",\"○\",\"\")","v":"○"},{"$f":"IF(基本データ!BI168<>\"\",\"○\",\"\")","v":""},{"$f":"IF(基本データ!BJ168<>\"\",\"○\",\"\")","v":""},{"$f":"IF(基本データ!BK168<>\"\",\"○\",\"\")","v":""},{"$f":"IF(基本データ!BL168<>\"\",\"○\",\"\")","v":""},{"$f":"IF(基本データ!BM168<>\"\",\"○\",\"\")","v":""}]
[167,{"$f":"基本データ!J169","v":"静岡県"},{"$f":"基本データ!B169","v":2020},{"$f":"基本データ!I169","v":"順天堂大学医学部附属静岡病院"},{"$f":"基本データ!AL169","v":16},{"$f":"IF(基本データ!AM169<>\"\",\"○\",\"\")","v":"○"},{"$f":"IF(基本データ!AN169<>\"\",\"○\",\"\")","v":"○"},{"$f":"IF(基本データ!AO169<>\"\",\"○\",\"\")","v":"○"},{"$f":"IF(基本データ!AP169<>\"\",\"○\",\"\")","v":"○"},{"$f":"IF(基本データ!AQ169<>\"\",\"○\",\"\")","v":""},{"$f":"IF(基本データ!AR169<>\"\",\"○\",\"\")","v":""},{"$f":"IF(基本データ!AS169<>\"\",\"○\",\"\")","v":""},{"$f":"IF(基本データ!AT169<>\"\",\"○\",\"\")","v":"○"},{"$f":"IF(基本データ!AU169<>\"\",\"○\",\"\")","v":"○"},{"$f":"IF(基本データ!AV169<>\"\",\"○\",\"\")","v":"○"},{"$f":"IF(基本データ!AW169<>\"\",\"○\",\"\")","v":"○"},{"$f":"IF(基本データ!AX169<>\"\",\"○\",\"\")","v":"○"},{"$f":"IF(基本データ!AY169<>\"\",\"○\",\"\")","v":"○"},{"$f":"IF(基本データ!AZ169<>\"\",\"○\",\"\")","v":""},{"$f":"IF(基本データ!BA169<>\"\",\"○\",\"\")","v":"○"},{"$f":"IF(基本データ!BB169<>\"\",\"○\",\"\")","v":"○"},{"$f":"IF(基本データ!BC169<>\"\",\"○\",\"\")","v":"○"},{"$f":"IF(基本データ!BD169<>\"\",\"○\",\"\")","v":"○"},{"$f":"IF(基本データ!BE169<>\"\",\"○\",\"\")","v":"○"},{"$f":"IF(基本データ!BF169<>\"\",\"○\",\"\")","v":"○"},{"$f":"IF(基本データ!BG169<>\"\",\"○\",\"\")","v":""},{"$f":"基本データ!BN169","v":3},{"$f":"IF(基本データ!BH169<>\"\",\"○\",\"\")","v":""},{"$f":"IF(基本データ!BI169<>\"\",\"○\",\"\")","v":""},{"$f":"IF(基本データ!BJ169<>\"\",\"○\",\"\")","v":"○"},{"$f":"IF(基本データ!BK169<>\"\",\"○\",\"\")","v":"○"},{"$f":"IF(基本データ!BL169<>\"\",\"○\",\"\")","v":""},{"$f":"IF(基本データ!BM169<>\"\",\"○\",\"\")","v":"○"}]
[168,{"$f":"基本データ!J170","v":"愛知県"},{"$f":"基本データ!B170","v":2020},{"$f":"基本データ!I170","v":"愛知医科大学病院"},{"$f":"基本データ!AL170","v":9},{"$f":"IF(基本データ!AM170<>\"\",\"○\",\"\")","v":"○"},{"$f":"IF(基本データ!AN170<>\"\",\"○\",\"\")","v":"○"},{"$f":"IF(基本データ!AO170<>\"\",\"○\",\"\")","v":"○"},{"$f":"IF(基本データ!AP170<>\"\",\"○\",\"\")","v":""},{"$f":"IF(基本データ!AQ170<>\"\",\"○\",\"\")","v":""},{"$f":"IF(基本データ!AR170<>\"\",\"○\",\"\")","v":""},{"$f":"IF(基本データ!AS170<>\"\",\"○\",\"\")","v":""},{"$f":"IF(基本データ!AT170<>\"\",\"○\",\"\")","v":""},{"$f":"IF(基本データ!AU170<>\"\",\"○\",\"\")","v":""},{"$f":"IF(基本データ!AV170<>\"\",\"○\",\"\")","v":"○"},{"$f":"IF(基本データ!AW170<>\"\",\"○\",\"\")","v":"○"},{"$f":"IF(基本データ!AX170<>\"\",\"○\",\"\")","v":""},{"$f":"IF(基本データ!AY170<>\"\",\"○\",\"\")","v":"○"},{"$f":"IF(基本データ!AZ170<>\"\",\"○\",\"\")","v":""},{"$f":"IF(基本データ!BA170<>\"\",\"○\",\"\")","v":"○"},{"$f":"IF(基本データ!BB170<>\"\",\"○\",\"\")","v":""},{"$f":"IF(基本データ!BC170<>\"\",\"○\",\"\")","v":""},{"$f":"IF(基本データ!BD170<>\"\",\"○\",\"\")","v":"○"},{"$f":"IF(基本データ!BE170<>\"\",\"○\",\"\")","v":"○"},{"$f":"IF(基本データ!BF170<>\"\",\"○\",\"\")","v":""},{"$f":"IF(基本データ!BG170<>\"\",\"○\",\"\")","v":""},{"$f":"基本データ!BN170","v":1},{"$f":"IF(基本データ!BH170<>\"\",\"○\",\"\")","v":""},{"$f":"IF(基本データ!BI170<>\"\",\"○\",\"\")","v":""},{"$f":"IF(基本データ!BJ170<>\"\",\"○\",\"\")","v":"○"},{"$f":"IF(基本データ!BK170<>\"\",\"○\",\"\")","v":""},{"$f":"IF(基本データ!BL170<>\"\",\"○\",\"\")","v":""},{"$f":"IF(基本データ!BM170<>\"\",\"○\",\"\")","v":""}]
[169,{"$f":"基本データ!J171","v":"三重県"},{"$f":"基本データ!B171","v":2020},{"$f":"基本データ!I171","v":"国立大学法人三重大学医学部附属病院"},{"$f":"基本データ!AL171","v":11},{"$f":"IF(基本データ!AM171<>\"\",\"○\",\"\")","v":"○"},{"$f":"IF(基本データ!AN171<>\"\",\"○\",\"\")","v":"○"},{"$f":"IF(基本データ!AO171<>\"\",\"○\",\"\")","v":""},{"$f":"IF(基本データ!AP171<>\"\",\"○\",\"\")","v":""},{"$f":"IF(基本データ!AQ171<>\"\",\"○\",\"\")","v":""},{"$f":"IF(基本データ!AR171<>\"\",\"○\",\"\")","v":"○"},{"$f":"IF(基本データ!AS171<>\"\",\"○\",\"\")","v":"○"},{"$f":"IF(基本データ!AT171<>\"\",\"○\",\"\")","v":""},{"$f":"IF(基本データ!AU171<>\"\",\"○\",\"\")","v":"○"},{"$f":"IF(基本データ!AV171<>\"\",\"○\",\"\")","v":""},{"$f":"IF(基本データ!AW171<>\"\",\"○\",\"\")","v":""},{"$f":"IF(基本データ!AX171<>\"\",\"○\",\"\")","v":""},{"$f":"IF(基本データ!AY171<>\"\",\"○\",\"\")","v":"○"},{"$f":"IF(基本データ!AZ171<>\"\",\"○\",\"\")","v":""},{"$f":"IF(基本データ!BA171<>\"\",\"○\",\"\")","v":"○"},{"$f":"IF(基本データ!BB171<>\"\",\"○\",\"\")","v":"○"},{"$f":"IF(基本データ!BC171<>\"\",\"○\",\"\")","v":""},{"$f":"IF(基本データ!BD171<>\"\",\"○\",\"\")","v":"○"},{"$f":"IF(基本データ!BE171<>\"\",\"○\",\"\")","v":"○"},{"$f":"IF(基本データ!BF171<>\"\",\"○\",\"\")","v":"○"},{"$f":"IF(基本データ!BG171<>\"\",\"○\",\"\")","v":""},{"$f":"基本データ!BN171","v":3},{"$f":"IF(基本データ!BH171<>\"\",\"○\",\"\")","v":""},{"$f":"IF(基本データ!BI171<>\"\",\"○\",\"\")","v":""},{"$f":"IF(基本データ!BJ171<>\"\",\"○\",\"\")","v":"○"},{"$f":"IF(基本データ!BK171<>\"\",\"○\",\"\")","v":"○"},{"$f":"IF(基本データ!BL171<>\"\",\"○\",\"\")","v":""},{"$f":"IF(基本データ!BM171<>\"\",\"○\",\"\")","v":"○"}]
[170,{"$f":"基本データ!J172","v":"京都府"},{"$f":"基本データ!B172","v":2020},{"$f":"基本データ!I172","v":"医療法人医仁会　武田総合病院"},{"$f":"基本データ!AL172","v":13},{"$f":"IF(基本データ!AM172<>\"\",\"○\",\"\")","v":"○"},{"$f":"IF(基本データ!AN172<>\"\",\"○\",\"\")","v":"○"},{"$f":"IF(基本データ!AO172<>\"\",\"○\",\"\")","v":"○"},{"$f":"IF(基本データ!AP172<>\"\",\"○\",\"\")","v":"○"},{"$f":"IF(基本データ!AQ172<>\"\",\"○\",\"\")","v":""},{"$f":"IF(基本データ!AR172<>\"\",\"○\",\"\")","v":""},{"$f":"IF(基本データ!AS172<>\"\",\"○\",\"\")","v":""},{"$f":"IF(基本データ!AT172<>\"\",\"○\",\"\")","v":""},{"$f":"IF(基本データ!AU172<>\"\",\"○\",\"\")","v":"○"},{"$f":"IF(基本データ!AV172<>\"\",\"○\",\"\")","v":"○"},{"$f":"IF(基本データ!AW172<>\"\",\"○\",\"\")","v":"○"},{"$f":"IF(基本データ!AX172<>\"\",\"○\",\"\")","v":""},{"$f":"IF(基本データ!AY172<>\"\",\"○\",\"\")","v":"○"},{"$f":"IF(基本データ!AZ172<>\"\",\"○\",\"\")","v":""},{"$f":"IF(基本データ!BA172<>\"\",\"○\",\"\")","v":"○"},{"$f":"IF(基本データ!BB172<>\"\",\"○\",\"\")","v":"○"},{"$f":"IF(基本データ!BC172<>\"\",\"○\",\"\")","v":"○"},{"$f":"IF(基本データ!BD172<>\"\",\"○\",\"\")","v":""},{"$f":"IF(基本データ!BE172<>\"\",\"○\",\"\")","v":"○"},{"$f":"IF(基本データ!BF172<>\"\",\"○\",\"\")","v":"○"},{"$f":"IF(基本データ!BG172<>\"\",\"○\",\"\")","v":""},{"$f":"基本データ!BN172","v":2},{"$f":"IF(基本データ!BH172<>\"\",\"○\",\"\")","v":""},{"$f":"IF(基本データ!BI172<>\"\",\"○\",\"\")","v":""},{"$f":"IF(基本データ!BJ172<>\"\",\"○\",\"\")","v":""},{"$f":"IF(基本データ!BK172<>\"\",\"○\",\"\")","v":"○"},{"$f":"IF(基本データ!BL172<>\"\",\"○\",\"\")","v":""},{"$f":"IF(基本データ!BM172<>\"\",\"○\",\"\")","v":"○"}]
[171,{"$f":"基本データ!J173","v":"京都府"},{"$f":"基本データ!B173","v":2020},{"$f":"基本データ!I173","v":"医療法人社団石鎚会京都田辺中央病院"},{"$f":"基本データ!AL173","v":15},{"$f":"IF(基本データ!AM173<>\"\",\"○\",\"\")","v":"○"},{"$f":"IF(基本データ!AN173<>\"\",\"○\",\"\")","v":"○"},{"$f":"IF(基本データ!AO173<>\"\",\"○\",\"\")","v":"○"},{"$f":"IF(基本データ!AP173<>\"\",\"○\",\"\")","v":"○"},{"$f":"IF(基本データ!AQ173<>\"\",\"○\",\"\")","v":""},{"$f":"IF(基本データ!AR173<>\"\",\"○\",\"\")","v":""},{"$f":"IF(基本データ!AS173<>\"\",\"○\",\"\")","v":""},{"$f":"IF(基本データ!AT173<>\"\",\"○\",\"\")","v":"○"},{"$f":"IF(基本データ!AU173<>\"\",\"○\",\"\")","v":"○"},{"$f":"IF(基本データ!AV173<>\"\",\"○\",\"\")","v":"○"},{"$f":"IF(基本データ!AW173<>\"\",\"○\",\"\")","v":"○"},{"$f":"IF(基本データ!AX173<>\"\",\"○\",\"\")","v":""},{"$f":"IF(基本データ!AY173<>\"\",\"○\",\"\")","v":"○"},{"$f":"IF(基本データ!AZ173<>\"\",\"○\",\"\")","v":""},{"$f":"IF(基本データ!BA173<>\"\",\"○\",\"\")","v":"○"},{"$f":"IF(基本データ!BB173<>\"\",\"○\",\"\")","v":"○"},{"$f":"IF(基本データ!BC173<>\"\",\"○\",\"\")","v":"○"},{"$f":"IF(基本データ!BD173<>\"\",\"○\",\"\")","v":"○"},{"$f":"IF(基本データ!BE173<>\"\",\"○\",\"\")","v":"○"},{"$f":"IF(基本データ!BF173<>\"\",\"○\",\"\")","v":"○"},{"$f":"IF(基本データ!BG173<>\"\",\"○\",\"\")","v":""},{"$f":"基本データ!BN173","v":4},{"$f":"IF(基本データ!BH173<>\"\",\"○\",\"\")","v":"○"},{"$f":"IF(基本データ!BI173<>\"\",\"○\",\"\")","v":""},{"$f":"IF(基本データ!BJ173<>\"\",\"○\",\"\")","v":"○"},{"$f":"IF(基本データ!BK173<>\"\",\"○\",\"\")","v":"○"},{"$f":"IF(基本データ!BL173<>\"\",\"○\",\"\")","v":""},{"$f":"IF(基本データ!BM173<>\"\",\"○\",\"\")","v":"○"}]
[172,{"$f":"基本データ!J174","v":"京都府"},{"$f":"基本データ!B174","v":2020},{"$f":"基本データ!I174","v":"京都府公立大学法人　京都府立医科大学"},{"$f":"基本データ!AL174","v":15},{"$f":"IF(基本データ!AM174<>\"\",\"○\",\"\")","v":"○"},{"$f":"IF(基本データ!AN174<>\"\",\"○\",\"\")","v":"○"},{"$f":"IF(基本データ!AO174<>\"\",\"○\",\"\")","v":"○"},{"$f":"IF(基本データ!AP174<>\"\",\"○\",\"\")","v":"○"},{"$f":"IF(基本データ!AQ174<>\"\",\"○\",\"\")","v":"○"},{"$f":"IF(基本データ!AR174<>\"\",\"○\",\"\")","v":"○"},{"$f":"IF(基本データ!AS174<>\"\",\"○\",\"\")","v":"○"},{"$f":"IF(基本データ!AT174<>\"\",\"○\",\"\")","v":""},{"$f":"IF(基本データ!AU174<>\"\",\"○\",\"\")","v":"○"},{"$f":"IF(基本データ!AV174<>\"\",\"○\",\"\")","v":"○"},{"$f":"IF(基本データ!AW174<>\"\",\"○\",\"\")","v":""},{"$f":"IF(基本データ!AX174<>\"\",\"○\",\"\")","v":"○"},{"$f":"IF(基本データ!AY174<>\"\",\"○\",\"\")","v":"○"},{"$f":"IF(基本データ!AZ174<>\"\",\"○\",\"\")","v":""},{"$f":"IF(基本データ!BA174<>\"\",\"○\",\"\")","v":"○"},{"$f":"IF(基本データ!BB174<>\"\",\"○\",\"\")","v":""},{"$f":"IF(基本データ!BC174<>\"\",\"○\",\"\")","v":""},{"$f":"IF(基本データ!BD174<>\"\",\"○\",\"\")","v":"○"},{"$f":"IF(基本データ!BE174<>\"\",\"○\",\"\")","v":"○"},{"$f":"IF(基本データ!BF174<>\"\",\"○\",\"\")","v":"○"},{"$f":"IF(基本データ!BG174<>\"\",\"○\",\"\")","v":""},{"$f":"基本データ!BN174","v":4},{"$f":"IF(基本データ!BH174<>\"\",\"○\",\"\")","v":""},{"$f":"IF(基本データ!BI174<>\"\",\"○\",\"\")","v":"○"},{"$f":"IF(基本データ!BJ174<>\"\",\"○\",\"\")","v":"○"},{"$f":"IF(基本データ!BK174<>\"\",\"○\",\"\")","v":"○"},{"$f":"IF(基本データ!BL174<>\"\",\"○\",\"\")","v":""},{"$f":"IF(基本データ!BM174<>\"\",\"○\",\"\")","v":"○"}]
[173,{"$f":"基本データ!J175","v":"大阪府"},{"$f":"基本データ!B175","v":2020},{"$f":"基本データ!I175","v":"大阪医科薬科大学病院"},{"$f":"基本データ!AL175","v":15},{"$f":"IF(基本データ!AM175<>\"\",\"○\",\"\")","v":"○"},{"$f":"IF(基本データ!AN175<>\"\",\"○\",\"\")","v":"○"},{"$f":"IF(基本データ!AO175<>\"\",\"○\",\"\")","v":"○"},{"$f":"IF(基本データ!AP175<>\"\",\"○\",\"\")","v":""},{"$f":"IF(基本データ!AQ175<>\"\",\"○\",\"\")","v":""},{"$f":"IF(基本データ!AR175<>\"\",\"○\",\"\")","v":"○"},{"$f":"IF(基本データ!AS175<>\"\",\"○\",\"\")","v":"○"},{"$f":"IF(基本データ!AT175<>\"\",\"○\",\"\")","v":"○"},{"$f":"IF(基本データ!AU175<>\"\",\"○\",\"\")","v":"○"},{"$f":"IF(基本データ!AV175<>\"\",\"○\",\"\")","v":"○"},{"$f":"IF(基本データ!AW175<>\"\",\"○\",\"\")","v":"○"},{"$f":"IF(基本データ!AX175<>\"\",\"○\",\"\")","v":"○"},{"$f":"IF(基本データ!AY175<>\"\",\"○\",\"\")","v":"○"},{"$f":"IF(基本データ!AZ175<>\"\",\"○\",\"\")","v":""},{"$f":"IF(基本データ!BA175<>\"\",\"○\",\"\")","v":"○"},{"$f":"IF(基本データ!BB175<>\"\",\"○\",\"\")","v":""},{"$f":"IF(基本データ!BC175<>\"\",\"○\",\"\")","v":""},{"$f":"IF(基本データ!BD175<>\"\",\"○\",\"\")","v":"○"},{"$f":"IF(基本データ!BE175<>\"\",\"○\",\"\")","v":"○"},{"$f":"IF(基本データ!BF175<>\"\",\"○\",\"\")","v":"○"},{"$f":"IF(基本データ!BG175<>\"\",\"○\",\"\")","v":""},{"$f":"基本データ!BN175","v":4},{"$f":"IF(基本データ!BH175<>\"\",\"○\",\"\")","v":"○"},{"$f":"IF(基本データ!BI175<>\"\",\"○\",\"\")","v":"○"},{"$f":"IF(基本データ!BJ175<>\"\",\"○\",\"\")","v":"○"},{"$f":"IF(基本データ!BK175<>\"\",\"○\",\"\")","v":"○"},{"$f":"IF(基本データ!BL175<>\"\",\"○\",\"\")","v":""},{"$f":"IF(基本データ!BM175<>\"\",\"○\",\"\")","v":""}]
[174,{"$f":"基本データ!J176","v":"大阪府"},{"$f":"基本データ!B176","v":2020},{"$f":"基本データ!I176","v":"大阪大学医学部附属病院"},{"$f":"基本データ!AL176","v":17},{"$f":"IF(基本データ!AM176<>\"\",\"○\",\"\")","v":"○"},{"$f":"IF(基本データ!AN176<>\"\",\"○\",\"\")","v":"○"},{"$f":"IF(基本データ!AO176<>\"\",\"○\",\"\")","v":"○"},{"$f":"IF(基本データ!AP176<>\"\",\"○\",\"\")","v":""},{"$f":"IF(基本データ!AQ176<>\"\",\"○\",\"\")","v":""},{"$f":"IF(基本データ!AR176<>\"\",\"○\",\"\")","v":"○"},{"$f":"IF(基本データ!AS176<>\"\",\"○\",\"\")","v":"○"},{"$f":"IF(基本データ!AT176<>\"\",\"○\",\"\")","v":"○"},{"$f":"IF(基本データ!AU176<>\"\",\"○\",\"\")","v":"○"},{"$f":"IF(基本データ!AV176<>\"\",\"○\",\"\")","v":"○"},{"$f":"IF(基本データ!AW176<>\"\",\"○\",\"\")","v":"○"},{"$f":"IF(基本データ!AX176<>\"\",\"○\",\"\")","v":"○"},{"$f":"IF(基本データ!AY176<>\"\",\"○\",\"\")","v":"○"},{"$f":"IF(基本データ!AZ176<>\"\",\"○\",\"\")","v":""},{"$f":"IF(基本データ!BA176<>\"\",\"○\",\"\")","v":"○"},{"$f":"IF(基本データ!BB176<>\"\",\"○\",\"\")","v":"○"},{"$f":"IF(基本データ!BC176<>\"\",\"○\",\"\")","v":"○"},{"$f":"IF(基本データ!BD176<>\"\",\"○\",\"\")","v":"○"},{"$f":"IF(基本データ!BE176<>\"\",\"○\",\"\")","v":"○"},{"$f":"IF(基本データ!BF176<>\"\",\"○\",\"\")","v":"○"},{"$f":"IF(基本データ!BG176<>\"\",\"○\",\"\")","v":""},{"$f":"基本データ!BN176","v":2},{"$f":"IF(基本データ!BH176<>\"\",\"○\",\"\")","v":""},{"$f":"IF(基本データ!BI176<>\"\",\"○\",\"\")","v":""},{"$f":"IF(基本データ!BJ176<>\"\",\"○\",\"\")","v":"○"},{"$f":"IF(基本データ!BK176<>\"\",\"○\",\"\")","v":"○"},{"$f":"IF(基本データ!BL176<>\"\",\"○\",\"\")","v":""},{"$f":"IF(基本データ!BM176<>\"\",\"○\",\"\")","v":""}]
[175,{"$f":"基本データ!J177","v":"大阪府"},{"$f":"基本データ!B177","v":2020},{"$f":"基本データ!I177","v":"関西医科大学附属病院"},{"$f":"基本データ!AL177","v":12},{"$f":"IF(基本データ!AM177<>\"\",\"○\",\"\")","v":"○"},{"$f":"IF(基本データ!AN177<>\"\",\"○\",\"\")","v":"○"},{"$f":"IF(基本データ!AO177<>\"\",\"○\",\"\")","v":""},{"$f":"IF(基本データ!AP177<>\"\",\"○\",\"\")","v":"○"},{"$f":"IF(基本データ!AQ177<>\"\",\"○\",\"\")","v":""},{"$f":"IF(基本データ!AR177<>\"\",\"○\",\"\")","v":""},{"$f":"IF(基本データ!AS177<>\"\",\"○\",\"\")","v":"○"},{"$f":"IF(基本データ!AT177<>\"\",\"○\",\"\")","v":""},{"$f":"IF(基本データ!AU177<>\"\",\"○\",\"\")","v":"○"},{"$f":"IF(基本データ!AV177<>\"\",\"○\",\"\")","v":"○"},{"$f":"IF(基本データ!AW177<>\"\",\"○\",\"\")","v":""},{"$f":"IF(基本データ!AX177<>\"\",\"○\",\"\")","v":"○"},{"$f":"IF(基本データ!AY177<>\"\",\"○\",\"\")","v":"○"},{"$f":"IF(基本データ!AZ177<>\"\",\"○\",\"\")","v":""},{"$f":"IF(基本データ!BA177<>\"\",\"○\",\"\")","v":"○"},{"$f":"IF(基本データ!BB177<>\"\",\"○\",\"\")","v":""},{"$f":"IF(基本データ!BC177<>\"\",\"○\",\"\")","v":"○"},{"$f":"IF(基本データ!BD177<>\"\",\"○\",\"\")","v":"○"},{"$f":"IF(基本データ!BE177<>\"\",\"○\",\"\")","v":"○"},{"$f":"IF(基本データ!BF177<>\"\",\"○\",\"\")","v":""},{"$f":"IF(基本データ!BG177<>\"\",\"○\",\"\")","v":""},{"$f":"基本データ!BN177","v":2},{"$f":"IF(基本データ!BH177<>\"\",\"○\",\"\")","v":""},{"$f":"IF(基本データ!BI177<>\"\",\"○\",\"\")","v":""},{"$f":"IF(基本データ!BJ177<>\"\",\"○\",\"\")","v":"○"},{"$f":"IF(基本データ!BK177<>\"\",\"○\",\"\")","v":""},{"$f":"IF(基本データ!BL177<>\"\",\"○\",\"\")","v":""},{"$f":"IF(基本データ!BM177<>\"\",\"○\",\"\")","v":"○"}]
[176,{"$f":"基本データ!J178","v":"兵庫県"},{"$f":"基本データ!B178","v":2020},{"$f":"基本データ!I178","v":"公益社団法人日本麻酔科学会"},{"$f":"基本データ!AL178","v":6},{"$f":"IF(基本データ!AM178<>\"\",\"○\",\"\")","v":"○"},{"$f":"IF(基本データ!AN178<>\"\",\"○\",\"\")","v":"○"},{"$f":"IF(基本データ!AO178<>\"\",\"○\",\"\")","v":""},{"$f":"IF(基本データ!AP178<>\"\",\"○\",\"\")","v":""},{"$f":"IF(基本データ!AQ178<>\"\",\"○\",\"\")","v":""},{"$f":"IF(基本データ!AR178<>\"\",\"○\",\"\")","v":""},{"$f":"IF(基本データ!AS178<>\"\",\"○\",\"\")","v":""},{"$f":"IF(基本データ!AT178<>\"\",\"○\",\"\")","v":""},{"$f":"IF(基本データ!AU178<>\"\",\"○\",\"\")","v":""},{"$f":"IF(基本データ!AV178<>\"\",\"○\",\"\")","v":""},{"$f":"IF(基本データ!AW178<>\"\",\"○\",\"\")","v":""},{"$f":"IF(基本データ!AX178<>\"\",\"○\",\"\")","v":""},{"$f":"IF(基本データ!AY178<>\"\",\"○\",\"\")","v":"○"},{"$f":"IF(基本データ!AZ178<>\"\",\"○\",\"\")","v":""},{"$f":"IF(基本データ!BA178<>\"\",\"○\",\"\")","v":"○"},{"$f":"IF(基本データ!BB178<>\"\",\"○\",\"\")","v":""},{"$f":"IF(基本データ!BC178<>\"\",\"○\",\"\")","v":""},{"$f":"IF(基本データ!BD178<>\"\",\"○\",\"\")","v":"○"},{"$f":"IF(基本データ!BE178<>\"\",\"○\",\"\")","v":"○"},{"$f":"IF(基本データ!BF178<>\"\",\"○\",\"\")","v":""},{"$f":"IF(基本データ!BG178<>\"\",\"○\",\"\")","v":""},{"$f":"基本データ!BN178","v":1},{"$f":"IF(基本データ!BH178<>\"\",\"○\",\"\")","v":""},{"$f":"IF(基本データ!BI178<>\"\",\"○\",\"\")","v":""},{"$f":"IF(基本データ!BJ178<>\"\",\"○\",\"\")","v":"○"},{"$f":"IF(基本データ!BK178<>\"\",\"○\",\"\")","v":""},{"$f":"IF(基本データ!BL178<>\"\",\"○\",\"\")","v":""},{"$f":"IF(基本データ!BM178<>\"\",\"○\",\"\")","v":""}]
[177,{"$f":"基本データ!J179","v":"兵庫県"},{"$f":"基本データ!B179","v":2020},{"$f":"基本データ!I179","v":"社会医療法人　榮昌会　吉田病院"},{"$f":"基本データ!AL179","v":3},{"$f":"IF(基本データ!AM179<>\"\",\"○\",\"\")","v":""},{"$f":"IF(基本データ!AN179<>\"\",\"○\",\"\")","v":""},{"$f":"IF(基本データ!AO179<>\"\",\"○\",\"\")","v":""},{"$f":"IF(基本データ!AP179<>\"\",\"○\",\"\")","v":""},{"$f":"IF(基本データ!AQ179<>\"\",\"○\",\"\")","v":""},{"$f":"IF(基本データ!AR179<>\"\",\"○\",\"\")","v":""},{"$f":"IF(基本データ!AS179<>\"\",\"○\",\"\")","v":""},{"$f":"IF(基本データ!AT179<>\"\",\"○\",\"\")","v":""},{"$f":"IF(基本データ!AU179<>\"\",\"○\",\"\")","v":"○"},{"$f":"IF(基本データ!AV179<>\"\",\"○\",\"\")","v":""},{"$f":"IF(基本データ!AW179<>\"\",\"○\",\"\")","v":""},{"$f":"IF(基本データ!AX179<>\"\",\"○\",\"\")","v":""},{"$f":"IF(基本データ!AY179<>\"\",\"○\",\"\")","v":"○"},{"$f":"IF(基本データ!AZ179<>\"\",\"○\",\"\")","v":""},{"$f":"IF(基本データ!BA179<>\"\",\"○\",\"\")","v":""},{"$f":"IF(基本データ!BB179<>\"\",\"○\",\"\")","v":""},{"$f":"IF(基本データ!BC179<>\"\",\"○\",\"\")","v":""},{"$f":"IF(基本データ!BD179<>\"\",\"○\",\"\")","v":""},{"$f":"IF(基本データ!BE179<>\"\",\"○\",\"\")","v":""},{"$f":"IF(基本データ!BF179<>\"\",\"○\",\"\")","v":"○"},{"$f":"IF(基本データ!BG179<>\"\",\"○\",\"\")","v":""},{"$f":"基本データ!BN179","v":0},{"$f":"IF(基本データ!BH179<>\"\",\"○\",\"\")","v":""},{"$f":"IF(基本データ!BI179<>\"\",\"○\",\"\")","v":""},{"$f":"IF(基本データ!BJ179<>\"\",\"○\",\"\")","v":""},{"$f":"IF(基本データ!BK179<>\"\",\"○\",\"\")","v":""},{"$f":"IF(基本データ!BL179<>\"\",\"○\",\"\")","v":""},{"$f":"IF(基本データ!BM179<>\"\",\"○\",\"\")","v":""}]
[178,{"$f":"基本データ!J180","v":"島根県"},{"$f":"基本データ!B180","v":2020},{"$f":"基本データ!I180","v":"公立大学法人島根県立大学　島根県立大学大学院看護学研究科看護学専攻"},{"$f":"基本データ!AL180","v":8},{"$f":"IF(基本データ!AM180<>\"\",\"○\",\"\")","v":""},{"$f":"IF(基本データ!AN180<>\"\",\"○\",\"\")","v":""},{"$f":"IF(基本データ!AO180<>\"\",\"○\",\"\")","v":"○"},{"$f":"IF(基本データ!AP180<>\"\",\"○\",\"\")","v":""},{"$f":"IF(基本データ!AQ180<>\"\",\"○\",\"\")","v":""},{"$f":"IF(基本データ!AR180<>\"\",\"○\",\"\")","v":""},{"$f":"IF(基本データ!AS180<>\"\",\"○\",\"\")","v":""},{"$f":"IF(基本データ!AT180<>\"\",\"○\",\"\")","v":"○"},{"$f":"IF(基本データ!AU180<>\"\",\"○\",\"\")","v":""},{"$f":"IF(基本データ!AV180<>\"\",\"○\",\"\")","v":"○"},{"$f":"IF(基本データ!AW180<>\"\",\"○\",\"\")","v":"○"},{"$f":"IF(基本データ!AX180<>\"\",\"○\",\"\")","v":""},{"$f":"IF(基本データ!AY180<>\"\",\"○\",\"\")","v":""},{"$f":"IF(基本データ!AZ180<>\"\",\"○\",\"\")","v":""},{"$f":"IF(基本データ!BA180<>\"\",\"○\",\"\")","v":"○"},{"$f":"IF(基本データ!BB180<>\"\",\"○\",\"\")","v":"○"},{"$f":"IF(基本データ!BC180<>\"\",\"○\",\"\")","v":"○"},{"$f":"IF(基本データ!BD180<>\"\",\"○\",\"\")","v":""},{"$f":"IF(基本データ!BE180<>\"\",\"○\",\"\")","v":""},{"$f":"IF(基本データ!BF180<>\"\",\"○\",\"\")","v":"○"},{"$f":"IF(基本データ!BG180<>\"\",\"○\",\"\")","v":""},{"$f":"基本データ!BN180","v":1},{"$f":"IF(基本データ!BH180<>\"\",\"○\",\"\")","v":"○"},{"$f":"IF(基本データ!BI180<>\"\",\"○\",\"\")","v":""},{"$f":"IF(基本データ!BJ180<>\"\",\"○\",\"\")","v":""},{"$f":"IF(基本データ!BK180<>\"\",\"○\",\"\")","v":""},{"$f":"IF(基本データ!BL180<>\"\",\"○\",\"\")","v":""},{"$f":"IF(基本データ!BM180<>\"\",\"○\",\"\")","v":""}]
[179,{"$f":"基本データ!J181","v":"島根県"},{"$f":"基本データ!B181","v":2020},{"$f":"基本データ!I181","v":"国立大学法人島根大学医学部附属病院"},{"$f":"基本データ!AL181","v":8},{"$f":"IF(基本データ!AM181<>\"\",\"○\",\"\")","v":"○"},{"$f":"IF(基本データ!AN181<>\"\",\"○\",\"\")","v":"○"},{"$f":"IF(基本データ!AO181<>\"\",\"○\",\"\")","v":""},{"$f":"IF(基本データ!AP181<>\"\",\"○\",\"\")","v":""},{"$f":"IF(基本データ!AQ181<>\"\",\"○\",\"\")","v":""},{"$f":"IF(基本データ!AR181<>\"\",\"○\",\"\")","v":""},{"$f":"IF(基本データ!AS181<>\"\",\"○\",\"\")","v":""},{"$f":"IF(基本データ!AT181<>\"\",\"○\",\"\")","v":""},{"$f":"IF(基本データ!AU181<>\"\",\"○\",\"\")","v":""},{"$f":"IF(基本データ!AV181<>\"\",\"○\",\"\")","v":""},{"$f":"IF(基本データ!AW181<>\"\",\"○\",\"\")","v":"○"},{"$f":"IF(基本データ!AX181<>\"\",\"○\",\"\")","v":""},{"$f":"IF(基本データ!AY181<>\"\",\"○\",\"\")","v":"○"},{"$f":"IF(基本データ!AZ181<>\"\",\"○\",\"\")","v":""},{"$f":"IF(基本データ!BA181<>\"\",\"○\",\"\")","v":"○"},{"$f":"IF(基本データ!BB181<>\"\",\"○\",\"\")","v":""},{"$f":"IF(基本データ!BC181<>\"\",\"○\",\"\")","v":"○"},{"$f":"IF(基本データ!BD181<>\"\",\"○\",\"\")","v":"○"},{"$f":"IF(基本データ!BE181<>\"\",\"○\",\"\")","v":"○"},{"$f":"IF(基本データ!BF181<>\"\",\"○\",\"\")","v":""},{"$f":"IF(基本データ!BG181<>\"\",\"○\",\"\")","v":""},{"$f":"基本データ!BN181","v":1},{"$f":"IF(基本データ!BH181<>\"\",\"○\",\"\")","v":""},{"$f":"IF(基本データ!BI181<>\"\",\"○\",\"\")","v":""},{"$f":"IF(基本データ!BJ181<>\"\",\"○\",\"\")","v":"○"},{"$f":"IF(基本データ!BK181<>\"\",\"○\",\"\")","v":""},{"$f":"IF(基本データ!BL181<>\"\",\"○\",\"\")","v":""},{"$f":"IF(基本データ!BM181<>\"\",\"○\",\"\")","v":""}]
[180,{"$f":"基本データ!J182","v":"岡山県"},{"$f":"基本データ!B182","v":2020},{"$f":"基本データ!I182","v":"国立大学法人岡山大学　岡山大学病院"},{"$f":"基本データ!AL182","v":12},{"$f":"IF(基本データ!AM182<>\"\",\"○\",\"\")","v":"○"},{"$f":"IF(基本データ!AN182<>\"\",\"○\",\"\")","v":"○"},{"$f":"IF(基本データ!AO182<>\"\",\"○\",\"\")","v":"○"},{"$f":"IF(基本データ!AP182<>\"\",\"○\",\"\")","v":""},{"$f":"IF(基本データ!AQ182<>\"\",\"○\",\"\")","v":""},{"$f":"IF(基本データ!AR182<>\"\",\"○\",\"\")","v":"○"},{"$f":"IF(基本データ!AS182<>\"\",\"○\",\"\")","v":"○"},{"$f":"IF(基本データ!AT182<>\"\",\"○\",\"\")","v":""},{"$f":"IF(基本データ!AU182<>\"\",\"○\",\"\")","v":"○"},{"$f":"IF(基本データ!AV182<>\"\",\"○\",\"\")","v":"○"},{"$f":"IF(基本データ!AW182<>\"\",\"○\",\"\")","v":""},{"$f":"IF(基本データ!AX182<>\"\",\"○\",\"\")","v":"○"},{"$f":"IF(基本データ!AY182<>\"\",\"○\",\"\")","v":"○"},{"$f":"IF(基本データ!AZ182<>\"\",\"○\",\"\")","v":""},{"$f":"IF(基本データ!BA182<>\"\",\"○\",\"\")","v":"○"},{"$f":"IF(基本データ!BB182<>\"\",\"○\",\"\")","v":""},{"$f":"IF(基本データ!BC182<>\"\",\"○\",\"\")","v":""},{"$f":"IF(基本データ!BD182<>\"\",\"○\",\"\")","v":"○"},{"$f":"IF(基本データ!BE182<>\"\",\"○\",\"\")","v":"○"},{"$f":"IF(基本データ!BF182<>\"\",\"○\",\"\")","v":""},{"$f":"IF(基本データ!BG182<>\"\",\"○\",\"\")","v":""},{"$f":"基本データ!BN182","v":2},{"$f":"IF(基本データ!BH182<>\"\",\"○\",\"\")","v":""},{"$f":"IF(基本データ!BI182<>\"\",\"○\",\"\")","v":"○"},{"$f":"IF(基本データ!BJ182<>\"\",\"○\",\"\")","v":"○"},{"$f":"IF(基本データ!BK182<>\"\",\"○\",\"\")","v":""},{"$f":"IF(基本データ!BL182<>\"\",\"○\",\"\")","v":""},{"$f":"IF(基本データ!BM182<>\"\",\"○\",\"\")","v":""}]
[181,{"$f":"基本データ!J183","v":"山口県"},{"$f":"基本データ!B183","v":2020},{"$f":"基本データ!I183","v":"国立大学法人山口大学医学部附属病院"},{"$f":"基本データ!AL183","v":13},{"$f":"IF(基本データ!AM183<>\"\",\"○\",\"\")","v":"○"},{"$f":"IF(基本データ!AN183<>\"\",\"○\",\"\")","v":"○"},{"$f":"IF(基本データ!AO183<>\"\",\"○\",\"\")","v":"○"},{"$f":"IF(基本データ!AP183<>\"\",\"○\",\"\")","v":""},{"$f":"IF(基本データ!AQ183<>\"\",\"○\",\"\")","v":""},{"$f":"IF(基本データ!AR183<>\"\",\"○\",\"\")","v":"○"},{"$f":"IF(基本データ!AS183<>\"\",\"○\",\"\")","v":"○"},{"$f":"IF(基本データ!AT183<>\"\",\"○\",\"\")","v":""},{"$f":"IF(基本データ!AU183<>\"\",\"○\",\"\")","v":"○"},{"$f":"IF(基本データ!AV183<>\"\",\"○\",\"\")","v":"○"},{"$f":"IF(基本データ!AW183<>\"\",\"○\",\"\")","v":""},{"$f":"IF(基本データ!AX183<>\"\",\"○\",\"\")","v":"○"},{"$f":"IF(基本データ!AY183<>\"\",\"○\",\"\")","v":"○"},{"$f":"IF(基本データ!AZ183<>\"\",\"○\",\"\")","v":""},{"$f":"IF(基本データ!BA183<>\"\",\"○\",\"\")","v":"○"},{"$f":"IF(基本データ!BB183<>\"\",\"○\",\"\")","v":""},{"$f":"IF(基本データ!BC183<>\"\",\"○\",\"\")","v":""},{"$f":"IF(基本データ!BD183<>\"\",\"○\",\"\")","v":"○"},{"$f":"IF(基本データ!BE183<>\"\",\"○\",\"\")","v":"○"},{"$f":"IF(基本データ!BF183<>\"\",\"○\",\"\")","v":"○"},{"$f":"IF(基本データ!BG183<>\"\",\"○\",\"\")","v":""},{"$f":"基本データ!BN183","v":3},{"$f":"IF(基本データ!BH183<>\"\",\"○\",\"\")","v":""},{"$f":"IF(基本データ!BI183<>\"\",\"○\",\"\")","v":"○"},{"$f":"IF(基本データ!BJ183<>\"\",\"○\",\"\")","v":"○"},{"$f":"IF(基本データ!BK183<>\"\",\"○\",\"\")","v":"○"},{"$f":"IF(基本データ!BL183<>\"\",\"○\",\"\")","v":""},{"$f":"IF(基本データ!BM183<>\"\",\"○\",\"\")","v":""}]
[182,{"$f":"基本データ!J184","v":"徳島県"},{"$f":"基本データ!B184","v":2020},{"$f":"基本データ!I184","v":"国立大学法人徳島大学　徳島大学病院"},{"$f":"基本データ!AL184","v":16},{"$f":"IF(基本データ!AM184<>\"\",\"○\",\"\")","v":"○"},{"$f":"IF(基本データ!AN184<>\"\",\"○\",\"\")","v":"○"},{"$f":"IF(基本データ!AO184<>\"\",\"○\",\"\")","v":"○"},{"$f":"IF(基本データ!AP184<>\"\",\"○\",\"\")","v":""},{"$f":"IF(基本データ!AQ184<>\"\",\"○\",\"\")","v":""},{"$f":"IF(基本データ!AR184<>\"\",\"○\",\"\")","v":"○"},{"$f":"IF(基本データ!AS184<>\"\",\"○\",\"\")","v":"○"},{"$f":"IF(基本データ!AT184<>\"\",\"○\",\"\")","v":""},{"$f":"IF(基本データ!AU184<>\"\",\"○\",\"\")","v":"○"},{"$f":"IF(基本データ!AV184<>\"\",\"○\",\"\")","v":"○"},{"$f":"IF(基本データ!AW184<>\"\",\"○\",\"\")","v":"○"},{"$f":"IF(基本データ!AX184<>\"\",\"○\",\"\")","v":"○"},{"$f":"IF(基本データ!AY184<>\"\",\"○\",\"\")","v":"○"},{"$f":"IF(基本データ!AZ184<>\"\",\"○\",\"\")","v":""},{"$f":"IF(基本データ!BA184<>\"\",\"○\",\"\")","v":"○"},{"$f":"IF(基本データ!BB184<>\"\",\"○\",\"\")","v":"○"},{"$f":"IF(基本データ!BC184<>\"\",\"○\",\"\")","v":"○"},{"$f":"IF(基本データ!BD184<>\"\",\"○\",\"\")","v":"○"},{"$f":"IF(基本データ!BE184<>\"\",\"○\",\"\")","v":"○"},{"$f":"IF(基本データ!BF184<>\"\",\"○\",\"\")","v":"○"},{"$f":"IF(基本データ!BG184<>\"\",\"○\",\"\")","v":""},{"$f":"基本データ!BN184","v":3},{"$f":"IF(基本データ!BH184<>\"\",\"○\",\"\")","v":""},{"$f":"IF(基本データ!BI184<>\"\",\"○\",\"\")","v":""},{"$f":"IF(基本データ!BJ184<>\"\",\"○\",\"\")","v":"○"},{"$f":"IF(基本データ!BK184<>\"\",\"○\",\"\")","v":"○"},{"$f":"IF(基本データ!BL184<>\"\",\"○\",\"\")","v":"○"},{"$f":"IF(基本データ!BM184<>\"\",\"○\",\"\")","v":""}]
[183,{"$f":"基本データ!J185","v":"香川県"},{"$f":"基本データ!B185","v":2020},{"$f":"基本データ!I185","v":"国立大学法人香川大学"},{"$f":"基本データ!AL185","v":14},{"$f":"IF(基本データ!AM185<>\"\",\"○\",\"\")","v":"○"},{"$f":"IF(基本データ!AN185<>\"\",\"○\",\"\")","v":"○"},{"$f":"IF(基本データ!AO185<>\"\",\"○\",\"\")","v":"○"},{"$f":"IF(基本データ!AP185<>\"\",\"○\",\"\")","v":""},{"$f":"IF(基本データ!AQ185<>\"\",\"○\",\"\")","v":""},{"$f":"IF(基本データ!AR185<>\"\",\"○\",\"\")","v":"○"},{"$f":"IF(基本データ!AS185<>\"\",\"○\",\"\")","v":"○"},{"$f":"IF(基本データ!AT185<>\"\",\"○\",\"\")","v":"○"},{"$f":"IF(基本データ!AU185<>\"\",\"○\",\"\")","v":"○"},{"$f":"IF(基本データ!AV185<>\"\",\"○\",\"\")","v":"○"},{"$f":"IF(基本データ!AW185<>\"\",\"○\",\"\")","v":"○"},{"$f":"IF(基本データ!AX185<>\"\",\"○\",\"\")","v":"○"},{"$f":"IF(基本データ!AY185<>\"\",\"○\",\"\")","v":"○"},{"$f":"IF(基本データ!AZ185<>\"\",\"○\",\"\")","v":""},{"$f":"IF(基本データ!BA185<>\"\",\"○\",\"\")","v":"○"},{"$f":"IF(基本データ!BB185<>\"\",\"○\",\"\")","v":""},{"$f":"IF(基本データ!BC185<>\"\",\"○\",\"\")","v":""},{"$f":"IF(基本データ!BD185<>\"\",\"○\",\"\")","v":"○"},{"$f":"IF(基本データ!BE185<>\"\",\"○\",\"\")","v":"○"},{"$f":"IF(基本データ!BF185<>\"\",\"○\",\"\")","v":""},{"$f":"IF(基本データ!BG185<>\"\",\"○\",\"\")","v":""},{"$f":"基本データ!BN185","v":3},{"$f":"IF(基本データ!BH185<>\"\",\"○\",\"\")","v":"○"},{"$f":"IF(基本データ!BI185<>\"\",\"○\",\"\")","v":"○"},{"$f":"IF(基本データ!BJ185<>\"\",\"○\",\"\")","v":"○"},{"$f":"IF(基本データ!BK185<>\"\",\"○\",\"\")","v":""},{"$f":"IF(基本データ!BL185<>\"\",\"○\",\"\")","v":""},{"$f":"IF(基本データ!BM185<>\"\",\"○\",\"\")","v":""}]
[184,{"$f":"基本データ!J186","v":"高知県"},{"$f":"基本データ!B186","v":2020},{"$f":"基本データ!I186","v":"国立大学法人高知大学　高知大学医学部附属病院"},{"$f":"基本データ!AL186","v":16},{"$f":"IF(基本データ!AM186<>\"\",\"○\",\"\")","v":"○"},{"$f":"IF(基本データ!AN186<>\"\",\"○\",\"\")","v":"○"},{"$f":"IF(基本データ!AO186<>\"\",\"○\",\"\")","v":"○"},{"$f":"IF(基本データ!AP186<>\"\",\"○\",\"\")","v":""},{"$f":"IF(基本データ!AQ186<>\"\",\"○\",\"\")","v":""},{"$f":"IF(基本データ!AR186<>\"\",\"○\",\"\")","v":"○"},{"$f":"IF(基本データ!AS186<>\"\",\"○\",\"\")","v":"○"},{"$f":"IF(基本データ!AT186<>\"\",\"○\",\"\")","v":""},{"$f":"IF(基本データ!AU186<>\"\",\"○\",\"\")","v":"○"},{"$f":"IF(基本データ!AV186<>\"\",\"○\",\"\")","v":"○"},{"$f":"IF(基本データ!AW186<>\"\",\"○\",\"\")","v":"○"},{"$f":"IF(基本データ!AX186<>\"\",\"○\",\"\")","v":"○"},{"$f":"IF(基本データ!AY186<>\"\",\"○\",\"\")","v":"○"},{"$f":"IF(基本データ!AZ186<>\"\",\"○\",\"\")","v":""},{"$f":"IF(基本データ!BA186<>\"\",\"○\",\"\")","v":"○"},{"$f":"IF(基本データ!BB186<>\"\",\"○\",\"\")","v":"○"},{"$f":"IF(基本データ!BC186<>\"\",\"○\",\"\")","v":"○"},{"$f":"IF(基本データ!BD186<>\"\",\"○\",\"\")","v":"○"},{"$f":"IF(基本データ!BE186<>\"\",\"○\",\"\")","v":"○"},{"$f":"IF(基本データ!BF186<>\"\",\"○\",\"\")","v":"○"},{"$f":"IF(基本データ!BG186<>\"\",\"○\",\"\")","v":""},{"$f":"基本データ!BN186","v":4},{"$f":"IF(基本データ!BH186<>\"\",\"○\",\"\")","v":""},{"$f":"IF(基本データ!BI186<>\"\",\"○\",\"\")","v":"○"},{"$f":"IF(基本データ!BJ186<>\"\",\"○\",\"\")","v":"○"},{"$f":"IF(基本データ!BK186<>\"\",\"○\",\"\")","v":"○"},{"$f":"IF(基本データ!BL186<>\"\",\"○\",\"\")","v":"○"},{"$f":"IF(基本データ!BM186<>\"\",\"○\",\"\")","v":""}]
[185,{"$f":"基本データ!J187","v":"福岡県"},{"$f":"基本データ!B187","v":2020},{"$f":"基本データ!I187","v":"医療法人八女発心会　姫野病院"},{"$f":"基本データ!AL187","v":4},{"$f":"IF(基本データ!AM187<>\"\",\"○\",\"\")","v":""},{"$f":"IF(基本データ!AN187<>\"\",\"○\",\"\")","v":""},{"$f":"IF(基本データ!AO187<>\"\",\"○\",\"\")","v":"○"},{"$f":"IF(基本データ!AP187<>\"\",\"○\",\"\")","v":""},{"$f":"IF(基本データ!AQ187<>\"\",\"○\",\"\")","v":""},{"$f":"IF(基本データ!AR187<>\"\",\"○\",\"\")","v":""},{"$f":"IF(基本データ!AS187<>\"\",\"○\",\"\")","v":""},{"$f":"IF(基本データ!AT187<>\"\",\"○\",\"\")","v":""},{"$f":"IF(基本データ!AU187<>\"\",\"○\",\"\")","v":""},{"$f":"IF(基本データ!AV187<>\"\",\"○\",\"\")","v":""},{"$f":"IF(基本データ!AW187<>\"\",\"○\",\"\")","v":""},{"$f":"IF(基本データ!AX187<>\"\",\"○\",\"\")","v":""},{"$f":"IF(基本データ!AY187<>\"\",\"○\",\"\")","v":"○"},{"$f":"IF(基本データ!AZ187<>\"\",\"○\",\"\")","v":""},{"$f":"IF(基本データ!BA187<>\"\",\"○\",\"\")","v":"○"},{"$f":"IF(基本データ!BB187<>\"\",\"○\",\"\")","v":"○"},{"$f":"IF(基本データ!BC187<>\"\",\"○\",\"\")","v":""},{"$f":"IF(基本データ!BD187<>\"\",\"○\",\"\")","v":""},{"$f":"IF(基本データ!BE187<>\"\",\"○\",\"\")","v":""},{"$f":"IF(基本データ!BF187<>\"\",\"○\",\"\")","v":""},{"$f":"IF(基本データ!BG187<>\"\",\"○\",\"\")","v":""},{"$f":"基本データ!BN187","v":0},{"$f":"IF(基本データ!BH187<>\"\",\"○\",\"\")","v":""},{"$f":"IF(基本データ!BI187<>\"\",\"○\",\"\")","v":""},{"$f":"IF(基本データ!BJ187<>\"\",\"○\",\"\")","v":""},{"$f":"IF(基本データ!BK187<>\"\",\"○\",\"\")","v":""},{"$f":"IF(基本データ!BL187<>\"\",\"○\",\"\")","v":""},{"$f":"IF(基本データ!BM187<>\"\",\"○\",\"\")","v":""}]
[186,{"$f":"基本データ!J188","v":"福岡県"},{"$f":"基本データ!B188","v":2020},{"$f":"基本データ!I188","v":"社会福祉法人恩賜財団済生会支部福岡県済生会福岡総合病院"},{"$f":"基本データ!AL188","v":15},{"$f":"IF(基本データ!AM188<>\"\",\"○\",\"\")","v":"○"},{"$f":"IF(基本データ!AN188<>\"\",\"○\",\"\")","v":"○"},{"$f":"IF(基本データ!AO188<>\"\",\"○\",\"\")","v":"○"},{"$f":"IF(基本データ!AP188<>\"\",\"○\",\"\")","v":"○"},{"$f":"IF(基本データ!AQ188<>\"\",\"○\",\"\")","v":""},{"$f":"IF(基本データ!AR188<>\"\",\"○\",\"\")","v":"○"},{"$f":"IF(基本データ!AS188<>\"\",\"○\",\"\")","v":"○"},{"$f":"IF(基本データ!AT188<>\"\",\"○\",\"\")","v":""},{"$f":"IF(基本データ!AU188<>\"\",\"○\",\"\")","v":"○"},{"$f":"IF(基本データ!AV188<>\"\",\"○\",\"\")","v":"○"},{"$f":"IF(基本データ!AW188<>\"\",\"○\",\"\")","v":"○"},{"$f":"IF(基本データ!AX188<>\"\",\"○\",\"\")","v":""},{"$f":"IF(基本データ!AY188<>\"\",\"○\",\"\")","v":"○"},{"$f":"IF(基本データ!AZ188<>\"\",\"○\",\"\")","v":""},{"$f":"IF(基本データ!BA188<>\"\",\"○\",\"\")","v":"○"},{"$f":"IF(基本データ!BB188<>\"\",\"○\",\"\")","v":""},{"$f":"IF(基本データ!BC188<>\"\",\"○\",\"\")","v":"○"},{"$f":"IF(基本データ!BD188<>\"\",\"○\",\"\")","v":"○"},{"$f":"IF(基本データ!BE188<>\"\",\"○\",\"\")","v":"○"},{"$f":"IF(基本データ!BF188<>\"\",\"○\",\"\")","v":"○"},{"$f":"IF(基本データ!BG188<>\"\",\"○\",\"\")","v":""},{"$f":"基本データ!BN188","v":3},{"$f":"IF(基本データ!BH188<>\"\",\"○\",\"\")","v":""},{"$f":"IF(基本データ!BI188<>\"\",\"○\",\"\")","v":""},{"$f":"IF(基本データ!BJ188<>\"\",\"○\",\"\")","v":"○"},{"$f":"IF(基本データ!BK188<>\"\",\"○\",\"\")","v":"○"},{"$f":"IF(基本データ!BL188<>\"\",\"○\",\"\")","v":""},{"$f":"IF(基本データ!BM188<>\"\",\"○\",\"\")","v":"○"}]
[187,{"$f":"基本データ!J189","v":"福岡県"},{"$f":"基本データ!B189","v":2020},{"$f":"基本データ!I189","v":"地方独立行政法人福岡市立病院機構　福岡市民病院"},{"$f":"基本データ!AL189","v":7},{"$f":"IF(基本データ!AM189<>\"\",\"○\",\"\")","v":"○"},{"$f":"IF(基本データ!AN189<>\"\",\"○\",\"\")","v":"○"},{"$f":"IF(基本データ!AO189<>\"\",\"○\",\"\")","v":""},{"$f":"IF(基本データ!AP189<>\"\",\"○\",\"\")","v":""},{"$f":"IF(基本データ!AQ189<>\"\",\"○\",\"\")","v":""},{"$f":"IF(基本データ!AR189<>\"\",\"○\",\"\")","v":""},{"$f":"IF(基本データ!AS189<>\"\",\"○\",\"\")","v":""},{"$f":"IF(基本データ!AT189<>\"\",\"○\",\"\")","v":""},{"$f":"IF(基本データ!AU189<>\"\",\"○\",\"\")","v":""},{"$f":"IF(基本データ!AV189<>\"\",\"○\",\"\")","v":""},{"$f":"IF(基本データ!AW189<>\"\",\"○\",\"\")","v":"○"},{"$f":"IF(基本データ!AX189<>\"\",\"○\",\"\")","v":""},{"$f":"IF(基本データ!AY189<>\"\",\"○\",\"\")","v":"○"},{"$f":"IF(基本データ!AZ189<>\"\",\"○\",\"\")","v":""},{"$f":"IF(基本データ!BA189<>\"\",\"○\",\"\")","v":"○"},{"$f":"IF(基本データ!BB189<>\"\",\"○\",\"\")","v":""},{"$f":"IF(基本データ!BC189<>\"\",\"○\",\"\")","v":""},{"$f":"IF(基本データ!BD189<>\"\",\"○\",\"\")","v":"○"},{"$f":"IF(基本データ!BE189<>\"\",\"○\",\"\")","v":"○"},{"$f":"IF(基本データ!BF189<>\"\",\"○\",\"\")","v":""},{"$f":"IF(基本データ!BG189<>\"\",\"○\",\"\")","v":""},{"$f":"基本データ!BN189","v":1},{"$f":"IF(基本データ!BH189<>\"\",\"○\",\"\")","v":""},{"$f":"IF(基本データ!BI189<>\"\",\"○\",\"\")","v":""},{"$f":"IF(基本データ!BJ189<>\"\",\"○\",\"\")","v":"○"},{"$f":"IF(基本データ!BK189<>\"\",\"○\",\"\")","v":""},{"$f":"IF(基本データ!BL189<>\"\",\"○\",\"\")","v":""},{"$f":"IF(基本データ!BM189<>\"\",\"○\",\"\")","v":""}]
[188,{"$f":"基本データ!J190","v":"長崎県"},{"$f":"基本データ!B190","v":2020},{"$f":"基本データ!I190","v":"国立大学法人　長崎大学病院"},{"$f":"基本データ!AL190","v":10},{"$f":"IF(基本データ!AM190<>\"\",\"○\",\"\")","v":"○"},{"$f":"IF(基本データ!AN190<>\"\",\"○\",\"\")","v":"○"},{"$f":"IF(基本データ!AO190<>\"\",\"○\",\"\")","v":"○"},{"$f":"IF(基本データ!AP190<>\"\",\"○\",\"\")","v":""},{"$f":"IF(基本データ!AQ190<>\"\",\"○\",\"\")","v":""},{"$f":"IF(基本データ!AR190<>\"\",\"○\",\"\")","v":""},{"$f":"IF(基本データ!AS190<>\"\",\"○\",\"\")","v":"○"},{"$f":"IF(基本データ!AT190<>\"\",\"○\",\"\")","v":"○"},{"$f":"IF(基本データ!AU190<>\"\",\"○\",\"\")","v":"○"},{"$f":"IF(基本データ!AV190<>\"\",\"○\",\"\")","v":""},{"$f":"IF(基本データ!AW190<>\"\",\"○\",\"\")","v":"○"},{"$f":"IF(基本データ!AX190<>\"\",\"○\",\"\")","v":"○"},{"$f":"IF(基本データ!AY190<>\"\",\"○\",\"\")","v":"○"},{"$f":"IF(基本データ!AZ190<>\"\",\"○\",\"\")","v":""},{"$f":"IF(基本データ!BA190<>\"\",\"○\",\"\")","v":"○"},{"$f":"IF(基本データ!BB190<>\"\",\"○\",\"\")","v":""},{"$f":"IF(基本データ!BC190<>\"\",\"○\",\"\")","v":""},{"$f":"IF(基本データ!BD190<>\"\",\"○\",\"\")","v":""},{"$f":"IF(基本データ!BE190<>\"\",\"○\",\"\")","v":""},{"$f":"IF(基本データ!BF190<>\"\",\"○\",\"\")","v":""},{"$f":"IF(基本データ!BG190<>\"\",\"○\",\"\")","v":""},{"$f":"基本データ!BN190","v":1},{"$f":"IF(基本データ!BH190<>\"\",\"○\",\"\")","v":"○"},{"$f":"IF(基本データ!BI190<>\"\",\"○\",\"\")","v":""},{"$f":"IF(基本データ!BJ190<>\"\",\"○\",\"\")","v":""},{"$f":"IF(基本データ!BK190<>\"\",\"○\",\"\")","v":""},{"$f":"IF(基本データ!BL190<>\"\",\"○\",\"\")","v":""},{"$f":"IF(基本データ!BM190<>\"\",\"○\",\"\")","v":""}]
[189,{"$f":"基本データ!J191","v":"長崎県"},{"$f":"基本データ!B191","v":2020},{"$f":"基本データ!I191","v":"独立行政法人国立病院機構　長崎医療センター"},{"$f":"基本データ!AL191","v":5},{"$f":"IF(基本データ!AM191<>\"\",\"○\",\"\")","v":""},{"$f":"IF(基本データ!AN191<>\"\",\"○\",\"\")","v":"○"},{"$f":"IF(基本データ!AO191<>\"\",\"○\",\"\")","v":"○"},{"$f":"IF(基本データ!AP191<>\"\",\"○\",\"\")","v":""},{"$f":"IF(基本データ!AQ191<>\"\",\"○\",\"\")","v":""},{"$f":"IF(基本データ!AR191<>\"\",\"○\",\"\")","v":""},{"$f":"IF(基本データ!AS191<>\"\",\"○\",\"\")","v":""},{"$f":"IF(基本データ!AT191<>\"\",\"○\",\"\")","v":""},{"$f":"IF(基本データ!AU191<>\"\",\"○\",\"\")","v":""},{"$f":"IF(基本データ!AV191<>\"\",\"○\",\"\")","v":""},{"$f":"IF(基本データ!AW191<>\"\",\"○\",\"\")","v":""},{"$f":"IF(基本データ!AX191<>\"\",\"○\",\"\")","v":""},{"$f":"IF(基本データ!AY191<>\"\",\"○\",\"\")","v":"○"},{"$f":"IF(基本データ!AZ191<>\"\",\"○\",\"\")","v":""},{"$f":"IF(基本データ!BA191<>\"\",\"○\",\"\")","v":"○"},{"$f":"IF(基本データ!BB191<>\"\",\"○\",\"\")","v":""},{"$f":"IF(基本データ!BC191<>\"\",\"○\",\"\")","v":"○"},{"$f":"IF(基本データ!BD191<>\"\",\"○\",\"\")","v":""},{"$f":"IF(基本データ!BE191<>\"\",\"○\",\"\")","v":""},{"$f":"IF(基本データ!BF191<>\"\",\"○\",\"\")","v":""},{"$f":"IF(基本データ!BG191<>\"\",\"○\",\"\")","v":""},{"$f":"基本データ!BN191","v":0},{"$f":"IF(基本データ!BH191<>\"\",\"○\",\"\")","v":""},{"$f":"IF(基本データ!BI191<>\"\",\"○\",\"\")","v":""},{"$f":"IF(基本データ!BJ191<>\"\",\"○\",\"\")","v":""},{"$f":"IF(基本データ!BK191<>\"\",\"○\",\"\")","v":""},{"$f":"IF(基本データ!BL191<>\"\",\"○\",\"\")","v":""},{"$f":"IF(基本データ!BM191<>\"\",\"○\",\"\")","v":""}]
[190,{"$f":"基本データ!J192","v":"熊本県"},{"$f":"基本データ!B192","v":2020},{"$f":"基本データ!I192","v":"学校法人銀杏学園　熊本保健科学大学 キャリア教育研修センター"},{"$f":"基本データ!AL192","v":5},{"$f":"IF(基本データ!AM192<>\"\",\"○\",\"\")","v":""},{"$f":"IF(基本データ!AN192<>\"\",\"○\",\"\")","v":""},{"$f":"IF(基本データ!AO192<>\"\",\"○\",\"\")","v":"○"},{"$f":"IF(基本データ!AP192<>\"\",\"○\",\"\")","v":""},{"$f":"IF(基本データ!AQ192<>\"\",\"○\",\"\")","v":""},{"$f":"IF(基本データ!AR192<>\"\",\"○\",\"\")","v":""},{"$f":"IF(基本データ!AS192<>\"\",\"○\",\"\")","v":""},{"$f":"IF(基本データ!AT192<>\"\",\"○\",\"\")","v":"○"},{"$f":"IF(基本データ!AU192<>\"\",\"○\",\"\")","v":""},{"$f":"IF(基本データ!AV192<>\"\",\"○\",\"\")","v":""},{"$f":"IF(基本データ!AW192<>\"\",\"○\",\"\")","v":"○"},{"$f":"IF(基本データ!AX192<>\"\",\"○\",\"\")","v":""},{"$f":"IF(基本データ!AY192<>\"\",\"○\",\"\")","v":""},{"$f":"IF(基本データ!AZ192<>\"\",\"○\",\"\")","v":""},{"$f":"IF(基本データ!BA192<>\"\",\"○\",\"\")","v":"○"},{"$f":"IF(基本データ!BB192<>\"\",\"○\",\"\")","v":""},{"$f":"IF(基本データ!BC192<>\"\",\"○\",\"\")","v":""},{"$f":"IF(基本データ!BD192<>\"\",\"○\",\"\")","v":""},{"$f":"IF(基本データ!BE192<>\"\",\"○\",\"\")","v":""},{"$f":"IF(基本データ!BF192<>\"\",\"○\",\"\")","v":"○"},{"$f":"IF(基本データ!BG192<>\"\",\"○\",\"\")","v":""},{"$f":"基本データ!BN192","v":1},{"$f":"IF(基本データ!BH192<>\"\",\"○\",\"\")","v":"○"},{"$f":"IF(基本データ!BI192<>\"\",\"○\",\"\")","v":""},{"$f":"IF(基本データ!BJ192<>\"\",\"○\",\"\")","v":""},{"$f":"IF(基本データ!BK192<>\"\",\"○\",\"\")","v":""},{"$f":"IF(基本データ!BL192<>\"\",\"○\",\"\")","v":""},{"$f":"IF(基本データ!BM192<>\"\",\"○\",\"\")","v":""}]
[191,{"$f":"基本データ!J193","v":"熊本県"},{"$f":"基本データ!B193","v":2020},{"$f":"基本データ!I193","v":"国立大学法人熊本大学　熊本大学病院"},{"$f":"基本データ!AL193","v":12},{"$f":"IF(基本データ!AM193<>\"\",\"○\",\"\")","v":"○"},{"$f":"IF(基本データ!AN193<>\"\",\"○\",\"\")","v":"○"},{"$f":"IF(基本データ!AO193<>\"\",\"○\",\"\")","v":"○"},{"$f":"IF(基本データ!AP193<>\"\",\"○\",\"\")","v":""},{"$f":"IF(基本データ!AQ193<>\"\",\"○\",\"\")","v":""},{"$f":"IF(基本データ!AR193<>\"\",\"○\",\"\")","v":"○"},{"$f":"IF(基本データ!AS193<>\"\",\"○\",\"\")","v":"○"},{"$f":"IF(基本データ!AT193<>\"\",\"○\",\"\")","v":""},{"$f":"IF(基本データ!AU193<>\"\",\"○\",\"\")","v":"○"},{"$f":"IF(基本データ!AV193<>\"\",\"○\",\"\")","v":"○"},{"$f":"IF(基本データ!AW193<>\"\",\"○\",\"\")","v":""},{"$f":"IF(基本データ!AX193<>\"\",\"○\",\"\")","v":"○"},{"$f":"IF(基本データ!AY193<>\"\",\"○\",\"\")","v":"○"},{"$f":"IF(基本データ!AZ193<>\"\",\"○\",\"\")","v":""},{"$f":"IF(基本データ!BA193<>\"\",\"○\",\"\")","v":"○"},{"$f":"IF(基本データ!BB193<>\"\",\"○\",\"\")","v":""},{"$f":"IF(基本データ!BC193<>\"\",\"○\",\"\")","v":""},{"$f":"IF(基本データ!BD193<>\"\",\"○\",\"\")","v":"○"},{"$f":"IF(基本データ!BE193<>\"\",\"○\",\"\")","v":"○"},{"$f":"IF(基本データ!BF193<>\"\",\"○\",\"\")","v":""},{"$f":"IF(基本データ!BG193<>\"\",\"○\",\"\")","v":""},{"$f":"基本データ!BN193","v":3},{"$f":"IF(基本データ!BH193<>\"\",\"○\",\"\")","v":""},{"$f":"IF(基本データ!BI193<>\"\",\"○\",\"\")","v":"○"},{"$f":"IF(基本データ!BJ193<>\"\",\"○\",\"\")","v":"○"},{"$f":"IF(基本データ!BK193<>\"\",\"○\",\"\")","v":""},{"$f":"IF(基本データ!BL193<>\"\",\"○\",\"\")","v":""},{"$f":"IF(基本データ!BM193<>\"\",\"○\",\"\")","v":"○"}]
[192,{"$f":"基本データ!J194","v":"熊本県"},{"$f":"基本データ!B194","v":2020},{"$f":"基本データ!I194","v":"社会福祉法人恩賜財団済生会熊本病院"},{"$f":"基本データ!AL194","v":17},{"$f":"IF(基本データ!AM194<>\"\",\"○\",\"\")","v":"○"},{"$f":"IF(基本データ!AN194<>\"\",\"○\",\"\")","v":"○"},{"$f":"IF(基本データ!AO194<>\"\",\"○\",\"\")","v":""},{"$f":"IF(基本データ!AP194<>\"\",\"○\",\"\")","v":"○"},{"$f":"IF(基本データ!AQ194<>\"\",\"○\",\"\")","v":"○"},{"$f":"IF(基本データ!AR194<>\"\",\"○\",\"\")","v":"○"},{"$f":"IF(基本データ!AS194<>\"\",\"○\",\"\")","v":"○"},{"$f":"IF(基本データ!AT194<>\"\",\"○\",\"\")","v":""},{"$f":"IF(基本データ!AU194<>\"\",\"○\",\"\")","v":"○"},{"$f":"IF(基本データ!AV194<>\"\",\"○\",\"\")","v":"○"},{"$f":"IF(基本データ!AW194<>\"\",\"○\",\"\")","v":"○"},{"$f":"IF(基本データ!AX194<>\"\",\"○\",\"\")","v":"○"},{"$f":"IF(基本データ!AY194<>\"\",\"○\",\"\")","v":"○"},{"$f":"IF(基本データ!AZ194<>\"\",\"○\",\"\")","v":""},{"$f":"IF(基本データ!BA194<>\"\",\"○\",\"\")","v":"○"},{"$f":"IF(基本データ!BB194<>\"\",\"○\",\"\")","v":"○"},{"$f":"IF(基本データ!BC194<>\"\",\"○\",\"\")","v":"○"},{"$f":"IF(基本データ!BD194<>\"\",\"○\",\"\")","v":"○"},{"$f":"IF(基本データ!BE194<>\"\",\"○\",\"\")","v":"○"},{"$f":"IF(基本データ!BF194<>\"\",\"○\",\"\")","v":"○"},{"$f":"IF(基本データ!BG194<>\"\",\"○\",\"\")","v":""},{"$f":"基本データ!BN194","v":4},{"$f":"IF(基本データ!BH194<>\"\",\"○\",\"\")","v":""},{"$f":"IF(基本データ!BI194<>\"\",\"○\",\"\")","v":""},{"$f":"IF(基本データ!BJ194<>\"\",\"○\",\"\")","v":"○"},{"$f":"IF(基本データ!BK194<>\"\",\"○\",\"\")","v":"○"},{"$f":"IF(基本データ!BL194<>\"\",\"○\",\"\")","v":"○"},{"$f":"IF(基本データ!BM194<>\"\",\"○\",\"\")","v":"○"}]
[193,{"$f":"基本データ!J195","v":"青森県"},{"$f":"基本データ!B195","v":2020},{"$f":"基本データ!I195","v":"八戸市立市民病院"},{"$f":"基本データ!AL195","v":13},{"$f":"IF(基本データ!AM195<>\"\",\"○\",\"\")","v":"○"},{"$f":"IF(基本データ!AN195<>\"\",\"○\",\"\")","v":"○"},{"$f":"IF(基本データ!AO195<>\"\",\"○\",\"\")","v":"○"},{"$f":"IF(基本データ!AP195<>\"\",\"○\",\"\")","v":""},{"$f":"IF(基本データ!AQ195<>\"\",\"○\",\"\")","v":""},{"$f":"IF(基本データ!AR195<>\"\",\"○\",\"\")","v":"○"},{"$f":"IF(基本データ!AS195<>\"\",\"○\",\"\")","v":"○"},{"$f":"IF(基本データ!AT195<>\"\",\"○\",\"\")","v":""},{"$f":"IF(基本データ!AU195<>\"\",\"○\",\"\")","v":"○"},{"$f":"IF(基本データ!AV195<>\"\",\"○\",\"\")","v":"○"},{"$f":"IF(基本データ!AW195<>\"\",\"○\",\"\")","v":""},{"$f":"IF(基本データ!AX195<>\"\",\"○\",\"\")","v":"○"},{"$f":"IF(基本データ!AY195<>\"\",\"○\",\"\")","v":"○"},{"$f":"IF(基本データ!AZ195<>\"\",\"○\",\"\")","v":""},{"$f":"IF(基本データ!BA195<>\"\",\"○\",\"\")","v":"○"},{"$f":"IF(基本データ!BB195<>\"\",\"○\",\"\")","v":""},{"$f":"IF(基本データ!BC195<>\"\",\"○\",\"\")","v":""},{"$f":"IF(基本データ!BD195<>\"\",\"○\",\"\")","v":"○"},{"$f":"IF(基本データ!BE195<>\"\",\"○\",\"\")","v":"○"},{"$f":"IF(基本データ!BF195<>\"\",\"○\",\"\")","v":"○"},{"$f":"IF(基本データ!BG195<>\"\",\"○\",\"\")","v":""},{"$f":"基本データ!BN195","v":2},{"$f":"IF(基本データ!BH195<>\"\",\"○\",\"\")","v":""},{"$f":"IF(基本データ!BI195<>\"\",\"○\",\"\")","v":"○"},{"$f":"IF(基本データ!BJ195<>\"\",\"○\",\"\")","v":""},{"$f":"IF(基本データ!BK195<>\"\",\"○\",\"\")","v":"○"},{"$f":"IF(基本データ!BL195<>\"\",\"○\",\"\")","v":""},{"$f":"IF(基本データ!BM195<>\"\",\"○\",\"\")","v":""}]
[194,{"$f":"基本データ!J196","v":"宮城県"},{"$f":"基本データ!B196","v":2020},{"$f":"基本データ!I196","v":"独立行政法人国立病院機構仙台医療センター"},{"$f":"基本データ!AL196","v":11},{"$f":"IF(基本データ!AM196<>\"\",\"○\",\"\")","v":"○"},{"$f":"IF(基本データ!AN196<>\"\",\"○\",\"\")","v":"○"},{"$f":"IF(基本データ!AO196<>\"\",\"○\",\"\")","v":"○"},{"$f":"IF(基本データ!AP196<>\"\",\"○\",\"\")","v":""},{"$f":"IF(基本データ!AQ196<>\"\",\"○\",\"\")","v":""},{"$f":"IF(基本データ!AR196<>\"\",\"○\",\"\")","v":""},{"$f":"IF(基本データ!AS196<>\"\",\"○\",\"\")","v":""},{"$f":"IF(基本データ!AT196<>\"\",\"○\",\"\")","v":""},{"$f":"IF(基本データ!AU196<>\"\",\"○\",\"\")","v":"○"},{"$f":"IF(基本データ!AV196<>\"\",\"○\",\"\")","v":"○"},{"$f":"IF(基本データ!AW196<>\"\",\"○\",\"\")","v":"○"},{"$f":"IF(基本データ!AX196<>\"\",\"○\",\"\")","v":""},{"$f":"IF(基本データ!AY196<>\"\",\"○\",\"\")","v":"○"},{"$f":"IF(基本データ!AZ196<>\"\",\"○\",\"\")","v":""},{"$f":"IF(基本データ!BA196<>\"\",\"○\",\"\")","v":"○"},{"$f":"IF(基本データ!BB196<>\"\",\"○\",\"\")","v":"○"},{"$f":"IF(基本データ!BC196<>\"\",\"○\",\"\")","v":""},{"$f":"IF(基本データ!BD196<>\"\",\"○\",\"\")","v":""},{"$f":"IF(基本データ!BE196<>\"\",\"○\",\"\")","v":""},{"$f":"IF(基本データ!BF196<>\"\",\"○\",\"\")","v":"○"},{"$f":"IF(基本データ!BG196<>\"\",\"○\",\"\")","v":"○"},{"$f":"基本データ!BN196","v":1},{"$f":"IF(基本データ!BH196<>\"\",\"○\",\"\")","v":""},{"$f":"IF(基本データ!BI196<>\"\",\"○\",\"\")","v":""},{"$f":"IF(基本データ!BJ196<>\"\",\"○\",\"\")","v":""},{"$f":"IF(基本データ!BK196<>\"\",\"○\",\"\")","v":"○"},{"$f":"IF(基本データ!BL196<>\"\",\"○\",\"\")","v":""},{"$f":"IF(基本データ!BM196<>\"\",\"○\",\"\")","v":""}]
[195,{"$f":"基本データ!J197","v":"宮城県"},{"$f":"基本データ!B197","v":2020},{"$f":"基本データ!I197","v":"国立大学法人東北大学　東北大学病院"},{"$f":"基本データ!AL197","v":14},{"$f":"IF(基本データ!AM197<>\"\",\"○\",\"\")","v":"○"},{"$f":"IF(基本データ!AN197<>\"\",\"○\",\"\")","v":"○"},{"$f":"IF(基本データ!AO197<>\"\",\"○\",\"\")","v":"○"},{"$f":"IF(基本データ!AP197<>\"\",\"○\",\"\")","v":""},{"$f":"IF(基本データ!AQ197<>\"\",\"○\",\"\")","v":""},{"$f":"IF(基本データ!AR197<>\"\",\"○\",\"\")","v":"○"},{"$f":"IF(基本データ!AS197<>\"\",\"○\",\"\")","v":"○"},{"$f":"IF(基本データ!AT197<>\"\",\"○\",\"\")","v":"○"},{"$f":"IF(基本データ!AU197<>\"\",\"○\",\"\")","v":"○"},{"$f":"IF(基本データ!AV197<>\"\",\"○\",\"\")","v":"○"},{"$f":"IF(基本データ!AW197<>\"\",\"○\",\"\")","v":"○"},{"$f":"IF(基本データ!AX197<>\"\",\"○\",\"\")","v":"○"},{"$f":"IF(基本データ!AY197<>\"\",\"○\",\"\")","v":"○"},{"$f":"IF(基本データ!AZ197<>\"\",\"○\",\"\")","v":""},{"$f":"IF(基本データ!BA197<>\"\",\"○\",\"\")","v":"○"},{"$f":"IF(基本データ!BB197<>\"\",\"○\",\"\")","v":""},{"$f":"IF(基本データ!BC197<>\"\",\"○\",\"\")","v":""},{"$f":"IF(基本データ!BD197<>\"\",\"○\",\"\")","v":"○"},{"$f":"IF(基本データ!BE197<>\"\",\"○\",\"\")","v":"○"},{"$f":"IF(基本データ!BF197<>\"\",\"○\",\"\")","v":""},{"$f":"IF(基本データ!BG197<>\"\",\"○\",\"\")","v":""},{"$f":"基本データ!BN197","v":2},{"$f":"IF(基本データ!BH197<>\"\",\"○\",\"\")","v":""},{"$f":"IF(基本データ!BI197<>\"\",\"○\",\"\")","v":"○"},{"$f":"IF(基本データ!BJ197<>\"\",\"○\",\"\")","v":"○"},{"$f":"IF(基本データ!BK197<>\"\",\"○\",\"\")","v":""},{"$f":"IF(基本データ!BL197<>\"\",\"○\",\"\")","v":""},{"$f":"IF(基本データ!BM197<>\"\",\"○\",\"\")","v":""}]
[196,{"$f":"基本データ!J198","v":"埼玉県"},{"$f":"基本データ!B198","v":2020},{"$f":"基本データ!I198","v":"防衛医科大学校病院"},{"$f":"基本データ!AL198","v":6},{"$f":"IF(基本データ!AM198<>\"\",\"○\",\"\")","v":"○"},{"$f":"IF(基本データ!AN198<>\"\",\"○\",\"\")","v":"○"},{"$f":"IF(基本データ!AO198<>\"\",\"○\",\"\")","v":""},{"$f":"IF(基本データ!AP198<>\"\",\"○\",\"\")","v":""},{"$f":"IF(基本データ!AQ198<>\"\",\"○\",\"\")","v":""},{"$f":"IF(基本データ!AR198<>\"\",\"○\",\"\")","v":""},{"$f":"IF(基本データ!AS198<>\"\",\"○\",\"\")","v":""},{"$f":"IF(基本データ!AT198<>\"\",\"○\",\"\")","v":""},{"$f":"IF(基本データ!AU198<>\"\",\"○\",\"\")","v":""},{"$f":"IF(基本データ!AV198<>\"\",\"○\",\"\")","v":""},{"$f":"IF(基本データ!AW198<>\"\",\"○\",\"\")","v":""},{"$f":"IF(基本データ!AX198<>\"\",\"○\",\"\")","v":""},{"$f":"IF(基本データ!AY198<>\"\",\"○\",\"\")","v":"○"},{"$f":"IF(基本データ!AZ198<>\"\",\"○\",\"\")","v":""},{"$f":"IF(基本データ!BA198<>\"\",\"○\",\"\")","v":"○"},{"$f":"IF(基本データ!BB198<>\"\",\"○\",\"\")","v":""},{"$f":"IF(基本データ!BC198<>\"\",\"○\",\"\")","v":""},{"$f":"IF(基本データ!BD198<>\"\",\"○\",\"\")","v":"○"},{"$f":"IF(基本データ!BE198<>\"\",\"○\",\"\")","v":"○"},{"$f":"IF(基本データ!BF198<>\"\",\"○\",\"\")","v":""},{"$f":"IF(基本データ!BG198<>\"\",\"○\",\"\")","v":""},{"$f":"基本データ!BN198","v":1},{"$f":"IF(基本データ!BH198<>\"\",\"○\",\"\")","v":""},{"$f":"IF(基本データ!BI198<>\"\",\"○\",\"\")","v":""},{"$f":"IF(基本データ!BJ198<>\"\",\"○\",\"\")","v":"○"},{"$f":"IF(基本データ!BK198<>\"\",\"○\",\"\")","v":""},{"$f":"IF(基本データ!BL198<>\"\",\"○\",\"\")","v":""},{"$f":"IF(基本データ!BM198<>\"\",\"○\",\"\")","v":""}]
[197,{"$f":"基本データ!J199","v":"東京都"},{"$f":"基本データ!B199","v":2020},{"$f":"基本データ!I199","v":"独立行政法人国立病院機構東京医療センター"},{"$f":"基本データ!AL199","v":7},{"$f":"IF(基本データ!AM199<>\"\",\"○\",\"\")","v":""},{"$f":"IF(基本データ!AN199<>\"\",\"○\",\"\")","v":""},{"$f":"IF(基本データ!AO199<>\"\",\"○\",\"\")","v":""},{"$f":"IF(基本データ!AP199<>\"\",\"○\",\"\")","v":""},{"$f":"IF(基本データ!AQ199<>\"\",\"○\",\"\")","v":""},{"$f":"IF(基本データ!AR199<>\"\",\"○\",\"\")","v":""},{"$f":"IF(基本データ!AS199<>\"\",\"○\",\"\")","v":""},{"$f":"IF(基本データ!AT199<>\"\",\"○\",\"\")","v":""},{"$f":"IF(基本データ!AU199<>\"\",\"○\",\"\")","v":"○"},{"$f":"IF(基本データ!AV199<>\"\",\"○\",\"\")","v":""},{"$f":"IF(基本データ!AW199<>\"\",\"○\",\"\")","v":"○"},{"$f":"IF(基本データ!AX199<>\"\",\"○\",\"\")","v":"○"},{"$f":"IF(基本データ!AY199<>\"\",\"○\",\"\")","v":"○"},{"$f":"IF(基本データ!AZ199<>\"\",\"○\",\"\")","v":""},{"$f":"IF(基本データ!BA199<>\"\",\"○\",\"\")","v":"○"},{"$f":"IF(基本データ!BB199<>\"\",\"○\",\"\")","v":"○"},{"$f":"IF(基本データ!BC199<>\"\",\"○\",\"\")","v":""},{"$f":"IF(基本データ!BD199<>\"\",\"○\",\"\")","v":"○"},{"$f":"IF(基本データ!BE199<>\"\",\"○\",\"\")","v":""},{"$f":"IF(基本データ!BF199<>\"\",\"○\",\"\")","v":""},{"$f":"IF(基本データ!BG199<>\"\",\"○\",\"\")","v":""},{"$f":"基本データ!BN199","v":1},{"$f":"IF(基本データ!BH199<>\"\",\"○\",\"\")","v":""},{"$f":"IF(基本データ!BI199<>\"\",\"○\",\"\")","v":""},{"$f":"IF(基本データ!BJ199<>\"\",\"○\",\"\")","v":""},{"$f":"IF(基本データ!BK199<>\"\",\"○\",\"\")","v":""},{"$f":"IF(基本データ!BL199<>\"\",\"○\",\"\")","v":"○"},{"$f":"IF(基本データ!BM199<>\"\",\"○\",\"\")","v":""}]
[198,{"$f":"基本データ!J200","v":"神奈川県"},{"$f":"基本データ!B200","v":2020},{"$f":"基本データ!I200","v":"独立行政法人国立病院機構横浜医療センター"},{"$f":"基本データ!AL200","v":6},{"$f":"IF(基本データ!AM200<>\"\",\"○\",\"\")","v":"○"},{"$f":"IF(基本データ!AN200<>\"\",\"○\",\"\")","v":"○"},{"$f":"IF(基本データ!AO200<>\"\",\"○\",\"\")","v":""},{"$f":"IF(基本データ!AP200<>\"\",\"○\",\"\")","v":""},{"$f":"IF(基本データ!AQ200<>\"\",\"○\",\"\")","v":""},{"$f":"IF(基本データ!AR200<>\"\",\"○\",\"\")","v":""},{"$f":"IF(基本データ!AS200<>\"\",\"○\",\"\")","v":""},{"$f":"IF(基本データ!AT200<>\"\",\"○\",\"\")","v":""},{"$f":"IF(基本データ!AU200<>\"\",\"○\",\"\")","v":""},{"$f":"IF(基本データ!AV200<>\"\",\"○\",\"\")","v":""},{"$f":"IF(基本データ!AW200<>\"\",\"○\",\"\")","v":""},{"$f":"IF(基本データ!AX200<>\"\",\"○\",\"\")","v":""},{"$f":"IF(基本データ!AY200<>\"\",\"○\",\"\")","v":"○"},{"$f":"IF(基本データ!AZ200<>\"\",\"○\",\"\")","v":""},{"$f":"IF(基本データ!BA200<>\"\",\"○\",\"\")","v":"○"},{"$f":"IF(基本データ!BB200<>\"\",\"○\",\"\")","v":""},{"$f":"IF(基本データ!BC200<>\"\",\"○\",\"\")","v":""},{"$f":"IF(基本データ!BD200<>\"\",\"○\",\"\")","v":"○"},{"$f":"IF(基本データ!BE200<>\"\",\"○\",\"\")","v":"○"},{"$f":"IF(基本データ!BF200<>\"\",\"○\",\"\")","v":""},{"$f":"IF(基本データ!BG200<>\"\",\"○\",\"\")","v":""},{"$f":"基本データ!BN200","v":1},{"$f":"IF(基本データ!BH200<>\"\",\"○\",\"\")","v":""},{"$f":"IF(基本データ!BI200<>\"\",\"○\",\"\")","v":""},{"$f":"IF(基本データ!BJ200<>\"\",\"○\",\"\")","v":"○"},{"$f":"IF(基本データ!BK200<>\"\",\"○\",\"\")","v":""},{"$f":"IF(基本データ!BL200<>\"\",\"○\",\"\")","v":""},{"$f":"IF(基本データ!BM200<>\"\",\"○\",\"\")","v":""}]
[199,{"$f":"基本データ!J201","v":"新潟県"},{"$f":"基本データ!B201","v":2020},{"$f":"基本データ!I201","v":"独立行政法人国立病院機構　新潟病院"},{"$f":"基本データ!AL201","v":5},{"$f":"IF(基本データ!AM201<>\"\",\"○\",\"\")","v":""},{"$f":"IF(基本データ!AN201<>\"\",\"○\",\"\")","v":"○"},{"$f":"IF(基本データ!AO201<>\"\",\"○\",\"\")","v":"○"},{"$f":"IF(基本データ!AP201<>\"\",\"○\",\"\")","v":""},{"$f":"IF(基本データ!AQ201<>\"\",\"○\",\"\")","v":""},{"$f":"IF(基本データ!AR201<>\"\",\"○\",\"\")","v":""},{"$f":"IF(基本データ!AS201<>\"\",\"○\",\"\")","v":""},{"$f":"IF(基本データ!AT201<>\"\",\"○\",\"\")","v":"○"},{"$f":"IF(基本データ!AU201<>\"\",\"○\",\"\")","v":""},{"$f":"IF(基本データ!AV201<>\"\",\"○\",\"\")","v":""},{"$f":"IF(基本データ!AW201<>\"\",\"○\",\"\")","v":"○"},{"$f":"IF(基本データ!AX201<>\"\",\"○\",\"\")","v":""},{"$f":"IF(基本データ!AY201<>\"\",\"○\",\"\")","v":""},{"$f":"IF(基本データ!AZ201<>\"\",\"○\",\"\")","v":""},{"$f":"IF(基本データ!BA201<>\"\",\"○\",\"\")","v":"○"},{"$f":"IF(基本データ!BB201<>\"\",\"○\",\"\")","v":""},{"$f":"IF(基本データ!BC201<>\"\",\"○\",\"\")","v":""},{"$f":"IF(基本データ!BD201<>\"\",\"○\",\"\")","v":""},{"$f":"IF(基本データ!BE201<>\"\",\"○\",\"\")","v":""},{"$f":"IF(基本データ!BF201<>\"\",\"○\",\"\")","v":""},{"$f":"IF(基本データ!BG201<>\"\",\"○\",\"\")","v":""},{"$f":"基本データ!BN201","v":1},{"$f":"IF(基本データ!BH201<>\"\",\"○\",\"\")","v":"○"},{"$f":"IF(基本データ!BI201<>\"\",\"○\",\"\")","v":""},{"$f":"IF(基本データ!BJ201<>\"\",\"○\",\"\")","v":""},{"$f":"IF(基本データ!BK201<>\"\",\"○\",\"\")","v":""},{"$f":"IF(基本データ!BL201<>\"\",\"○\",\"\")","v":""},{"$f":"IF(基本データ!BM201<>\"\",\"○\",\"\")","v":""}]
[200,{"$f":"基本データ!J202","v":"富山県"},{"$f":"基本データ!B202","v":2020},{"$f":"基本データ!I202","v":"高岡市民病院"},{"$f":"基本データ!AL202","v":3},{"$f":"IF(基本データ!AM202<>\"\",\"○\",\"\")","v":""},{"$f":"IF(基本データ!AN202<>\"\",\"○\",\"\")","v":""},{"$f":"IF(基本データ!AO202<>\"\",\"○\",\"\")","v":""},{"$f":"IF(基本データ!AP202<>\"\",\"○\",\"\")","v":""},{"$f":"IF(基本データ!AQ202<>\"\",\"○\",\"\")","v":""},{"$f":"IF(基本データ!AR202<>\"\",\"○\",\"\")","v":""},{"$f":"IF(基本データ!AS202<>\"\",\"○\",\"\")","v":""},{"$f":"IF(基本データ!AT202<>\"\",\"○\",\"\")","v":""},{"$f":"IF(基本データ!AU202<>\"\",\"○\",\"\")","v":""},{"$f":"IF(基本データ!AV202<>\"\",\"○\",\"\")","v":""},{"$f":"IF(基本データ!AW202<>\"\",\"○\",\"\")","v":""},{"$f":"IF(基本データ!AX202<>\"\",\"○\",\"\")","v":""},{"$f":"IF(基本データ!AY202<>\"\",\"○\",\"\")","v":"○"},{"$f":"IF(基本データ!AZ202<>\"\",\"○\",\"\")","v":""},{"$f":"IF(基本データ!BA202<>\"\",\"○\",\"\")","v":"○"},{"$f":"IF(基本データ!BB202<>\"\",\"○\",\"\")","v":""},{"$f":"IF(基本データ!BC202<>\"\",\"○\",\"\")","v":"○"},{"$f":"IF(基本データ!BD202<>\"\",\"○\",\"\")","v":""},{"$f":"IF(基本データ!BE202<>\"\",\"○\",\"\")","v":""},{"$f":"IF(基本データ!BF202<>\"\",\"○\",\"\")","v":""},{"$f":"IF(基本データ!BG202<>\"\",\"○\",\"\")","v":""},{"$f":"基本データ!BN202","v":0},{"$f":"IF(基本データ!BH202<>\"\",\"○\",\"\")","v":""},{"$f":"IF(基本データ!BI202<>\"\",\"○\",\"\")","v":""},{"$f":"IF(基本データ!BJ202<>\"\",\"○\",\"\")","v":""},{"$f":"IF(基本データ!BK202<>\"\",\"○\",\"\")","v":""},{"$f":"IF(基本データ!BL202<>\"\",\"○\",\"\")","v":""},{"$f":"IF(基本データ!BM202<>\"\",\"○\",\"\")","v":""}]
[201,{"$f":"基本データ!J203","v":"山梨県"},{"$f":"基本データ!B203","v":2020},{"$f":"基本データ!I203","v":"国立大学法人山梨大学医学部附属病院"},{"$f":"基本データ!AL203","v":19},{"$f":"IF(基本データ!AM203<>\"\",\"○\",\"\")","v":"○"},{"$f":"IF(基本データ!AN203<>\"\",\"○\",\"\")","v":"○"},{"$f":"IF(基本データ!AO203<>\"\",\"○\",\"\")","v":"○"},{"$f":"IF(基本データ!AP203<>\"\",\"○\",\"\")","v":"○"},{"$f":"IF(基本データ!AQ203<>\"\",\"○\",\"\")","v":""},{"$f":"IF(基本データ!AR203<>\"\",\"○\",\"\")","v":"○"},{"$f":"IF(基本データ!AS203<>\"\",\"○\",\"\")","v":"○"},{"$f":"IF(基本データ!AT203<>\"\",\"○\",\"\")","v":"○"},{"$f":"IF(基本データ!AU203<>\"\",\"○\",\"\")","v":"○"},{"$f":"IF(基本データ!AV203<>\"\",\"○\",\"\")","v":"○"},{"$f":"IF(基本データ!AW203<>\"\",\"○\",\"\")","v":"○"},{"$f":"IF(基本データ!AX203<>\"\",\"○\",\"\")","v":"○"},{"$f":"IF(基本データ!AY203<>\"\",\"○\",\"\")","v":"○"},{"$f":"IF(基本データ!AZ203<>\"\",\"○\",\"\")","v":""},{"$f":"IF(基本データ!BA203<>\"\",\"○\",\"\")","v":"○"},{"$f":"IF(基本データ!BB203<>\"\",\"○\",\"\")","v":"○"},{"$f":"IF(基本データ!BC203<>\"\",\"○\",\"\")","v":"○"},{"$f":"IF(基本データ!BD203<>\"\",\"○\",\"\")","v":"○"},{"$f":"IF(基本データ!BE203<>\"\",\"○\",\"\")","v":"○"},{"$f":"IF(基本データ!BF203<>\"\",\"○\",\"\")","v":"○"},{"$f":"IF(基本データ!BG203<>\"\",\"○\",\"\")","v":"○"},{"$f":"基本データ!BN203","v":3},{"$f":"IF(基本データ!BH203<>\"\",\"○\",\"\")","v":"○"},{"$f":"IF(基本データ!BI203<>\"\",\"○\",\"\")","v":"○"},{"$f":"IF(基本データ!BJ203<>\"\",\"○\",\"\")","v":""},{"$f":"IF(基本データ!BK203<>\"\",\"○\",\"\")","v":""},{"$f":"IF(基本データ!BL203<>\"\",\"○\",\"\")","v":""},{"$f":"IF(基本データ!BM203<>\"\",\"○\",\"\")","v":"○"}]
[202,{"$f":"基本データ!J204","v":"岐阜県"},{"$f":"基本データ!B204","v":2020},{"$f":"基本データ!I204","v":"地方独立行政法人岐阜県総合医療センター"},{"$f":"基本データ!AL204","v":12},{"$f":"IF(基本データ!AM204<>\"\",\"○\",\"\")","v":"○"},{"$f":"IF(基本データ!AN204<>\"\",\"○\",\"\")","v":"○"},{"$f":"IF(基本データ!AO204<>\"\",\"○\",\"\")","v":"○"},{"$f":"IF(基本データ!AP204<>\"\",\"○\",\"\")","v":""},{"$f":"IF(基本データ!AQ204<>\"\",\"○\",\"\")","v":""},{"$f":"IF(基本データ!AR204<>\"\",\"○\",\"\")","v":"○"},{"$f":"IF(基本データ!AS204<>\"\",\"○\",\"\")","v":"○"},{"$f":"IF(基本データ!AT204<>\"\",\"○\",\"\")","v":""},{"$f":"IF(基本データ!AU204<>\"\",\"○\",\"\")","v":"○"},{"$f":"IF(基本データ!AV204<>\"\",\"○\",\"\")","v":"○"},{"$f":"IF(基本データ!AW204<>\"\",\"○\",\"\")","v":""},{"$f":"IF(基本データ!AX204<>\"\",\"○\",\"\")","v":"○"},{"$f":"IF(基本データ!AY204<>\"\",\"○\",\"\")","v":"○"},{"$f":"IF(基本データ!AZ204<>\"\",\"○\",\"\")","v":""},{"$f":"IF(基本データ!BA204<>\"\",\"○\",\"\")","v":"○"},{"$f":"IF(基本データ!BB204<>\"\",\"○\",\"\")","v":""},{"$f":"IF(基本データ!BC204<>\"\",\"○\",\"\")","v":""},{"$f":"IF(基本データ!BD204<>\"\",\"○\",\"\")","v":"○"},{"$f":"IF(基本データ!BE204<>\"\",\"○\",\"\")","v":"○"},{"$f":"IF(基本データ!BF204<>\"\",\"○\",\"\")","v":""},{"$f":"IF(基本データ!BG204<>\"\",\"○\",\"\")","v":""},{"$f":"基本データ!BN204","v":2},{"$f":"IF(基本データ!BH204<>\"\",\"○\",\"\")","v":""},{"$f":"IF(基本データ!BI204<>\"\",\"○\",\"\")","v":"○"},{"$f":"IF(基本データ!BJ204<>\"\",\"○\",\"\")","v":""},{"$f":"IF(基本データ!BK204<>\"\",\"○\",\"\")","v":""},{"$f":"IF(基本データ!BL204<>\"\",\"○\",\"\")","v":""},{"$f":"IF(基本データ!BM204<>\"\",\"○\",\"\")","v":"○"}]
[203,{"$f":"基本データ!J205","v":"静岡県"},{"$f":"基本データ!B205","v":2020},{"$f":"基本データ!I205","v":"地方独立行政法人　静岡市立静岡病院"},{"$f":"基本データ!AL205","v":11},{"$f":"IF(基本データ!AM205<>\"\",\"○\",\"\")","v":"○"},{"$f":"IF(基本データ!AN205<>\"\",\"○\",\"\")","v":"○"},{"$f":"IF(基本データ!AO205<>\"\",\"○\",\"\")","v":""},{"$f":"IF(基本データ!AP205<>\"\",\"○\",\"\")","v":"○"},{"$f":"IF(基本データ!AQ205<>\"\",\"○\",\"\")","v":""},{"$f":"IF(基本データ!AR205<>\"\",\"○\",\"\")","v":""},{"$f":"IF(基本データ!AS205<>\"\",\"○\",\"\")","v":""},{"$f":"IF(基本データ!AT205<>\"\",\"○\",\"\")","v":""},{"$f":"IF(基本データ!AU205<>\"\",\"○\",\"\")","v":"○"},{"$f":"IF(基本データ!AV205<>\"\",\"○\",\"\")","v":"○"},{"$f":"IF(基本データ!AW205<>\"\",\"○\",\"\")","v":"○"},{"$f":"IF(基本データ!AX205<>\"\",\"○\",\"\")","v":""},{"$f":"IF(基本データ!AY205<>\"\",\"○\",\"\")","v":"○"},{"$f":"IF(基本データ!AZ205<>\"\",\"○\",\"\")","v":""},{"$f":"IF(基本データ!BA205<>\"\",\"○\",\"\")","v":"○"},{"$f":"IF(基本データ!BB205<>\"\",\"○\",\"\")","v":"○"},{"$f":"IF(基本データ!BC205<>\"\",\"○\",\"\")","v":""},{"$f":"IF(基本データ!BD205<>\"\",\"○\",\"\")","v":"○"},{"$f":"IF(基本データ!BE205<>\"\",\"○\",\"\")","v":"○"},{"$f":"IF(基本データ!BF205<>\"\",\"○\",\"\")","v":""},{"$f":"IF(基本データ!BG205<>\"\",\"○\",\"\")","v":""},{"$f":"基本データ!BN205","v":2},{"$f":"IF(基本データ!BH205<>\"\",\"○\",\"\")","v":""},{"$f":"IF(基本データ!BI205<>\"\",\"○\",\"\")","v":""},{"$f":"IF(基本データ!BJ205<>\"\",\"○\",\"\")","v":"○"},{"$f":"IF(基本データ!BK205<>\"\",\"○\",\"\")","v":""},{"$f":"IF(基本データ!BL205<>\"\",\"○\",\"\")","v":""},{"$f":"IF(基本データ!BM205<>\"\",\"○\",\"\")","v":"○"}]
[204,{"$f":"基本データ!J206","v":"静岡県"},{"$f":"基本データ!B206","v":2020},{"$f":"基本データ!I206","v":"地方独立行政法人静岡県立病院機構　静岡県立総合病院"},{"$f":"基本データ!AL206","v":13},{"$f":"IF(基本データ!AM206<>\"\",\"○\",\"\")","v":"○"},{"$f":"IF(基本データ!AN206<>\"\",\"○\",\"\")","v":"○"},{"$f":"IF(基本データ!AO206<>\"\",\"○\",\"\")","v":""},{"$f":"IF(基本データ!AP206<>\"\",\"○\",\"\")","v":"○"},{"$f":"IF(基本データ!AQ206<>\"\",\"○\",\"\")","v":""},{"$f":"IF(基本データ!AR206<>\"\",\"○\",\"\")","v":""},{"$f":"IF(基本データ!AS206<>\"\",\"○\",\"\")","v":"○"},{"$f":"IF(基本データ!AT206<>\"\",\"○\",\"\")","v":""},{"$f":"IF(基本データ!AU206<>\"\",\"○\",\"\")","v":"○"},{"$f":"IF(基本データ!AV206<>\"\",\"○\",\"\")","v":"○"},{"$f":"IF(基本データ!AW206<>\"\",\"○\",\"\")","v":"○"},{"$f":"IF(基本データ!AX206<>\"\",\"○\",\"\")","v":"○"},{"$f":"IF(基本データ!AY206<>\"\",\"○\",\"\")","v":"○"},{"$f":"IF(基本データ!AZ206<>\"\",\"○\",\"\")","v":""},{"$f":"IF(基本データ!BA206<>\"\",\"○\",\"\")","v":"○"},{"$f":"IF(基本データ!BB206<>\"\",\"○\",\"\")","v":""},{"$f":"IF(基本データ!BC206<>\"\",\"○\",\"\")","v":""},{"$f":"IF(基本データ!BD206<>\"\",\"○\",\"\")","v":"○"},{"$f":"IF(基本データ!BE206<>\"\",\"○\",\"\")","v":"○"},{"$f":"IF(基本データ!BF206<>\"\",\"○\",\"\")","v":"○"},{"$f":"IF(基本データ!BG206<>\"\",\"○\",\"\")","v":""},{"$f":"基本データ!BN206","v":2},{"$f":"IF(基本データ!BH206<>\"\",\"○\",\"\")","v":""},{"$f":"IF(基本データ!BI206<>\"\",\"○\",\"\")","v":""},{"$f":"IF(基本データ!BJ206<>\"\",\"○\",\"\")","v":"○"},{"$f":"IF(基本データ!BK206<>\"\",\"○\",\"\")","v":""},{"$f":"IF(基本データ!BL206<>\"\",\"○\",\"\")","v":""},{"$f":"IF(基本データ!BM206<>\"\",\"○\",\"\")","v":"○"}]
[205,{"$f":"基本データ!J207","v":"愛知県"},{"$f":"基本データ!B207","v":2020},{"$f":"基本データ!I207","v":"公益社団法人愛知県看護協会"},{"$f":"基本データ!AL207","v":9},{"$f":"IF(基本データ!AM207<>\"\",\"○\",\"\")","v":""},{"$f":"IF(基本データ!AN207<>\"\",\"○\",\"\")","v":""},{"$f":"IF(基本データ!AO207<>\"\",\"○\",\"\")","v":"○"},{"$f":"IF(基本データ!AP207<>\"\",\"○\",\"\")","v":""},{"$f":"IF(基本データ!AQ207<>\"\",\"○\",\"\")","v":""},{"$f":"IF(基本データ!AR207<>\"\",\"○\",\"\")","v":""},{"$f":"IF(基本データ!AS207<>\"\",\"○\",\"\")","v":""},{"$f":"IF(基本データ!AT207<>\"\",\"○\",\"\")","v":"○"},{"$f":"IF(基本データ!AU207<>\"\",\"○\",\"\")","v":""},{"$f":"IF(基本データ!AV207<>\"\",\"○\",\"\")","v":""},{"$f":"IF(基本データ!AW207<>\"\",\"○\",\"\")","v":"○"},{"$f":"IF(基本データ!AX207<>\"\",\"○\",\"\")","v":"○"},{"$f":"IF(基本データ!AY207<>\"\",\"○\",\"\")","v":"○"},{"$f":"IF(基本データ!AZ207<>\"\",\"○\",\"\")","v":""},{"$f":"IF(基本データ!BA207<>\"\",\"○\",\"\")","v":"○"},{"$f":"IF(基本データ!BB207<>\"\",\"○\",\"\")","v":""},{"$f":"IF(基本データ!BC207<>\"\",\"○\",\"\")","v":"○"},{"$f":"IF(基本データ!BD207<>\"\",\"○\",\"\")","v":"○"},{"$f":"IF(基本データ!BE207<>\"\",\"○\",\"\")","v":""},{"$f":"IF(基本データ!BF207<>\"\",\"○\",\"\")","v":"○"},{"$f":"IF(基本データ!BG207<>\"\",\"○\",\"\")","v":""},{"$f":"基本データ!BN207","v":1},{"$f":"IF(基本データ!BH207<>\"\",\"○\",\"\")","v":"○"},{"$f":"IF(基本データ!BI207<>\"\",\"○\",\"\")","v":""},{"$f":"IF(基本データ!BJ207<>\"\",\"○\",\"\")","v":""},{"$f":"IF(基本データ!BK207<>\"\",\"○\",\"\")","v":""},{"$f":"IF(基本データ!BL207<>\"\",\"○\",\"\")","v":""},{"$f":"IF(基本データ!BM207<>\"\",\"○\",\"\")","v":""}]
[206,{"$f":"基本データ!J208","v":"愛知県"},{"$f":"基本データ!B208","v":2020},{"$f":"基本データ!I208","v":"独立行政法人地域医療機能推進機構　中京病院"},{"$f":"基本データ!AL208","v":11},{"$f":"IF(基本データ!AM208<>\"\",\"○\",\"\")","v":"○"},{"$f":"IF(基本データ!AN208<>\"\",\"○\",\"\")","v":"○"},{"$f":"IF(基本データ!AO208<>\"\",\"○\",\"\")","v":""},{"$f":"IF(基本データ!AP208<>\"\",\"○\",\"\")","v":""},{"$f":"IF(基本データ!AQ208<>\"\",\"○\",\"\")","v":""},{"$f":"IF(基本データ!AR208<>\"\",\"○\",\"\")","v":"○"},{"$f":"IF(基本データ!AS208<>\"\",\"○\",\"\")","v":"○"},{"$f":"IF(基本データ!AT208<>\"\",\"○\",\"\")","v":""},{"$f":"IF(基本データ!AU208<>\"\",\"○\",\"\")","v":"○"},{"$f":"IF(基本データ!AV208<>\"\",\"○\",\"\")","v":""},{"$f":"IF(基本データ!AW208<>\"\",\"○\",\"\")","v":""},{"$f":"IF(基本データ!AX208<>\"\",\"○\",\"\")","v":"○"},{"$f":"IF(基本データ!AY208<>\"\",\"○\",\"\")","v":"○"},{"$f":"IF(基本データ!AZ208<>\"\",\"○\",\"\")","v":""},{"$f":"IF(基本データ!BA208<>\"\",\"○\",\"\")","v":"○"},{"$f":"IF(基本データ!BB208<>\"\",\"○\",\"\")","v":""},{"$f":"IF(基本データ!BC208<>\"\",\"○\",\"\")","v":""},{"$f":"IF(基本データ!BD208<>\"\",\"○\",\"\")","v":"○"},{"$f":"IF(基本データ!BE208<>\"\",\"○\",\"\")","v":"○"},{"$f":"IF(基本データ!BF208<>\"\",\"○\",\"\")","v":"○"},{"$f":"IF(基本データ!BG208<>\"\",\"○\",\"\")","v":""},{"$f":"基本データ!BN208","v":1},{"$f":"IF(基本データ!BH208<>\"\",\"○\",\"\")","v":""},{"$f":"IF(基本データ!BI208<>\"\",\"○\",\"\")","v":""},{"$f":"IF(基本データ!BJ208<>\"\",\"○\",\"\")","v":"○"},{"$f":"IF(基本データ!BK208<>\"\",\"○\",\"\")","v":""},{"$f":"IF(基本データ!BL208<>\"\",\"○\",\"\")","v":""},{"$f":"IF(基本データ!BM208<>\"\",\"○\",\"\")","v":""}]
[207,{"$f":"基本データ!J209","v":"愛知県"},{"$f":"基本データ!B209","v":2020},{"$f":"基本データ!I209","v":"名古屋市立大学病院"},{"$f":"基本データ!AL209","v":14},{"$f":"IF(基本データ!AM209<>\"\",\"○\",\"\")","v":"○"},{"$f":"IF(基本データ!AN209<>\"\",\"○\",\"\")","v":"○"},{"$f":"IF(基本データ!AO209<>\"\",\"○\",\"\")","v":""},{"$f":"IF(基本データ!AP209<>\"\",\"○\",\"\")","v":"○"},{"$f":"IF(基本データ!AQ209<>\"\",\"○\",\"\")","v":""},{"$f":"IF(基本データ!AR209<>\"\",\"○\",\"\")","v":""},{"$f":"IF(基本データ!AS209<>\"\",\"○\",\"\")","v":""},{"$f":"IF(基本データ!AT209<>\"\",\"○\",\"\")","v":""},{"$f":"IF(基本データ!AU209<>\"\",\"○\",\"\")","v":"○"},{"$f":"IF(基本データ!AV209<>\"\",\"○\",\"\")","v":"○"},{"$f":"IF(基本データ!AW209<>\"\",\"○\",\"\")","v":"○"},{"$f":"IF(基本データ!AX209<>\"\",\"○\",\"\")","v":"○"},{"$f":"IF(基本データ!AY209<>\"\",\"○\",\"\")","v":"○"},{"$f":"IF(基本データ!AZ209<>\"\",\"○\",\"\")","v":""},{"$f":"IF(基本データ!BA209<>\"\",\"○\",\"\")","v":"○"},{"$f":"IF(基本データ!BB209<>\"\",\"○\",\"\")","v":"○"},{"$f":"IF(基本データ!BC209<>\"\",\"○\",\"\")","v":"○"},{"$f":"IF(基本データ!BD209<>\"\",\"○\",\"\")","v":"○"},{"$f":"IF(基本データ!BE209<>\"\",\"○\",\"\")","v":"○"},{"$f":"IF(基本データ!BF209<>\"\",\"○\",\"\")","v":"○"},{"$f":"IF(基本データ!BG209<>\"\",\"○\",\"\")","v":""},{"$f":"基本データ!BN209","v":1},{"$f":"IF(基本データ!BH209<>\"\",\"○\",\"\")","v":""},{"$f":"IF(基本データ!BI209<>\"\",\"○\",\"\")","v":""},{"$f":"IF(基本データ!BJ209<>\"\",\"○\",\"\")","v":"○"},{"$f":"IF(基本データ!BK209<>\"\",\"○\",\"\")","v":""},{"$f":"IF(基本データ!BL209<>\"\",\"○\",\"\")","v":""},{"$f":"IF(基本データ!BM209<>\"\",\"○\",\"\")","v":""}]
[208,{"$f":"基本データ!J210","v":"京都府"},{"$f":"基本データ!B210","v":2020},{"$f":"基本データ!I210","v":"京都大学医学部附属病院"},{"$f":"基本データ!AL210","v":6},{"$f":"IF(基本データ!AM210<>\"\",\"○\",\"\")","v":"○"},{"$f":"IF(基本データ!AN210<>\"\",\"○\",\"\")","v":"○"},{"$f":"IF(基本データ!AO210<>\"\",\"○\",\"\")","v":""},{"$f":"IF(基本データ!AP210<>\"\",\"○\",\"\")","v":""},{"$f":"IF(基本データ!AQ210<>\"\",\"○\",\"\")","v":""},{"$f":"IF(基本データ!AR210<>\"\",\"○\",\"\")","v":""},{"$f":"IF(基本データ!AS210<>\"\",\"○\",\"\")","v":""},{"$f":"IF(基本データ!AT210<>\"\",\"○\",\"\")","v":""},{"$f":"IF(基本データ!AU210<>\"\",\"○\",\"\")","v":""},{"$f":"IF(基本データ!AV210<>\"\",\"○\",\"\")","v":""},{"$f":"IF(基本データ!AW210<>\"\",\"○\",\"\")","v":""},{"$f":"IF(基本データ!AX210<>\"\",\"○\",\"\")","v":""},{"$f":"IF(基本データ!AY210<>\"\",\"○\",\"\")","v":"○"},{"$f":"IF(基本データ!AZ210<>\"\",\"○\",\"\")","v":""},{"$f":"IF(基本データ!BA210<>\"\",\"○\",\"\")","v":"○"},{"$f":"IF(基本データ!BB210<>\"\",\"○\",\"\")","v":""},{"$f":"IF(基本データ!BC210<>\"\",\"○\",\"\")","v":""},{"$f":"IF(基本データ!BD210<>\"\",\"○\",\"\")","v":"○"},{"$f":"IF(基本データ!BE210<>\"\",\"○\",\"\")","v":"○"},{"$f":"IF(基本データ!BF210<>\"\",\"○\",\"\")","v":""},{"$f":"IF(基本データ!BG210<>\"\",\"○\",\"\")","v":""},{"$f":"基本データ!BN210","v":1},{"$f":"IF(基本データ!BH210<>\"\",\"○\",\"\")","v":""},{"$f":"IF(基本データ!BI210<>\"\",\"○\",\"\")","v":""},{"$f":"IF(基本データ!BJ210<>\"\",\"○\",\"\")","v":"○"},{"$f":"IF(基本データ!BK210<>\"\",\"○\",\"\")","v":""},{"$f":"IF(基本データ!BL210<>\"\",\"○\",\"\")","v":""},{"$f":"IF(基本データ!BM210<>\"\",\"○\",\"\")","v":""}]
[209,{"$f":"基本データ!J211","v":"大阪府"},{"$f":"基本データ!B211","v":2020},{"$f":"基本データ!I211","v":"独立行政法人国立病院機構　大阪南医療センター"},{"$f":"基本データ!AL211","v":8},{"$f":"IF(基本データ!AM211<>\"\",\"○\",\"\")","v":"○"},{"$f":"IF(基本データ!AN211<>\"\",\"○\",\"\")","v":"○"},{"$f":"IF(基本データ!AO211<>\"\",\"○\",\"\")","v":""},{"$f":"IF(基本データ!AP211<>\"\",\"○\",\"\")","v":""},{"$f":"IF(基本データ!AQ211<>\"\",\"○\",\"\")","v":""},{"$f":"IF(基本データ!AR211<>\"\",\"○\",\"\")","v":""},{"$f":"IF(基本データ!AS211<>\"\",\"○\",\"\")","v":""},{"$f":"IF(基本データ!AT211<>\"\",\"○\",\"\")","v":""},{"$f":"IF(基本データ!AU211<>\"\",\"○\",\"\")","v":""},{"$f":"IF(基本データ!AV211<>\"\",\"○\",\"\")","v":""},{"$f":"IF(基本データ!AW211<>\"\",\"○\",\"\")","v":"○"},{"$f":"IF(基本データ!AX211<>\"\",\"○\",\"\")","v":""},{"$f":"IF(基本データ!AY211<>\"\",\"○\",\"\")","v":"○"},{"$f":"IF(基本データ!AZ211<>\"\",\"○\",\"\")","v":""},{"$f":"IF(基本データ!BA211<>\"\",\"○\",\"\")","v":"○"},{"$f":"IF(基本データ!BB211<>\"\",\"○\",\"\")","v":""},{"$f":"IF(基本データ!BC211<>\"\",\"○\",\"\")","v":""},{"$f":"IF(基本データ!BD211<>\"\",\"○\",\"\")","v":"○"},{"$f":"IF(基本データ!BE211<>\"\",\"○\",\"\")","v":"○"},{"$f":"IF(基本データ!BF211<>\"\",\"○\",\"\")","v":"○"},{"$f":"IF(基本データ!BG211<>\"\",\"○\",\"\")","v":""},{"$f":"基本データ!BN211","v":3},{"$f":"IF(基本データ!BH211<>\"\",\"○\",\"\")","v":"○"},{"$f":"IF(基本データ!BI211<>\"\",\"○\",\"\")","v":""},{"$f":"IF(基本データ!BJ211<>\"\",\"○\",\"\")","v":"○"},{"$f":"IF(基本データ!BK211<>\"\",\"○\",\"\")","v":"○"},{"$f":"IF(基本データ!BL211<>\"\",\"○\",\"\")","v":""},{"$f":"IF(基本データ!BM211<>\"\",\"○\",\"\")","v":""}]
[210,{"$f":"基本データ!J212","v":"兵庫県"},{"$f":"基本データ!B212","v":2020},{"$f":"基本データ!I212","v":"公益社団法人兵庫県看護協会"},{"$f":"基本データ!AL212","v":2},{"$f":"IF(基本データ!AM212<>\"\",\"○\",\"\")","v":""},{"$f":"IF(基本データ!AN212<>\"\",\"○\",\"\")","v":""},{"$f":"IF(基本データ!AO212<>\"\",\"○\",\"\")","v":""},{"$f":"IF(基本データ!AP212<>\"\",\"○\",\"\")","v":""},{"$f":"IF(基本データ!AQ212<>\"\",\"○\",\"\")","v":""},{"$f":"IF(基本データ!AR212<>\"\",\"○\",\"\")","v":""},{"$f":"IF(基本データ!AS212<>\"\",\"○\",\"\")","v":""},{"$f":"IF(基本データ!AT212<>\"\",\"○\",\"\")","v":""},{"$f":"IF(基本データ!AU212<>\"\",\"○\",\"\")","v":""},{"$f":"IF(基本データ!AV212<>\"\",\"○\",\"\")","v":""},{"$f":"IF(基本データ!AW212<>\"\",\"○\",\"\")","v":""},{"$f":"IF(基本データ!AX212<>\"\",\"○\",\"\")","v":""},{"$f":"IF(基本データ!AY212<>\"\",\"○\",\"\")","v":""},{"$f":"IF(基本データ!AZ212<>\"\",\"○\",\"\")","v":""},{"$f":"IF(基本データ!BA212<>\"\",\"○\",\"\")","v":"○"},{"$f":"IF(基本データ!BB212<>\"\",\"○\",\"\")","v":""},{"$f":"IF(基本データ!BC212<>\"\",\"○\",\"\")","v":""},{"$f":"IF(基本データ!BD212<>\"\",\"○\",\"\")","v":""},{"$f":"IF(基本データ!BE212<>\"\",\"○\",\"\")","v":""},{"$f":"IF(基本データ!BF212<>\"\",\"○\",\"\")","v":"○"},{"$f":"IF(基本データ!BG212<>\"\",\"○\",\"\")","v":""},{"$f":"基本データ!BN212","v":0},{"$f":"IF(基本データ!BH212<>\"\",\"○\",\"\")","v":""},{"$f":"IF(基本データ!BI212<>\"\",\"○\",\"\")","v":""},{"$f":"IF(基本データ!BJ212<>\"\",\"○\",\"\")","v":""},{"$f":"IF(基本データ!BK212<>\"\",\"○\",\"\")","v":""},{"$f":"IF(基本データ!BL212<>\"\",\"○\",\"\")","v":""},{"$f":"IF(基本データ!BM212<>\"\",\"○\",\"\")","v":""}]
[211,{"$f":"基本データ!J213","v":"兵庫県"},{"$f":"基本データ!B213","v":2020},{"$f":"基本データ!I213","v":"神戸大学医学部附属病院"},{"$f":"基本データ!AL213","v":6},{"$f":"IF(基本データ!AM213<>\"\",\"○\",\"\")","v":"○"},{"$f":"IF(基本データ!AN213<>\"\",\"○\",\"\")","v":"○"},{"$f":"IF(基本データ!AO213<>\"\",\"○\",\"\")","v":""},{"$f":"IF(基本データ!AP213<>\"\",\"○\",\"\")","v":""},{"$f":"IF(基本データ!AQ213<>\"\",\"○\",\"\")","v":""},{"$f":"IF(基本データ!AR213<>\"\",\"○\",\"\")","v":""},{"$f":"IF(基本データ!AS213<>\"\",\"○\",\"\")","v":""},{"$f":"IF(基本データ!AT213<>\"\",\"○\",\"\")","v":""},{"$f":"IF(基本データ!AU213<>\"\",\"○\",\"\")","v":""},{"$f":"IF(基本データ!AV213<>\"\",\"○\",\"\")","v":""},{"$f":"IF(基本データ!AW213<>\"\",\"○\",\"\")","v":""},{"$f":"IF(基本データ!AX213<>\"\",\"○\",\"\")","v":""},{"$f":"IF(基本データ!AY213<>\"\",\"○\",\"\")","v":"○"},{"$f":"IF(基本データ!AZ213<>\"\",\"○\",\"\")","v":""},{"$f":"IF(基本データ!BA213<>\"\",\"○\",\"\")","v":"○"},{"$f":"IF(基本データ!BB213<>\"\",\"○\",\"\")","v":""},{"$f":"IF(基本データ!BC213<>\"\",\"○\",\"\")","v":""},{"$f":"IF(基本データ!BD213<>\"\",\"○\",\"\")","v":"○"},{"$f":"IF(基本データ!BE213<>\"\",\"○\",\"\")","v":"○"},{"$f":"IF(基本データ!BF213<>\"\",\"○\",\"\")","v":""},{"$f":"IF(基本データ!BG213<>\"\",\"○\",\"\")","v":""},{"$f":"基本データ!BN213","v":1},{"$f":"IF(基本データ!BH213<>\"\",\"○\",\"\")","v":""},{"$f":"IF(基本データ!BI213<>\"\",\"○\",\"\")","v":""},{"$f":"IF(基本データ!BJ213<>\"\",\"○\",\"\")","v":"○"},{"$f":"IF(基本データ!BK213<>\"\",\"○\",\"\")","v":""},{"$f":"IF(基本データ!BL213<>\"\",\"○\",\"\")","v":""},{"$f":"IF(基本データ!BM213<>\"\",\"○\",\"\")","v":""}]
[212,{"$f":"基本データ!J214","v":"奈良県"},{"$f":"基本データ!B214","v":2020},{"$f":"基本データ!I214","v":"地方独立行政法人奈良県立病院機構　医療専門職教育研修センター"},{"$f":"基本データ!AL214","v":21},{"$f":"IF(基本データ!AM214<>\"\",\"○\",\"\")","v":"○"},{"$f":"IF(基本データ!AN214<>\"\",\"○\",\"\")","v":"○"},{"$f":"IF(基本データ!AO214<>\"\",\"○\",\"\")","v":"○"},{"$f":"IF(基本データ!AP214<>\"\",\"○\",\"\")","v":"○"},{"$f":"IF(基本データ!AQ214<>\"\",\"○\",\"\")","v":"○"},{"$f":"IF(基本データ!AR214<>\"\",\"○\",\"\")","v":"○"},{"$f":"IF(基本データ!AS214<>\"\",\"○\",\"\")","v":"○"},{"$f":"IF(基本データ!AT214<>\"\",\"○\",\"\")","v":"○"},{"$f":"IF(基本データ!AU214<>\"\",\"○\",\"\")","v":"○"},{"$f":"IF(基本データ!AV214<>\"\",\"○\",\"\")","v":"○"},{"$f":"IF(基本データ!AW214<>\"\",\"○\",\"\")","v":"○"},{"$f":"IF(基本データ!AX214<>\"\",\"○\",\"\")","v":"○"},{"$f":"IF(基本データ!AY214<>\"\",\"○\",\"\")","v":"○"},{"$f":"IF(基本データ!AZ214<>\"\",\"○\",\"\")","v":"○"},{"$f":"IF(基本データ!BA214<>\"\",\"○\",\"\")","v":"○"},{"$f":"IF(基本データ!BB214<>\"\",\"○\",\"\")","v":"○"},{"$f":"IF(基本データ!BC214<>\"\",\"○\",\"\")","v":"○"},{"$f":"IF(基本データ!BD214<>\"\",\"○\",\"\")","v":"○"},{"$f":"IF(基本データ!BE214<>\"\",\"○\",\"\")","v":"○"},{"$f":"IF(基本データ!BF214<>\"\",\"○\",\"\")","v":"○"},{"$f":"IF(基本データ!BG214<>\"\",\"○\",\"\")","v":"○"},{"$f":"基本データ!BN214","v":0},{"$f":"IF(基本データ!BH214<>\"\",\"○\",\"\")","v":""},{"$f":"IF(基本データ!BI214<>\"\",\"○\",\"\")","v":""},{"$f":"IF(基本データ!BJ214<>\"\",\"○\",\"\")","v":""},{"$f":"IF(基本データ!BK214<>\"\",\"○\",\"\")","v":""},{"$f":"IF(基本データ!BL214<>\"\",\"○\",\"\")","v":""},{"$f":"IF(基本データ!BM214<>\"\",\"○\",\"\")","v":""}]
[213,{"$f":"基本データ!J215","v":"広島県"},{"$f":"基本データ!B215","v":2020},{"$f":"基本データ!I215","v":"独立行政法人国立病院機構　呉医療センター"},{"$f":"基本データ!AL215","v":6},{"$f":"IF(基本データ!AM215<>\"\",\"○\",\"\")","v":"○"},{"$f":"IF(基本データ!AN215<>\"\",\"○\",\"\")","v":"○"},{"$f":"IF(基本データ!AO215<>\"\",\"○\",\"\")","v":""},{"$f":"IF(基本データ!AP215<>\"\",\"○\",\"\")","v":""},{"$f":"IF(基本データ!AQ215<>\"\",\"○\",\"\")","v":""},{"$f":"IF(基本データ!AR215<>\"\",\"○\",\"\")","v":""},{"$f":"IF(基本データ!AS215<>\"\",\"○\",\"\")","v":""},{"$f":"IF(基本データ!AT215<>\"\",\"○\",\"\")","v":""},{"$f":"IF(基本データ!AU215<>\"\",\"○\",\"\")","v":""},{"$f":"IF(基本データ!AV215<>\"\",\"○\",\"\")","v":"○"},{"$f":"IF(基本データ!AW215<>\"\",\"○\",\"\")","v":""},{"$f":"IF(基本データ!AX215<>\"\",\"○\",\"\")","v":""},{"$f":"IF(基本データ!AY215<>\"\",\"○\",\"\")","v":"○"},{"$f":"IF(基本データ!AZ215<>\"\",\"○\",\"\")","v":""},{"$f":"IF(基本データ!BA215<>\"\",\"○\",\"\")","v":"○"},{"$f":"IF(基本データ!BB215<>\"\",\"○\",\"\")","v":""},{"$f":"IF(基本データ!BC215<>\"\",\"○\",\"\")","v":""},{"$f":"IF(基本データ!BD215<>\"\",\"○\",\"\")","v":""},{"$f":"IF(基本データ!BE215<>\"\",\"○\",\"\")","v":""},{"$f":"IF(基本データ!BF215<>\"\",\"○\",\"\")","v":"○"},{"$f":"IF(基本データ!BG215<>\"\",\"○\",\"\")","v":""},{"$f":"基本データ!BN215","v":1},{"$f":"IF(基本データ!BH215<>\"\",\"○\",\"\")","v":""},{"$f":"IF(基本データ!BI215<>\"\",\"○\",\"\")","v":""},{"$f":"IF(基本データ!BJ215<>\"\",\"○\",\"\")","v":""},{"$f":"IF(基本データ!BK215<>\"\",\"○\",\"\")","v":"○"},{"$f":"IF(基本データ!BL215<>\"\",\"○\",\"\")","v":""},{"$f":"IF(基本データ!BM215<>\"\",\"○\",\"\")","v":""}]
[214,{"$f":"基本データ!J216","v":"広島県"},{"$f":"基本データ!B216","v":2020},{"$f":"基本データ!I216","v":"独立行政法人国立病院機構　広島西医療センター"},{"$f":"基本データ!AL216","v":5},{"$f":"IF(基本データ!AM216<>\"\",\"○\",\"\")","v":""},{"$f":"IF(基本データ!AN216<>\"\",\"○\",\"\")","v":""},{"$f":"IF(基本データ!AO216<>\"\",\"○\",\"\")","v":"○"},{"$f":"IF(基本データ!AP216<>\"\",\"○\",\"\")","v":""},{"$f":"IF(基本データ!AQ216<>\"\",\"○\",\"\")","v":""},{"$f":"IF(基本データ!AR216<>\"\",\"○\",\"\")","v":""},{"$f":"IF(基本データ!AS216<>\"\",\"○\",\"\")","v":""},{"$f":"IF(基本データ!AT216<>\"\",\"○\",\"\")","v":"○"},{"$f":"IF(基本データ!AU216<>\"\",\"○\",\"\")","v":""},{"$f":"IF(基本データ!AV216<>\"\",\"○\",\"\")","v":"○"},{"$f":"IF(基本データ!AW216<>\"\",\"○\",\"\")","v":"○"},{"$f":"IF(基本データ!AX216<>\"\",\"○\",\"\")","v":""},{"$f":"IF(基本データ!AY216<>\"\",\"○\",\"\")","v":""},{"$f":"IF(基本データ!AZ216<>\"\",\"○\",\"\")","v":""},{"$f":"IF(基本データ!BA216<>\"\",\"○\",\"\")","v":"○"},{"$f":"IF(基本データ!BB216<>\"\",\"○\",\"\")","v":""},{"$f":"IF(基本データ!BC216<>\"\",\"○\",\"\")","v":""},{"$f":"IF(基本データ!BD216<>\"\",\"○\",\"\")","v":""},{"$f":"IF(基本データ!BE216<>\"\",\"○\",\"\")","v":""},{"$f":"IF(基本データ!BF216<>\"\",\"○\",\"\")","v":""},{"$f":"IF(基本データ!BG216<>\"\",\"○\",\"\")","v":""},{"$f":"基本データ!BN216","v":1},{"$f":"IF(基本データ!BH216<>\"\",\"○\",\"\")","v":"○"},{"$f":"IF(基本データ!BI216<>\"\",\"○\",\"\")","v":""},{"$f":"IF(基本データ!BJ216<>\"\",\"○\",\"\")","v":""},{"$f":"IF(基本データ!BK216<>\"\",\"○\",\"\")","v":""},{"$f":"IF(基本データ!BL216<>\"\",\"○\",\"\")","v":""},{"$f":"IF(基本データ!BM216<>\"\",\"○\",\"\")","v":""}]
[215,{"$f":"基本データ!J217","v":"山口県"},{"$f":"基本データ!B217","v":2020},{"$f":"基本データ!I217","v":"社会福祉法人　恩賜財団済生会支部　山口県済生会山口総合病院"},{"$f":"基本データ!AL217","v":13},{"$f":"IF(基本データ!AM217<>\"\",\"○\",\"\")","v":"○"},{"$f":"IF(基本データ!AN217<>\"\",\"○\",\"\")","v":"○"},{"$f":"IF(基本データ!AO217<>\"\",\"○\",\"\")","v":"○"},{"$f":"IF(基本データ!AP217<>\"\",\"○\",\"\")","v":"○"},{"$f":"IF(基本データ!AQ217<>\"\",\"○\",\"\")","v":""},{"$f":"IF(基本データ!AR217<>\"\",\"○\",\"\")","v":"○"},{"$f":"IF(基本データ!AS217<>\"\",\"○\",\"\")","v":"○"},{"$f":"IF(基本データ!AT217<>\"\",\"○\",\"\")","v":""},{"$f":"IF(基本データ!AU217<>\"\",\"○\",\"\")","v":""},{"$f":"IF(基本データ!AV217<>\"\",\"○\",\"\")","v":"○"},{"$f":"IF(基本データ!AW217<>\"\",\"○\",\"\")","v":""},{"$f":"IF(基本データ!AX217<>\"\",\"○\",\"\")","v":""},{"$f":"IF(基本データ!AY217<>\"\",\"○\",\"\")","v":"○"},{"$f":"IF(基本データ!AZ217<>\"\",\"○\",\"\")","v":""},{"$f":"IF(基本データ!BA217<>\"\",\"○\",\"\")","v":"○"},{"$f":"IF(基本データ!BB217<>\"\",\"○\",\"\")","v":""},{"$f":"IF(基本データ!BC217<>\"\",\"○\",\"\")","v":"○"},{"$f":"IF(基本データ!BD217<>\"\",\"○\",\"\")","v":"○"},{"$f":"IF(基本データ!BE217<>\"\",\"○\",\"\")","v":"○"},{"$f":"IF(基本データ!BF217<>\"\",\"○\",\"\")","v":"○"},{"$f":"IF(基本データ!BG217<>\"\",\"○\",\"\")","v":""},{"$f":"基本データ!BN217","v":0},{"$f":"IF(基本データ!BH217<>\"\",\"○\",\"\")","v":""},{"$f":"IF(基本データ!BI217<>\"\",\"○\",\"\")","v":""},{"$f":"IF(基本データ!BJ217<>\"\",\"○\",\"\")","v":""},{"$f":"IF(基本データ!BK217<>\"\",\"○\",\"\")","v":""},{"$f":"IF(基本データ!BL217<>\"\",\"○\",\"\")","v":""},{"$f":"IF(基本データ!BM217<>\"\",\"○\",\"\")","v":""}]
[216,{"$f":"基本データ!J218","v":"徳島県"},{"$f":"基本データ!B218","v":2020},{"$f":"基本データ!I218","v":"国立大学法人徳島大学大学院医歯薬学研究部保健学域保健科学部門"},{"$f":"基本データ!AL218","v":5},{"$f":"IF(基本データ!AM218<>\"\",\"○\",\"\")","v":""},{"$f":"IF(基本データ!AN218<>\"\",\"○\",\"\")","v":""},{"$f":"IF(基本データ!AO218<>\"\",\"○\",\"\")","v":"○"},{"$f":"IF(基本データ!AP218<>\"\",\"○\",\"\")","v":""},{"$f":"IF(基本データ!AQ218<>\"\",\"○\",\"\")","v":""},{"$f":"IF(基本データ!AR218<>\"\",\"○\",\"\")","v":""},{"$f":"IF(基本データ!AS218<>\"\",\"○\",\"\")","v":""},{"$f":"IF(基本データ!AT218<>\"\",\"○\",\"\")","v":"○"},{"$f":"IF(基本データ!AU218<>\"\",\"○\",\"\")","v":""},{"$f":"IF(基本データ!AV218<>\"\",\"○\",\"\")","v":""},{"$f":"IF(基本データ!AW218<>\"\",\"○\",\"\")","v":"○"},{"$f":"IF(基本データ!AX218<>\"\",\"○\",\"\")","v":""},{"$f":"IF(基本データ!AY218<>\"\",\"○\",\"\")","v":""},{"$f":"IF(基本データ!AZ218<>\"\",\"○\",\"\")","v":""},{"$f":"IF(基本データ!BA218<>\"\",\"○\",\"\")","v":"○"},{"$f":"IF(基本データ!BB218<>\"\",\"○\",\"\")","v":"○"},{"$f":"IF(基本データ!BC218<>\"\",\"○\",\"\")","v":""},{"$f":"IF(基本データ!BD218<>\"\",\"○\",\"\")","v":""},{"$f":"IF(基本データ!BE218<>\"\",\"○\",\"\")","v":""},{"$f":"IF(基本データ!BF218<>\"\",\"○\",\"\")","v":""},{"$f":"IF(基本データ!BG218<>\"\",\"○\",\"\")","v":""},{"$f":"基本データ!BN218","v":1},{"$f":"IF(基本データ!BH218<>\"\",\"○\",\"\")","v":"○"},{"$f":"IF(基本データ!BI218<>\"\",\"○\",\"\")","v":""},{"$f":"IF(基本データ!BJ218<>\"\",\"○\",\"\")","v":""},{"$f":"IF(基本データ!BK218<>\"\",\"○\",\"\")","v":""},{"$f":"IF(基本データ!BL218<>\"\",\"○\",\"\")","v":""},{"$f":"IF(基本データ!BM218<>\"\",\"○\",\"\")","v":""}]
[217,{"$f":"基本データ!J219","v":"愛媛県"},{"$f":"基本データ!B219","v":2020},{"$f":"基本データ!I219","v":"国立大学法人愛媛大学"},{"$f":"基本データ!AL219","v":7},{"$f":"IF(基本データ!AM219<>\"\",\"○\",\"\")","v":"○"},{"$f":"IF(基本データ!AN219<>\"\",\"○\",\"\")","v":"○"},{"$f":"IF(基本データ!AO219<>\"\",\"○\",\"\")","v":"○"},{"$f":"IF(基本データ!AP219<>\"\",\"○\",\"\")","v":""},{"$f":"IF(基本データ!AQ219<>\"\",\"○\",\"\")","v":""},{"$f":"IF(基本データ!AR219<>\"\",\"○\",\"\")","v":""},{"$f":"IF(基本データ!AS219<>\"\",\"○\",\"\")","v":""},{"$f":"IF(基本データ!AT219<>\"\",\"○\",\"\")","v":""},{"$f":"IF(基本データ!AU219<>\"\",\"○\",\"\")","v":"○"},{"$f":"IF(基本データ!AV219<>\"\",\"○\",\"\")","v":""},{"$f":"IF(基本データ!AW219<>\"\",\"○\",\"\")","v":"○"},{"$f":"IF(基本データ!AX219<>\"\",\"○\",\"\")","v":""},{"$f":"IF(基本データ!AY219<>\"\",\"○\",\"\")","v":"○"},{"$f":"IF(基本データ!AZ219<>\"\",\"○\",\"\")","v":""},{"$f":"IF(基本データ!BA219<>\"\",\"○\",\"\")","v":"○"},{"$f":"IF(基本データ!BB219<>\"\",\"○\",\"\")","v":""},{"$f":"IF(基本データ!BC219<>\"\",\"○\",\"\")","v":""},{"$f":"IF(基本データ!BD219<>\"\",\"○\",\"\")","v":""},{"$f":"IF(基本データ!BE219<>\"\",\"○\",\"\")","v":""},{"$f":"IF(基本データ!BF219<>\"\",\"○\",\"\")","v":""},{"$f":"IF(基本データ!BG219<>\"\",\"○\",\"\")","v":""},{"$f":"基本データ!BN219","v":0},{"$f":"IF(基本データ!BH219<>\"\",\"○\",\"\")","v":""},{"$f":"IF(基本データ!BI219<>\"\",\"○\",\"\")","v":""},{"$f":"IF(基本データ!BJ219<>\"\",\"○\",\"\")","v":""},{"$f":"IF(基本データ!BK219<>\"\",\"○\",\"\")","v":""},{"$f":"IF(基本データ!BL219<>\"\",\"○\",\"\")","v":""},{"$f":"IF(基本データ!BM219<>\"\",\"○\",\"\")","v":""}]
[218,{"$f":"基本データ!J220","v":"福岡県"},{"$f":"基本データ!B220","v":2020},{"$f":"基本データ!I220","v":"福岡県立大学看護実践教育センター　特定行為研修部門"},{"$f":"基本データ!AL220","v":5},{"$f":"IF(基本データ!AM220<>\"\",\"○\",\"\")","v":""},{"$f":"IF(基本データ!AN220<>\"\",\"○\",\"\")","v":""},{"$f":"IF(基本データ!AO220<>\"\",\"○\",\"\")","v":"○"},{"$f":"IF(基本データ!AP220<>\"\",\"○\",\"\")","v":""},{"$f":"IF(基本データ!AQ220<>\"\",\"○\",\"\")","v":""},{"$f":"IF(基本データ!AR220<>\"\",\"○\",\"\")","v":""},{"$f":"IF(基本データ!AS220<>\"\",\"○\",\"\")","v":""},{"$f":"IF(基本データ!AT220<>\"\",\"○\",\"\")","v":"○"},{"$f":"IF(基本データ!AU220<>\"\",\"○\",\"\")","v":""},{"$f":"IF(基本データ!AV220<>\"\",\"○\",\"\")","v":""},{"$f":"IF(基本データ!AW220<>\"\",\"○\",\"\")","v":"○"},{"$f":"IF(基本データ!AX220<>\"\",\"○\",\"\")","v":""},{"$f":"IF(基本データ!AY220<>\"\",\"○\",\"\")","v":""},{"$f":"IF(基本データ!AZ220<>\"\",\"○\",\"\")","v":""},{"$f":"IF(基本データ!BA220<>\"\",\"○\",\"\")","v":"○"},{"$f":"IF(基本データ!BB220<>\"\",\"○\",\"\")","v":""},{"$f":"IF(基本データ!BC220<>\"\",\"○\",\"\")","v":"○"},{"$f":"IF(基本データ!BD220<>\"\",\"○\",\"\")","v":""},{"$f":"IF(基本データ!BE220<>\"\",\"○\",\"\")","v":""},{"$f":"IF(基本データ!BF220<>\"\",\"○\",\"\")","v":""},{"$f":"IF(基本データ!BG220<>\"\",\"○\",\"\")","v":""},{"$f":"基本データ!BN220","v":1},{"$f":"IF(基本データ!BH220<>\"\",\"○\",\"\")","v":"○"},{"$f":"IF(基本データ!BI220<>\"\",\"○\",\"\")","v":""},{"$f":"IF(基本データ!BJ220<>\"\",\"○\",\"\")","v":""},{"$f":"IF(基本データ!BK220<>\"\",\"○\",\"\")","v":""},{"$f":"IF(基本データ!BL220<>\"\",\"○\",\"\")","v":""},{"$f":"IF(基本データ!BM220<>\"\",\"○\",\"\")","v":""}]
[219,{"$f":"基本データ!J221","v":"福岡県"},{"$f":"基本データ!B221","v":2020},{"$f":"基本データ!I221","v":"公立八女総合病院"},{"$f":"基本データ!AL221","v":6},{"$f":"IF(基本データ!AM221<>\"\",\"○\",\"\")","v":"○"},{"$f":"IF(基本データ!AN221<>\"\",\"○\",\"\")","v":"○"},{"$f":"IF(基本データ!AO221<>\"\",\"○\",\"\")","v":""},{"$f":"IF(基本データ!AP221<>\"\",\"○\",\"\")","v":""},{"$f":"IF(基本データ!AQ221<>\"\",\"○\",\"\")","v":""},{"$f":"IF(基本データ!AR221<>\"\",\"○\",\"\")","v":""},{"$f":"IF(基本データ!AS221<>\"\",\"○\",\"\")","v":""},{"$f":"IF(基本データ!AT221<>\"\",\"○\",\"\")","v":""},{"$f":"IF(基本データ!AU221<>\"\",\"○\",\"\")","v":""},{"$f":"IF(基本データ!AV221<>\"\",\"○\",\"\")","v":""},{"$f":"IF(基本データ!AW221<>\"\",\"○\",\"\")","v":""},{"$f":"IF(基本データ!AX221<>\"\",\"○\",\"\")","v":""},{"$f":"IF(基本データ!AY221<>\"\",\"○\",\"\")","v":"○"},{"$f":"IF(基本データ!AZ221<>\"\",\"○\",\"\")","v":""},{"$f":"IF(基本データ!BA221<>\"\",\"○\",\"\")","v":"○"},{"$f":"IF(基本データ!BB221<>\"\",\"○\",\"\")","v":""},{"$f":"IF(基本データ!BC221<>\"\",\"○\",\"\")","v":""},{"$f":"IF(基本データ!BD221<>\"\",\"○\",\"\")","v":"○"},{"$f":"IF(基本データ!BE221<>\"\",\"○\",\"\")","v":"○"},{"$f":"IF(基本データ!BF221<>\"\",\"○\",\"\")","v":""},{"$f":"IF(基本データ!BG221<>\"\",\"○\",\"\")","v":""},{"$f":"基本データ!BN221","v":1},{"$f":"IF(基本データ!BH221<>\"\",\"○\",\"\")","v":""},{"$f":"IF(基本データ!BI221<>\"\",\"○\",\"\")","v":""},{"$f":"IF(基本データ!BJ221<>\"\",\"○\",\"\")","v":"○"},{"$f":"IF(基本データ!BK221<>\"\",\"○\",\"\")","v":""},{"$f":"IF(基本データ!BL221<>\"\",\"○\",\"\")","v":""},{"$f":"IF(基本データ!BM221<>\"\",\"○\",\"\")","v":""}]
[220,{"$f":"基本データ!J222","v":"佐賀県"},{"$f":"基本データ!B222","v":2020},{"$f":"基本データ!I222","v":"国立大学法人佐賀大学医学部附属病院"},{"$f":"基本データ!AL222","v":7},{"$f":"IF(基本データ!AM222<>\"\",\"○\",\"\")","v":"○"},{"$f":"IF(基本データ!AN222<>\"\",\"○\",\"\")","v":"○"},{"$f":"IF(基本データ!AO222<>\"\",\"○\",\"\")","v":""},{"$f":"IF(基本データ!AP222<>\"\",\"○\",\"\")","v":""},{"$f":"IF(基本データ!AQ222<>\"\",\"○\",\"\")","v":""},{"$f":"IF(基本データ!AR222<>\"\",\"○\",\"\")","v":""},{"$f":"IF(基本データ!AS222<>\"\",\"○\",\"\")","v":""},{"$f":"IF(基本データ!AT222<>\"\",\"○\",\"\")","v":""},{"$f":"IF(基本データ!AU222<>\"\",\"○\",\"\")","v":""},{"$f":"IF(基本データ!AV222<>\"\",\"○\",\"\")","v":""},{"$f":"IF(基本データ!AW222<>\"\",\"○\",\"\")","v":""},{"$f":"IF(基本データ!AX222<>\"\",\"○\",\"\")","v":""},{"$f":"IF(基本データ!AY222<>\"\",\"○\",\"\")","v":"○"},{"$f":"IF(基本データ!AZ222<>\"\",\"○\",\"\")","v":""},{"$f":"IF(基本データ!BA222<>\"\",\"○\",\"\")","v":"○"},{"$f":"IF(基本データ!BB222<>\"\",\"○\",\"\")","v":""},{"$f":"IF(基本データ!BC222<>\"\",\"○\",\"\")","v":"○"},{"$f":"IF(基本データ!BD222<>\"\",\"○\",\"\")","v":"○"},{"$f":"IF(基本データ!BE222<>\"\",\"○\",\"\")","v":"○"},{"$f":"IF(基本データ!BF222<>\"\",\"○\",\"\")","v":""},{"$f":"IF(基本データ!BG222<>\"\",\"○\",\"\")","v":""},{"$f":"基本データ!BN222","v":1},{"$f":"IF(基本データ!BH222<>\"\",\"○\",\"\")","v":""},{"$f":"IF(基本データ!BI222<>\"\",\"○\",\"\")","v":""},{"$f":"IF(基本データ!BJ222<>\"\",\"○\",\"\")","v":"○"},{"$f":"IF(基本データ!BK222<>\"\",\"○\",\"\")","v":""},{"$f":"IF(基本データ!BL222<>\"\",\"○\",\"\")","v":""},{"$f":"IF(基本データ!BM222<>\"\",\"○\",\"\")","v":""}]
[221,{"$f":"基本データ!J223","v":"大分県"},{"$f":"基本データ!B223","v":2020},{"$f":"基本データ!I223","v":"大分県立病院"},{"$f":"基本データ!AL223","v":13},{"$f":"IF(基本データ!AM223<>\"\",\"○\",\"\")","v":"○"},{"$f":"IF(基本データ!AN223<>\"\",\"○\",\"\")","v":"○"},{"$f":"IF(基本データ!AO223<>\"\",\"○\",\"\")","v":"○"},{"$f":"IF(基本データ!AP223<>\"\",\"○\",\"\")","v":""},{"$f":"IF(基本データ!AQ223<>\"\",\"○\",\"\")","v":""},{"$f":"IF(基本データ!AR223<>\"\",\"○\",\"\")","v":"○"},{"$f":"IF(基本データ!AS223<>\"\",\"○\",\"\")","v":"○"},{"$f":"IF(基本データ!AT223<>\"\",\"○\",\"\")","v":""},{"$f":"IF(基本データ!AU223<>\"\",\"○\",\"\")","v":"○"},{"$f":"IF(基本データ!AV223<>\"\",\"○\",\"\")","v":"○"},{"$f":"IF(基本データ!AW223<>\"\",\"○\",\"\")","v":""},{"$f":"IF(基本データ!AX223<>\"\",\"○\",\"\")","v":"○"},{"$f":"IF(基本データ!AY223<>\"\",\"○\",\"\")","v":"○"},{"$f":"IF(基本データ!AZ223<>\"\",\"○\",\"\")","v":""},{"$f":"IF(基本データ!BA223<>\"\",\"○\",\"\")","v":"○"},{"$f":"IF(基本データ!BB223<>\"\",\"○\",\"\")","v":""},{"$f":"IF(基本データ!BC223<>\"\",\"○\",\"\")","v":""},{"$f":"IF(基本データ!BD223<>\"\",\"○\",\"\")","v":"○"},{"$f":"IF(基本データ!BE223<>\"\",\"○\",\"\")","v":"○"},{"$f":"IF(基本データ!BF223<>\"\",\"○\",\"\")","v":"○"},{"$f":"IF(基本データ!BG223<>\"\",\"○\",\"\")","v":""},{"$f":"基本データ!BN223","v":3},{"$f":"IF(基本データ!BH223<>\"\",\"○\",\"\")","v":""},{"$f":"IF(基本データ!BI223<>\"\",\"○\",\"\")","v":"○"},{"$f":"IF(基本データ!BJ223<>\"\",\"○\",\"\")","v":"○"},{"$f":"IF(基本データ!BK223<>\"\",\"○\",\"\")","v":"○"},{"$f":"IF(基本データ!BL223<>\"\",\"○\",\"\")","v":""},{"$f":"IF(基本データ!BM223<>\"\",\"○\",\"\")","v":""}]
[222,{"$f":"基本データ!J224","v":"大分県"},{"$f":"基本データ!B224","v":2020},{"$f":"基本データ!I224","v":"大分赤十字病院"},{"$f":"基本データ!AL224","v":4},{"$f":"IF(基本データ!AM224<>\"\",\"○\",\"\")","v":""},{"$f":"IF(基本データ!AN224<>\"\",\"○\",\"\")","v":""},{"$f":"IF(基本データ!AO224<>\"\",\"○\",\"\")","v":"○"},{"$f":"IF(基本データ!AP224<>\"\",\"○\",\"\")","v":""},{"$f":"IF(基本データ!AQ224<>\"\",\"○\",\"\")","v":""},{"$f":"IF(基本データ!AR224<>\"\",\"○\",\"\")","v":""},{"$f":"IF(基本データ!AS224<>\"\",\"○\",\"\")","v":""},{"$f":"IF(基本データ!AT224<>\"\",\"○\",\"\")","v":""},{"$f":"IF(基本データ!AU224<>\"\",\"○\",\"\")","v":""},{"$f":"IF(基本データ!AV224<>\"\",\"○\",\"\")","v":""},{"$f":"IF(基本データ!AW224<>\"\",\"○\",\"\")","v":""},{"$f":"IF(基本データ!AX224<>\"\",\"○\",\"\")","v":""},{"$f":"IF(基本データ!AY224<>\"\",\"○\",\"\")","v":"○"},{"$f":"IF(基本データ!AZ224<>\"\",\"○\",\"\")","v":""},{"$f":"IF(基本データ!BA224<>\"\",\"○\",\"\")","v":"○"},{"$f":"IF(基本データ!BB224<>\"\",\"○\",\"\")","v":""},{"$f":"IF(基本データ!BC224<>\"\",\"○\",\"\")","v":"○"},{"$f":"IF(基本データ!BD224<>\"\",\"○\",\"\")","v":""},{"$f":"IF(基本データ!BE224<>\"\",\"○\",\"\")","v":""},{"$f":"IF(基本データ!BF224<>\"\",\"○\",\"\")","v":""},{"$f":"IF(基本データ!BG224<>\"\",\"○\",\"\")","v":""},{"$f":"基本データ!BN224","v":0},{"$f":"IF(基本データ!BH224<>\"\",\"○\",\"\")","v":""},{"$f":"IF(基本データ!BI224<>\"\",\"○\",\"\")","v":""},{"$f":"IF(基本データ!BJ224<>\"\",\"○\",\"\")","v":""},{"$f":"IF(基本データ!BK224<>\"\",\"○\",\"\")","v":""},{"$f":"IF(基本データ!BL224<>\"\",\"○\",\"\")","v":""},{"$f":"IF(基本データ!BM224<>\"\",\"○\",\"\")","v":""}]
[223,{"$f":"基本データ!J225","v":"沖縄県"},{"$f":"基本データ!B225","v":2020},{"$f":"基本データ!I225","v":"社会医療法人　友愛会　友愛医療センター"},{"$f":"基本データ!AL225","v":11},{"$f":"IF(基本データ!AM225<>\"\",\"○\",\"\")","v":"○"},{"$f":"IF(基本データ!AN225<>\"\",\"○\",\"\")","v":"○"},{"$f":"IF(基本データ!AO225<>\"\",\"○\",\"\")","v":""},{"$f":"IF(基本データ!AP225<>\"\",\"○\",\"\")","v":""},{"$f":"IF(基本データ!AQ225<>\"\",\"○\",\"\")","v":""},{"$f":"IF(基本データ!AR225<>\"\",\"○\",\"\")","v":"○"},{"$f":"IF(基本データ!AS225<>\"\",\"○\",\"\")","v":"○"},{"$f":"IF(基本データ!AT225<>\"\",\"○\",\"\")","v":""},{"$f":"IF(基本データ!AU225<>\"\",\"○\",\"\")","v":"○"},{"$f":"IF(基本データ!AV225<>\"\",\"○\",\"\")","v":""},{"$f":"IF(基本データ!AW225<>\"\",\"○\",\"\")","v":"○"},{"$f":"IF(基本データ!AX225<>\"\",\"○\",\"\")","v":"○"},{"$f":"IF(基本データ!AY225<>\"\",\"○\",\"\")","v":"○"},{"$f":"IF(基本データ!AZ225<>\"\",\"○\",\"\")","v":""},{"$f":"IF(基本データ!BA225<>\"\",\"○\",\"\")","v":"○"},{"$f":"IF(基本データ!BB225<>\"\",\"○\",\"\")","v":""},{"$f":"IF(基本データ!BC225<>\"\",\"○\",\"\")","v":""},{"$f":"IF(基本データ!BD225<>\"\",\"○\",\"\")","v":"○"},{"$f":"IF(基本データ!BE225<>\"\",\"○\",\"\")","v":"○"},{"$f":"IF(基本データ!BF225<>\"\",\"○\",\"\")","v":""},{"$f":"IF(基本データ!BG225<>\"\",\"○\",\"\")","v":""},{"$f":"基本データ!BN225","v":1},{"$f":"IF(基本データ!BH225<>\"\",\"○\",\"\")","v":""},{"$f":"IF(基本データ!BI225<>\"\",\"○\",\"\")","v":""},{"$f":"IF(基本データ!BJ225<>\"\",\"○\",\"\")","v":"○"},{"$f":"IF(基本データ!BK225<>\"\",\"○\",\"\")","v":""},{"$f":"IF(基本データ!BL225<>\"\",\"○\",\"\")","v":""},{"$f":"IF(基本データ!BM225<>\"\",\"○\",\"\")","v":""}]
[224,{"$f":"基本データ!J226","v":"北海道"},{"$f":"基本データ!B226","v":2021},{"$f":"基本データ!I226","v":"医療法人徳洲会　札幌東徳洲会病院"},{"$f":"基本データ!AL226","v":3},{"$f":"IF(基本データ!AM226<>\"\",\"○\",\"\")","v":""},{"$f":"IF(基本データ!AN226<>\"\",\"○\",\"\")","v":""},{"$f":"IF(基本データ!AO226<>\"\",\"○\",\"\")","v":""},{"$f":"IF(基本データ!AP226<>\"\",\"○\",\"\")","v":""},{"$f":"IF(基本データ!AQ226<>\"\",\"○\",\"\")","v":""},{"$f":"IF(基本データ!AR226<>\"\",\"○\",\"\")","v":""},{"$f":"IF(基本データ!AS226<>\"\",\"○\",\"\")","v":""},{"$f":"IF(基本データ!AT226<>\"\",\"○\",\"\")","v":""},{"$f":"IF(基本データ!AU226<>\"\",\"○\",\"\")","v":"○"},{"$f":"IF(基本データ!AV226<>\"\",\"○\",\"\")","v":"○"},{"$f":"IF(基本データ!AW226<>\"\",\"○\",\"\")","v":""},{"$f":"IF(基本データ!AX226<>\"\",\"○\",\"\")","v":""},{"$f":"IF(基本データ!AY226<>\"\",\"○\",\"\")","v":"○"},{"$f":"IF(基本データ!AZ226<>\"\",\"○\",\"\")","v":""},{"$f":"IF(基本データ!BA226<>\"\",\"○\",\"\")","v":""},{"$f":"IF(基本データ!BB226<>\"\",\"○\",\"\")","v":""},{"$f":"IF(基本データ!BC226<>\"\",\"○\",\"\")","v":""},{"$f":"IF(基本データ!BD226<>\"\",\"○\",\"\")","v":""},{"$f":"IF(基本データ!BE226<>\"\",\"○\",\"\")","v":""},{"$f":"IF(基本データ!BF226<>\"\",\"○\",\"\")","v":""},{"$f":"IF(基本データ!BG226<>\"\",\"○\",\"\")","v":""},{"$f":"基本データ!BN226","v":0},{"$f":"IF(基本データ!BH226<>\"\",\"○\",\"\")","v":""},{"$f":"IF(基本データ!BI226<>\"\",\"○\",\"\")","v":""},{"$f":"IF(基本データ!BJ226<>\"\",\"○\",\"\")","v":""},{"$f":"IF(基本データ!BK226<>\"\",\"○\",\"\")","v":""},{"$f":"IF(基本データ!BL226<>\"\",\"○\",\"\")","v":""},{"$f":"IF(基本データ!BM226<>\"\",\"○\",\"\")","v":""}]
[225,{"$f":"基本データ!J227","v":"北海道"},{"$f":"基本データ!B227","v":2021},{"$f":"基本データ!I227","v":"市立函館病院"},{"$f":"基本データ!AL227","v":10},{"$f":"IF(基本データ!AM227<>\"\",\"○\",\"\")","v":"○"},{"$f":"IF(基本データ!AN227<>\"\",\"○\",\"\")","v":"○"},{"$f":"IF(基本データ!AO227<>\"\",\"○\",\"\")","v":""},{"$f":"IF(基本データ!AP227<>\"\",\"○\",\"\")","v":"○"},{"$f":"IF(基本データ!AQ227<>\"\",\"○\",\"\")","v":""},{"$f":"IF(基本データ!AR227<>\"\",\"○\",\"\")","v":""},{"$f":"IF(基本データ!AS227<>\"\",\"○\",\"\")","v":""},{"$f":"IF(基本データ!AT227<>\"\",\"○\",\"\")","v":""},{"$f":"IF(基本データ!AU227<>\"\",\"○\",\"\")","v":"○"},{"$f":"IF(基本データ!AV227<>\"\",\"○\",\"\")","v":"○"},{"$f":"IF(基本データ!AW227<>\"\",\"○\",\"\")","v":"○"},{"$f":"IF(基本データ!AX227<>\"\",\"○\",\"\")","v":""},{"$f":"IF(基本データ!AY227<>\"\",\"○\",\"\")","v":"○"},{"$f":"IF(基本データ!AZ227<>\"\",\"○\",\"\")","v":""},{"$f":"IF(基本データ!BA227<>\"\",\"○\",\"\")","v":"○"},{"$f":"IF(基本データ!BB227<>\"\",\"○\",\"\")","v":""},{"$f":"IF(基本データ!BC227<>\"\",\"○\",\"\")","v":""},{"$f":"IF(基本データ!BD227<>\"\",\"○\",\"\")","v":"○"},{"$f":"IF(基本データ!BE227<>\"\",\"○\",\"\")","v":"○"},{"$f":"IF(基本データ!BF227<>\"\",\"○\",\"\")","v":""},{"$f":"IF(基本データ!BG227<>\"\",\"○\",\"\")","v":""},{"$f":"基本データ!BN227","v":2},{"$f":"IF(基本データ!BH227<>\"\",\"○\",\"\")","v":""},{"$f":"IF(基本データ!BI227<>\"\",\"○\",\"\")","v":""},{"$f":"IF(基本データ!BJ227<>\"\",\"○\",\"\")","v":"○"},{"$f":"IF(基本データ!BK227<>\"\",\"○\",\"\")","v":""},{"$f":"IF(基本データ!BL227<>\"\",\"○\",\"\")","v":""},{"$f":"IF(基本データ!BM227<>\"\",\"○\",\"\")","v":"○"}]
[226,{"$f":"基本データ!J228","v":"北海道"},{"$f":"基本データ!B228","v":2021},{"$f":"基本データ!I228","v":"独立行政法人国立病院機構函館医療センター"},{"$f":"基本データ!AL228","v":8},{"$f":"IF(基本データ!AM228<>\"\",\"○\",\"\")","v":""},{"$f":"IF(基本データ!AN228<>\"\",\"○\",\"\")","v":""},{"$f":"IF(基本データ!AO228<>\"\",\"○\",\"\")","v":""},{"$f":"IF(基本データ!AP228<>\"\",\"○\",\"\")","v":""},{"$f":"IF(基本データ!AQ228<>\"\",\"○\",\"\")","v":""},{"$f":"IF(基本データ!AR228<>\"\",\"○\",\"\")","v":""},{"$f":"IF(基本データ!AS228<>\"\",\"○\",\"\")","v":""},{"$f":"IF(基本データ!AT228<>\"\",\"○\",\"\")","v":""},{"$f":"IF(基本データ!AU228<>\"\",\"○\",\"\")","v":"○"},{"$f":"IF(基本データ!AV228<>\"\",\"○\",\"\")","v":"○"},{"$f":"IF(基本データ!AW228<>\"\",\"○\",\"\")","v":"○"},{"$f":"IF(基本データ!AX228<>\"\",\"○\",\"\")","v":"○"},{"$f":"IF(基本データ!AY228<>\"\",\"○\",\"\")","v":"○"},{"$f":"IF(基本データ!AZ228<>\"\",\"○\",\"\")","v":""},{"$f":"IF(基本データ!BA228<>\"\",\"○\",\"\")","v":"○"},{"$f":"IF(基本データ!BB228<>\"\",\"○\",\"\")","v":"○"},{"$f":"IF(基本データ!BC228<>\"\",\"○\",\"\")","v":""},{"$f":"IF(基本データ!BD228<>\"\",\"○\",\"\")","v":"○"},{"$f":"IF(基本データ!BE228<>\"\",\"○\",\"\")","v":""},{"$f":"IF(基本データ!BF228<>\"\",\"○\",\"\")","v":""},{"$f":"IF(基本データ!BG228<>\"\",\"○\",\"\")","v":""},{"$f":"基本データ!BN228","v":1},{"$f":"IF(基本データ!BH228<>\"\",\"○\",\"\")","v":""},{"$f":"IF(基本データ!BI228<>\"\",\"○\",\"\")","v":""},{"$f":"IF(基本データ!BJ228<>\"\",\"○\",\"\")","v":""},{"$f":"IF(基本データ!BK228<>\"\",\"○\",\"\")","v":""},{"$f":"IF(基本データ!BL228<>\"\",\"○\",\"\")","v":"○"},{"$f":"IF(基本データ!BM228<>\"\",\"○\",\"\")","v":""}]
[227,{"$f":"基本データ!J229","v":"岩手県"},{"$f":"基本データ!B229","v":2021},{"$f":"基本データ!I229","v":"独立行政法人国立病院機構岩手病院"},{"$f":"基本データ!AL229","v":2},{"$f":"IF(基本データ!AM229<>\"\",\"○\",\"\")","v":""},{"$f":"IF(基本データ!AN229<>\"\",\"○\",\"\")","v":""},{"$f":"IF(基本データ!AO229<>\"\",\"○\",\"\")","v":"○"},{"$f":"IF(基本データ!AP229<>\"\",\"○\",\"\")","v":""},{"$f":"IF(基本データ!AQ229<>\"\",\"○\",\"\")","v":""},{"$f":"IF(基本データ!AR229<>\"\",\"○\",\"\")","v":""},{"$f":"IF(基本データ!AS229<>\"\",\"○\",\"\")","v":""},{"$f":"IF(基本データ!AT229<>\"\",\"○\",\"\")","v":"○"},{"$f":"IF(基本データ!AU229<>\"\",\"○\",\"\")","v":""},{"$f":"IF(基本データ!AV229<>\"\",\"○\",\"\")","v":""},{"$f":"IF(基本データ!AW229<>\"\",\"○\",\"\")","v":""},{"$f":"IF(基本データ!AX229<>\"\",\"○\",\"\")","v":""},{"$f":"IF(基本データ!AY229<>\"\",\"○\",\"\")","v":""},{"$f":"IF(基本データ!AZ229<>\"\",\"○\",\"\")","v":""},{"$f":"IF(基本データ!BA229<>\"\",\"○\",\"\")","v":""},{"$f":"IF(基本データ!BB229<>\"\",\"○\",\"\")","v":""},{"$f":"IF(基本データ!BC229<>\"\",\"○\",\"\")","v":""},{"$f":"IF(基本データ!BD229<>\"\",\"○\",\"\")","v":""},{"$f":"IF(基本データ!BE229<>\"\",\"○\",\"\")","v":""},{"$f":"IF(基本データ!BF229<>\"\",\"○\",\"\")","v":""},{"$f":"IF(基本データ!BG229<>\"\",\"○\",\"\")","v":""},{"$f":"基本データ!BN229","v":0},{"$f":"IF(基本データ!BH229<>\"\",\"○\",\"\")","v":""},{"$f":"IF(基本データ!BI229<>\"\",\"○\",\"\")","v":""},{"$f":"IF(基本データ!BJ229<>\"\",\"○\",\"\")","v":""},{"$f":"IF(基本データ!BK229<>\"\",\"○\",\"\")","v":""},{"$f":"IF(基本データ!BL229<>\"\",\"○\",\"\")","v":""},{"$f":"IF(基本データ!BM229<>\"\",\"○\",\"\")","v":""}]
[228,{"$f":"基本データ!J230","v":"山形県"},{"$f":"基本データ!B230","v":2021},{"$f":"基本データ!I230","v":"独立行政法人国立病院機構米沢病院"},{"$f":"基本データ!AL230","v":4},{"$f":"IF(基本データ!AM230<>\"\",\"○\",\"\")","v":""},{"$f":"IF(基本データ!AN230<>\"\",\"○\",\"\")","v":""},{"$f":"IF(基本データ!AO230<>\"\",\"○\",\"\")","v":"○"},{"$f":"IF(基本データ!AP230<>\"\",\"○\",\"\")","v":""},{"$f":"IF(基本データ!AQ230<>\"\",\"○\",\"\")","v":""},{"$f":"IF(基本データ!AR230<>\"\",\"○\",\"\")","v":""},{"$f":"IF(基本データ!AS230<>\"\",\"○\",\"\")","v":""},{"$f":"IF(基本データ!AT230<>\"\",\"○\",\"\")","v":"○"},{"$f":"IF(基本データ!AU230<>\"\",\"○\",\"\")","v":""},{"$f":"IF(基本データ!AV230<>\"\",\"○\",\"\")","v":""},{"$f":"IF(基本データ!AW230<>\"\",\"○\",\"\")","v":"○"},{"$f":"IF(基本データ!AX230<>\"\",\"○\",\"\")","v":""},{"$f":"IF(基本データ!AY230<>\"\",\"○\",\"\")","v":""},{"$f":"IF(基本データ!AZ230<>\"\",\"○\",\"\")","v":""},{"$f":"IF(基本データ!BA230<>\"\",\"○\",\"\")","v":"○"},{"$f":"IF(基本データ!BB230<>\"\",\"○\",\"\")","v":""},{"$f":"IF(基本データ!BC230<>\"\",\"○\",\"\")","v":""},{"$f":"IF(基本データ!BD230<>\"\",\"○\",\"\")","v":""},{"$f":"IF(基本データ!BE230<>\"\",\"○\",\"\")","v":""},{"$f":"IF(基本データ!BF230<>\"\",\"○\",\"\")","v":""},{"$f":"IF(基本データ!BG230<>\"\",\"○\",\"\")","v":""},{"$f":"基本データ!BN230","v":1},{"$f":"IF(基本データ!BH230<>\"\",\"○\",\"\")","v":"○"},{"$f":"IF(基本データ!BI230<>\"\",\"○\",\"\")","v":""},{"$f":"IF(基本データ!BJ230<>\"\",\"○\",\"\")","v":""},{"$f":"IF(基本データ!BK230<>\"\",\"○\",\"\")","v":""},{"$f":"IF(基本データ!BL230<>\"\",\"○\",\"\")","v":""},{"$f":"IF(基本データ!BM230<>\"\",\"○\",\"\")","v":""}]
[229,{"$f":"基本データ!J231","v":"茨城県"},{"$f":"基本データ!B231","v":2021},{"$f":"基本データ!I231","v":"茨城県立医療大学"},{"$f":"基本データ!AL231","v":2},{"$f":"IF(基本データ!AM231<>\"\",\"○\",\"\")","v":""},{"$f":"IF(基本データ!AN231<>\"\",\"○\",\"\")","v":""},{"$f":"IF(基本データ!AO231<>\"\",\"○\",\"\")","v":""},{"$f":"IF(基本データ!AP231<>\"\",\"○\",\"\")","v":""},{"$f":"IF(基本データ!AQ231<>\"\",\"○\",\"\")","v":""},{"$f":"IF(基本データ!AR231<>\"\",\"○\",\"\")","v":""},{"$f":"IF(基本データ!AS231<>\"\",\"○\",\"\")","v":""},{"$f":"IF(基本データ!AT231<>\"\",\"○\",\"\")","v":""},{"$f":"IF(基本データ!AU231<>\"\",\"○\",\"\")","v":""},{"$f":"IF(基本データ!AV231<>\"\",\"○\",\"\")","v":""},{"$f":"IF(基本データ!AW231<>\"\",\"○\",\"\")","v":""},{"$f":"IF(基本データ!AX231<>\"\",\"○\",\"\")","v":""},{"$f":"IF(基本データ!AY231<>\"\",\"○\",\"\")","v":""},{"$f":"IF(基本データ!AZ231<>\"\",\"○\",\"\")","v":""},{"$f":"IF(基本データ!BA231<>\"\",\"○\",\"\")","v":"○"},{"$f":"IF(基本データ!BB231<>\"\",\"○\",\"\")","v":""},{"$f":"IF(基本データ!BC231<>\"\",\"○\",\"\")","v":""},{"$f":"IF(基本データ!BD231<>\"\",\"○\",\"\")","v":""},{"$f":"IF(基本データ!BE231<>\"\",\"○\",\"\")","v":""},{"$f":"IF(基本データ!BF231<>\"\",\"○\",\"\")","v":"○"},{"$f":"IF(基本データ!BG231<>\"\",\"○\",\"\")","v":""},{"$f":"基本データ!BN231","v":0},{"$f":"IF(基本データ!BH231<>\"\",\"○\",\"\")","v":""},{"$f":"IF(基本データ!BI231<>\"\",\"○\",\"\")","v":""},{"$f":"IF(基本データ!BJ231<>\"\",\"○\",\"\")","v":""},{"$f":"IF(基本データ!BK231<>\"\",\"○\",\"\")","v":""},{"$f":"IF(基本データ!BL231<>\"\",\"○\",\"\")","v":""},{"$f":"IF(基本データ!BM231<>\"\",\"○\",\"\")","v":""}]
[230,{"$f":"基本データ!J232","v":"群馬県"},{"$f":"基本データ!B232","v":2021},{"$f":"基本データ!I232","v":"伊勢崎市民病院"},{"$f":"基本データ!AL232","v":13},{"$f":"IF(基本データ!AM232<>\"\",\"○\",\"\")","v":"○"},{"$f":"IF(基本データ!AN232<>\"\",\"○\",\"\")","v":"○"},{"$f":"IF(基本データ!AO232<>\"\",\"○\",\"\")","v":""},{"$f":"IF(基本データ!AP232<>\"\",\"○\",\"\")","v":"○"},{"$f":"IF(基本データ!AQ232<>\"\",\"○\",\"\")","v":""},{"$f":"IF(基本データ!AR232<>\"\",\"○\",\"\")","v":"○"},{"$f":"IF(基本データ!AS232<>\"\",\"○\",\"\")","v":""},{"$f":"IF(基本データ!AT232<>\"\",\"○\",\"\")","v":""},{"$f":"IF(基本データ!AU232<>\"\",\"○\",\"\")","v":"○"},{"$f":"IF(基本データ!AV232<>\"\",\"○\",\"\")","v":""},{"$f":"IF(基本データ!AW232<>\"\",\"○\",\"\")","v":"○"},{"$f":"IF(基本データ!AX232<>\"\",\"○\",\"\")","v":"○"},{"$f":"IF(基本データ!AY232<>\"\",\"○\",\"\")","v":"○"},{"$f":"IF(基本データ!AZ232<>\"\",\"○\",\"\")","v":""},{"$f":"IF(基本データ!BA232<>\"\",\"○\",\"\")","v":"○"},{"$f":"IF(基本データ!BB232<>\"\",\"○\",\"\")","v":"○"},{"$f":"IF(基本データ!BC232<>\"\",\"○\",\"\")","v":""},{"$f":"IF(基本データ!BD232<>\"\",\"○\",\"\")","v":"○"},{"$f":"IF(基本データ!BE232<>\"\",\"○\",\"\")","v":"○"},{"$f":"IF(基本データ!BF232<>\"\",\"○\",\"\")","v":"○"},{"$f":"IF(基本データ!BG232<>\"\",\"○\",\"\")","v":""},{"$f":"基本データ!BN232","v":3},{"$f":"IF(基本データ!BH232<>\"\",\"○\",\"\")","v":""},{"$f":"IF(基本データ!BI232<>\"\",\"○\",\"\")","v":"○"},{"$f":"IF(基本データ!BJ232<>\"\",\"○\",\"\")","v":"○"},{"$f":"IF(基本データ!BK232<>\"\",\"○\",\"\")","v":""},{"$f":"IF(基本データ!BL232<>\"\",\"○\",\"\")","v":""},{"$f":"IF(基本データ!BM232<>\"\",\"○\",\"\")","v":"○"}]
[231,{"$f":"基本データ!J233","v":"群馬県"},{"$f":"基本データ!B233","v":2021},{"$f":"基本データ!I233","v":"医療法人済恵会　須藤病院"},{"$f":"基本データ!AL233","v":2},{"$f":"IF(基本データ!AM233<>\"\",\"○\",\"\")","v":""},{"$f":"IF(基本データ!AN233<>\"\",\"○\",\"\")","v":""},{"$f":"IF(基本データ!AO233<>\"\",\"○\",\"\")","v":""},{"$f":"IF(基本データ!AP233<>\"\",\"○\",\"\")","v":""},{"$f":"IF(基本データ!AQ233<>\"\",\"○\",\"\")","v":""},{"$f":"IF(基本データ!AR233<>\"\",\"○\",\"\")","v":""},{"$f":"IF(基本データ!AS233<>\"\",\"○\",\"\")","v":""},{"$f":"IF(基本データ!AT233<>\"\",\"○\",\"\")","v":""},{"$f":"IF(基本データ!AU233<>\"\",\"○\",\"\")","v":""},{"$f":"IF(基本データ!AV233<>\"\",\"○\",\"\")","v":"○"},{"$f":"IF(基本データ!AW233<>\"\",\"○\",\"\")","v":""},{"$f":"IF(基本データ!AX233<>\"\",\"○\",\"\")","v":""},{"$f":"IF(基本データ!AY233<>\"\",\"○\",\"\")","v":""},{"$f":"IF(基本データ!AZ233<>\"\",\"○\",\"\")","v":""},{"$f":"IF(基本データ!BA233<>\"\",\"○\",\"\")","v":"○"},{"$f":"IF(基本データ!BB233<>\"\",\"○\",\"\")","v":""},{"$f":"IF(基本データ!BC233<>\"\",\"○\",\"\")","v":""},{"$f":"IF(基本データ!BD233<>\"\",\"○\",\"\")","v":""},{"$f":"IF(基本データ!BE233<>\"\",\"○\",\"\")","v":""},{"$f":"IF(基本データ!BF233<>\"\",\"○\",\"\")","v":""},{"$f":"IF(基本データ!BG233<>\"\",\"○\",\"\")","v":""},{"$f":"基本データ!BN233","v":0},{"$f":"IF(基本データ!BH233<>\"\",\"○\",\"\")","v":""},{"$f":"IF(基本データ!BI233<>\"\",\"○\",\"\")","v":""},{"$f":"IF(基本データ!BJ233<>\"\",\"○\",\"\")","v":""},{"$f":"IF(基本データ!BK233<>\"\",\"○\",\"\")","v":""},{"$f":"IF(基本データ!BL233<>\"\",\"○\",\"\")","v":""},{"$f":"IF(基本データ!BM233<>\"\",\"○\",\"\")","v":""}]
[232,{"$f":"基本データ!J234","v":"群馬県"},{"$f":"基本データ!B234","v":2021},{"$f":"基本データ!I234","v":"国立大学法人群馬大学医学部附属病院"},{"$f":"基本データ!AL234","v":15},{"$f":"IF(基本データ!AM234<>\"\",\"○\",\"\")","v":"○"},{"$f":"IF(基本データ!AN234<>\"\",\"○\",\"\")","v":"○"},{"$f":"IF(基本データ!AO234<>\"\",\"○\",\"\")","v":"○"},{"$f":"IF(基本データ!AP234<>\"\",\"○\",\"\")","v":"○"},{"$f":"IF(基本データ!AQ234<>\"\",\"○\",\"\")","v":""},{"$f":"IF(基本データ!AR234<>\"\",\"○\",\"\")","v":"○"},{"$f":"IF(基本データ!AS234<>\"\",\"○\",\"\")","v":"○"},{"$f":"IF(基本データ!AT234<>\"\",\"○\",\"\")","v":""},{"$f":"IF(基本データ!AU234<>\"\",\"○\",\"\")","v":"○"},{"$f":"IF(基本データ!AV234<>\"\",\"○\",\"\")","v":"○"},{"$f":"IF(基本データ!AW234<>\"\",\"○\",\"\")","v":""},{"$f":"IF(基本データ!AX234<>\"\",\"○\",\"\")","v":"○"},{"$f":"IF(基本データ!AY234<>\"\",\"○\",\"\")","v":"○"},{"$f":"IF(基本データ!AZ234<>\"\",\"○\",\"\")","v":""},{"$f":"IF(基本データ!BA234<>\"\",\"○\",\"\")","v":"○"},{"$f":"IF(基本データ!BB234<>\"\",\"○\",\"\")","v":""},{"$f":"IF(基本データ!BC234<>\"\",\"○\",\"\")","v":"○"},{"$f":"IF(基本データ!BD234<>\"\",\"○\",\"\")","v":"○"},{"$f":"IF(基本データ!BE234<>\"\",\"○\",\"\")","v":"○"},{"$f":"IF(基本データ!BF234<>\"\",\"○\",\"\")","v":"○"},{"$f":"IF(基本データ!BG234<>\"\",\"○\",\"\")","v":""},{"$f":"基本データ!BN234","v":2},{"$f":"IF(基本データ!BH234<>\"\",\"○\",\"\")","v":""},{"$f":"IF(基本データ!BI234<>\"\",\"○\",\"\")","v":"○"},{"$f":"IF(基本データ!BJ234<>\"\",\"○\",\"\")","v":""},{"$f":"IF(基本データ!BK234<>\"\",\"○\",\"\")","v":""},{"$f":"IF(基本データ!BL234<>\"\",\"○\",\"\")","v":""},{"$f":"IF(基本データ!BM234<>\"\",\"○\",\"\")","v":"○"}]
[233,{"$f":"基本データ!J235","v":"千葉県"},{"$f":"基本データ!B235","v":2021},{"$f":"基本データ!I235","v":"医療法人　徳洲会　鎌ケ谷総合病院"},{"$f":"基本データ!AL235","v":12},{"$f":"IF(基本データ!AM235<>\"\",\"○\",\"\")","v":"○"},{"$f":"IF(基本データ!AN235<>\"\",\"○\",\"\")","v":"○"},{"$f":"IF(基本データ!AO235<>\"\",\"○\",\"\")","v":"○"},{"$f":"IF(基本データ!AP235<>\"\",\"○\",\"\")","v":""},{"$f":"IF(基本データ!AQ235<>\"\",\"○\",\"\")","v":""},{"$f":"IF(基本データ!AR235<>\"\",\"○\",\"\")","v":"○"},{"$f":"IF(基本データ!AS235<>\"\",\"○\",\"\")","v":"○"},{"$f":"IF(基本データ!AT235<>\"\",\"○\",\"\")","v":""},{"$f":"IF(基本データ!AU235<>\"\",\"○\",\"\")","v":"○"},{"$f":"IF(基本データ!AV235<>\"\",\"○\",\"\")","v":"○"},{"$f":"IF(基本データ!AW235<>\"\",\"○\",\"\")","v":""},{"$f":"IF(基本データ!AX235<>\"\",\"○\",\"\")","v":"○"},{"$f":"IF(基本データ!AY235<>\"\",\"○\",\"\")","v":"○"},{"$f":"IF(基本データ!AZ235<>\"\",\"○\",\"\")","v":""},{"$f":"IF(基本データ!BA235<>\"\",\"○\",\"\")","v":"○"},{"$f":"IF(基本データ!BB235<>\"\",\"○\",\"\")","v":""},{"$f":"IF(基本データ!BC235<>\"\",\"○\",\"\")","v":""},{"$f":"IF(基本データ!BD235<>\"\",\"○\",\"\")","v":"○"},{"$f":"IF(基本データ!BE235<>\"\",\"○\",\"\")","v":"○"},{"$f":"IF(基本データ!BF235<>\"\",\"○\",\"\")","v":""},{"$f":"IF(基本データ!BG235<>\"\",\"○\",\"\")","v":""},{"$f":"基本データ!BN235","v":1},{"$f":"IF(基本データ!BH235<>\"\",\"○\",\"\")","v":""},{"$f":"IF(基本データ!BI235<>\"\",\"○\",\"\")","v":"○"},{"$f":"IF(基本データ!BJ235<>\"\",\"○\",\"\")","v":""},{"$f":"IF(基本データ!BK235<>\"\",\"○\",\"\")","v":""},{"$f":"IF(基本データ!BL235<>\"\",\"○\",\"\")","v":""},{"$f":"IF(基本データ!BM235<>\"\",\"○\",\"\")","v":""}]
[234,{"$f":"基本データ!J236","v":"東京都"},{"$f":"基本データ!B236","v":2021},{"$f":"基本データ!I236","v":"一般社団法人　日本周麻酔期看護医学会"},{"$f":"基本データ!AL236","v":6},{"$f":"IF(基本データ!AM236<>\"\",\"○\",\"\")","v":"○"},{"$f":"IF(基本データ!AN236<>\"\",\"○\",\"\")","v":"○"},{"$f":"IF(基本データ!AO236<>\"\",\"○\",\"\")","v":""},{"$f":"IF(基本データ!AP236<>\"\",\"○\",\"\")","v":""},{"$f":"IF(基本データ!AQ236<>\"\",\"○\",\"\")","v":""},{"$f":"IF(基本データ!AR236<>\"\",\"○\",\"\")","v":""},{"$f":"IF(基本データ!AS236<>\"\",\"○\",\"\")","v":""},{"$f":"IF(基本データ!AT236<>\"\",\"○\",\"\")","v":""},{"$f":"IF(基本データ!AU236<>\"\",\"○\",\"\")","v":""},{"$f":"IF(基本データ!AV236<>\"\",\"○\",\"\")","v":""},{"$f":"IF(基本データ!AW236<>\"\",\"○\",\"\")","v":""},{"$f":"IF(基本データ!AX236<>\"\",\"○\",\"\")","v":""},{"$f":"IF(基本データ!AY236<>\"\",\"○\",\"\")","v":"○"},{"$f":"IF(基本データ!AZ236<>\"\",\"○\",\"\")","v":""},{"$f":"IF(基本データ!BA236<>\"\",\"○\",\"\")","v":"○"},{"$f":"IF(基本データ!BB236<>\"\",\"○\",\"\")","v":""},{"$f":"IF(基本データ!BC236<>\"\",\"○\",\"\")","v":""},{"$f":"IF(基本データ!BD236<>\"\",\"○\",\"\")","v":"○"},{"$f":"IF(基本データ!BE236<>\"\",\"○\",\"\")","v":"○"},{"$f":"IF(基本データ!BF236<>\"\",\"○\",\"\")","v":""},{"$f":"IF(基本データ!BG236<>\"\",\"○\",\"\")","v":""},{"$f":"基本データ!BN236","v":1},{"$f":"IF(基本データ!BH236<>\"\",\"○\",\"\")","v":""},{"$f":"IF(基本データ!BI236<>\"\",\"○\",\"\")","v":""},{"$f":"IF(基本データ!BJ236<>\"\",\"○\",\"\")","v":"○"},{"$f":"IF(基本データ!BK236<>\"\",\"○\",\"\")","v":""},{"$f":"IF(基本データ!BL236<>\"\",\"○\",\"\")","v":""},{"$f":"IF(基本データ!BM236<>\"\",\"○\",\"\")","v":""}]
[235,{"$f":"基本データ!J237","v":"東京都"},{"$f":"基本データ!B237","v":2021},{"$f":"基本データ!I237","v":"学校法人杏林学園　杏林大学医学部付属病院"},{"$f":"基本データ!AL237","v":13},{"$f":"IF(基本データ!AM237<>\"\",\"○\",\"\")","v":"○"},{"$f":"IF(基本データ!AN237<>\"\",\"○\",\"\")","v":"○"},{"$f":"IF(基本データ!AO237<>\"\",\"○\",\"\")","v":"○"},{"$f":"IF(基本データ!AP237<>\"\",\"○\",\"\")","v":""},{"$f":"IF(基本データ!AQ237<>\"\",\"○\",\"\")","v":""},{"$f":"IF(基本データ!AR237<>\"\",\"○\",\"\")","v":"○"},{"$f":"IF(基本データ!AS237<>\"\",\"○\",\"\")","v":"○"},{"$f":"IF(基本データ!AT237<>\"\",\"○\",\"\")","v":""},{"$f":"IF(基本データ!AU237<>\"\",\"○\",\"\")","v":"○"},{"$f":"IF(基本データ!AV237<>\"\",\"○\",\"\")","v":"○"},{"$f":"IF(基本データ!AW237<>\"\",\"○\",\"\")","v":"○"},{"$f":"IF(基本データ!AX237<>\"\",\"○\",\"\")","v":"○"},{"$f":"IF(基本データ!AY237<>\"\",\"○\",\"\")","v":"○"},{"$f":"IF(基本データ!AZ237<>\"\",\"○\",\"\")","v":""},{"$f":"IF(基本データ!BA237<>\"\",\"○\",\"\")","v":"○"},{"$f":"IF(基本データ!BB237<>\"\",\"○\",\"\")","v":""},{"$f":"IF(基本データ!BC237<>\"\",\"○\",\"\")","v":""},{"$f":"IF(基本データ!BD237<>\"\",\"○\",\"\")","v":"○"},{"$f":"IF(基本データ!BE237<>\"\",\"○\",\"\")","v":"○"},{"$f":"IF(基本データ!BF237<>\"\",\"○\",\"\")","v":""},{"$f":"IF(基本データ!BG237<>\"\",\"○\",\"\")","v":""},{"$f":"基本データ!BN237","v":1},{"$f":"IF(基本データ!BH237<>\"\",\"○\",\"\")","v":""},{"$f":"IF(基本データ!BI237<>\"\",\"○\",\"\")","v":"○"},{"$f":"IF(基本データ!BJ237<>\"\",\"○\",\"\")","v":""},{"$f":"IF(基本データ!BK237<>\"\",\"○\",\"\")","v":""},{"$f":"IF(基本データ!BL237<>\"\",\"○\",\"\")","v":""},{"$f":"IF(基本データ!BM237<>\"\",\"○\",\"\")","v":""}]
[236,{"$f":"基本データ!J238","v":"東京都"},{"$f":"基本データ!B238","v":2021},{"$f":"基本データ!I238","v":"学校法人日本医科大学　日本医科大学多摩永山病院"},{"$f":"基本データ!AL238","v":8},{"$f":"IF(基本データ!AM238<>\"\",\"○\",\"\")","v":"○"},{"$f":"IF(基本データ!AN238<>\"\",\"○\",\"\")","v":"○"},{"$f":"IF(基本データ!AO238<>\"\",\"○\",\"\")","v":"○"},{"$f":"IF(基本データ!AP238<>\"\",\"○\",\"\")","v":""},{"$f":"IF(基本データ!AQ238<>\"\",\"○\",\"\")","v":""},{"$f":"IF(基本データ!AR238<>\"\",\"○\",\"\")","v":""},{"$f":"IF(基本データ!AS238<>\"\",\"○\",\"\")","v":""},{"$f":"IF(基本データ!AT238<>\"\",\"○\",\"\")","v":""},{"$f":"IF(基本データ!AU238<>\"\",\"○\",\"\")","v":"○"},{"$f":"IF(基本データ!AV238<>\"\",\"○\",\"\")","v":""},{"$f":"IF(基本データ!AW238<>\"\",\"○\",\"\")","v":""},{"$f":"IF(基本データ!AX238<>\"\",\"○\",\"\")","v":""},{"$f":"IF(基本データ!AY238<>\"\",\"○\",\"\")","v":"○"},{"$f":"IF(基本データ!AZ238<>\"\",\"○\",\"\")","v":""},{"$f":"IF(基本データ!BA238<>\"\",\"○\",\"\")","v":"○"},{"$f":"IF(基本データ!BB238<>\"\",\"○\",\"\")","v":""},{"$f":"IF(基本データ!BC238<>\"\",\"○\",\"\")","v":""},{"$f":"IF(基本データ!BD238<>\"\",\"○\",\"\")","v":"○"},{"$f":"IF(基本データ!BE238<>\"\",\"○\",\"\")","v":"○"},{"$f":"IF(基本データ!BF238<>\"\",\"○\",\"\")","v":""},{"$f":"IF(基本データ!BG238<>\"\",\"○\",\"\")","v":""},{"$f":"基本データ!BN238","v":1},{"$f":"IF(基本データ!BH238<>\"\",\"○\",\"\")","v":""},{"$f":"IF(基本データ!BI238<>\"\",\"○\",\"\")","v":""},{"$f":"IF(基本データ!BJ238<>\"\",\"○\",\"\")","v":"○"},{"$f":"IF(基本データ!BK238<>\"\",\"○\",\"\")","v":""},{"$f":"IF(基本データ!BL238<>\"\",\"○\",\"\")","v":""},{"$f":"IF(基本データ!BM238<>\"\",\"○\",\"\")","v":""}]
[237,{"$f":"基本データ!J239","v":"東京都"},{"$f":"基本データ!B239","v":2021},{"$f":"基本データ!I239","v":"社会福祉法人三井記念病院"},{"$f":"基本データ!AL239","v":8},{"$f":"IF(基本データ!AM239<>\"\",\"○\",\"\")","v":"○"},{"$f":"IF(基本データ!AN239<>\"\",\"○\",\"\")","v":"○"},{"$f":"IF(基本データ!AO239<>\"\",\"○\",\"\")","v":""},{"$f":"IF(基本データ!AP239<>\"\",\"○\",\"\")","v":""},{"$f":"IF(基本データ!AQ239<>\"\",\"○\",\"\")","v":""},{"$f":"IF(基本データ!AR239<>\"\",\"○\",\"\")","v":""},{"$f":"IF(基本データ!AS239<>\"\",\"○\",\"\")","v":""},{"$f":"IF(基本データ!AT239<>\"\",\"○\",\"\")","v":""},{"$f":"IF(基本データ!AU239<>\"\",\"○\",\"\")","v":""},{"$f":"IF(基本データ!AV239<>\"\",\"○\",\"\")","v":""},{"$f":"IF(基本データ!AW239<>\"\",\"○\",\"\")","v":"○"},{"$f":"IF(基本データ!AX239<>\"\",\"○\",\"\")","v":"○"},{"$f":"IF(基本データ!AY239<>\"\",\"○\",\"\")","v":"○"},{"$f":"IF(基本データ!AZ239<>\"\",\"○\",\"\")","v":""},{"$f":"IF(基本データ!BA239<>\"\",\"○\",\"\")","v":"○"},{"$f":"IF(基本データ!BB239<>\"\",\"○\",\"\")","v":""},{"$f":"IF(基本データ!BC239<>\"\",\"○\",\"\")","v":""},{"$f":"IF(基本データ!BD239<>\"\",\"○\",\"\")","v":"○"},{"$f":"IF(基本データ!BE239<>\"\",\"○\",\"\")","v":"○"},{"$f":"IF(基本データ!BF239<>\"\",\"○\",\"\")","v":""},{"$f":"IF(基本データ!BG239<>\"\",\"○\",\"\")","v":""},{"$f":"基本データ!BN239","v":1},{"$f":"IF(基本データ!BH239<>\"\",\"○\",\"\")","v":""},{"$f":"IF(基本データ!BI239<>\"\",\"○\",\"\")","v":""},{"$f":"IF(基本データ!BJ239<>\"\",\"○\",\"\")","v":"○"},{"$f":"IF(基本データ!BK239<>\"\",\"○\",\"\")","v":""},{"$f":"IF(基本データ!BL239<>\"\",\"○\",\"\")","v":""},{"$f":"IF(基本データ!BM239<>\"\",\"○\",\"\")","v":""}]
[238,{"$f":"基本データ!J240","v":"神奈川県"},{"$f":"基本データ!B240","v":2021},{"$f":"基本データ!I240","v":"医療法人社団康心会　湘南東部総合病院"},{"$f":"基本データ!AL240","v":9},{"$f":"IF(基本データ!AM240<>\"\",\"○\",\"\")","v":""},{"$f":"IF(基本データ!AN240<>\"\",\"○\",\"\")","v":""},{"$f":"IF(基本データ!AO240<>\"\",\"○\",\"\")","v":"○"},{"$f":"IF(基本データ!AP240<>\"\",\"○\",\"\")","v":""},{"$f":"IF(基本データ!AQ240<>\"\",\"○\",\"\")","v":""},{"$f":"IF(基本データ!AR240<>\"\",\"○\",\"\")","v":""},{"$f":"IF(基本データ!AS240<>\"\",\"○\",\"\")","v":"○"},{"$f":"IF(基本データ!AT240<>\"\",\"○\",\"\")","v":"○"},{"$f":"IF(基本データ!AU240<>\"\",\"○\",\"\")","v":""},{"$f":"IF(基本データ!AV240<>\"\",\"○\",\"\")","v":""},{"$f":"IF(基本データ!AW240<>\"\",\"○\",\"\")","v":"○"},{"$f":"IF(基本データ!AX240<>\"\",\"○\",\"\")","v":"○"},{"$f":"IF(基本データ!AY240<>\"\",\"○\",\"\")","v":"○"},{"$f":"IF(基本データ!AZ240<>\"\",\"○\",\"\")","v":""},{"$f":"IF(基本データ!BA240<>\"\",\"○\",\"\")","v":"○"},{"$f":"IF(基本データ!BB240<>\"\",\"○\",\"\")","v":"○"},{"$f":"IF(基本データ!BC240<>\"\",\"○\",\"\")","v":""},{"$f":"IF(基本データ!BD240<>\"\",\"○\",\"\")","v":"○"},{"$f":"IF(基本データ!BE240<>\"\",\"○\",\"\")","v":""},{"$f":"IF(基本データ!BF240<>\"\",\"○\",\"\")","v":""},{"$f":"IF(基本データ!BG240<>\"\",\"○\",\"\")","v":""},{"$f":"基本データ!BN240","v":1},{"$f":"IF(基本データ!BH240<>\"\",\"○\",\"\")","v":"○"},{"$f":"IF(基本データ!BI240<>\"\",\"○\",\"\")","v":""},{"$f":"IF(基本データ!BJ240<>\"\",\"○\",\"\")","v":""},{"$f":"IF(基本データ!BK240<>\"\",\"○\",\"\")","v":""},{"$f":"IF(基本データ!BL240<>\"\",\"○\",\"\")","v":""},{"$f":"IF(基本データ!BM240<>\"\",\"○\",\"\")","v":""}]
[239,{"$f":"基本データ!J241","v":"東京都"},{"$f":"基本データ!B241","v":2021},{"$f":"基本データ!I241","v":"学校法人昭和医科大学　昭和大学認定看護師教育センター"},{"$f":"基本データ!AL241","v":14},{"$f":"IF(基本データ!AM241<>\"\",\"○\",\"\")","v":"○"},{"$f":"IF(基本データ!AN241<>\"\",\"○\",\"\")","v":"○"},{"$f":"IF(基本データ!AO241<>\"\",\"○\",\"\")","v":"○"},{"$f":"IF(基本データ!AP241<>\"\",\"○\",\"\")","v":""},{"$f":"IF(基本データ!AQ241<>\"\",\"○\",\"\")","v":""},{"$f":"IF(基本データ!AR241<>\"\",\"○\",\"\")","v":"○"},{"$f":"IF(基本データ!AS241<>\"\",\"○\",\"\")","v":""},{"$f":"IF(基本データ!AT241<>\"\",\"○\",\"\")","v":""},{"$f":"IF(基本データ!AU241<>\"\",\"○\",\"\")","v":"○"},{"$f":"IF(基本データ!AV241<>\"\",\"○\",\"\")","v":""},{"$f":"IF(基本データ!AW241<>\"\",\"○\",\"\")","v":"○"},{"$f":"IF(基本データ!AX241<>\"\",\"○\",\"\")","v":"○"},{"$f":"IF(基本データ!AY241<>\"\",\"○\",\"\")","v":"○"},{"$f":"IF(基本データ!AZ241<>\"\",\"○\",\"\")","v":"○"},{"$f":"IF(基本データ!BA241<>\"\",\"○\",\"\")","v":"○"},{"$f":"IF(基本データ!BB241<>\"\",\"○\",\"\")","v":"○"},{"$f":"IF(基本データ!BC241<>\"\",\"○\",\"\")","v":""},{"$f":"IF(基本データ!BD241<>\"\",\"○\",\"\")","v":"○"},{"$f":"IF(基本データ!BE241<>\"\",\"○\",\"\")","v":"○"},{"$f":"IF(基本データ!BF241<>\"\",\"○\",\"\")","v":"○"},{"$f":"IF(基本データ!BG241<>\"\",\"○\",\"\")","v":""},{"$f":"基本データ!BN241","v":2},{"$f":"IF(基本データ!BH241<>\"\",\"○\",\"\")","v":""},{"$f":"IF(基本データ!BI241<>\"\",\"○\",\"\")","v":""},{"$f":"IF(基本データ!BJ241<>\"\",\"○\",\"\")","v":"○"},{"$f":"IF(基本データ!BK241<>\"\",\"○\",\"\")","v":""},{"$f":"IF(基本データ!BL241<>\"\",\"○\",\"\")","v":"○"},{"$f":"IF(基本データ!BM241<>\"\",\"○\",\"\")","v":""}]
[240,{"$f":"基本データ!J242","v":"神奈川県"},{"$f":"基本データ!B242","v":2021},{"$f":"基本データ!I242","v":"神奈川県厚生農業協同組合連合会　相模原協同病院"},{"$f":"基本データ!AL242","v":6},{"$f":"IF(基本データ!AM242<>\"\",\"○\",\"\")","v":"○"},{"$f":"IF(基本データ!AN242<>\"\",\"○\",\"\")","v":"○"},{"$f":"IF(基本データ!AO242<>\"\",\"○\",\"\")","v":""},{"$f":"IF(基本データ!AP242<>\"\",\"○\",\"\")","v":""},{"$f":"IF(基本データ!AQ242<>\"\",\"○\",\"\")","v":""},{"$f":"IF(基本データ!AR242<>\"\",\"○\",\"\")","v":""},{"$f":"IF(基本データ!AS242<>\"\",\"○\",\"\")","v":""},{"$f":"IF(基本データ!AT242<>\"\",\"○\",\"\")","v":""},{"$f":"IF(基本データ!AU242<>\"\",\"○\",\"\")","v":"○"},{"$f":"IF(基本データ!AV242<>\"\",\"○\",\"\")","v":"○"},{"$f":"IF(基本データ!AW242<>\"\",\"○\",\"\")","v":""},{"$f":"IF(基本データ!AX242<>\"\",\"○\",\"\")","v":""},{"$f":"IF(基本データ!AY242<>\"\",\"○\",\"\")","v":"○"},{"$f":"IF(基本データ!AZ242<>\"\",\"○\",\"\")","v":""},{"$f":"IF(基本データ!BA242<>\"\",\"○\",\"\")","v":"○"},{"$f":"IF(基本データ!BB242<>\"\",\"○\",\"\")","v":""},{"$f":"IF(基本データ!BC242<>\"\",\"○\",\"\")","v":""},{"$f":"IF(基本データ!BD242<>\"\",\"○\",\"\")","v":""},{"$f":"IF(基本データ!BE242<>\"\",\"○\",\"\")","v":""},{"$f":"IF(基本データ!BF242<>\"\",\"○\",\"\")","v":""},{"$f":"IF(基本データ!BG242<>\"\",\"○\",\"\")","v":""},{"$f":"基本データ!BN242","v":0},{"$f":"IF(基本データ!BH242<>\"\",\"○\",\"\")","v":""},{"$f":"IF(基本データ!BI242<>\"\",\"○\",\"\")","v":""},{"$f":"IF(基本データ!BJ242<>\"\",\"○\",\"\")","v":""},{"$f":"IF(基本データ!BK242<>\"\",\"○\",\"\")","v":""},{"$f":"IF(基本データ!BL242<>\"\",\"○\",\"\")","v":""},{"$f":"IF(基本データ!BM242<>\"\",\"○\",\"\")","v":""}]
[241,{"$f":"基本データ!J243","v":"神奈川県"},{"$f":"基本データ!B243","v":2021},{"$f":"基本データ!I243","v":"地方独立行政法人　神奈川県立病院機構　神奈川県立足柄上病院"},{"$f":"基本データ!AL243","v":3},{"$f":"IF(基本データ!AM243<>\"\",\"○\",\"\")","v":""},{"$f":"IF(基本データ!AN243<>\"\",\"○\",\"\")","v":""},{"$f":"IF(基本データ!AO243<>\"\",\"○\",\"\")","v":""},{"$f":"IF(基本データ!AP243<>\"\",\"○\",\"\")","v":""},{"$f":"IF(基本データ!AQ243<>\"\",\"○\",\"\")","v":""},{"$f":"IF(基本データ!AR243<>\"\",\"○\",\"\")","v":""},{"$f":"IF(基本データ!AS243<>\"\",\"○\",\"\")","v":""},{"$f":"IF(基本データ!AT243<>\"\",\"○\",\"\")","v":""},{"$f":"IF(基本データ!AU243<>\"\",\"○\",\"\")","v":""},{"$f":"IF(基本データ!AV243<>\"\",\"○\",\"\")","v":""},{"$f":"IF(基本データ!AW243<>\"\",\"○\",\"\")","v":""},{"$f":"IF(基本データ!AX243<>\"\",\"○\",\"\")","v":"○"},{"$f":"IF(基本データ!AY243<>\"\",\"○\",\"\")","v":""},{"$f":"IF(基本データ!AZ243<>\"\",\"○\",\"\")","v":""},{"$f":"IF(基本データ!BA243<>\"\",\"○\",\"\")","v":"○"},{"$f":"IF(基本データ!BB243<>\"\",\"○\",\"\")","v":""},{"$f":"IF(基本データ!BC243<>\"\",\"○\",\"\")","v":"○"},{"$f":"IF(基本データ!BD243<>\"\",\"○\",\"\")","v":""},{"$f":"IF(基本データ!BE243<>\"\",\"○\",\"\")","v":""},{"$f":"IF(基本データ!BF243<>\"\",\"○\",\"\")","v":""},{"$f":"IF(基本データ!BG243<>\"\",\"○\",\"\")","v":""},{"$f":"基本データ!BN243","v":0},{"$f":"IF(基本データ!BH243<>\"\",\"○\",\"\")","v":""},{"$f":"IF(基本データ!BI243<>\"\",\"○\",\"\")","v":""},{"$f":"IF(基本データ!BJ243<>\"\",\"○\",\"\")","v":""},{"$f":"IF(基本データ!BK243<>\"\",\"○\",\"\")","v":""},{"$f":"IF(基本データ!BL243<>\"\",\"○\",\"\")","v":""},{"$f":"IF(基本データ!BM243<>\"\",\"○\",\"\")","v":""}]
[242,{"$f":"基本データ!J244","v":"神奈川県"},{"$f":"基本データ!B244","v":2021},{"$f":"基本データ!I244","v":"横浜市立市民病院"},{"$f":"基本データ!AL244","v":8},{"$f":"IF(基本データ!AM244<>\"\",\"○\",\"\")","v":""},{"$f":"IF(基本データ!AN244<>\"\",\"○\",\"\")","v":"○"},{"$f":"IF(基本データ!AO244<>\"\",\"○\",\"\")","v":""},{"$f":"IF(基本データ!AP244<>\"\",\"○\",\"\")","v":""},{"$f":"IF(基本データ!AQ244<>\"\",\"○\",\"\")","v":""},{"$f":"IF(基本データ!AR244<>\"\",\"○\",\"\")","v":""},{"$f":"IF(基本データ!AS244<>\"\",\"○\",\"\")","v":""},{"$f":"IF(基本データ!AT244<>\"\",\"○\",\"\")","v":""},{"$f":"IF(基本データ!AU244<>\"\",\"○\",\"\")","v":""},{"$f":"IF(基本データ!AV244<>\"\",\"○\",\"\")","v":"○"},{"$f":"IF(基本データ!AW244<>\"\",\"○\",\"\")","v":"○"},{"$f":"IF(基本データ!AX244<>\"\",\"○\",\"\")","v":"○"},{"$f":"IF(基本データ!AY244<>\"\",\"○\",\"\")","v":"○"},{"$f":"IF(基本データ!AZ244<>\"\",\"○\",\"\")","v":""},{"$f":"IF(基本データ!BA244<>\"\",\"○\",\"\")","v":"○"},{"$f":"IF(基本データ!BB244<>\"\",\"○\",\"\")","v":""},{"$f":"IF(基本データ!BC244<>\"\",\"○\",\"\")","v":"○"},{"$f":"IF(基本データ!BD244<>\"\",\"○\",\"\")","v":""},{"$f":"IF(基本データ!BE244<>\"\",\"○\",\"\")","v":"○"},{"$f":"IF(基本データ!BF244<>\"\",\"○\",\"\")","v":""},{"$f":"IF(基本データ!BG244<>\"\",\"○\",\"\")","v":""},{"$f":"基本データ!BN244","v":0},{"$f":"IF(基本データ!BH244<>\"\",\"○\",\"\")","v":""},{"$f":"IF(基本データ!BI244<>\"\",\"○\",\"\")","v":""},{"$f":"IF(基本データ!BJ244<>\"\",\"○\",\"\")","v":""},{"$f":"IF(基本データ!BK244<>\"\",\"○\",\"\")","v":""},{"$f":"IF(基本データ!BL244<>\"\",\"○\",\"\")","v":""},{"$f":"IF(基本データ!BM244<>\"\",\"○\",\"\")","v":""}]
[243,{"$f":"基本データ!J245","v":"長野県"},{"$f":"基本データ!B245","v":2021},{"$f":"基本データ!I245","v":"JA長野厚生連　佐久総合病院　佐久医療センター"},{"$f":"基本データ!AL245","v":19},{"$f":"IF(基本データ!AM245<>\"\",\"○\",\"\")","v":"○"},{"$f":"IF(基本データ!AN245<>\"\",\"○\",\"\")","v":"○"},{"$f":"IF(基本データ!AO245<>\"\",\"○\",\"\")","v":"○"},{"$f":"IF(基本データ!AP245<>\"\",\"○\",\"\")","v":"○"},{"$f":"IF(基本データ!AQ245<>\"\",\"○\",\"\")","v":"○"},{"$f":"IF(基本データ!AR245<>\"\",\"○\",\"\")","v":"○"},{"$f":"IF(基本データ!AS245<>\"\",\"○\",\"\")","v":"○"},{"$f":"IF(基本データ!AT245<>\"\",\"○\",\"\")","v":"○"},{"$f":"IF(基本データ!AU245<>\"\",\"○\",\"\")","v":"○"},{"$f":"IF(基本データ!AV245<>\"\",\"○\",\"\")","v":"○"},{"$f":"IF(基本データ!AW245<>\"\",\"○\",\"\")","v":"○"},{"$f":"IF(基本データ!AX245<>\"\",\"○\",\"\")","v":"○"},{"$f":"IF(基本データ!AY245<>\"\",\"○\",\"\")","v":"○"},{"$f":"IF(基本データ!AZ245<>\"\",\"○\",\"\")","v":""},{"$f":"IF(基本データ!BA245<>\"\",\"○\",\"\")","v":"○"},{"$f":"IF(基本データ!BB245<>\"\",\"○\",\"\")","v":"○"},{"$f":"IF(基本データ!BC245<>\"\",\"○\",\"\")","v":"○"},{"$f":"IF(基本データ!BD245<>\"\",\"○\",\"\")","v":"○"},{"$f":"IF(基本データ!BE245<>\"\",\"○\",\"\")","v":"○"},{"$f":"IF(基本データ!BF245<>\"\",\"○\",\"\")","v":"○"},{"$f":"IF(基本データ!BG245<>\"\",\"○\",\"\")","v":""},{"$f":"基本データ!BN245","v":1},{"$f":"IF(基本データ!BH245<>\"\",\"○\",\"\")","v":"○"},{"$f":"IF(基本データ!BI245<>\"\",\"○\",\"\")","v":""},{"$f":"IF(基本データ!BJ245<>\"\",\"○\",\"\")","v":""},{"$f":"IF(基本データ!BK245<>\"\",\"○\",\"\")","v":""},{"$f":"IF(基本データ!BL245<>\"\",\"○\",\"\")","v":""},{"$f":"IF(基本データ!BM245<>\"\",\"○\",\"\")","v":""}]
[244,{"$f":"基本データ!J246","v":"静岡県"},{"$f":"基本データ!B246","v":2021},{"$f":"基本データ!I246","v":"静岡県公立大学法人　静岡県立大学"},{"$f":"基本データ!AL246","v":6},{"$f":"IF(基本データ!AM246<>\"\",\"○\",\"\")","v":""},{"$f":"IF(基本データ!AN246<>\"\",\"○\",\"\")","v":""},{"$f":"IF(基本データ!AO246<>\"\",\"○\",\"\")","v":"○"},{"$f":"IF(基本データ!AP246<>\"\",\"○\",\"\")","v":""},{"$f":"IF(基本データ!AQ246<>\"\",\"○\",\"\")","v":""},{"$f":"IF(基本データ!AR246<>\"\",\"○\",\"\")","v":""},{"$f":"IF(基本データ!AS246<>\"\",\"○\",\"\")","v":""},{"$f":"IF(基本データ!AT246<>\"\",\"○\",\"\")","v":"○"},{"$f":"IF(基本データ!AU246<>\"\",\"○\",\"\")","v":""},{"$f":"IF(基本データ!AV246<>\"\",\"○\",\"\")","v":""},{"$f":"IF(基本データ!AW246<>\"\",\"○\",\"\")","v":"○"},{"$f":"IF(基本データ!AX246<>\"\",\"○\",\"\")","v":""},{"$f":"IF(基本データ!AY246<>\"\",\"○\",\"\")","v":""},{"$f":"IF(基本データ!AZ246<>\"\",\"○\",\"\")","v":""},{"$f":"IF(基本データ!BA246<>\"\",\"○\",\"\")","v":"○"},{"$f":"IF(基本データ!BB246<>\"\",\"○\",\"\")","v":"○"},{"$f":"IF(基本データ!BC246<>\"\",\"○\",\"\")","v":"○"},{"$f":"IF(基本データ!BD246<>\"\",\"○\",\"\")","v":""},{"$f":"IF(基本データ!BE246<>\"\",\"○\",\"\")","v":""},{"$f":"IF(基本データ!BF246<>\"\",\"○\",\"\")","v":""},{"$f":"IF(基本データ!BG246<>\"\",\"○\",\"\")","v":""},{"$f":"基本データ!BN246","v":1},{"$f":"IF(基本データ!BH246<>\"\",\"○\",\"\")","v":"○"},{"$f":"IF(基本データ!BI246<>\"\",\"○\",\"\")","v":""},{"$f":"IF(基本データ!BJ246<>\"\",\"○\",\"\")","v":""},{"$f":"IF(基本データ!BK246<>\"\",\"○\",\"\")","v":""},{"$f":"IF(基本データ!BL246<>\"\",\"○\",\"\")","v":""},{"$f":"IF(基本データ!BM246<>\"\",\"○\",\"\")","v":""}]
[245,{"$f":"基本データ!J247","v":"愛知県"},{"$f":"基本データ!B247","v":2021},{"$f":"基本データ!I247","v":"愛知県厚生農業協同組合連合会　海南病院"},{"$f":"基本データ!AL247","v":15},{"$f":"IF(基本データ!AM247<>\"\",\"○\",\"\")","v":"○"},{"$f":"IF(基本データ!AN247<>\"\",\"○\",\"\")","v":"○"},{"$f":"IF(基本データ!AO247<>\"\",\"○\",\"\")","v":"○"},{"$f":"IF(基本データ!AP247<>\"\",\"○\",\"\")","v":""},{"$f":"IF(基本データ!AQ247<>\"\",\"○\",\"\")","v":""},{"$f":"IF(基本データ!AR247<>\"\",\"○\",\"\")","v":""},{"$f":"IF(基本データ!AS247<>\"\",\"○\",\"\")","v":"○"},{"$f":"IF(基本データ!AT247<>\"\",\"○\",\"\")","v":"○"},{"$f":"IF(基本データ!AU247<>\"\",\"○\",\"\")","v":"○"},{"$f":"IF(基本データ!AV247<>\"\",\"○\",\"\")","v":"○"},{"$f":"IF(基本データ!AW247<>\"\",\"○\",\"\")","v":"○"},{"$f":"IF(基本データ!AX247<>\"\",\"○\",\"\")","v":"○"},{"$f":"IF(基本データ!AY247<>\"\",\"○\",\"\")","v":"○"},{"$f":"IF(基本データ!AZ247<>\"\",\"○\",\"\")","v":""},{"$f":"IF(基本データ!BA247<>\"\",\"○\",\"\")","v":"○"},{"$f":"IF(基本データ!BB247<>\"\",\"○\",\"\")","v":"○"},{"$f":"IF(基本データ!BC247<>\"\",\"○\",\"\")","v":"○"},{"$f":"IF(基本データ!BD247<>\"\",\"○\",\"\")","v":"○"},{"$f":"IF(基本データ!BE247<>\"\",\"○\",\"\")","v":"○"},{"$f":"IF(基本データ!BF247<>\"\",\"○\",\"\")","v":""},{"$f":"IF(基本データ!BG247<>\"\",\"○\",\"\")","v":""},{"$f":"基本データ!BN247","v":3},{"$f":"IF(基本データ!BH247<>\"\",\"○\",\"\")","v":"○"},{"$f":"IF(基本データ!BI247<>\"\",\"○\",\"\")","v":""},{"$f":"IF(基本データ!BJ247<>\"\",\"○\",\"\")","v":"○"},{"$f":"IF(基本データ!BK247<>\"\",\"○\",\"\")","v":""},{"$f":"IF(基本データ!BL247<>\"\",\"○\",\"\")","v":"○"},{"$f":"IF(基本データ!BM247<>\"\",\"○\",\"\")","v":""}]
[246,{"$f":"基本データ!J248","v":"愛知県"},{"$f":"基本データ!B248","v":2021},{"$f":"基本データ!I248","v":"医療法人　徳洲会　名古屋徳洲会総合病院"},{"$f":"基本データ!AL248","v":7},{"$f":"IF(基本データ!AM248<>\"\",\"○\",\"\")","v":"○"},{"$f":"IF(基本データ!AN248<>\"\",\"○\",\"\")","v":"○"},{"$f":"IF(基本データ!AO248<>\"\",\"○\",\"\")","v":""},{"$f":"IF(基本データ!AP248<>\"\",\"○\",\"\")","v":"○"},{"$f":"IF(基本データ!AQ248<>\"\",\"○\",\"\")","v":""},{"$f":"IF(基本データ!AR248<>\"\",\"○\",\"\")","v":""},{"$f":"IF(基本データ!AS248<>\"\",\"○\",\"\")","v":""},{"$f":"IF(基本データ!AT248<>\"\",\"○\",\"\")","v":""},{"$f":"IF(基本データ!AU248<>\"\",\"○\",\"\")","v":"○"},{"$f":"IF(基本データ!AV248<>\"\",\"○\",\"\")","v":"○"},{"$f":"IF(基本データ!AW248<>\"\",\"○\",\"\")","v":""},{"$f":"IF(基本データ!AX248<>\"\",\"○\",\"\")","v":""},{"$f":"IF(基本データ!AY248<>\"\",\"○\",\"\")","v":"○"},{"$f":"IF(基本データ!AZ248<>\"\",\"○\",\"\")","v":""},{"$f":"IF(基本データ!BA248<>\"\",\"○\",\"\")","v":""},{"$f":"IF(基本データ!BB248<>\"\",\"○\",\"\")","v":""},{"$f":"IF(基本データ!BC248<>\"\",\"○\",\"\")","v":""},{"$f":"IF(基本データ!BD248<>\"\",\"○\",\"\")","v":""},{"$f":"IF(基本データ!BE248<>\"\",\"○\",\"\")","v":"○"},{"$f":"IF(基本データ!BF248<>\"\",\"○\",\"\")","v":""},{"$f":"IF(基本データ!BG248<>\"\",\"○\",\"\")","v":""},{"$f":"基本データ!BN248","v":1},{"$f":"IF(基本データ!BH248<>\"\",\"○\",\"\")","v":""},{"$f":"IF(基本データ!BI248<>\"\",\"○\",\"\")","v":""},{"$f":"IF(基本データ!BJ248<>\"\",\"○\",\"\")","v":""},{"$f":"IF(基本データ!BK248<>\"\",\"○\",\"\")","v":""},{"$f":"IF(基本データ!BL248<>\"\",\"○\",\"\")","v":""},{"$f":"IF(基本データ!BM248<>\"\",\"○\",\"\")","v":"○"}]
[247,{"$f":"基本データ!J249","v":"愛知県"},{"$f":"基本データ!B249","v":2021},{"$f":"基本データ!I249","v":"小牧市民病院"},{"$f":"基本データ!AL249","v":11},{"$f":"IF(基本データ!AM249<>\"\",\"○\",\"\")","v":"○"},{"$f":"IF(基本データ!AN249<>\"\",\"○\",\"\")","v":"○"},{"$f":"IF(基本データ!AO249<>\"\",\"○\",\"\")","v":""},{"$f":"IF(基本データ!AP249<>\"\",\"○\",\"\")","v":""},{"$f":"IF(基本データ!AQ249<>\"\",\"○\",\"\")","v":""},{"$f":"IF(基本データ!AR249<>\"\",\"○\",\"\")","v":""},{"$f":"IF(基本データ!AS249<>\"\",\"○\",\"\")","v":"○"},{"$f":"IF(基本データ!AT249<>\"\",\"○\",\"\")","v":""},{"$f":"IF(基本データ!AU249<>\"\",\"○\",\"\")","v":"○"},{"$f":"IF(基本データ!AV249<>\"\",\"○\",\"\")","v":""},{"$f":"IF(基本データ!AW249<>\"\",\"○\",\"\")","v":"○"},{"$f":"IF(基本データ!AX249<>\"\",\"○\",\"\")","v":"○"},{"$f":"IF(基本データ!AY249<>\"\",\"○\",\"\")","v":"○"},{"$f":"IF(基本データ!AZ249<>\"\",\"○\",\"\")","v":""},{"$f":"IF(基本データ!BA249<>\"\",\"○\",\"\")","v":"○"},{"$f":"IF(基本データ!BB249<>\"\",\"○\",\"\")","v":"○"},{"$f":"IF(基本データ!BC249<>\"\",\"○\",\"\")","v":""},{"$f":"IF(基本データ!BD249<>\"\",\"○\",\"\")","v":"○"},{"$f":"IF(基本データ!BE249<>\"\",\"○\",\"\")","v":"○"},{"$f":"IF(基本データ!BF249<>\"\",\"○\",\"\")","v":""},{"$f":"IF(基本データ!BG249<>\"\",\"○\",\"\")","v":""},{"$f":"基本データ!BN249","v":2},{"$f":"IF(基本データ!BH249<>\"\",\"○\",\"\")","v":""},{"$f":"IF(基本データ!BI249<>\"\",\"○\",\"\")","v":""},{"$f":"IF(基本データ!BJ249<>\"\",\"○\",\"\")","v":"○"},{"$f":"IF(基本データ!BK249<>\"\",\"○\",\"\")","v":""},{"$f":"IF(基本データ!BL249<>\"\",\"○\",\"\")","v":"○"},{"$f":"IF(基本データ!BM249<>\"\",\"○\",\"\")","v":""}]
[248,{"$f":"基本データ!J250","v":"京都府"},{"$f":"基本データ!B250","v":2021},{"$f":"基本データ!I250","v":"医療法人徳洲会　宇治徳洲会病院"},{"$f":"基本データ!AL250","v":19},{"$f":"IF(基本データ!AM250<>\"\",\"○\",\"\")","v":"○"},{"$f":"IF(基本データ!AN250<>\"\",\"○\",\"\")","v":"○"},{"$f":"IF(基本データ!AO250<>\"\",\"○\",\"\")","v":"○"},{"$f":"IF(基本データ!AP250<>\"\",\"○\",\"\")","v":"○"},{"$f":"IF(基本データ!AQ250<>\"\",\"○\",\"\")","v":"○"},{"$f":"IF(基本データ!AR250<>\"\",\"○\",\"\")","v":"○"},{"$f":"IF(基本データ!AS250<>\"\",\"○\",\"\")","v":""},{"$f":"IF(基本データ!AT250<>\"\",\"○\",\"\")","v":"○"},{"$f":"IF(基本データ!AU250<>\"\",\"○\",\"\")","v":"○"},{"$f":"IF(基本データ!AV250<>\"\",\"○\",\"\")","v":"○"},{"$f":"IF(基本データ!AW250<>\"\",\"○\",\"\")","v":"○"},{"$f":"IF(基本データ!AX250<>\"\",\"○\",\"\")","v":"○"},{"$f":"IF(基本データ!AY250<>\"\",\"○\",\"\")","v":"○"},{"$f":"IF(基本データ!AZ250<>\"\",\"○\",\"\")","v":"○"},{"$f":"IF(基本データ!BA250<>\"\",\"○\",\"\")","v":"○"},{"$f":"IF(基本データ!BB250<>\"\",\"○\",\"\")","v":"○"},{"$f":"IF(基本データ!BC250<>\"\",\"○\",\"\")","v":"○"},{"$f":"IF(基本データ!BD250<>\"\",\"○\",\"\")","v":"○"},{"$f":"IF(基本データ!BE250<>\"\",\"○\",\"\")","v":"○"},{"$f":"IF(基本データ!BF250<>\"\",\"○\",\"\")","v":"○"},{"$f":"IF(基本データ!BG250<>\"\",\"○\",\"\")","v":""},{"$f":"基本データ!BN250","v":5},{"$f":"IF(基本データ!BH250<>\"\",\"○\",\"\")","v":"○"},{"$f":"IF(基本データ!BI250<>\"\",\"○\",\"\")","v":""},{"$f":"IF(基本データ!BJ250<>\"\",\"○\",\"\")","v":"○"},{"$f":"IF(基本データ!BK250<>\"\",\"○\",\"\")","v":"○"},{"$f":"IF(基本データ!BL250<>\"\",\"○\",\"\")","v":"○"},{"$f":"IF(基本データ!BM250<>\"\",\"○\",\"\")","v":"○"}]
[249,{"$f":"基本データ!J251","v":"京都府"},{"$f":"基本データ!B251","v":2021},{"$f":"基本データ!I251","v":"社会福祉法人京都社会事業財団　京都桂病院"},{"$f":"基本データ!AL251","v":10},{"$f":"IF(基本データ!AM251<>\"\",\"○\",\"\")","v":"○"},{"$f":"IF(基本データ!AN251<>\"\",\"○\",\"\")","v":"○"},{"$f":"IF(基本データ!AO251<>\"\",\"○\",\"\")","v":""},{"$f":"IF(基本データ!AP251<>\"\",\"○\",\"\")","v":""},{"$f":"IF(基本データ!AQ251<>\"\",\"○\",\"\")","v":""},{"$f":"IF(基本データ!AR251<>\"\",\"○\",\"\")","v":""},{"$f":"IF(基本データ!AS251<>\"\",\"○\",\"\")","v":""},{"$f":"IF(基本データ!AT251<>\"\",\"○\",\"\")","v":""},{"$f":"IF(基本データ!AU251<>\"\",\"○\",\"\")","v":"○"},{"$f":"IF(基本データ!AV251<>\"\",\"○\",\"\")","v":"○"},{"$f":"IF(基本データ!AW251<>\"\",\"○\",\"\")","v":"○"},{"$f":"IF(基本データ!AX251<>\"\",\"○\",\"\")","v":""},{"$f":"IF(基本データ!AY251<>\"\",\"○\",\"\")","v":"○"},{"$f":"IF(基本データ!AZ251<>\"\",\"○\",\"\")","v":""},{"$f":"IF(基本データ!BA251<>\"\",\"○\",\"\")","v":"○"},{"$f":"IF(基本データ!BB251<>\"\",\"○\",\"\")","v":""},{"$f":"IF(基本データ!BC251<>\"\",\"○\",\"\")","v":""},{"$f":"IF(基本データ!BD251<>\"\",\"○\",\"\")","v":"○"},{"$f":"IF(基本データ!BE251<>\"\",\"○\",\"\")","v":"○"},{"$f":"IF(基本データ!BF251<>\"\",\"○\",\"\")","v":"○"},{"$f":"IF(基本データ!BG251<>\"\",\"○\",\"\")","v":""},{"$f":"基本データ!BN251","v":2},{"$f":"IF(基本データ!BH251<>\"\",\"○\",\"\")","v":""},{"$f":"IF(基本データ!BI251<>\"\",\"○\",\"\")","v":""},{"$f":"IF(基本データ!BJ251<>\"\",\"○\",\"\")","v":"○"},{"$f":"IF(基本データ!BK251<>\"\",\"○\",\"\")","v":"○"},{"$f":"IF(基本データ!BL251<>\"\",\"○\",\"\")","v":""},{"$f":"IF(基本データ!BM251<>\"\",\"○\",\"\")","v":""}]
[250,{"$f":"基本データ!J252","v":"大阪府"},{"$f":"基本データ!B252","v":2021},{"$f":"基本データ!I252","v":"医療法人ダイワ会　大和病院"},{"$f":"基本データ!AL252","v":2},{"$f":"IF(基本データ!AM252<>\"\",\"○\",\"\")","v":""},{"$f":"IF(基本データ!AN252<>\"\",\"○\",\"\")","v":""},{"$f":"IF(基本データ!AO252<>\"\",\"○\",\"\")","v":""},{"$f":"IF(基本データ!AP252<>\"\",\"○\",\"\")","v":""},{"$f":"IF(基本データ!AQ252<>\"\",\"○\",\"\")","v":""},{"$f":"IF(基本データ!AR252<>\"\",\"○\",\"\")","v":""},{"$f":"IF(基本データ!AS252<>\"\",\"○\",\"\")","v":""},{"$f":"IF(基本データ!AT252<>\"\",\"○\",\"\")","v":""},{"$f":"IF(基本データ!AU252<>\"\",\"○\",\"\")","v":""},{"$f":"IF(基本データ!AV252<>\"\",\"○\",\"\")","v":"○"},{"$f":"IF(基本データ!AW252<>\"\",\"○\",\"\")","v":""},{"$f":"IF(基本データ!AX252<>\"\",\"○\",\"\")","v":""},{"$f":"IF(基本データ!AY252<>\"\",\"○\",\"\")","v":""},{"$f":"IF(基本データ!AZ252<>\"\",\"○\",\"\")","v":""},{"$f":"IF(基本データ!BA252<>\"\",\"○\",\"\")","v":"○"},{"$f":"IF(基本データ!BB252<>\"\",\"○\",\"\")","v":""},{"$f":"IF(基本データ!BC252<>\"\",\"○\",\"\")","v":""},{"$f":"IF(基本データ!BD252<>\"\",\"○\",\"\")","v":""},{"$f":"IF(基本データ!BE252<>\"\",\"○\",\"\")","v":""},{"$f":"IF(基本データ!BF252<>\"\",\"○\",\"\")","v":""},{"$f":"IF(基本データ!BG252<>\"\",\"○\",\"\")","v":""},{"$f":"基本データ!BN252","v":0},{"$f":"IF(基本データ!BH252<>\"\",\"○\",\"\")","v":""},{"$f":"IF(基本データ!BI252<>\"\",\"○\",\"\")","v":""},{"$f":"IF(基本データ!BJ252<>\"\",\"○\",\"\")","v":""},{"$f":"IF(基本データ!BK252<>\"\",\"○\",\"\")","v":""},{"$f":"IF(基本データ!BL252<>\"\",\"○\",\"\")","v":""},{"$f":"IF(基本データ!BM252<>\"\",\"○\",\"\")","v":""}]
[251,{"$f":"基本データ!J253","v":"大阪府"},{"$f":"基本データ!B253","v":2021},{"$f":"基本データ!I253","v":"医療法人徳洲会　野崎徳洲会病院"},{"$f":"基本データ!AL253","v":6},{"$f":"IF(基本データ!AM253<>\"\",\"○\",\"\")","v":"○"},{"$f":"IF(基本データ!AN253<>\"\",\"○\",\"\")","v":"○"},{"$f":"IF(基本データ!AO253<>\"\",\"○\",\"\")","v":"○"},{"$f":"IF(基本データ!AP253<>\"\",\"○\",\"\")","v":""},{"$f":"IF(基本データ!AQ253<>\"\",\"○\",\"\")","v":""},{"$f":"IF(基本データ!AR253<>\"\",\"○\",\"\")","v":""},{"$f":"IF(基本データ!AS253<>\"\",\"○\",\"\")","v":""},{"$f":"IF(基本データ!AT253<>\"\",\"○\",\"\")","v":""},{"$f":"IF(基本データ!AU253<>\"\",\"○\",\"\")","v":"○"},{"$f":"IF(基本データ!AV253<>\"\",\"○\",\"\")","v":"○"},{"$f":"IF(基本データ!AW253<>\"\",\"○\",\"\")","v":""},{"$f":"IF(基本データ!AX253<>\"\",\"○\",\"\")","v":""},{"$f":"IF(基本データ!AY253<>\"\",\"○\",\"\")","v":"○"},{"$f":"IF(基本データ!AZ253<>\"\",\"○\",\"\")","v":""},{"$f":"IF(基本データ!BA253<>\"\",\"○\",\"\")","v":""},{"$f":"IF(基本データ!BB253<>\"\",\"○\",\"\")","v":""},{"$f":"IF(基本データ!BC253<>\"\",\"○\",\"\")","v":""},{"$f":"IF(基本データ!BD253<>\"\",\"○\",\"\")","v":""},{"$f":"IF(基本データ!BE253<>\"\",\"○\",\"\")","v":""},{"$f":"IF(基本データ!BF253<>\"\",\"○\",\"\")","v":""},{"$f":"IF(基本データ!BG253<>\"\",\"○\",\"\")","v":""},{"$f":"基本データ!BN253","v":0},{"$f":"IF(基本データ!BH253<>\"\",\"○\",\"\")","v":""},{"$f":"IF(基本データ!BI253<>\"\",\"○\",\"\")","v":""},{"$f":"IF(基本データ!BJ253<>\"\",\"○\",\"\")","v":""},{"$f":"IF(基本データ!BK253<>\"\",\"○\",\"\")","v":""},{"$f":"IF(基本データ!BL253<>\"\",\"○\",\"\")","v":""},{"$f":"IF(基本データ!BM253<>\"\",\"○\",\"\")","v":""}]
[252,{"$f":"基本データ!J254","v":"大阪府"},{"$f":"基本データ!B254","v":2021},{"$f":"基本データ!I254","v":"医療法人　徳洲会　八尾徳洲会総合病院"},{"$f":"基本データ!AL254","v":15},{"$f":"IF(基本データ!AM254<>\"\",\"○\",\"\")","v":"○"},{"$f":"IF(基本データ!AN254<>\"\",\"○\",\"\")","v":"○"},{"$f":"IF(基本データ!AO254<>\"\",\"○\",\"\")","v":"○"},{"$f":"IF(基本データ!AP254<>\"\",\"○\",\"\")","v":""},{"$f":"IF(基本データ!AQ254<>\"\",\"○\",\"\")","v":""},{"$f":"IF(基本データ!AR254<>\"\",\"○\",\"\")","v":"○"},{"$f":"IF(基本データ!AS254<>\"\",\"○\",\"\")","v":"○"},{"$f":"IF(基本データ!AT254<>\"\",\"○\",\"\")","v":"○"},{"$f":"IF(基本データ!AU254<>\"\",\"○\",\"\")","v":"○"},{"$f":"IF(基本データ!AV254<>\"\",\"○\",\"\")","v":"○"},{"$f":"IF(基本データ!AW254<>\"\",\"○\",\"\")","v":"○"},{"$f":"IF(基本データ!AX254<>\"\",\"○\",\"\")","v":"○"},{"$f":"IF(基本データ!AY254<>\"\",\"○\",\"\")","v":"○"},{"$f":"IF(基本データ!AZ254<>\"\",\"○\",\"\")","v":""},{"$f":"IF(基本データ!BA254<>\"\",\"○\",\"\")","v":"○"},{"$f":"IF(基本データ!BB254<>\"\",\"○\",\"\")","v":""},{"$f":"IF(基本データ!BC254<>\"\",\"○\",\"\")","v":""},{"$f":"IF(基本データ!BD254<>\"\",\"○\",\"\")","v":"○"},{"$f":"IF(基本データ!BE254<>\"\",\"○\",\"\")","v":"○"},{"$f":"IF(基本データ!BF254<>\"\",\"○\",\"\")","v":"○"},{"$f":"IF(基本データ!BG254<>\"\",\"○\",\"\")","v":""},{"$f":"基本データ!BN254","v":4},{"$f":"IF(基本データ!BH254<>\"\",\"○\",\"\")","v":"○"},{"$f":"IF(基本データ!BI254<>\"\",\"○\",\"\")","v":"○"},{"$f":"IF(基本データ!BJ254<>\"\",\"○\",\"\")","v":"○"},{"$f":"IF(基本データ!BK254<>\"\",\"○\",\"\")","v":"○"},{"$f":"IF(基本データ!BL254<>\"\",\"○\",\"\")","v":""},{"$f":"IF(基本データ!BM254<>\"\",\"○\",\"\")","v":""}]
[253,{"$f":"基本データ!J255","v":"大阪府"},{"$f":"基本データ!B255","v":2021},{"$f":"基本データ!I255","v":"社会医療法人ペガサス　馬場記念病院"},{"$f":"基本データ!AL255","v":13},{"$f":"IF(基本データ!AM255<>\"\",\"○\",\"\")","v":"○"},{"$f":"IF(基本データ!AN255<>\"\",\"○\",\"\")","v":"○"},{"$f":"IF(基本データ!AO255<>\"\",\"○\",\"\")","v":"○"},{"$f":"IF(基本データ!AP255<>\"\",\"○\",\"\")","v":""},{"$f":"IF(基本データ!AQ255<>\"\",\"○\",\"\")","v":""},{"$f":"IF(基本データ!AR255<>\"\",\"○\",\"\")","v":""},{"$f":"IF(基本データ!AS255<>\"\",\"○\",\"\")","v":"○"},{"$f":"IF(基本データ!AT255<>\"\",\"○\",\"\")","v":"○"},{"$f":"IF(基本データ!AU255<>\"\",\"○\",\"\")","v":"○"},{"$f":"IF(基本データ!AV255<>\"\",\"○\",\"\")","v":"○"},{"$f":"IF(基本データ!AW255<>\"\",\"○\",\"\")","v":"○"},{"$f":"IF(基本データ!AX255<>\"\",\"○\",\"\")","v":"○"},{"$f":"IF(基本データ!AY255<>\"\",\"○\",\"\")","v":"○"},{"$f":"IF(基本データ!AZ255<>\"\",\"○\",\"\")","v":""},{"$f":"IF(基本データ!BA255<>\"\",\"○\",\"\")","v":"○"},{"$f":"IF(基本データ!BB255<>\"\",\"○\",\"\")","v":"○"},{"$f":"IF(基本データ!BC255<>\"\",\"○\",\"\")","v":""},{"$f":"IF(基本データ!BD255<>\"\",\"○\",\"\")","v":""},{"$f":"IF(基本データ!BE255<>\"\",\"○\",\"\")","v":""},{"$f":"IF(基本データ!BF255<>\"\",\"○\",\"\")","v":"○"},{"$f":"IF(基本データ!BG255<>\"\",\"○\",\"\")","v":""},{"$f":"基本データ!BN255","v":1},{"$f":"IF(基本データ!BH255<>\"\",\"○\",\"\")","v":"○"},{"$f":"IF(基本データ!BI255<>\"\",\"○\",\"\")","v":""},{"$f":"IF(基本データ!BJ255<>\"\",\"○\",\"\")","v":""},{"$f":"IF(基本データ!BK255<>\"\",\"○\",\"\")","v":""},{"$f":"IF(基本データ!BL255<>\"\",\"○\",\"\")","v":""},{"$f":"IF(基本データ!BM255<>\"\",\"○\",\"\")","v":""}]
[254,{"$f":"基本データ!J256","v":"大阪府"},{"$f":"基本データ!B256","v":2021},{"$f":"基本データ!I256","v":"社会医療法人生長会　ベルランド総合病院"},{"$f":"基本データ!AL256","v":14},{"$f":"IF(基本データ!AM256<>\"\",\"○\",\"\")","v":"○"},{"$f":"IF(基本データ!AN256<>\"\",\"○\",\"\")","v":"○"},{"$f":"IF(基本データ!AO256<>\"\",\"○\",\"\")","v":"○"},{"$f":"IF(基本データ!AP256<>\"\",\"○\",\"\")","v":"○"},{"$f":"IF(基本データ!AQ256<>\"\",\"○\",\"\")","v":""},{"$f":"IF(基本データ!AR256<>\"\",\"○\",\"\")","v":"○"},{"$f":"IF(基本データ!AS256<>\"\",\"○\",\"\")","v":"○"},{"$f":"IF(基本データ!AT256<>\"\",\"○\",\"\")","v":""},{"$f":"IF(基本データ!AU256<>\"\",\"○\",\"\")","v":"○"},{"$f":"IF(基本データ!AV256<>\"\",\"○\",\"\")","v":"○"},{"$f":"IF(基本データ!AW256<>\"\",\"○\",\"\")","v":""},{"$f":"IF(基本データ!AX256<>\"\",\"○\",\"\")","v":"○"},{"$f":"IF(基本データ!AY256<>\"\",\"○\",\"\")","v":"○"},{"$f":"IF(基本データ!AZ256<>\"\",\"○\",\"\")","v":""},{"$f":"IF(基本データ!BA256<>\"\",\"○\",\"\")","v":"○"},{"$f":"IF(基本データ!BB256<>\"\",\"○\",\"\")","v":""},{"$f":"IF(基本データ!BC256<>\"\",\"○\",\"\")","v":""},{"$f":"IF(基本データ!BD256<>\"\",\"○\",\"\")","v":"○"},{"$f":"IF(基本データ!BE256<>\"\",\"○\",\"\")","v":"○"},{"$f":"IF(基本データ!BF256<>\"\",\"○\",\"\")","v":"○"},{"$f":"IF(基本データ!BG256<>\"\",\"○\",\"\")","v":""},{"$f":"基本データ!BN256","v":4},{"$f":"IF(基本データ!BH256<>\"\",\"○\",\"\")","v":""},{"$f":"IF(基本データ!BI256<>\"\",\"○\",\"\")","v":"○"},{"$f":"IF(基本データ!BJ256<>\"\",\"○\",\"\")","v":"○"},{"$f":"IF(基本データ!BK256<>\"\",\"○\",\"\")","v":"○"},{"$f":"IF(基本データ!BL256<>\"\",\"○\",\"\")","v":""},{"$f":"IF(基本データ!BM256<>\"\",\"○\",\"\")","v":"○"}]
[255,{"$f":"基本データ!J257","v":"兵庫県"},{"$f":"基本データ!B257","v":2021},{"$f":"基本データ!I257","v":"神戸市立医療センター　中央市民病院"},{"$f":"基本データ!AL257","v":3},{"$f":"IF(基本データ!AM257<>\"\",\"○\",\"\")","v":""},{"$f":"IF(基本データ!AN257<>\"\",\"○\",\"\")","v":"○"},{"$f":"IF(基本データ!AO257<>\"\",\"○\",\"\")","v":""},{"$f":"IF(基本データ!AP257<>\"\",\"○\",\"\")","v":""},{"$f":"IF(基本データ!AQ257<>\"\",\"○\",\"\")","v":""},{"$f":"IF(基本データ!AR257<>\"\",\"○\",\"\")","v":""},{"$f":"IF(基本データ!AS257<>\"\",\"○\",\"\")","v":""},{"$f":"IF(基本データ!AT257<>\"\",\"○\",\"\")","v":""},{"$f":"IF(基本データ!AU257<>\"\",\"○\",\"\")","v":""},{"$f":"IF(基本データ!AV257<>\"\",\"○\",\"\")","v":""},{"$f":"IF(基本データ!AW257<>\"\",\"○\",\"\")","v":""},{"$f":"IF(基本データ!AX257<>\"\",\"○\",\"\")","v":""},{"$f":"IF(基本データ!AY257<>\"\",\"○\",\"\")","v":"○"},{"$f":"IF(基本データ!AZ257<>\"\",\"○\",\"\")","v":""},{"$f":"IF(基本データ!BA257<>\"\",\"○\",\"\")","v":"○"},{"$f":"IF(基本データ!BB257<>\"\",\"○\",\"\")","v":""},{"$f":"IF(基本データ!BC257<>\"\",\"○\",\"\")","v":""},{"$f":"IF(基本データ!BD257<>\"\",\"○\",\"\")","v":""},{"$f":"IF(基本データ!BE257<>\"\",\"○\",\"\")","v":""},{"$f":"IF(基本データ!BF257<>\"\",\"○\",\"\")","v":""},{"$f":"IF(基本データ!BG257<>\"\",\"○\",\"\")","v":""},{"$f":"基本データ!BN257","v":0},{"$f":"IF(基本データ!BH257<>\"\",\"○\",\"\")","v":""},{"$f":"IF(基本データ!BI257<>\"\",\"○\",\"\")","v":""},{"$f":"IF(基本データ!BJ257<>\"\",\"○\",\"\")","v":""},{"$f":"IF(基本データ!BK257<>\"\",\"○\",\"\")","v":""},{"$f":"IF(基本データ!BL257<>\"\",\"○\",\"\")","v":""},{"$f":"IF(基本データ!BM257<>\"\",\"○\",\"\")","v":""}]
[256,{"$f":"基本データ!J258","v":"奈良県"},{"$f":"基本データ!B258","v":2021},{"$f":"基本データ!I258","v":"公益財団法人　天理よろづ相談所"},{"$f":"基本データ!AL258","v":13},{"$f":"IF(基本データ!AM258<>\"\",\"○\",\"\")","v":"○"},{"$f":"IF(基本データ!AN258<>\"\",\"○\",\"\")","v":"○"},{"$f":"IF(基本データ!AO258<>\"\",\"○\",\"\")","v":"○"},{"$f":"IF(基本データ!AP258<>\"\",\"○\",\"\")","v":""},{"$f":"IF(基本データ!AQ258<>\"\",\"○\",\"\")","v":""},{"$f":"IF(基本データ!AR258<>\"\",\"○\",\"\")","v":"○"},{"$f":"IF(基本データ!AS258<>\"\",\"○\",\"\")","v":"○"},{"$f":"IF(基本データ!AT258<>\"\",\"○\",\"\")","v":"○"},{"$f":"IF(基本データ!AU258<>\"\",\"○\",\"\")","v":"○"},{"$f":"IF(基本データ!AV258<>\"\",\"○\",\"\")","v":"○"},{"$f":"IF(基本データ!AW258<>\"\",\"○\",\"\")","v":"○"},{"$f":"IF(基本データ!AX258<>\"\",\"○\",\"\")","v":"○"},{"$f":"IF(基本データ!AY258<>\"\",\"○\",\"\")","v":"○"},{"$f":"IF(基本データ!AZ258<>\"\",\"○\",\"\")","v":""},{"$f":"IF(基本データ!BA258<>\"\",\"○\",\"\")","v":"○"},{"$f":"IF(基本データ!BB258<>\"\",\"○\",\"\")","v":""},{"$f":"IF(基本データ!BC258<>\"\",\"○\",\"\")","v":""},{"$f":"IF(基本データ!BD258<>\"\",\"○\",\"\")","v":"○"},{"$f":"IF(基本データ!BE258<>\"\",\"○\",\"\")","v":""},{"$f":"IF(基本データ!BF258<>\"\",\"○\",\"\")","v":""},{"$f":"IF(基本データ!BG258<>\"\",\"○\",\"\")","v":""},{"$f":"基本データ!BN258","v":1},{"$f":"IF(基本データ!BH258<>\"\",\"○\",\"\")","v":"○"},{"$f":"IF(基本データ!BI258<>\"\",\"○\",\"\")","v":""},{"$f":"IF(基本データ!BJ258<>\"\",\"○\",\"\")","v":""},{"$f":"IF(基本データ!BK258<>\"\",\"○\",\"\")","v":""},{"$f":"IF(基本データ!BL258<>\"\",\"○\",\"\")","v":""},{"$f":"IF(基本データ!BM258<>\"\",\"○\",\"\")","v":""}]
[257,{"$f":"基本データ!J259","v":"岡山県"},{"$f":"基本データ!B259","v":2021},{"$f":"基本データ!I259","v":"地方独立行政法人岡山市立総合医療センター　岡山市立市民病院"},{"$f":"基本データ!AL259","v":7},{"$f":"IF(基本データ!AM259<>\"\",\"○\",\"\")","v":"○"},{"$f":"IF(基本データ!AN259<>\"\",\"○\",\"\")","v":"○"},{"$f":"IF(基本データ!AO259<>\"\",\"○\",\"\")","v":"○"},{"$f":"IF(基本データ!AP259<>\"\",\"○\",\"\")","v":""},{"$f":"IF(基本データ!AQ259<>\"\",\"○\",\"\")","v":""},{"$f":"IF(基本データ!AR259<>\"\",\"○\",\"\")","v":""},{"$f":"IF(基本データ!AS259<>\"\",\"○\",\"\")","v":""},{"$f":"IF(基本データ!AT259<>\"\",\"○\",\"\")","v":""},{"$f":"IF(基本データ!AU259<>\"\",\"○\",\"\")","v":"○"},{"$f":"IF(基本データ!AV259<>\"\",\"○\",\"\")","v":""},{"$f":"IF(基本データ!AW259<>\"\",\"○\",\"\")","v":""},{"$f":"IF(基本データ!AX259<>\"\",\"○\",\"\")","v":""},{"$f":"IF(基本データ!AY259<>\"\",\"○\",\"\")","v":"○"},{"$f":"IF(基本データ!AZ259<>\"\",\"○\",\"\")","v":""},{"$f":"IF(基本データ!BA259<>\"\",\"○\",\"\")","v":"○"},{"$f":"IF(基本データ!BB259<>\"\",\"○\",\"\")","v":""},{"$f":"IF(基本データ!BC259<>\"\",\"○\",\"\")","v":""},{"$f":"IF(基本データ!BD259<>\"\",\"○\",\"\")","v":""},{"$f":"IF(基本データ!BE259<>\"\",\"○\",\"\")","v":""},{"$f":"IF(基本データ!BF259<>\"\",\"○\",\"\")","v":"○"},{"$f":"IF(基本データ!BG259<>\"\",\"○\",\"\")","v":""},{"$f":"基本データ!BN259","v":1},{"$f":"IF(基本データ!BH259<>\"\",\"○\",\"\")","v":""},{"$f":"IF(基本データ!BI259<>\"\",\"○\",\"\")","v":""},{"$f":"IF(基本データ!BJ259<>\"\",\"○\",\"\")","v":""},{"$f":"IF(基本データ!BK259<>\"\",\"○\",\"\")","v":"○"},{"$f":"IF(基本データ!BL259<>\"\",\"○\",\"\")","v":""},{"$f":"IF(基本データ!BM259<>\"\",\"○\",\"\")","v":""}]
[258,{"$f":"基本データ!J260","v":"広島県"},{"$f":"基本データ!B260","v":2021},{"$f":"基本データ!I260","v":"独立行政法人国立病院機構福山医療センター"},{"$f":"基本データ!AL260","v":9},{"$f":"IF(基本データ!AM260<>\"\",\"○\",\"\")","v":"○"},{"$f":"IF(基本データ!AN260<>\"\",\"○\",\"\")","v":"○"},{"$f":"IF(基本データ!AO260<>\"\",\"○\",\"\")","v":""},{"$f":"IF(基本データ!AP260<>\"\",\"○\",\"\")","v":""},{"$f":"IF(基本データ!AQ260<>\"\",\"○\",\"\")","v":""},{"$f":"IF(基本データ!AR260<>\"\",\"○\",\"\")","v":""},{"$f":"IF(基本データ!AS260<>\"\",\"○\",\"\")","v":""},{"$f":"IF(基本データ!AT260<>\"\",\"○\",\"\")","v":""},{"$f":"IF(基本データ!AU260<>\"\",\"○\",\"\")","v":"○"},{"$f":"IF(基本データ!AV260<>\"\",\"○\",\"\")","v":"○"},{"$f":"IF(基本データ!AW260<>\"\",\"○\",\"\")","v":""},{"$f":"IF(基本データ!AX260<>\"\",\"○\",\"\")","v":""},{"$f":"IF(基本データ!AY260<>\"\",\"○\",\"\")","v":"○"},{"$f":"IF(基本データ!AZ260<>\"\",\"○\",\"\")","v":""},{"$f":"IF(基本データ!BA260<>\"\",\"○\",\"\")","v":"○"},{"$f":"IF(基本データ!BB260<>\"\",\"○\",\"\")","v":""},{"$f":"IF(基本データ!BC260<>\"\",\"○\",\"\")","v":"○"},{"$f":"IF(基本データ!BD260<>\"\",\"○\",\"\")","v":"○"},{"$f":"IF(基本データ!BE260<>\"\",\"○\",\"\")","v":"○"},{"$f":"IF(基本データ!BF260<>\"\",\"○\",\"\")","v":""},{"$f":"IF(基本データ!BG260<>\"\",\"○\",\"\")","v":""},{"$f":"基本データ!BN260","v":1},{"$f":"IF(基本データ!BH260<>\"\",\"○\",\"\")","v":""},{"$f":"IF(基本データ!BI260<>\"\",\"○\",\"\")","v":""},{"$f":"IF(基本データ!BJ260<>\"\",\"○\",\"\")","v":"○"},{"$f":"IF(基本データ!BK260<>\"\",\"○\",\"\")","v":""},{"$f":"IF(基本データ!BL260<>\"\",\"○\",\"\")","v":""},{"$f":"IF(基本データ!BM260<>\"\",\"○\",\"\")","v":""}]
[259,{"$f":"基本データ!J261","v":"山口県"},{"$f":"基本データ!B261","v":2021},{"$f":"基本データ!I261","v":"公立大学法人　山口県立大学"},{"$f":"基本データ!AL261","v":2},{"$f":"IF(基本データ!AM261<>\"\",\"○\",\"\")","v":""},{"$f":"IF(基本データ!AN261<>\"\",\"○\",\"\")","v":""},{"$f":"IF(基本データ!AO261<>\"\",\"○\",\"\")","v":""},{"$f":"IF(基本データ!AP261<>\"\",\"○\",\"\")","v":""},{"$f":"IF(基本データ!AQ261<>\"\",\"○\",\"\")","v":""},{"$f":"IF(基本データ!AR261<>\"\",\"○\",\"\")","v":""},{"$f":"IF(基本データ!AS261<>\"\",\"○\",\"\")","v":""},{"$f":"IF(基本データ!AT261<>\"\",\"○\",\"\")","v":""},{"$f":"IF(基本データ!AU261<>\"\",\"○\",\"\")","v":""},{"$f":"IF(基本データ!AV261<>\"\",\"○\",\"\")","v":""},{"$f":"IF(基本データ!AW261<>\"\",\"○\",\"\")","v":""},{"$f":"IF(基本データ!AX261<>\"\",\"○\",\"\")","v":""},{"$f":"IF(基本データ!AY261<>\"\",\"○\",\"\")","v":""},{"$f":"IF(基本データ!AZ261<>\"\",\"○\",\"\")","v":""},{"$f":"IF(基本データ!BA261<>\"\",\"○\",\"\")","v":"○"},{"$f":"IF(基本データ!BB261<>\"\",\"○\",\"\")","v":"○"},{"$f":"IF(基本データ!BC261<>\"\",\"○\",\"\")","v":""},{"$f":"IF(基本データ!BD261<>\"\",\"○\",\"\")","v":""},{"$f":"IF(基本データ!BE261<>\"\",\"○\",\"\")","v":""},{"$f":"IF(基本データ!BF261<>\"\",\"○\",\"\")","v":""},{"$f":"IF(基本データ!BG261<>\"\",\"○\",\"\")","v":""},{"$f":"基本データ!BN261","v":0},{"$f":"IF(基本データ!BH261<>\"\",\"○\",\"\")","v":""},{"$f":"IF(基本データ!BI261<>\"\",\"○\",\"\")","v":""},{"$f":"IF(基本データ!BJ261<>\"\",\"○\",\"\")","v":""},{"$f":"IF(基本データ!BK261<>\"\",\"○\",\"\")","v":""},{"$f":"IF(基本データ!BL261<>\"\",\"○\",\"\")","v":""},{"$f":"IF(基本データ!BM261<>\"\",\"○\",\"\")","v":""}]
[260,{"$f":"基本データ!J262","v":"山口県"},{"$f":"基本データ!B262","v":2021},{"$f":"基本データ!I262","v":"独立行政法人国立病院機構関門医療センター"},{"$f":"基本データ!AL262","v":13},{"$f":"IF(基本データ!AM262<>\"\",\"○\",\"\")","v":"○"},{"$f":"IF(基本データ!AN262<>\"\",\"○\",\"\")","v":"○"},{"$f":"IF(基本データ!AO262<>\"\",\"○\",\"\")","v":"○"},{"$f":"IF(基本データ!AP262<>\"\",\"○\",\"\")","v":""},{"$f":"IF(基本データ!AQ262<>\"\",\"○\",\"\")","v":""},{"$f":"IF(基本データ!AR262<>\"\",\"○\",\"\")","v":""},{"$f":"IF(基本データ!AS262<>\"\",\"○\",\"\")","v":""},{"$f":"IF(基本データ!AT262<>\"\",\"○\",\"\")","v":""},{"$f":"IF(基本データ!AU262<>\"\",\"○\",\"\")","v":"○"},{"$f":"IF(基本データ!AV262<>\"\",\"○\",\"\")","v":"○"},{"$f":"IF(基本データ!AW262<>\"\",\"○\",\"\")","v":"○"},{"$f":"IF(基本データ!AX262<>\"\",\"○\",\"\")","v":"○"},{"$f":"IF(基本データ!AY262<>\"\",\"○\",\"\")","v":"○"},{"$f":"IF(基本データ!AZ262<>\"\",\"○\",\"\")","v":""},{"$f":"IF(基本データ!BA262<>\"\",\"○\",\"\")","v":"○"},{"$f":"IF(基本データ!BB262<>\"\",\"○\",\"\")","v":"○"},{"$f":"IF(基本データ!BC262<>\"\",\"○\",\"\")","v":""},{"$f":"IF(基本データ!BD262<>\"\",\"○\",\"\")","v":"○"},{"$f":"IF(基本データ!BE262<>\"\",\"○\",\"\")","v":"○"},{"$f":"IF(基本データ!BF262<>\"\",\"○\",\"\")","v":"○"},{"$f":"IF(基本データ!BG262<>\"\",\"○\",\"\")","v":""},{"$f":"基本データ!BN262","v":3},{"$f":"IF(基本データ!BH262<>\"\",\"○\",\"\")","v":""},{"$f":"IF(基本データ!BI262<>\"\",\"○\",\"\")","v":""},{"$f":"IF(基本データ!BJ262<>\"\",\"○\",\"\")","v":"○"},{"$f":"IF(基本データ!BK262<>\"\",\"○\",\"\")","v":"○"},{"$f":"IF(基本データ!BL262<>\"\",\"○\",\"\")","v":"○"},{"$f":"IF(基本データ!BM262<>\"\",\"○\",\"\")","v":""}]
[261,{"$f":"基本データ!J263","v":"福岡県"},{"$f":"基本データ!B263","v":2021},{"$f":"基本データ!I263","v":"医療法人社団　久英会　高良台リハビリテーション病院"},{"$f":"基本データ!AL263","v":4},{"$f":"IF(基本データ!AM263<>\"\",\"○\",\"\")","v":""},{"$f":"IF(基本データ!AN263<>\"\",\"○\",\"\")","v":""},{"$f":"IF(基本データ!AO263<>\"\",\"○\",\"\")","v":"○"},{"$f":"IF(基本データ!AP263<>\"\",\"○\",\"\")","v":""},{"$f":"IF(基本データ!AQ263<>\"\",\"○\",\"\")","v":""},{"$f":"IF(基本データ!AR263<>\"\",\"○\",\"\")","v":""},{"$f":"IF(基本データ!AS263<>\"\",\"○\",\"\")","v":""},{"$f":"IF(基本データ!AT263<>\"\",\"○\",\"\")","v":"○"},{"$f":"IF(基本データ!AU263<>\"\",\"○\",\"\")","v":""},{"$f":"IF(基本データ!AV263<>\"\",\"○\",\"\")","v":""},{"$f":"IF(基本データ!AW263<>\"\",\"○\",\"\")","v":"○"},{"$f":"IF(基本データ!AX263<>\"\",\"○\",\"\")","v":""},{"$f":"IF(基本データ!AY263<>\"\",\"○\",\"\")","v":""},{"$f":"IF(基本データ!AZ263<>\"\",\"○\",\"\")","v":""},{"$f":"IF(基本データ!BA263<>\"\",\"○\",\"\")","v":"○"},{"$f":"IF(基本データ!BB263<>\"\",\"○\",\"\")","v":""},{"$f":"IF(基本データ!BC263<>\"\",\"○\",\"\")","v":""},{"$f":"IF(基本データ!BD263<>\"\",\"○\",\"\")","v":""},{"$f":"IF(基本データ!BE263<>\"\",\"○\",\"\")","v":""},{"$f":"IF(基本データ!BF263<>\"\",\"○\",\"\")","v":""},{"$f":"IF(基本データ!BG263<>\"\",\"○\",\"\")","v":""},{"$f":"基本データ!BN263","v":1},{"$f":"IF(基本データ!BH263<>\"\",\"○\",\"\")","v":"○"},{"$f":"IF(基本データ!BI263<>\"\",\"○\",\"\")","v":""},{"$f":"IF(基本データ!BJ263<>\"\",\"○\",\"\")","v":""},{"$f":"IF(基本データ!BK263<>\"\",\"○\",\"\")","v":""},{"$f":"IF(基本データ!BL263<>\"\",\"○\",\"\")","v":""},{"$f":"IF(基本データ!BM263<>\"\",\"○\",\"\")","v":""}]
[262,{"$f":"基本データ!J264","v":"福岡県"},{"$f":"基本データ!B264","v":2021},{"$f":"基本データ!I264","v":"医療法人徳洲会　福岡徳洲会病院"},{"$f":"基本データ!AL264","v":15},{"$f":"IF(基本データ!AM264<>\"\",\"○\",\"\")","v":"○"},{"$f":"IF(基本データ!AN264<>\"\",\"○\",\"\")","v":"○"},{"$f":"IF(基本データ!AO264<>\"\",\"○\",\"\")","v":"○"},{"$f":"IF(基本データ!AP264<>\"\",\"○\",\"\")","v":"○"},{"$f":"IF(基本データ!AQ264<>\"\",\"○\",\"\")","v":"○"},{"$f":"IF(基本データ!AR264<>\"\",\"○\",\"\")","v":"○"},{"$f":"IF(基本データ!AS264<>\"\",\"○\",\"\")","v":"○"},{"$f":"IF(基本データ!AT264<>\"\",\"○\",\"\")","v":"○"},{"$f":"IF(基本データ!AU264<>\"\",\"○\",\"\")","v":"○"},{"$f":"IF(基本データ!AV264<>\"\",\"○\",\"\")","v":"○"},{"$f":"IF(基本データ!AW264<>\"\",\"○\",\"\")","v":"○"},{"$f":"IF(基本データ!AX264<>\"\",\"○\",\"\")","v":"○"},{"$f":"IF(基本データ!AY264<>\"\",\"○\",\"\")","v":"○"},{"$f":"IF(基本データ!AZ264<>\"\",\"○\",\"\")","v":""},{"$f":"IF(基本データ!BA264<>\"\",\"○\",\"\")","v":"○"},{"$f":"IF(基本データ!BB264<>\"\",\"○\",\"\")","v":""},{"$f":"IF(基本データ!BC264<>\"\",\"○\",\"\")","v":""},{"$f":"IF(基本データ!BD264<>\"\",\"○\",\"\")","v":""},{"$f":"IF(基本データ!BE264<>\"\",\"○\",\"\")","v":"○"},{"$f":"IF(基本データ!BF264<>\"\",\"○\",\"\")","v":""},{"$f":"IF(基本データ!BG264<>\"\",\"○\",\"\")","v":""},{"$f":"基本データ!BN264","v":2},{"$f":"IF(基本データ!BH264<>\"\",\"○\",\"\")","v":"○"},{"$f":"IF(基本データ!BI264<>\"\",\"○\",\"\")","v":""},{"$f":"IF(基本データ!BJ264<>\"\",\"○\",\"\")","v":""},{"$f":"IF(基本データ!BK264<>\"\",\"○\",\"\")","v":""},{"$f":"IF(基本データ!BL264<>\"\",\"○\",\"\")","v":""},{"$f":"IF(基本データ!BM264<>\"\",\"○\",\"\")","v":"○"}]
[263,{"$f":"基本データ!J265","v":"福岡県"},{"$f":"基本データ!B265","v":2021},{"$f":"基本データ!I265","v":"学校法人高木学園　福岡国際医療福祉大学生涯教育センター"},{"$f":"基本データ!AL265","v":3},{"$f":"IF(基本データ!AM265<>\"\",\"○\",\"\")","v":""},{"$f":"IF(基本データ!AN265<>\"\",\"○\",\"\")","v":""},{"$f":"IF(基本データ!AO265<>\"\",\"○\",\"\")","v":""},{"$f":"IF(基本データ!AP265<>\"\",\"○\",\"\")","v":""},{"$f":"IF(基本データ!AQ265<>\"\",\"○\",\"\")","v":""},{"$f":"IF(基本データ!AR265<>\"\",\"○\",\"\")","v":""},{"$f":"IF(基本データ!AS265<>\"\",\"○\",\"\")","v":""},{"$f":"IF(基本データ!AT265<>\"\",\"○\",\"\")","v":""},{"$f":"IF(基本データ!AU265<>\"\",\"○\",\"\")","v":""},{"$f":"IF(基本データ!AV265<>\"\",\"○\",\"\")","v":""},{"$f":"IF(基本データ!AW265<>\"\",\"○\",\"\")","v":""},{"$f":"IF(基本データ!AX265<>\"\",\"○\",\"\")","v":""},{"$f":"IF(基本データ!AY265<>\"\",\"○\",\"\")","v":""},{"$f":"IF(基本データ!AZ265<>\"\",\"○\",\"\")","v":""},{"$f":"IF(基本データ!BA265<>\"\",\"○\",\"\")","v":"○"},{"$f":"IF(基本データ!BB265<>\"\",\"○\",\"\")","v":"○"},{"$f":"IF(基本データ!BC265<>\"\",\"○\",\"\")","v":""},{"$f":"IF(基本データ!BD265<>\"\",\"○\",\"\")","v":""},{"$f":"IF(基本データ!BE265<>\"\",\"○\",\"\")","v":""},{"$f":"IF(基本データ!BF265<>\"\",\"○\",\"\")","v":"○"},{"$f":"IF(基本データ!BG265<>\"\",\"○\",\"\")","v":""},{"$f":"基本データ!BN265","v":0},{"$f":"IF(基本データ!BH265<>\"\",\"○\",\"\")","v":""},{"$f":"IF(基本データ!BI265<>\"\",\"○\",\"\")","v":""},{"$f":"IF(基本データ!BJ265<>\"\",\"○\",\"\")","v":""},{"$f":"IF(基本データ!BK265<>\"\",\"○\",\"\")","v":""},{"$f":"IF(基本データ!BL265<>\"\",\"○\",\"\")","v":""},{"$f":"IF(基本データ!BM265<>\"\",\"○\",\"\")","v":""}]
[264,{"$f":"基本データ!J266","v":"福岡県"},{"$f":"基本データ!B266","v":2021},{"$f":"基本データ!I266","v":"社会医療法人天神会　新古賀病院"},{"$f":"基本データ!AL266","v":14},{"$f":"IF(基本データ!AM266<>\"\",\"○\",\"\")","v":"○"},{"$f":"IF(基本データ!AN266<>\"\",\"○\",\"\")","v":"○"},{"$f":"IF(基本データ!AO266<>\"\",\"○\",\"\")","v":"○"},{"$f":"IF(基本データ!AP266<>\"\",\"○\",\"\")","v":"○"},{"$f":"IF(基本データ!AQ266<>\"\",\"○\",\"\")","v":""},{"$f":"IF(基本データ!AR266<>\"\",\"○\",\"\")","v":""},{"$f":"IF(基本データ!AS266<>\"\",\"○\",\"\")","v":""},{"$f":"IF(基本データ!AT266<>\"\",\"○\",\"\")","v":"○"},{"$f":"IF(基本データ!AU266<>\"\",\"○\",\"\")","v":"○"},{"$f":"IF(基本データ!AV266<>\"\",\"○\",\"\")","v":"○"},{"$f":"IF(基本データ!AW266<>\"\",\"○\",\"\")","v":"○"},{"$f":"IF(基本データ!AX266<>\"\",\"○\",\"\")","v":""},{"$f":"IF(基本データ!AY266<>\"\",\"○\",\"\")","v":"○"},{"$f":"IF(基本データ!AZ266<>\"\",\"○\",\"\")","v":""},{"$f":"IF(基本データ!BA266<>\"\",\"○\",\"\")","v":"○"},{"$f":"IF(基本データ!BB266<>\"\",\"○\",\"\")","v":"○"},{"$f":"IF(基本データ!BC266<>\"\",\"○\",\"\")","v":"○"},{"$f":"IF(基本データ!BD266<>\"\",\"○\",\"\")","v":"○"},{"$f":"IF(基本データ!BE266<>\"\",\"○\",\"\")","v":"○"},{"$f":"IF(基本データ!BF266<>\"\",\"○\",\"\")","v":""},{"$f":"IF(基本データ!BG266<>\"\",\"○\",\"\")","v":""},{"$f":"基本データ!BN266","v":3},{"$f":"IF(基本データ!BH266<>\"\",\"○\",\"\")","v":"○"},{"$f":"IF(基本データ!BI266<>\"\",\"○\",\"\")","v":""},{"$f":"IF(基本データ!BJ266<>\"\",\"○\",\"\")","v":"○"},{"$f":"IF(基本データ!BK266<>\"\",\"○\",\"\")","v":""},{"$f":"IF(基本データ!BL266<>\"\",\"○\",\"\")","v":""},{"$f":"IF(基本データ!BM266<>\"\",\"○\",\"\")","v":"○"}]
[265,{"$f":"基本データ!J267","v":"福岡県"},{"$f":"基本データ!B267","v":2021},{"$f":"基本データ!I267","v":"社会医療法人　陽明会　小波瀬病院"},{"$f":"基本データ!AL267","v":14},{"$f":"IF(基本データ!AM267<>\"\",\"○\",\"\")","v":"○"},{"$f":"IF(基本データ!AN267<>\"\",\"○\",\"\")","v":"○"},{"$f":"IF(基本データ!AO267<>\"\",\"○\",\"\")","v":"○"},{"$f":"IF(基本データ!AP267<>\"\",\"○\",\"\")","v":""},{"$f":"IF(基本データ!AQ267<>\"\",\"○\",\"\")","v":""},{"$f":"IF(基本データ!AR267<>\"\",\"○\",\"\")","v":"○"},{"$f":"IF(基本データ!AS267<>\"\",\"○\",\"\")","v":"○"},{"$f":"IF(基本データ!AT267<>\"\",\"○\",\"\")","v":"○"},{"$f":"IF(基本データ!AU267<>\"\",\"○\",\"\")","v":"○"},{"$f":"IF(基本データ!AV267<>\"\",\"○\",\"\")","v":"○"},{"$f":"IF(基本データ!AW267<>\"\",\"○\",\"\")","v":"○"},{"$f":"IF(基本データ!AX267<>\"\",\"○\",\"\")","v":"○"},{"$f":"IF(基本データ!AY267<>\"\",\"○\",\"\")","v":"○"},{"$f":"IF(基本データ!AZ267<>\"\",\"○\",\"\")","v":""},{"$f":"IF(基本データ!BA267<>\"\",\"○\",\"\")","v":"○"},{"$f":"IF(基本データ!BB267<>\"\",\"○\",\"\")","v":""},{"$f":"IF(基本データ!BC267<>\"\",\"○\",\"\")","v":""},{"$f":"IF(基本データ!BD267<>\"\",\"○\",\"\")","v":"○"},{"$f":"IF(基本データ!BE267<>\"\",\"○\",\"\")","v":"○"},{"$f":"IF(基本データ!BF267<>\"\",\"○\",\"\")","v":""},{"$f":"IF(基本データ!BG267<>\"\",\"○\",\"\")","v":""},{"$f":"基本データ!BN267","v":2},{"$f":"IF(基本データ!BH267<>\"\",\"○\",\"\")","v":"○"},{"$f":"IF(基本データ!BI267<>\"\",\"○\",\"\")","v":"○"},{"$f":"IF(基本データ!BJ267<>\"\",\"○\",\"\")","v":""},{"$f":"IF(基本データ!BK267<>\"\",\"○\",\"\")","v":""},{"$f":"IF(基本データ!BL267<>\"\",\"○\",\"\")","v":""},{"$f":"IF(基本データ!BM267<>\"\",\"○\",\"\")","v":""}]
[266,{"$f":"基本データ!J268","v":"福岡県"},{"$f":"基本データ!B268","v":2021},{"$f":"基本データ!I268","v":"独立行政法人国立病院機構福岡東医療センター"},{"$f":"基本データ!AL268","v":7},{"$f":"IF(基本データ!AM268<>\"\",\"○\",\"\")","v":"○"},{"$f":"IF(基本データ!AN268<>\"\",\"○\",\"\")","v":"○"},{"$f":"IF(基本データ!AO268<>\"\",\"○\",\"\")","v":"○"},{"$f":"IF(基本データ!AP268<>\"\",\"○\",\"\")","v":""},{"$f":"IF(基本データ!AQ268<>\"\",\"○\",\"\")","v":""},{"$f":"IF(基本データ!AR268<>\"\",\"○\",\"\")","v":"○"},{"$f":"IF(基本データ!AS268<>\"\",\"○\",\"\")","v":""},{"$f":"IF(基本データ!AT268<>\"\",\"○\",\"\")","v":""},{"$f":"IF(基本データ!AU268<>\"\",\"○\",\"\")","v":""},{"$f":"IF(基本データ!AV268<>\"\",\"○\",\"\")","v":""},{"$f":"IF(基本データ!AW268<>\"\",\"○\",\"\")","v":""},{"$f":"IF(基本データ!AX268<>\"\",\"○\",\"\")","v":""},{"$f":"IF(基本データ!AY268<>\"\",\"○\",\"\")","v":"○"},{"$f":"IF(基本データ!AZ268<>\"\",\"○\",\"\")","v":""},{"$f":"IF(基本データ!BA268<>\"\",\"○\",\"\")","v":"○"},{"$f":"IF(基本データ!BB268<>\"\",\"○\",\"\")","v":""},{"$f":"IF(基本データ!BC268<>\"\",\"○\",\"\")","v":""},{"$f":"IF(基本データ!BD268<>\"\",\"○\",\"\")","v":""},{"$f":"IF(基本データ!BE268<>\"\",\"○\",\"\")","v":""},{"$f":"IF(基本データ!BF268<>\"\",\"○\",\"\")","v":"○"},{"$f":"IF(基本データ!BG268<>\"\",\"○\",\"\")","v":""},{"$f":"基本データ!BN268","v":1},{"$f":"IF(基本データ!BH268<>\"\",\"○\",\"\")","v":""},{"$f":"IF(基本データ!BI268<>\"\",\"○\",\"\")","v":""},{"$f":"IF(基本データ!BJ268<>\"\",\"○\",\"\")","v":""},{"$f":"IF(基本データ!BK268<>\"\",\"○\",\"\")","v":"○"},{"$f":"IF(基本データ!BL268<>\"\",\"○\",\"\")","v":""},{"$f":"IF(基本データ!BM268<>\"\",\"○\",\"\")","v":""}]
[267,{"$f":"基本データ!J269","v":"佐賀県"},{"$f":"基本データ!B269","v":2021},{"$f":"基本データ!I269","v":"独立行政法人国立病院機構嬉野医療センター"},{"$f":"基本データ!AL269","v":5},{"$f":"IF(基本データ!AM269<>\"\",\"○\",\"\")","v":"○"},{"$f":"IF(基本データ!AN269<>\"\",\"○\",\"\")","v":"○"},{"$f":"IF(基本データ!AO269<>\"\",\"○\",\"\")","v":""},{"$f":"IF(基本データ!AP269<>\"\",\"○\",\"\")","v":""},{"$f":"IF(基本データ!AQ269<>\"\",\"○\",\"\")","v":""},{"$f":"IF(基本データ!AR269<>\"\",\"○\",\"\")","v":""},{"$f":"IF(基本データ!AS269<>\"\",\"○\",\"\")","v":""},{"$f":"IF(基本データ!AT269<>\"\",\"○\",\"\")","v":""},{"$f":"IF(基本データ!AU269<>\"\",\"○\",\"\")","v":""},{"$f":"IF(基本データ!AV269<>\"\",\"○\",\"\")","v":""},{"$f":"IF(基本データ!AW269<>\"\",\"○\",\"\")","v":""},{"$f":"IF(基本データ!AX269<>\"\",\"○\",\"\")","v":""},{"$f":"IF(基本データ!AY269<>\"\",\"○\",\"\")","v":"○"},{"$f":"IF(基本データ!AZ269<>\"\",\"○\",\"\")","v":""},{"$f":"IF(基本データ!BA269<>\"\",\"○\",\"\")","v":"○"},{"$f":"IF(基本データ!BB269<>\"\",\"○\",\"\")","v":""},{"$f":"IF(基本データ!BC269<>\"\",\"○\",\"\")","v":""},{"$f":"IF(基本データ!BD269<>\"\",\"○\",\"\")","v":""},{"$f":"IF(基本データ!BE269<>\"\",\"○\",\"\")","v":""},{"$f":"IF(基本データ!BF269<>\"\",\"○\",\"\")","v":"○"},{"$f":"IF(基本データ!BG269<>\"\",\"○\",\"\")","v":""},{"$f":"基本データ!BN269","v":1},{"$f":"IF(基本データ!BH269<>\"\",\"○\",\"\")","v":""},{"$f":"IF(基本データ!BI269<>\"\",\"○\",\"\")","v":""},{"$f":"IF(基本データ!BJ269<>\"\",\"○\",\"\")","v":""},{"$f":"IF(基本データ!BK269<>\"\",\"○\",\"\")","v":"○"},{"$f":"IF(基本データ!BL269<>\"\",\"○\",\"\")","v":""},{"$f":"IF(基本データ!BM269<>\"\",\"○\",\"\")","v":""}]
[268,{"$f":"基本データ!J270","v":"佐賀県"},{"$f":"基本データ!B270","v":2021},{"$f":"基本データ!I270","v":"独立行政法人国立病院機構肥前精神医療センター"},{"$f":"基本データ!AL270","v":1},{"$f":"IF(基本データ!AM270<>\"\",\"○\",\"\")","v":""},{"$f":"IF(基本データ!AN270<>\"\",\"○\",\"\")","v":""},{"$f":"IF(基本データ!AO270<>\"\",\"○\",\"\")","v":""},{"$f":"IF(基本データ!AP270<>\"\",\"○\",\"\")","v":""},{"$f":"IF(基本データ!AQ270<>\"\",\"○\",\"\")","v":""},{"$f":"IF(基本データ!AR270<>\"\",\"○\",\"\")","v":""},{"$f":"IF(基本データ!AS270<>\"\",\"○\",\"\")","v":""},{"$f":"IF(基本データ!AT270<>\"\",\"○\",\"\")","v":""},{"$f":"IF(基本データ!AU270<>\"\",\"○\",\"\")","v":""},{"$f":"IF(基本データ!AV270<>\"\",\"○\",\"\")","v":""},{"$f":"IF(基本データ!AW270<>\"\",\"○\",\"\")","v":""},{"$f":"IF(基本データ!AX270<>\"\",\"○\",\"\")","v":""},{"$f":"IF(基本データ!AY270<>\"\",\"○\",\"\")","v":""},{"$f":"IF(基本データ!AZ270<>\"\",\"○\",\"\")","v":""},{"$f":"IF(基本データ!BA270<>\"\",\"○\",\"\")","v":""},{"$f":"IF(基本データ!BB270<>\"\",\"○\",\"\")","v":""},{"$f":"IF(基本データ!BC270<>\"\",\"○\",\"\")","v":""},{"$f":"IF(基本データ!BD270<>\"\",\"○\",\"\")","v":""},{"$f":"IF(基本データ!BE270<>\"\",\"○\",\"\")","v":""},{"$f":"IF(基本データ!BF270<>\"\",\"○\",\"\")","v":"○"},{"$f":"IF(基本データ!BG270<>\"\",\"○\",\"\")","v":""},{"$f":"基本データ!BN270","v":0},{"$f":"IF(基本データ!BH270<>\"\",\"○\",\"\")","v":""},{"$f":"IF(基本データ!BI270<>\"\",\"○\",\"\")","v":""},{"$f":"IF(基本データ!BJ270<>\"\",\"○\",\"\")","v":""},{"$f":"IF(基本データ!BK270<>\"\",\"○\",\"\")","v":""},{"$f":"IF(基本データ!BL270<>\"\",\"○\",\"\")","v":""},{"$f":"IF(基本データ!BM270<>\"\",\"○\",\"\")","v":""}]
[269,{"$f":"基本データ!J271","v":"熊本県"},{"$f":"基本データ!B271","v":2021},{"$f":"基本データ!I271","v":"熊本赤十字病院"},{"$f":"基本データ!AL271","v":7},{"$f":"IF(基本データ!AM271<>\"\",\"○\",\"\")","v":"○"},{"$f":"IF(基本データ!AN271<>\"\",\"○\",\"\")","v":"○"},{"$f":"IF(基本データ!AO271<>\"\",\"○\",\"\")","v":""},{"$f":"IF(基本データ!AP271<>\"\",\"○\",\"\")","v":""},{"$f":"IF(基本データ!AQ271<>\"\",\"○\",\"\")","v":""},{"$f":"IF(基本データ!AR271<>\"\",\"○\",\"\")","v":""},{"$f":"IF(基本データ!AS271<>\"\",\"○\",\"\")","v":""},{"$f":"IF(基本データ!AT271<>\"\",\"○\",\"\")","v":""},{"$f":"IF(基本データ!AU271<>\"\",\"○\",\"\")","v":""},{"$f":"IF(基本データ!AV271<>\"\",\"○\",\"\")","v":""},{"$f":"IF(基本データ!AW271<>\"\",\"○\",\"\")","v":""},{"$f":"IF(基本データ!AX271<>\"\",\"○\",\"\")","v":""},{"$f":"IF(基本データ!AY271<>\"\",\"○\",\"\")","v":"○"},{"$f":"IF(基本データ!AZ271<>\"\",\"○\",\"\")","v":""},{"$f":"IF(基本データ!BA271<>\"\",\"○\",\"\")","v":"○"},{"$f":"IF(基本データ!BB271<>\"\",\"○\",\"\")","v":""},{"$f":"IF(基本データ!BC271<>\"\",\"○\",\"\")","v":""},{"$f":"IF(基本データ!BD271<>\"\",\"○\",\"\")","v":"○"},{"$f":"IF(基本データ!BE271<>\"\",\"○\",\"\")","v":"○"},{"$f":"IF(基本データ!BF271<>\"\",\"○\",\"\")","v":"○"},{"$f":"IF(基本データ!BG271<>\"\",\"○\",\"\")","v":""},{"$f":"基本データ!BN271","v":2},{"$f":"IF(基本データ!BH271<>\"\",\"○\",\"\")","v":""},{"$f":"IF(基本データ!BI271<>\"\",\"○\",\"\")","v":""},{"$f":"IF(基本データ!BJ271<>\"\",\"○\",\"\")","v":"○"},{"$f":"IF(基本データ!BK271<>\"\",\"○\",\"\")","v":"○"},{"$f":"IF(基本データ!BL271<>\"\",\"○\",\"\")","v":""},{"$f":"IF(基本データ!BM271<>\"\",\"○\",\"\")","v":""}]
[270,{"$f":"基本データ!J272","v":"鹿児島県"},{"$f":"基本データ!B272","v":2021},{"$f":"基本データ!I272","v":"鹿児島市立病院"},{"$f":"基本データ!AL272","v":18},{"$f":"IF(基本データ!AM272<>\"\",\"○\",\"\")","v":"○"},{"$f":"IF(基本データ!AN272<>\"\",\"○\",\"\")","v":"○"},{"$f":"IF(基本データ!AO272<>\"\",\"○\",\"\")","v":"○"},{"$f":"IF(基本データ!AP272<>\"\",\"○\",\"\")","v":"○"},{"$f":"IF(基本データ!AQ272<>\"\",\"○\",\"\")","v":""},{"$f":"IF(基本データ!AR272<>\"\",\"○\",\"\")","v":"○"},{"$f":"IF(基本データ!AS272<>\"\",\"○\",\"\")","v":"○"},{"$f":"IF(基本データ!AT272<>\"\",\"○\",\"\")","v":"○"},{"$f":"IF(基本データ!AU272<>\"\",\"○\",\"\")","v":"○"},{"$f":"IF(基本データ!AV272<>\"\",\"○\",\"\")","v":"○"},{"$f":"IF(基本データ!AW272<>\"\",\"○\",\"\")","v":"○"},{"$f":"IF(基本データ!AX272<>\"\",\"○\",\"\")","v":"○"},{"$f":"IF(基本データ!AY272<>\"\",\"○\",\"\")","v":"○"},{"$f":"IF(基本データ!AZ272<>\"\",\"○\",\"\")","v":""},{"$f":"IF(基本データ!BA272<>\"\",\"○\",\"\")","v":"○"},{"$f":"IF(基本データ!BB272<>\"\",\"○\",\"\")","v":"○"},{"$f":"IF(基本データ!BC272<>\"\",\"○\",\"\")","v":"○"},{"$f":"IF(基本データ!BD272<>\"\",\"○\",\"\")","v":"○"},{"$f":"IF(基本データ!BE272<>\"\",\"○\",\"\")","v":"○"},{"$f":"IF(基本データ!BF272<>\"\",\"○\",\"\")","v":"○"},{"$f":"IF(基本データ!BG272<>\"\",\"○\",\"\")","v":""},{"$f":"基本データ!BN272","v":4},{"$f":"IF(基本データ!BH272<>\"\",\"○\",\"\")","v":"○"},{"$f":"IF(基本データ!BI272<>\"\",\"○\",\"\")","v":"○"},{"$f":"IF(基本データ!BJ272<>\"\",\"○\",\"\")","v":"○"},{"$f":"IF(基本データ!BK272<>\"\",\"○\",\"\")","v":"○"},{"$f":"IF(基本データ!BL272<>\"\",\"○\",\"\")","v":""},{"$f":"IF(基本データ!BM272<>\"\",\"○\",\"\")","v":""}]
[271,{"$f":"基本データ!J273","v":"鹿児島県"},{"$f":"基本データ!B273","v":2021},{"$f":"基本データ!I273","v":"公益社団法人昭和会　いまきいれ総合病院"},{"$f":"基本データ!AL273","v":8},{"$f":"IF(基本データ!AM273<>\"\",\"○\",\"\")","v":"○"},{"$f":"IF(基本データ!AN273<>\"\",\"○\",\"\")","v":"○"},{"$f":"IF(基本データ!AO273<>\"\",\"○\",\"\")","v":""},{"$f":"IF(基本データ!AP273<>\"\",\"○\",\"\")","v":""},{"$f":"IF(基本データ!AQ273<>\"\",\"○\",\"\")","v":""},{"$f":"IF(基本データ!AR273<>\"\",\"○\",\"\")","v":""},{"$f":"IF(基本データ!AS273<>\"\",\"○\",\"\")","v":""},{"$f":"IF(基本データ!AT273<>\"\",\"○\",\"\")","v":""},{"$f":"IF(基本データ!AU273<>\"\",\"○\",\"\")","v":""},{"$f":"IF(基本データ!AV273<>\"\",\"○\",\"\")","v":"○"},{"$f":"IF(基本データ!AW273<>\"\",\"○\",\"\")","v":"○"},{"$f":"IF(基本データ!AX273<>\"\",\"○\",\"\")","v":""},{"$f":"IF(基本データ!AY273<>\"\",\"○\",\"\")","v":"○"},{"$f":"IF(基本データ!AZ273<>\"\",\"○\",\"\")","v":""},{"$f":"IF(基本データ!BA273<>\"\",\"○\",\"\")","v":"○"},{"$f":"IF(基本データ!BB273<>\"\",\"○\",\"\")","v":""},{"$f":"IF(基本データ!BC273<>\"\",\"○\",\"\")","v":""},{"$f":"IF(基本データ!BD273<>\"\",\"○\",\"\")","v":"○"},{"$f":"IF(基本データ!BE273<>\"\",\"○\",\"\")","v":"○"},{"$f":"IF(基本データ!BF273<>\"\",\"○\",\"\")","v":""},{"$f":"IF(基本データ!BG273<>\"\",\"○\",\"\")","v":""},{"$f":"基本データ!BN273","v":1},{"$f":"IF(基本データ!BH273<>\"\",\"○\",\"\")","v":""},{"$f":"IF(基本データ!BI273<>\"\",\"○\",\"\")","v":""},{"$f":"IF(基本データ!BJ273<>\"\",\"○\",\"\")","v":"○"},{"$f":"IF(基本データ!BK273<>\"\",\"○\",\"\")","v":""},{"$f":"IF(基本データ!BL273<>\"\",\"○\",\"\")","v":""},{"$f":"IF(基本データ!BM273<>\"\",\"○\",\"\")","v":""}]
[272,{"$f":"基本データ!J274","v":"沖縄県"},{"$f":"基本データ!B274","v":2021},{"$f":"基本データ!I274","v":"医療法人徳洲会　中部徳洲会病院"},{"$f":"基本データ!AL274","v":12},{"$f":"IF(基本データ!AM274<>\"\",\"○\",\"\")","v":"○"},{"$f":"IF(基本データ!AN274<>\"\",\"○\",\"\")","v":"○"},{"$f":"IF(基本データ!AO274<>\"\",\"○\",\"\")","v":""},{"$f":"IF(基本データ!AP274<>\"\",\"○\",\"\")","v":""},{"$f":"IF(基本データ!AQ274<>\"\",\"○\",\"\")","v":""},{"$f":"IF(基本データ!AR274<>\"\",\"○\",\"\")","v":""},{"$f":"IF(基本データ!AS274<>\"\",\"○\",\"\")","v":""},{"$f":"IF(基本データ!AT274<>\"\",\"○\",\"\")","v":"○"},{"$f":"IF(基本データ!AU274<>\"\",\"○\",\"\")","v":""},{"$f":"IF(基本データ!AV274<>\"\",\"○\",\"\")","v":"○"},{"$f":"IF(基本データ!AW274<>\"\",\"○\",\"\")","v":"○"},{"$f":"IF(基本データ!AX274<>\"\",\"○\",\"\")","v":""},{"$f":"IF(基本データ!AY274<>\"\",\"○\",\"\")","v":"○"},{"$f":"IF(基本データ!AZ274<>\"\",\"○\",\"\")","v":""},{"$f":"IF(基本データ!BA274<>\"\",\"○\",\"\")","v":"○"},{"$f":"IF(基本データ!BB274<>\"\",\"○\",\"\")","v":"○"},{"$f":"IF(基本データ!BC274<>\"\",\"○\",\"\")","v":"○"},{"$f":"IF(基本データ!BD274<>\"\",\"○\",\"\")","v":"○"},{"$f":"IF(基本データ!BE274<>\"\",\"○\",\"\")","v":"○"},{"$f":"IF(基本データ!BF274<>\"\",\"○\",\"\")","v":"○"},{"$f":"IF(基本データ!BG274<>\"\",\"○\",\"\")","v":""},{"$f":"基本データ!BN274","v":2},{"$f":"IF(基本データ!BH274<>\"\",\"○\",\"\")","v":""},{"$f":"IF(基本データ!BI274<>\"\",\"○\",\"\")","v":""},{"$f":"IF(基本データ!BJ274<>\"\",\"○\",\"\")","v":"○"},{"$f":"IF(基本データ!BK274<>\"\",\"○\",\"\")","v":""},{"$f":"IF(基本データ!BL274<>\"\",\"○\",\"\")","v":"○"},{"$f":"IF(基本データ!BM274<>\"\",\"○\",\"\")","v":""}]
[273,{"$f":"基本データ!J275","v":"沖縄県"},{"$f":"基本データ!B275","v":2021},{"$f":"基本データ!I275","v":"社会医療法人敬愛会中頭病院"},{"$f":"基本データ!AL275","v":5},{"$f":"IF(基本データ!AM275<>\"\",\"○\",\"\")","v":""},{"$f":"IF(基本データ!AN275<>\"\",\"○\",\"\")","v":"○"},{"$f":"IF(基本データ!AO275<>\"\",\"○\",\"\")","v":"○"},{"$f":"IF(基本データ!AP275<>\"\",\"○\",\"\")","v":""},{"$f":"IF(基本データ!AQ275<>\"\",\"○\",\"\")","v":""},{"$f":"IF(基本データ!AR275<>\"\",\"○\",\"\")","v":""},{"$f":"IF(基本データ!AS275<>\"\",\"○\",\"\")","v":""},{"$f":"IF(基本データ!AT275<>\"\",\"○\",\"\")","v":"○"},{"$f":"IF(基本データ!AU275<>\"\",\"○\",\"\")","v":""},{"$f":"IF(基本データ!AV275<>\"\",\"○\",\"\")","v":""},{"$f":"IF(基本データ!AW275<>\"\",\"○\",\"\")","v":""},{"$f":"IF(基本データ!AX275<>\"\",\"○\",\"\")","v":""},{"$f":"IF(基本データ!AY275<>\"\",\"○\",\"\")","v":""},{"$f":"IF(基本データ!AZ275<>\"\",\"○\",\"\")","v":""},{"$f":"IF(基本データ!BA275<>\"\",\"○\",\"\")","v":"○"},{"$f":"IF(基本データ!BB275<>\"\",\"○\",\"\")","v":""},{"$f":"IF(基本データ!BC275<>\"\",\"○\",\"\")","v":"○"},{"$f":"IF(基本データ!BD275<>\"\",\"○\",\"\")","v":""},{"$f":"IF(基本データ!BE275<>\"\",\"○\",\"\")","v":""},{"$f":"IF(基本データ!BF275<>\"\",\"○\",\"\")","v":""},{"$f":"IF(基本データ!BG275<>\"\",\"○\",\"\")","v":""},{"$f":"基本データ!BN275","v":0},{"$f":"IF(基本データ!BH275<>\"\",\"○\",\"\")","v":""},{"$f":"IF(基本データ!BI275<>\"\",\"○\",\"\")","v":""},{"$f":"IF(基本データ!BJ275<>\"\",\"○\",\"\")","v":""},{"$f":"IF(基本データ!BK275<>\"\",\"○\",\"\")","v":""},{"$f":"IF(基本データ!BL275<>\"\",\"○\",\"\")","v":""},{"$f":"IF(基本データ!BM275<>\"\",\"○\",\"\")","v":""}]
[274,{"$f":"基本データ!J276","v":"北海道"},{"$f":"基本データ!B276","v":2021},{"$f":"基本データ!I276","v":"旭川医科大学病院"},{"$f":"基本データ!AL276","v":12},{"$f":"IF(基本データ!AM276<>\"\",\"○\",\"\")","v":"○"},{"$f":"IF(基本データ!AN276<>\"\",\"○\",\"\")","v":"○"},{"$f":"IF(基本データ!AO276<>\"\",\"○\",\"\")","v":"○"},{"$f":"IF(基本データ!AP276<>\"\",\"○\",\"\")","v":""},{"$f":"IF(基本データ!AQ276<>\"\",\"○\",\"\")","v":""},{"$f":"IF(基本データ!AR276<>\"\",\"○\",\"\")","v":"○"},{"$f":"IF(基本データ!AS276<>\"\",\"○\",\"\")","v":"○"},{"$f":"IF(基本データ!AT276<>\"\",\"○\",\"\")","v":""},{"$f":"IF(基本データ!AU276<>\"\",\"○\",\"\")","v":"○"},{"$f":"IF(基本データ!AV276<>\"\",\"○\",\"\")","v":"○"},{"$f":"IF(基本データ!AW276<>\"\",\"○\",\"\")","v":""},{"$f":"IF(基本データ!AX276<>\"\",\"○\",\"\")","v":"○"},{"$f":"IF(基本データ!AY276<>\"\",\"○\",\"\")","v":"○"},{"$f":"IF(基本データ!AZ276<>\"\",\"○\",\"\")","v":""},{"$f":"IF(基本データ!BA276<>\"\",\"○\",\"\")","v":"○"},{"$f":"IF(基本データ!BB276<>\"\",\"○\",\"\")","v":""},{"$f":"IF(基本データ!BC276<>\"\",\"○\",\"\")","v":""},{"$f":"IF(基本データ!BD276<>\"\",\"○\",\"\")","v":"○"},{"$f":"IF(基本データ!BE276<>\"\",\"○\",\"\")","v":"○"},{"$f":"IF(基本データ!BF276<>\"\",\"○\",\"\")","v":""},{"$f":"IF(基本データ!BG276<>\"\",\"○\",\"\")","v":""},{"$f":"基本データ!BN276","v":2},{"$f":"IF(基本データ!BH276<>\"\",\"○\",\"\")","v":""},{"$f":"IF(基本データ!BI276<>\"\",\"○\",\"\")","v":"○"},{"$f":"IF(基本データ!BJ276<>\"\",\"○\",\"\")","v":"○"},{"$f":"IF(基本データ!BK276<>\"\",\"○\",\"\")","v":""},{"$f":"IF(基本データ!BL276<>\"\",\"○\",\"\")","v":""},{"$f":"IF(基本データ!BM276<>\"\",\"○\",\"\")","v":""}]
[275,{"$f":"基本データ!J277","v":"北海道"},{"$f":"基本データ!B277","v":2021},{"$f":"基本データ!I277","v":"北見赤十字病院"},{"$f":"基本データ!AL277","v":3},{"$f":"IF(基本データ!AM277<>\"\",\"○\",\"\")","v":""},{"$f":"IF(基本データ!AN277<>\"\",\"○\",\"\")","v":""},{"$f":"IF(基本データ!AO277<>\"\",\"○\",\"\")","v":""},{"$f":"IF(基本データ!AP277<>\"\",\"○\",\"\")","v":""},{"$f":"IF(基本データ!AQ277<>\"\",\"○\",\"\")","v":""},{"$f":"IF(基本データ!AR277<>\"\",\"○\",\"\")","v":""},{"$f":"IF(基本データ!AS277<>\"\",\"○\",\"\")","v":""},{"$f":"IF(基本データ!AT277<>\"\",\"○\",\"\")","v":""},{"$f":"IF(基本データ!AU277<>\"\",\"○\",\"\")","v":"○"},{"$f":"IF(基本データ!AV277<>\"\",\"○\",\"\")","v":"○"},{"$f":"IF(基本データ!AW277<>\"\",\"○\",\"\")","v":"○"},{"$f":"IF(基本データ!AX277<>\"\",\"○\",\"\")","v":""},{"$f":"IF(基本データ!AY277<>\"\",\"○\",\"\")","v":""},{"$f":"IF(基本データ!AZ277<>\"\",\"○\",\"\")","v":""},{"$f":"IF(基本データ!BA277<>\"\",\"○\",\"\")","v":""},{"$f":"IF(基本データ!BB277<>\"\",\"○\",\"\")","v":""},{"$f":"IF(基本データ!BC277<>\"\",\"○\",\"\")","v":""},{"$f":"IF(基本データ!BD277<>\"\",\"○\",\"\")","v":""},{"$f":"IF(基本データ!BE277<>\"\",\"○\",\"\")","v":""},{"$f":"IF(基本データ!BF277<>\"\",\"○\",\"\")","v":""},{"$f":"IF(基本データ!BG277<>\"\",\"○\",\"\")","v":""},{"$f":"基本データ!BN277","v":0},{"$f":"IF(基本データ!BH277<>\"\",\"○\",\"\")","v":""},{"$f":"IF(基本データ!BI277<>\"\",\"○\",\"\")","v":""},{"$f":"IF(基本データ!BJ277<>\"\",\"○\",\"\")","v":""},{"$f":"IF(基本データ!BK277<>\"\",\"○\",\"\")","v":""},{"$f":"IF(基本データ!BL277<>\"\",\"○\",\"\")","v":""},{"$f":"IF(基本データ!BM277<>\"\",\"○\",\"\")","v":""}]
[276,{"$f":"基本データ!J278","v":"宮城県"},{"$f":"基本データ!B278","v":2021},{"$f":"基本データ!I278","v":"仙台厚生病院"},{"$f":"基本データ!AL278","v":13},{"$f":"IF(基本データ!AM278<>\"\",\"○\",\"\")","v":"○"},{"$f":"IF(基本データ!AN278<>\"\",\"○\",\"\")","v":"○"},{"$f":"IF(基本データ!AO278<>\"\",\"○\",\"\")","v":""},{"$f":"IF(基本データ!AP278<>\"\",\"○\",\"\")","v":"○"},{"$f":"IF(基本データ!AQ278<>\"\",\"○\",\"\")","v":"○"},{"$f":"IF(基本データ!AR278<>\"\",\"○\",\"\")","v":"○"},{"$f":"IF(基本データ!AS278<>\"\",\"○\",\"\")","v":"○"},{"$f":"IF(基本データ!AT278<>\"\",\"○\",\"\")","v":""},{"$f":"IF(基本データ!AU278<>\"\",\"○\",\"\")","v":"○"},{"$f":"IF(基本データ!AV278<>\"\",\"○\",\"\")","v":""},{"$f":"IF(基本データ!AW278<>\"\",\"○\",\"\")","v":""},{"$f":"IF(基本データ!AX278<>\"\",\"○\",\"\")","v":"○"},{"$f":"IF(基本データ!AY278<>\"\",\"○\",\"\")","v":""},{"$f":"IF(基本データ!AZ278<>\"\",\"○\",\"\")","v":""},{"$f":"IF(基本データ!BA278<>\"\",\"○\",\"\")","v":"○"},{"$f":"IF(基本データ!BB278<>\"\",\"○\",\"\")","v":""},{"$f":"IF(基本データ!BC278<>\"\",\"○\",\"\")","v":"○"},{"$f":"IF(基本データ!BD278<>\"\",\"○\",\"\")","v":"○"},{"$f":"IF(基本データ!BE278<>\"\",\"○\",\"\")","v":"○"},{"$f":"IF(基本データ!BF278<>\"\",\"○\",\"\")","v":"○"},{"$f":"IF(基本データ!BG278<>\"\",\"○\",\"\")","v":""},{"$f":"基本データ!BN278","v":0},{"$f":"IF(基本データ!BH278<>\"\",\"○\",\"\")","v":""},{"$f":"IF(基本データ!BI278<>\"\",\"○\",\"\")","v":""},{"$f":"IF(基本データ!BJ278<>\"\",\"○\",\"\")","v":""},{"$f":"IF(基本データ!BK278<>\"\",\"○\",\"\")","v":""},{"$f":"IF(基本データ!BL278<>\"\",\"○\",\"\")","v":""},{"$f":"IF(基本データ!BM278<>\"\",\"○\",\"\")","v":""}]
[277,{"$f":"基本データ!J279","v":"群馬県"},{"$f":"基本データ!B279","v":2021},{"$f":"基本データ!I279","v":"学校法人群馬パース大学 群馬パース大学 看護実践教育センター"},{"$f":"基本データ!AL279","v":1},{"$f":"IF(基本データ!AM279<>\"\",\"○\",\"\")","v":""},{"$f":"IF(基本データ!AN279<>\"\",\"○\",\"\")","v":""},{"$f":"IF(基本データ!AO279<>\"\",\"○\",\"\")","v":""},{"$f":"IF(基本データ!AP279<>\"\",\"○\",\"\")","v":""},{"$f":"IF(基本データ!AQ279<>\"\",\"○\",\"\")","v":""},{"$f":"IF(基本データ!AR279<>\"\",\"○\",\"\")","v":""},{"$f":"IF(基本データ!AS279<>\"\",\"○\",\"\")","v":""},{"$f":"IF(基本データ!AT279<>\"\",\"○\",\"\")","v":""},{"$f":"IF(基本データ!AU279<>\"\",\"○\",\"\")","v":""},{"$f":"IF(基本データ!AV279<>\"\",\"○\",\"\")","v":""},{"$f":"IF(基本データ!AW279<>\"\",\"○\",\"\")","v":""},{"$f":"IF(基本データ!AX279<>\"\",\"○\",\"\")","v":""},{"$f":"IF(基本データ!AY279<>\"\",\"○\",\"\")","v":""},{"$f":"IF(基本データ!AZ279<>\"\",\"○\",\"\")","v":""},{"$f":"IF(基本データ!BA279<>\"\",\"○\",\"\")","v":"○"},{"$f":"IF(基本データ!BB279<>\"\",\"○\",\"\")","v":""},{"$f":"IF(基本データ!BC279<>\"\",\"○\",\"\")","v":""},{"$f":"IF(基本データ!BD279<>\"\",\"○\",\"\")","v":""},{"$f":"IF(基本データ!BE279<>\"\",\"○\",\"\")","v":""},{"$f":"IF(基本データ!BF279<>\"\",\"○\",\"\")","v":""},{"$f":"IF(基本データ!BG279<>\"\",\"○\",\"\")","v":""},{"$f":"基本データ!BN279","v":0},{"$f":"IF(基本データ!BH279<>\"\",\"○\",\"\")","v":""},{"$f":"IF(基本データ!BI279<>\"\",\"○\",\"\")","v":""},{"$f":"IF(基本データ!BJ279<>\"\",\"○\",\"\")","v":""},{"$f":"IF(基本データ!BK279<>\"\",\"○\",\"\")","v":""},{"$f":"IF(基本データ!BL279<>\"\",\"○\",\"\")","v":""},{"$f":"IF(基本データ!BM279<>\"\",\"○\",\"\")","v":""}]
[278,{"$f":"基本データ!J280","v":"群馬県"},{"$f":"基本データ!B280","v":2021},{"$f":"基本データ!I280","v":"学校法人高崎健康福祉大学"},{"$f":"基本データ!AL280","v":5},{"$f":"IF(基本データ!AM280<>\"\",\"○\",\"\")","v":""},{"$f":"IF(基本データ!AN280<>\"\",\"○\",\"\")","v":""},{"$f":"IF(基本データ!AO280<>\"\",\"○\",\"\")","v":"○"},{"$f":"IF(基本データ!AP280<>\"\",\"○\",\"\")","v":""},{"$f":"IF(基本データ!AQ280<>\"\",\"○\",\"\")","v":""},{"$f":"IF(基本データ!AR280<>\"\",\"○\",\"\")","v":""},{"$f":"IF(基本データ!AS280<>\"\",\"○\",\"\")","v":""},{"$f":"IF(基本データ!AT280<>\"\",\"○\",\"\")","v":"○"},{"$f":"IF(基本データ!AU280<>\"\",\"○\",\"\")","v":""},{"$f":"IF(基本データ!AV280<>\"\",\"○\",\"\")","v":""},{"$f":"IF(基本データ!AW280<>\"\",\"○\",\"\")","v":"○"},{"$f":"IF(基本データ!AX280<>\"\",\"○\",\"\")","v":""},{"$f":"IF(基本データ!AY280<>\"\",\"○\",\"\")","v":""},{"$f":"IF(基本データ!AZ280<>\"\",\"○\",\"\")","v":""},{"$f":"IF(基本データ!BA280<>\"\",\"○\",\"\")","v":"○"},{"$f":"IF(基本データ!BB280<>\"\",\"○\",\"\")","v":"○"},{"$f":"IF(基本データ!BC280<>\"\",\"○\",\"\")","v":""},{"$f":"IF(基本データ!BD280<>\"\",\"○\",\"\")","v":""},{"$f":"IF(基本データ!BE280<>\"\",\"○\",\"\")","v":""},{"$f":"IF(基本データ!BF280<>\"\",\"○\",\"\")","v":""},{"$f":"IF(基本データ!BG280<>\"\",\"○\",\"\")","v":""},{"$f":"基本データ!BN280","v":1},{"$f":"IF(基本データ!BH280<>\"\",\"○\",\"\")","v":"○"},{"$f":"IF(基本データ!BI280<>\"\",\"○\",\"\")","v":""},{"$f":"IF(基本データ!BJ280<>\"\",\"○\",\"\")","v":""},{"$f":"IF(基本データ!BK280<>\"\",\"○\",\"\")","v":""},{"$f":"IF(基本データ!BL280<>\"\",\"○\",\"\")","v":""},{"$f":"IF(基本データ!BM280<>\"\",\"○\",\"\")","v":""}]
[279,{"$f":"基本データ!J281","v":"群馬県"},{"$f":"基本データ!B281","v":2021},{"$f":"基本データ!I281","v":"独立行政法人国立病院機構　高崎総合医療センター"},{"$f":"基本データ!AL281","v":12},{"$f":"IF(基本データ!AM281<>\"\",\"○\",\"\")","v":"○"},{"$f":"IF(基本データ!AN281<>\"\",\"○\",\"\")","v":"○"},{"$f":"IF(基本データ!AO281<>\"\",\"○\",\"\")","v":""},{"$f":"IF(基本データ!AP281<>\"\",\"○\",\"\")","v":"○"},{"$f":"IF(基本データ!AQ281<>\"\",\"○\",\"\")","v":""},{"$f":"IF(基本データ!AR281<>\"\",\"○\",\"\")","v":"○"},{"$f":"IF(基本データ!AS281<>\"\",\"○\",\"\")","v":""},{"$f":"IF(基本データ!AT281<>\"\",\"○\",\"\")","v":""},{"$f":"IF(基本データ!AU281<>\"\",\"○\",\"\")","v":"○"},{"$f":"IF(基本データ!AV281<>\"\",\"○\",\"\")","v":"○"},{"$f":"IF(基本データ!AW281<>\"\",\"○\",\"\")","v":""},{"$f":"IF(基本データ!AX281<>\"\",\"○\",\"\")","v":""},{"$f":"IF(基本データ!AY281<>\"\",\"○\",\"\")","v":"○"},{"$f":"IF(基本データ!AZ281<>\"\",\"○\",\"\")","v":""},{"$f":"IF(基本データ!BA281<>\"\",\"○\",\"\")","v":"○"},{"$f":"IF(基本データ!BB281<>\"\",\"○\",\"\")","v":""},{"$f":"IF(基本データ!BC281<>\"\",\"○\",\"\")","v":"○"},{"$f":"IF(基本データ!BD281<>\"\",\"○\",\"\")","v":"○"},{"$f":"IF(基本データ!BE281<>\"\",\"○\",\"\")","v":"○"},{"$f":"IF(基本データ!BF281<>\"\",\"○\",\"\")","v":"○"},{"$f":"IF(基本データ!BG281<>\"\",\"○\",\"\")","v":""},{"$f":"基本データ!BN281","v":0},{"$f":"IF(基本データ!BH281<>\"\",\"○\",\"\")","v":""},{"$f":"IF(基本データ!BI281<>\"\",\"○\",\"\")","v":""},{"$f":"IF(基本データ!BJ281<>\"\",\"○\",\"\")","v":""},{"$f":"IF(基本データ!BK281<>\"\",\"○\",\"\")","v":""},{"$f":"IF(基本データ!BL281<>\"\",\"○\",\"\")","v":""},{"$f":"IF(基本データ!BM281<>\"\",\"○\",\"\")","v":""}]
[280,{"$f":"基本データ!J282","v":"東京都"},{"$f":"基本データ!B282","v":2021},{"$f":"基本データ!I282","v":"医療法人社団東山会　調布東山病院"},{"$f":"基本データ!AL282","v":5},{"$f":"IF(基本データ!AM282<>\"\",\"○\",\"\")","v":""},{"$f":"IF(基本データ!AN282<>\"\",\"○\",\"\")","v":""},{"$f":"IF(基本データ!AO282<>\"\",\"○\",\"\")","v":""},{"$f":"IF(基本データ!AP282<>\"\",\"○\",\"\")","v":""},{"$f":"IF(基本データ!AQ282<>\"\",\"○\",\"\")","v":""},{"$f":"IF(基本データ!AR282<>\"\",\"○\",\"\")","v":""},{"$f":"IF(基本データ!AS282<>\"\",\"○\",\"\")","v":""},{"$f":"IF(基本データ!AT282<>\"\",\"○\",\"\")","v":""},{"$f":"IF(基本データ!AU282<>\"\",\"○\",\"\")","v":""},{"$f":"IF(基本データ!AV282<>\"\",\"○\",\"\")","v":""},{"$f":"IF(基本データ!AW282<>\"\",\"○\",\"\")","v":""},{"$f":"IF(基本データ!AX282<>\"\",\"○\",\"\")","v":"○"},{"$f":"IF(基本データ!AY282<>\"\",\"○\",\"\")","v":"○"},{"$f":"IF(基本データ!AZ282<>\"\",\"○\",\"\")","v":"○"},{"$f":"IF(基本データ!BA282<>\"\",\"○\",\"\")","v":"○"},{"$f":"IF(基本データ!BB282<>\"\",\"○\",\"\")","v":""},{"$f":"IF(基本データ!BC282<>\"\",\"○\",\"\")","v":"○"},{"$f":"IF(基本データ!BD282<>\"\",\"○\",\"\")","v":""},{"$f":"IF(基本データ!BE282<>\"\",\"○\",\"\")","v":""},{"$f":"IF(基本データ!BF282<>\"\",\"○\",\"\")","v":""},{"$f":"IF(基本データ!BG282<>\"\",\"○\",\"\")","v":""},{"$f":"基本データ!BN282","v":0},{"$f":"IF(基本データ!BH282<>\"\",\"○\",\"\")","v":""},{"$f":"IF(基本データ!BI282<>\"\",\"○\",\"\")","v":""},{"$f":"IF(基本データ!BJ282<>\"\",\"○\",\"\")","v":""},{"$f":"IF(基本データ!BK282<>\"\",\"○\",\"\")","v":""},{"$f":"IF(基本データ!BL282<>\"\",\"○\",\"\")","v":""},{"$f":"IF(基本データ!BM282<>\"\",\"○\",\"\")","v":""}]
[281,{"$f":"基本データ!J283","v":"神奈川県"},{"$f":"基本データ!B283","v":2021},{"$f":"基本データ!I283","v":"独立行政法人国立病院機構箱根病院"},{"$f":"基本データ!AL283","v":4},{"$f":"IF(基本データ!AM283<>\"\",\"○\",\"\")","v":""},{"$f":"IF(基本データ!AN283<>\"\",\"○\",\"\")","v":""},{"$f":"IF(基本データ!AO283<>\"\",\"○\",\"\")","v":"○"},{"$f":"IF(基本データ!AP283<>\"\",\"○\",\"\")","v":""},{"$f":"IF(基本データ!AQ283<>\"\",\"○\",\"\")","v":""},{"$f":"IF(基本データ!AR283<>\"\",\"○\",\"\")","v":""},{"$f":"IF(基本データ!AS283<>\"\",\"○\",\"\")","v":""},{"$f":"IF(基本データ!AT283<>\"\",\"○\",\"\")","v":"○"},{"$f":"IF(基本データ!AU283<>\"\",\"○\",\"\")","v":""},{"$f":"IF(基本データ!AV283<>\"\",\"○\",\"\")","v":""},{"$f":"IF(基本データ!AW283<>\"\",\"○\",\"\")","v":"○"},{"$f":"IF(基本データ!AX283<>\"\",\"○\",\"\")","v":""},{"$f":"IF(基本データ!AY283<>\"\",\"○\",\"\")","v":""},{"$f":"IF(基本データ!AZ283<>\"\",\"○\",\"\")","v":""},{"$f":"IF(基本データ!BA283<>\"\",\"○\",\"\")","v":"○"},{"$f":"IF(基本データ!BB283<>\"\",\"○\",\"\")","v":""},{"$f":"IF(基本データ!BC283<>\"\",\"○\",\"\")","v":""},{"$f":"IF(基本データ!BD283<>\"\",\"○\",\"\")","v":""},{"$f":"IF(基本データ!BE283<>\"\",\"○\",\"\")","v":""},{"$f":"IF(基本データ!BF283<>\"\",\"○\",\"\")","v":""},{"$f":"IF(基本データ!BG283<>\"\",\"○\",\"\")","v":""},{"$f":"基本データ!BN283","v":0},{"$f":"IF(基本データ!BH283<>\"\",\"○\",\"\")","v":"○"},{"$f":"IF(基本データ!BI283<>\"\",\"○\",\"\")","v":""},{"$f":"IF(基本データ!BJ283<>\"\",\"○\",\"\")","v":""},{"$f":"IF(基本データ!BK283<>\"\",\"○\",\"\")","v":""},{"$f":"IF(基本データ!BL283<>\"\",\"○\",\"\")","v":""},{"$f":"IF(基本データ!BM283<>\"\",\"○\",\"\")","v":""}]
[282,{"$f":"基本データ!J284","v":"長野県"},{"$f":"基本データ!B284","v":2021},{"$f":"基本データ!I284","v":"国立大学法人信州大学　信州大学医学部附属病院"},{"$f":"基本データ!AL284","v":7},{"$f":"IF(基本データ!AM284<>\"\",\"○\",\"\")","v":"○"},{"$f":"IF(基本データ!AN284<>\"\",\"○\",\"\")","v":"○"},{"$f":"IF(基本データ!AO284<>\"\",\"○\",\"\")","v":""},{"$f":"IF(基本データ!AP284<>\"\",\"○\",\"\")","v":""},{"$f":"IF(基本データ!AQ284<>\"\",\"○\",\"\")","v":""},{"$f":"IF(基本データ!AR284<>\"\",\"○\",\"\")","v":""},{"$f":"IF(基本データ!AS284<>\"\",\"○\",\"\")","v":""},{"$f":"IF(基本データ!AT284<>\"\",\"○\",\"\")","v":""},{"$f":"IF(基本データ!AU284<>\"\",\"○\",\"\")","v":"○"},{"$f":"IF(基本データ!AV284<>\"\",\"○\",\"\")","v":""},{"$f":"IF(基本データ!AW284<>\"\",\"○\",\"\")","v":""},{"$f":"IF(基本データ!AX284<>\"\",\"○\",\"\")","v":""},{"$f":"IF(基本データ!AY284<>\"\",\"○\",\"\")","v":"○"},{"$f":"IF(基本データ!AZ284<>\"\",\"○\",\"\")","v":""},{"$f":"IF(基本データ!BA284<>\"\",\"○\",\"\")","v":"○"},{"$f":"IF(基本データ!BB284<>\"\",\"○\",\"\")","v":""},{"$f":"IF(基本データ!BC284<>\"\",\"○\",\"\")","v":""},{"$f":"IF(基本データ!BD284<>\"\",\"○\",\"\")","v":"○"},{"$f":"IF(基本データ!BE284<>\"\",\"○\",\"\")","v":"○"},{"$f":"IF(基本データ!BF284<>\"\",\"○\",\"\")","v":""},{"$f":"IF(基本データ!BG284<>\"\",\"○\",\"\")","v":""},{"$f":"基本データ!BN284","v":1},{"$f":"IF(基本データ!BH284<>\"\",\"○\",\"\")","v":""},{"$f":"IF(基本データ!BI284<>\"\",\"○\",\"\")","v":""},{"$f":"IF(基本データ!BJ284<>\"\",\"○\",\"\")","v":"○"},{"$f":"IF(基本データ!BK284<>\"\",\"○\",\"\")","v":""},{"$f":"IF(基本データ!BL284<>\"\",\"○\",\"\")","v":""},{"$f":"IF(基本データ!BM284<>\"\",\"○\",\"\")","v":""}]
[283,{"$f":"基本データ!J285","v":"静岡県"},{"$f":"基本データ!B285","v":2021},{"$f":"基本データ!I285","v":"藤枝市立総合病院"},{"$f":"基本データ!AL285","v":12},{"$f":"IF(基本データ!AM285<>\"\",\"○\",\"\")","v":"○"},{"$f":"IF(基本データ!AN285<>\"\",\"○\",\"\")","v":"○"},{"$f":"IF(基本データ!AO285<>\"\",\"○\",\"\")","v":""},{"$f":"IF(基本データ!AP285<>\"\",\"○\",\"\")","v":"○"},{"$f":"IF(基本データ!AQ285<>\"\",\"○\",\"\")","v":""},{"$f":"IF(基本データ!AR285<>\"\",\"○\",\"\")","v":""},{"$f":"IF(基本データ!AS285<>\"\",\"○\",\"\")","v":""},{"$f":"IF(基本データ!AT285<>\"\",\"○\",\"\")","v":""},{"$f":"IF(基本データ!AU285<>\"\",\"○\",\"\")","v":"○"},{"$f":"IF(基本データ!AV285<>\"\",\"○\",\"\")","v":"○"},{"$f":"IF(基本データ!AW285<>\"\",\"○\",\"\")","v":"○"},{"$f":"IF(基本データ!AX285<>\"\",\"○\",\"\")","v":""},{"$f":"IF(基本データ!AY285<>\"\",\"○\",\"\")","v":"○"},{"$f":"IF(基本データ!AZ285<>\"\",\"○\",\"\")","v":""},{"$f":"IF(基本データ!BA285<>\"\",\"○\",\"\")","v":"○"},{"$f":"IF(基本データ!BB285<>\"\",\"○\",\"\")","v":"○"},{"$f":"IF(基本データ!BC285<>\"\",\"○\",\"\")","v":""},{"$f":"IF(基本データ!BD285<>\"\",\"○\",\"\")","v":"○"},{"$f":"IF(基本データ!BE285<>\"\",\"○\",\"\")","v":"○"},{"$f":"IF(基本データ!BF285<>\"\",\"○\",\"\")","v":"○"},{"$f":"IF(基本データ!BG285<>\"\",\"○\",\"\")","v":""},{"$f":"基本データ!BN285","v":3},{"$f":"IF(基本データ!BH285<>\"\",\"○\",\"\")","v":""},{"$f":"IF(基本データ!BI285<>\"\",\"○\",\"\")","v":""},{"$f":"IF(基本データ!BJ285<>\"\",\"○\",\"\")","v":"○"},{"$f":"IF(基本データ!BK285<>\"\",\"○\",\"\")","v":"○"},{"$f":"IF(基本データ!BL285<>\"\",\"○\",\"\")","v":""},{"$f":"IF(基本データ!BM285<>\"\",\"○\",\"\")","v":"○"}]
[284,{"$f":"基本データ!J286","v":"静岡県"},{"$f":"基本データ!B286","v":2021},{"$f":"基本データ!I286","v":"富士市立中央病院"},{"$f":"基本データ!AL286","v":12},{"$f":"IF(基本データ!AM286<>\"\",\"○\",\"\")","v":"○"},{"$f":"IF(基本データ!AN286<>\"\",\"○\",\"\")","v":"○"},{"$f":"IF(基本データ!AO286<>\"\",\"○\",\"\")","v":"○"},{"$f":"IF(基本データ!AP286<>\"\",\"○\",\"\")","v":""},{"$f":"IF(基本データ!AQ286<>\"\",\"○\",\"\")","v":""},{"$f":"IF(基本データ!AR286<>\"\",\"○\",\"\")","v":""},{"$f":"IF(基本データ!AS286<>\"\",\"○\",\"\")","v":""},{"$f":"IF(基本データ!AT286<>\"\",\"○\",\"\")","v":"○"},{"$f":"IF(基本データ!AU286<>\"\",\"○\",\"\")","v":"○"},{"$f":"IF(基本データ!AV286<>\"\",\"○\",\"\")","v":""},{"$f":"IF(基本データ!AW286<>\"\",\"○\",\"\")","v":"○"},{"$f":"IF(基本データ!AX286<>\"\",\"○\",\"\")","v":"○"},{"$f":"IF(基本データ!AY286<>\"\",\"○\",\"\")","v":"○"},{"$f":"IF(基本データ!AZ286<>\"\",\"○\",\"\")","v":""},{"$f":"IF(基本データ!BA286<>\"\",\"○\",\"\")","v":"○"},{"$f":"IF(基本データ!BB286<>\"\",\"○\",\"\")","v":"○"},{"$f":"IF(基本データ!BC286<>\"\",\"○\",\"\")","v":""},{"$f":"IF(基本データ!BD286<>\"\",\"○\",\"\")","v":"○"},{"$f":"IF(基本データ!BE286<>\"\",\"○\",\"\")","v":"○"},{"$f":"IF(基本データ!BF286<>\"\",\"○\",\"\")","v":""},{"$f":"IF(基本データ!BG286<>\"\",\"○\",\"\")","v":""},{"$f":"基本データ!BN286","v":2},{"$f":"IF(基本データ!BH286<>\"\",\"○\",\"\")","v":"○"},{"$f":"IF(基本データ!BI286<>\"\",\"○\",\"\")","v":"○"},{"$f":"IF(基本データ!BJ286<>\"\",\"○\",\"\")","v":""},{"$f":"IF(基本データ!BK286<>\"\",\"○\",\"\")","v":""},{"$f":"IF(基本データ!BL286<>\"\",\"○\",\"\")","v":""},{"$f":"IF(基本データ!BM286<>\"\",\"○\",\"\")","v":""}]
[285,{"$f":"基本データ!J287","v":"愛知県"},{"$f":"基本データ!B287","v":2021},{"$f":"基本データ!I287","v":"社会医療法人杏嶺会　一宮西病院"},{"$f":"基本データ!AL287","v":4},{"$f":"IF(基本データ!AM287<>\"\",\"○\",\"\")","v":"○"},{"$f":"IF(基本データ!AN287<>\"\",\"○\",\"\")","v":"○"},{"$f":"IF(基本データ!AO287<>\"\",\"○\",\"\")","v":""},{"$f":"IF(基本データ!AP287<>\"\",\"○\",\"\")","v":""},{"$f":"IF(基本データ!AQ287<>\"\",\"○\",\"\")","v":""},{"$f":"IF(基本データ!AR287<>\"\",\"○\",\"\")","v":""},{"$f":"IF(基本データ!AS287<>\"\",\"○\",\"\")","v":""},{"$f":"IF(基本データ!AT287<>\"\",\"○\",\"\")","v":""},{"$f":"IF(基本データ!AU287<>\"\",\"○\",\"\")","v":""},{"$f":"IF(基本データ!AV287<>\"\",\"○\",\"\")","v":""},{"$f":"IF(基本データ!AW287<>\"\",\"○\",\"\")","v":""},{"$f":"IF(基本データ!AX287<>\"\",\"○\",\"\")","v":""},{"$f":"IF(基本データ!AY287<>\"\",\"○\",\"\")","v":"○"},{"$f":"IF(基本データ!AZ287<>\"\",\"○\",\"\")","v":""},{"$f":"IF(基本データ!BA287<>\"\",\"○\",\"\")","v":""},{"$f":"IF(基本データ!BB287<>\"\",\"○\",\"\")","v":""},{"$f":"IF(基本データ!BC287<>\"\",\"○\",\"\")","v":""},{"$f":"IF(基本データ!BD287<>\"\",\"○\",\"\")","v":""},{"$f":"IF(基本データ!BE287<>\"\",\"○\",\"\")","v":"○"},{"$f":"IF(基本データ!BF287<>\"\",\"○\",\"\")","v":""},{"$f":"IF(基本データ!BG287<>\"\",\"○\",\"\")","v":""},{"$f":"基本データ!BN287","v":0},{"$f":"IF(基本データ!BH287<>\"\",\"○\",\"\")","v":""},{"$f":"IF(基本データ!BI287<>\"\",\"○\",\"\")","v":""},{"$f":"IF(基本データ!BJ287<>\"\",\"○\",\"\")","v":""},{"$f":"IF(基本データ!BK287<>\"\",\"○\",\"\")","v":""},{"$f":"IF(基本データ!BL287<>\"\",\"○\",\"\")","v":""},{"$f":"IF(基本データ!BM287<>\"\",\"○\",\"\")","v":""}]
[286,{"$f":"基本データ!J288","v":"愛知県"},{"$f":"基本データ!B288","v":2021},{"$f":"基本データ!I288","v":"地方独立行政法人　知多半島総合医療機構　知多半島総合医療センター"},{"$f":"基本データ!AL288","v":13},{"$f":"IF(基本データ!AM288<>\"\",\"○\",\"\")","v":"○"},{"$f":"IF(基本データ!AN288<>\"\",\"○\",\"\")","v":"○"},{"$f":"IF(基本データ!AO288<>\"\",\"○\",\"\")","v":"○"},{"$f":"IF(基本データ!AP288<>\"\",\"○\",\"\")","v":""},{"$f":"IF(基本データ!AQ288<>\"\",\"○\",\"\")","v":""},{"$f":"IF(基本データ!AR288<>\"\",\"○\",\"\")","v":"○"},{"$f":"IF(基本データ!AS288<>\"\",\"○\",\"\")","v":"○"},{"$f":"IF(基本データ!AT288<>\"\",\"○\",\"\")","v":""},{"$f":"IF(基本データ!AU288<>\"\",\"○\",\"\")","v":"○"},{"$f":"IF(基本データ!AV288<>\"\",\"○\",\"\")","v":"○"},{"$f":"IF(基本データ!AW288<>\"\",\"○\",\"\")","v":"○"},{"$f":"IF(基本データ!AX288<>\"\",\"○\",\"\")","v":"○"},{"$f":"IF(基本データ!AY288<>\"\",\"○\",\"\")","v":"○"},{"$f":"IF(基本データ!AZ288<>\"\",\"○\",\"\")","v":""},{"$f":"IF(基本データ!BA288<>\"\",\"○\",\"\")","v":"○"},{"$f":"IF(基本データ!BB288<>\"\",\"○\",\"\")","v":""},{"$f":"IF(基本データ!BC288<>\"\",\"○\",\"\")","v":""},{"$f":"IF(基本データ!BD288<>\"\",\"○\",\"\")","v":"○"},{"$f":"IF(基本データ!BE288<>\"\",\"○\",\"\")","v":"○"},{"$f":"IF(基本データ!BF288<>\"\",\"○\",\"\")","v":""},{"$f":"IF(基本データ!BG288<>\"\",\"○\",\"\")","v":""},{"$f":"基本データ!BN288","v":1},{"$f":"IF(基本データ!BH288<>\"\",\"○\",\"\")","v":""},{"$f":"IF(基本データ!BI288<>\"\",\"○\",\"\")","v":"○"},{"$f":"IF(基本データ!BJ288<>\"\",\"○\",\"\")","v":""},{"$f":"IF(基本データ!BK288<>\"\",\"○\",\"\")","v":""},{"$f":"IF(基本データ!BL288<>\"\",\"○\",\"\")","v":""},{"$f":"IF(基本データ!BM288<>\"\",\"○\",\"\")","v":""}]
[287,{"$f":"基本データ!J289","v":"大阪府"},{"$f":"基本データ!B289","v":2021},{"$f":"基本データ!I289","v":"地方独立行政法人大阪市民病院機構　大阪市立総合医療センター"},{"$f":"基本データ!AL289","v":11},{"$f":"IF(基本データ!AM289<>\"\",\"○\",\"\")","v":"○"},{"$f":"IF(基本データ!AN289<>\"\",\"○\",\"\")","v":"○"},{"$f":"IF(基本データ!AO289<>\"\",\"○\",\"\")","v":""},{"$f":"IF(基本データ!AP289<>\"\",\"○\",\"\")","v":""},{"$f":"IF(基本データ!AQ289<>\"\",\"○\",\"\")","v":""},{"$f":"IF(基本データ!AR289<>\"\",\"○\",\"\")","v":""},{"$f":"IF(基本データ!AS289<>\"\",\"○\",\"\")","v":""},{"$f":"IF(基本データ!AT289<>\"\",\"○\",\"\")","v":"○"},{"$f":"IF(基本データ!AU289<>\"\",\"○\",\"\")","v":"○"},{"$f":"IF(基本データ!AV289<>\"\",\"○\",\"\")","v":"○"},{"$f":"IF(基本データ!AW289<>\"\",\"○\",\"\")","v":"○"},{"$f":"IF(基本データ!AX289<>\"\",\"○\",\"\")","v":"○"},{"$f":"IF(基本データ!AY289<>\"\",\"○\",\"\")","v":"○"},{"$f":"IF(基本データ!AZ289<>\"\",\"○\",\"\")","v":""},{"$f":"IF(基本データ!BA289<>\"\",\"○\",\"\")","v":"○"},{"$f":"IF(基本データ!BB289<>\"\",\"○\",\"\")","v":""},{"$f":"IF(基本データ!BC289<>\"\",\"○\",\"\")","v":""},{"$f":"IF(基本データ!BD289<>\"\",\"○\",\"\")","v":"○"},{"$f":"IF(基本データ!BE289<>\"\",\"○\",\"\")","v":"○"},{"$f":"IF(基本データ!BF289<>\"\",\"○\",\"\")","v":""},{"$f":"IF(基本データ!BG289<>\"\",\"○\",\"\")","v":""},{"$f":"基本データ!BN289","v":2},{"$f":"IF(基本データ!BH289<>\"\",\"○\",\"\")","v":""},{"$f":"IF(基本データ!BI289<>\"\",\"○\",\"\")","v":""},{"$f":"IF(基本データ!BJ289<>\"\",\"○\",\"\")","v":"○"},{"$f":"IF(基本データ!BK289<>\"\",\"○\",\"\")","v":""},{"$f":"IF(基本データ!BL289<>\"\",\"○\",\"\")","v":""},{"$f":"IF(基本データ!BM289<>\"\",\"○\",\"\")","v":"○"}]
[288,{"$f":"基本データ!J290","v":0},{"$f":"基本データ!B290","v":2021},{"$f":"基本データ!I290","v":"株式会社Vitaars"},{"$f":"基本データ!AL290","v":0},{"$f":"IF(基本データ!AM290<>\"\",\"○\",\"\")","v":""},{"$f":"IF(基本データ!AN290<>\"\",\"○\",\"\")","v":""},{"$f":"IF(基本データ!AO290<>\"\",\"○\",\"\")","v":""},{"$f":"IF(基本データ!AP290<>\"\",\"○\",\"\")","v":""},{"$f":"IF(基本データ!AQ290<>\"\",\"○\",\"\")","v":""},{"$f":"IF(基本データ!AR290<>\"\",\"○\",\"\")","v":""},{"$f":"IF(基本データ!AS290<>\"\",\"○\",\"\")","v":""},{"$f":"IF(基本データ!AT290<>\"\",\"○\",\"\")","v":""},{"$f":"IF(基本データ!AU290<>\"\",\"○\",\"\")","v":""},{"$f":"IF(基本データ!AV290<>\"\",\"○\",\"\")","v":""},{"$f":"IF(基本データ!AW290<>\"\",\"○\",\"\")","v":""},{"$f":"IF(基本データ!AX290<>\"\",\"○\",\"\")","v":""},{"$f":"IF(基本データ!AY290<>\"\",\"○\",\"\")","v":""},{"$f":"IF(基本データ!AZ290<>\"\",\"○\",\"\")","v":""},{"$f":"IF(基本データ!BA290<>\"\",\"○\",\"\")","v":""},{"$f":"IF(基本データ!BB290<>\"\",\"○\",\"\")","v":""},{"$f":"IF(基本データ!BC290<>\"\",\"○\",\"\")","v":""},{"$f":"IF(基本データ!BD290<>\"\",\"○\",\"\")","v":""},{"$f":"IF(基本データ!BE290<>\"\",\"○\",\"\")","v":""},{"$f":"IF(基本データ!BF290<>\"\",\"○\",\"\")","v":""},{"$f":"IF(基本データ!BG290<>\"\",\"○\",\"\")","v":""},{"$f":"基本データ!BN290","v":0},{"$f":"IF(基本データ!BH290<>\"\",\"○\",\"\")","v":""},{"$f":"IF(基本データ!BI290<>\"\",\"○\",\"\")","v":""},{"$f":"IF(基本データ!BJ290<>\"\",\"○\",\"\")","v":""},{"$f":"IF(基本データ!BK290<>\"\",\"○\",\"\")","v":""},{"$f":"IF(基本データ!BL290<>\"\",\"○\",\"\")","v":""},{"$f":"IF(基本データ!BM290<>\"\",\"○\",\"\")","v":""}]
[289,{"$f":"基本データ!J291","v":"兵庫県"},{"$f":"基本データ!B291","v":2021},{"$f":"基本データ!I291","v":"地方独立行政法人加古川市民病院機構　加古川中央市民病院"},{"$f":"基本データ!AL291","v":12},{"$f":"IF(基本データ!AM291<>\"\",\"○\",\"\")","v":"○"},{"$f":"IF(基本データ!AN291<>\"\",\"○\",\"\")","v":"○"},{"$f":"IF(基本データ!AO291<>\"\",\"○\",\"\")","v":"○"},{"$f":"IF(基本データ!AP291<>\"\",\"○\",\"\")","v":"○"},{"$f":"IF(基本データ!AQ291<>\"\",\"○\",\"\")","v":"○"},{"$f":"IF(基本データ!AR291<>\"\",\"○\",\"\")","v":"○"},{"$f":"IF(基本データ!AS291<>\"\",\"○\",\"\")","v":""},{"$f":"IF(基本データ!AT291<>\"\",\"○\",\"\")","v":""},{"$f":"IF(基本データ!AU291<>\"\",\"○\",\"\")","v":"○"},{"$f":"IF(基本データ!AV291<>\"\",\"○\",\"\")","v":"○"},{"$f":"IF(基本データ!AW291<>\"\",\"○\",\"\")","v":"○"},{"$f":"IF(基本データ!AX291<>\"\",\"○\",\"\")","v":""},{"$f":"IF(基本データ!AY291<>\"\",\"○\",\"\")","v":"○"},{"$f":"IF(基本データ!AZ291<>\"\",\"○\",\"\")","v":""},{"$f":"IF(基本データ!BA291<>\"\",\"○\",\"\")","v":"○"},{"$f":"IF(基本データ!BB291<>\"\",\"○\",\"\")","v":""},{"$f":"IF(基本データ!BC291<>\"\",\"○\",\"\")","v":""},{"$f":"IF(基本データ!BD291<>\"\",\"○\",\"\")","v":""},{"$f":"IF(基本データ!BE291<>\"\",\"○\",\"\")","v":"○"},{"$f":"IF(基本データ!BF291<>\"\",\"○\",\"\")","v":""},{"$f":"IF(基本データ!BG291<>\"\",\"○\",\"\")","v":""},{"$f":"基本データ!BN291","v":0},{"$f":"IF(基本データ!BH291<>\"\",\"○\",\"\")","v":""},{"$f":"IF(基本データ!BI291<>\"\",\"○\",\"\")","v":""},{"$f":"IF(基本データ!BJ291<>\"\",\"○\",\"\")","v":""},{"$f":"IF(基本データ!BK291<>\"\",\"○\",\"\")","v":""},{"$f":"IF(基本データ!BL291<>\"\",\"○\",\"\")","v":""},{"$f":"IF(基本データ!BM291<>\"\",\"○\",\"\")","v":""}]
[290,{"$f":"基本データ!J292","v":"愛媛県"},{"$f":"基本データ!B292","v":2021},{"$f":"基本データ!I292","v":"社会医療法人石川記念会　HITO病院"},{"$f":"基本データ!AL292","v":6},{"$f":"IF(基本データ!AM292<>\"\",\"○\",\"\")","v":""},{"$f":"IF(基本データ!AN292<>\"\",\"○\",\"\")","v":""},{"$f":"IF(基本データ!AO292<>\"\",\"○\",\"\")","v":"○"},{"$f":"IF(基本データ!AP292<>\"\",\"○\",\"\")","v":""},{"$f":"IF(基本データ!AQ292<>\"\",\"○\",\"\")","v":""},{"$f":"IF(基本データ!AR292<>\"\",\"○\",\"\")","v":""},{"$f":"IF(基本データ!AS292<>\"\",\"○\",\"\")","v":""},{"$f":"IF(基本データ!AT292<>\"\",\"○\",\"\")","v":"○"},{"$f":"IF(基本データ!AU292<>\"\",\"○\",\"\")","v":""},{"$f":"IF(基本データ!AV292<>\"\",\"○\",\"\")","v":""},{"$f":"IF(基本データ!AW292<>\"\",\"○\",\"\")","v":"○"},{"$f":"IF(基本データ!AX292<>\"\",\"○\",\"\")","v":""},{"$f":"IF(基本データ!AY292<>\"\",\"○\",\"\")","v":"○"},{"$f":"IF(基本データ!AZ292<>\"\",\"○\",\"\")","v":""},{"$f":"IF(基本データ!BA292<>\"\",\"○\",\"\")","v":"○"},{"$f":"IF(基本データ!BB292<>\"\",\"○\",\"\")","v":""},{"$f":"IF(基本データ!BC292<>\"\",\"○\",\"\")","v":"○"},{"$f":"IF(基本データ!BD292<>\"\",\"○\",\"\")","v":""},{"$f":"IF(基本データ!BE292<>\"\",\"○\",\"\")","v":""},{"$f":"IF(基本データ!BF292<>\"\",\"○\",\"\")","v":""},{"$f":"IF(基本データ!BG292<>\"\",\"○\",\"\")","v":""},{"$f":"基本データ!BN292","v":1},{"$f":"IF(基本データ!BH292<>\"\",\"○\",\"\")","v":"○"},{"$f":"IF(基本データ!BI292<>\"\",\"○\",\"\")","v":""},{"$f":"IF(基本データ!BJ292<>\"\",\"○\",\"\")","v":""},{"$f":"IF(基本データ!BK292<>\"\",\"○\",\"\")","v":""},{"$f":"IF(基本データ!BL292<>\"\",\"○\",\"\")","v":""},{"$f":"IF(基本データ!BM292<>\"\",\"○\",\"\")","v":""}]
[291,{"$f":"基本データ!J293","v":"大分県"},{"$f":"基本データ!B293","v":2021},{"$f":"基本データ!I293","v":"大分大学医学部附属病院"},{"$f":"基本データ!AL293","v":13},{"$f":"IF(基本データ!AM293<>\"\",\"○\",\"\")","v":"○"},{"$f":"IF(基本データ!AN293<>\"\",\"○\",\"\")","v":"○"},{"$f":"IF(基本データ!AO293<>\"\",\"○\",\"\")","v":"○"},{"$f":"IF(基本データ!AP293<>\"\",\"○\",\"\")","v":""},{"$f":"IF(基本データ!AQ293<>\"\",\"○\",\"\")","v":""},{"$f":"IF(基本データ!AR293<>\"\",\"○\",\"\")","v":"○"},{"$f":"IF(基本データ!AS293<>\"\",\"○\",\"\")","v":"○"},{"$f":"IF(基本データ!AT293<>\"\",\"○\",\"\")","v":""},{"$f":"IF(基本データ!AU293<>\"\",\"○\",\"\")","v":"○"},{"$f":"IF(基本データ!AV293<>\"\",\"○\",\"\")","v":"○"},{"$f":"IF(基本データ!AW293<>\"\",\"○\",\"\")","v":""},{"$f":"IF(基本データ!AX293<>\"\",\"○\",\"\")","v":"○"},{"$f":"IF(基本データ!AY293<>\"\",\"○\",\"\")","v":"○"},{"$f":"IF(基本データ!AZ293<>\"\",\"○\",\"\")","v":""},{"$f":"IF(基本データ!BA293<>\"\",\"○\",\"\")","v":"○"},{"$f":"IF(基本データ!BB293<>\"\",\"○\",\"\")","v":""},{"$f":"IF(基本データ!BC293<>\"\",\"○\",\"\")","v":""},{"$f":"IF(基本データ!BD293<>\"\",\"○\",\"\")","v":"○"},{"$f":"IF(基本データ!BE293<>\"\",\"○\",\"\")","v":"○"},{"$f":"IF(基本データ!BF293<>\"\",\"○\",\"\")","v":"○"},{"$f":"IF(基本データ!BG293<>\"\",\"○\",\"\")","v":""},{"$f":"基本データ!BN293","v":3},{"$f":"IF(基本データ!BH293<>\"\",\"○\",\"\")","v":""},{"$f":"IF(基本データ!BI293<>\"\",\"○\",\"\")","v":"○"},{"$f":"IF(基本データ!BJ293<>\"\",\"○\",\"\")","v":"○"},{"$f":"IF(基本データ!BK293<>\"\",\"○\",\"\")","v":"○"},{"$f":"IF(基本データ!BL293<>\"\",\"○\",\"\")","v":""},{"$f":"IF(基本データ!BM293<>\"\",\"○\",\"\")","v":""}]
[292,{"$f":"基本データ!J294","v":"北海道"},{"$f":"基本データ!B294","v":2022},{"$f":"基本データ!I294","v":"独立行政法人国立病院機構北海道医療センター"},{"$f":"基本データ!AL294","v":7},{"$f":"IF(基本データ!AM294<>\"\",\"○\",\"\")","v":"○"},{"$f":"IF(基本データ!AN294<>\"\",\"○\",\"\")","v":"○"},{"$f":"IF(基本データ!AO294<>\"\",\"○\",\"\")","v":"○"},{"$f":"IF(基本データ!AP294<>\"\",\"○\",\"\")","v":""},{"$f":"IF(基本データ!AQ294<>\"\",\"○\",\"\")","v":""},{"$f":"IF(基本データ!AR294<>\"\",\"○\",\"\")","v":""},{"$f":"IF(基本データ!AS294<>\"\",\"○\",\"\")","v":""},{"$f":"IF(基本データ!AT294<>\"\",\"○\",\"\")","v":"○"},{"$f":"IF(基本データ!AU294<>\"\",\"○\",\"\")","v":""},{"$f":"IF(基本データ!AV294<>\"\",\"○\",\"\")","v":""},{"$f":"IF(基本データ!AW294<>\"\",\"○\",\"\")","v":"○"},{"$f":"IF(基本データ!AX294<>\"\",\"○\",\"\")","v":"○"},{"$f":"IF(基本データ!AY294<>\"\",\"○\",\"\")","v":""},{"$f":"IF(基本データ!AZ294<>\"\",\"○\",\"\")","v":""},{"$f":"IF(基本データ!BA294<>\"\",\"○\",\"\")","v":"○"},{"$f":"IF(基本データ!BB294<>\"\",\"○\",\"\")","v":""},{"$f":"IF(基本データ!BC294<>\"\",\"○\",\"\")","v":""},{"$f":"IF(基本データ!BD294<>\"\",\"○\",\"\")","v":""},{"$f":"IF(基本データ!BE294<>\"\",\"○\",\"\")","v":""},{"$f":"IF(基本データ!BF294<>\"\",\"○\",\"\")","v":""},{"$f":"IF(基本データ!BG294<>\"\",\"○\",\"\")","v":""},{"$f":"基本データ!BN294","v":1},{"$f":"IF(基本データ!BH294<>\"\",\"○\",\"\")","v":"○"},{"$f":"IF(基本データ!BI294<>\"\",\"○\",\"\")","v":""},{"$f":"IF(基本データ!BJ294<>\"\",\"○\",\"\")","v":""},{"$f":"IF(基本データ!BK294<>\"\",\"○\",\"\")","v":""},{"$f":"IF(基本データ!BL294<>\"\",\"○\",\"\")","v":""},{"$f":"IF(基本データ!BM294<>\"\",\"○\",\"\")","v":""}]
[293,{"$f":"基本データ!J295","v":"北海道"},{"$f":"基本データ!B295","v":2022},{"$f":"基本データ!I295","v":"名寄市立総合病院"},{"$f":"基本データ!AL295","v":8},{"$f":"IF(基本データ!AM295<>\"\",\"○\",\"\")","v":"○"},{"$f":"IF(基本データ!AN295<>\"\",\"○\",\"\")","v":"○"},{"$f":"IF(基本データ!AO295<>\"\",\"○\",\"\")","v":""},{"$f":"IF(基本データ!AP295<>\"\",\"○\",\"\")","v":""},{"$f":"IF(基本データ!AQ295<>\"\",\"○\",\"\")","v":""},{"$f":"IF(基本データ!AR295<>\"\",\"○\",\"\")","v":""},{"$f":"IF(基本データ!AS295<>\"\",\"○\",\"\")","v":""},{"$f":"IF(基本データ!AT295<>\"\",\"○\",\"\")","v":""},{"$f":"IF(基本データ!AU295<>\"\",\"○\",\"\")","v":""},{"$f":"IF(基本データ!AV295<>\"\",\"○\",\"\")","v":"○"},{"$f":"IF(基本データ!AW295<>\"\",\"○\",\"\")","v":"○"},{"$f":"IF(基本データ!AX295<>\"\",\"○\",\"\")","v":""},{"$f":"IF(基本データ!AY295<>\"\",\"○\",\"\")","v":"○"},{"$f":"IF(基本データ!AZ295<>\"\",\"○\",\"\")","v":""},{"$f":"IF(基本データ!BA295<>\"\",\"○\",\"\")","v":"○"},{"$f":"IF(基本データ!BB295<>\"\",\"○\",\"\")","v":""},{"$f":"IF(基本データ!BC295<>\"\",\"○\",\"\")","v":""},{"$f":"IF(基本データ!BD295<>\"\",\"○\",\"\")","v":"○"},{"$f":"IF(基本データ!BE295<>\"\",\"○\",\"\")","v":"○"},{"$f":"IF(基本データ!BF295<>\"\",\"○\",\"\")","v":""},{"$f":"IF(基本データ!BG295<>\"\",\"○\",\"\")","v":""},{"$f":"基本データ!BN295","v":1},{"$f":"IF(基本データ!BH295<>\"\",\"○\",\"\")","v":""},{"$f":"IF(基本データ!BI295<>\"\",\"○\",\"\")","v":""},{"$f":"IF(基本データ!BJ295<>\"\",\"○\",\"\")","v":"○"},{"$f":"IF(基本データ!BK295<>\"\",\"○\",\"\")","v":""},{"$f":"IF(基本データ!BL295<>\"\",\"○\",\"\")","v":""},{"$f":"IF(基本データ!BM295<>\"\",\"○\",\"\")","v":""}]
[294,{"$f":"基本データ!J296","v":"茨城県"},{"$f":"基本データ!B296","v":2022},{"$f":"基本データ!I296","v":"茨城県厚生農業協同組合連合会　総合病院　土浦協同病院"},{"$f":"基本データ!AL296","v":7},{"$f":"IF(基本データ!AM296<>\"\",\"○\",\"\")","v":"○"},{"$f":"IF(基本データ!AN296<>\"\",\"○\",\"\")","v":"○"},{"$f":"IF(基本データ!AO296<>\"\",\"○\",\"\")","v":""},{"$f":"IF(基本データ!AP296<>\"\",\"○\",\"\")","v":""},{"$f":"IF(基本データ!AQ296<>\"\",\"○\",\"\")","v":""},{"$f":"IF(基本データ!AR296<>\"\",\"○\",\"\")","v":""},{"$f":"IF(基本データ!AS296<>\"\",\"○\",\"\")","v":""},{"$f":"IF(基本データ!AT296<>\"\",\"○\",\"\")","v":""},{"$f":"IF(基本データ!AU296<>\"\",\"○\",\"\")","v":""},{"$f":"IF(基本データ!AV296<>\"\",\"○\",\"\")","v":""},{"$f":"IF(基本データ!AW296<>\"\",\"○\",\"\")","v":""},{"$f":"IF(基本データ!AX296<>\"\",\"○\",\"\")","v":""},{"$f":"IF(基本データ!AY296<>\"\",\"○\",\"\")","v":"○"},{"$f":"IF(基本データ!AZ296<>\"\",\"○\",\"\")","v":""},{"$f":"IF(基本データ!BA296<>\"\",\"○\",\"\")","v":"○"},{"$f":"IF(基本データ!BB296<>\"\",\"○\",\"\")","v":""},{"$f":"IF(基本データ!BC296<>\"\",\"○\",\"\")","v":""},{"$f":"IF(基本データ!BD296<>\"\",\"○\",\"\")","v":"○"},{"$f":"IF(基本データ!BE296<>\"\",\"○\",\"\")","v":"○"},{"$f":"IF(基本データ!BF296<>\"\",\"○\",\"\")","v":"○"},{"$f":"IF(基本データ!BG296<>\"\",\"○\",\"\")","v":""},{"$f":"基本データ!BN296","v":2},{"$f":"IF(基本データ!BH296<>\"\",\"○\",\"\")","v":""},{"$f":"IF(基本データ!BI296<>\"\",\"○\",\"\")","v":""},{"$f":"IF(基本データ!BJ296<>\"\",\"○\",\"\")","v":"○"},{"$f":"IF(基本データ!BK296<>\"\",\"○\",\"\")","v":"○"},{"$f":"IF(基本データ!BL296<>\"\",\"○\",\"\")","v":""},{"$f":"IF(基本データ!BM296<>\"\",\"○\",\"\")","v":""}]
[295,{"$f":"基本データ!J297","v":"千葉県"},{"$f":"基本データ!B297","v":2022},{"$f":"基本データ!I297","v":"医療法人社団葵会　柏たなか病院"},{"$f":"基本データ!AL297","v":2},{"$f":"IF(基本データ!AM297<>\"\",\"○\",\"\")","v":""},{"$f":"IF(基本データ!AN297<>\"\",\"○\",\"\")","v":""},{"$f":"IF(基本データ!AO297<>\"\",\"○\",\"\")","v":""},{"$f":"IF(基本データ!AP297<>\"\",\"○\",\"\")","v":""},{"$f":"IF(基本データ!AQ297<>\"\",\"○\",\"\")","v":""},{"$f":"IF(基本データ!AR297<>\"\",\"○\",\"\")","v":""},{"$f":"IF(基本データ!AS297<>\"\",\"○\",\"\")","v":""},{"$f":"IF(基本データ!AT297<>\"\",\"○\",\"\")","v":""},{"$f":"IF(基本データ!AU297<>\"\",\"○\",\"\")","v":""},{"$f":"IF(基本データ!AV297<>\"\",\"○\",\"\")","v":""},{"$f":"IF(基本データ!AW297<>\"\",\"○\",\"\")","v":""},{"$f":"IF(基本データ!AX297<>\"\",\"○\",\"\")","v":""},{"$f":"IF(基本データ!AY297<>\"\",\"○\",\"\")","v":""},{"$f":"IF(基本データ!AZ297<>\"\",\"○\",\"\")","v":""},{"$f":"IF(基本データ!BA297<>\"\",\"○\",\"\")","v":"○"},{"$f":"IF(基本データ!BB297<>\"\",\"○\",\"\")","v":"○"},{"$f":"IF(基本データ!BC297<>\"\",\"○\",\"\")","v":""},{"$f":"IF(基本データ!BD297<>\"\",\"○\",\"\")","v":""},{"$f":"IF(基本データ!BE297<>\"\",\"○\",\"\")","v":""},{"$f":"IF(基本データ!BF297<>\"\",\"○\",\"\")","v":""},{"$f":"IF(基本データ!BG297<>\"\",\"○\",\"\")","v":""},{"$f":"基本データ!BN297","v":0},{"$f":"IF(基本データ!BH297<>\"\",\"○\",\"\")","v":""},{"$f":"IF(基本データ!BI297<>\"\",\"○\",\"\")","v":""},{"$f":"IF(基本データ!BJ297<>\"\",\"○\",\"\")","v":""},{"$f":"IF(基本データ!BK297<>\"\",\"○\",\"\")","v":""},{"$f":"IF(基本データ!BL297<>\"\",\"○\",\"\")","v":""},{"$f":"IF(基本データ!BM297<>\"\",\"○\",\"\")","v":""}]
[296,{"$f":"基本データ!J298","v":"千葉県"},{"$f":"基本データ!B298","v":2022},{"$f":"基本データ!I298","v":"医療法人社団協友会　柏厚生総合病院"},{"$f":"基本データ!AL298","v":17},{"$f":"IF(基本データ!AM298<>\"\",\"○\",\"\")","v":"○"},{"$f":"IF(基本データ!AN298<>\"\",\"○\",\"\")","v":"○"},{"$f":"IF(基本データ!AO298<>\"\",\"○\",\"\")","v":"○"},{"$f":"IF(基本データ!AP298<>\"\",\"○\",\"\")","v":"○"},{"$f":"IF(基本データ!AQ298<>\"\",\"○\",\"\")","v":""},{"$f":"IF(基本データ!AR298<>\"\",\"○\",\"\")","v":"○"},{"$f":"IF(基本データ!AS298<>\"\",\"○\",\"\")","v":"○"},{"$f":"IF(基本データ!AT298<>\"\",\"○\",\"\")","v":"○"},{"$f":"IF(基本データ!AU298<>\"\",\"○\",\"\")","v":"○"},{"$f":"IF(基本データ!AV298<>\"\",\"○\",\"\")","v":"○"},{"$f":"IF(基本データ!AW298<>\"\",\"○\",\"\")","v":"○"},{"$f":"IF(基本データ!AX298<>\"\",\"○\",\"\")","v":"○"},{"$f":"IF(基本データ!AY298<>\"\",\"○\",\"\")","v":"○"},{"$f":"IF(基本データ!AZ298<>\"\",\"○\",\"\")","v":""},{"$f":"IF(基本データ!BA298<>\"\",\"○\",\"\")","v":"○"},{"$f":"IF(基本データ!BB298<>\"\",\"○\",\"\")","v":""},{"$f":"IF(基本データ!BC298<>\"\",\"○\",\"\")","v":"○"},{"$f":"IF(基本データ!BD298<>\"\",\"○\",\"\")","v":"○"},{"$f":"IF(基本データ!BE298<>\"\",\"○\",\"\")","v":"○"},{"$f":"IF(基本データ!BF298<>\"\",\"○\",\"\")","v":"○"},{"$f":"IF(基本データ!BG298<>\"\",\"○\",\"\")","v":""},{"$f":"基本データ!BN298","v":4},{"$f":"IF(基本データ!BH298<>\"\",\"○\",\"\")","v":""},{"$f":"IF(基本データ!BI298<>\"\",\"○\",\"\")","v":"○"},{"$f":"IF(基本データ!BJ298<>\"\",\"○\",\"\")","v":"○"},{"$f":"IF(基本データ!BK298<>\"\",\"○\",\"\")","v":"○"},{"$f":"IF(基本データ!BL298<>\"\",\"○\",\"\")","v":""},{"$f":"IF(基本データ!BM298<>\"\",\"○\",\"\")","v":"○"}]
[297,{"$f":"基本データ!J299","v":"東京都"},{"$f":"基本データ!B299","v":2022},{"$f":"基本データ!I299","v":"一般社団法人日本精神科看護協会"},{"$f":"基本データ!AL299","v":3},{"$f":"IF(基本データ!AM299<>\"\",\"○\",\"\")","v":""},{"$f":"IF(基本データ!AN299<>\"\",\"○\",\"\")","v":""},{"$f":"IF(基本データ!AO299<>\"\",\"○\",\"\")","v":""},{"$f":"IF(基本データ!AP299<>\"\",\"○\",\"\")","v":""},{"$f":"IF(基本データ!AQ299<>\"\",\"○\",\"\")","v":""},{"$f":"IF(基本データ!AR299<>\"\",\"○\",\"\")","v":""},{"$f":"IF(基本データ!AS299<>\"\",\"○\",\"\")","v":""},{"$f":"IF(基本データ!AT299<>\"\",\"○\",\"\")","v":""},{"$f":"IF(基本データ!AU299<>\"\",\"○\",\"\")","v":""},{"$f":"IF(基本データ!AV299<>\"\",\"○\",\"\")","v":""},{"$f":"IF(基本データ!AW299<>\"\",\"○\",\"\")","v":""},{"$f":"IF(基本データ!AX299<>\"\",\"○\",\"\")","v":""},{"$f":"IF(基本データ!AY299<>\"\",\"○\",\"\")","v":""},{"$f":"IF(基本データ!AZ299<>\"\",\"○\",\"\")","v":""},{"$f":"IF(基本データ!BA299<>\"\",\"○\",\"\")","v":"○"},{"$f":"IF(基本データ!BB299<>\"\",\"○\",\"\")","v":""},{"$f":"IF(基本データ!BC299<>\"\",\"○\",\"\")","v":"○"},{"$f":"IF(基本データ!BD299<>\"\",\"○\",\"\")","v":""},{"$f":"IF(基本データ!BE299<>\"\",\"○\",\"\")","v":""},{"$f":"IF(基本データ!BF299<>\"\",\"○\",\"\")","v":"○"},{"$f":"IF(基本データ!BG299<>\"\",\"○\",\"\")","v":""},{"$f":"基本データ!BN299","v":0},{"$f":"IF(基本データ!BH299<>\"\",\"○\",\"\")","v":""},{"$f":"IF(基本データ!BI299<>\"\",\"○\",\"\")","v":""},{"$f":"IF(基本データ!BJ299<>\"\",\"○\",\"\")","v":""},{"$f":"IF(基本データ!BK299<>\"\",\"○\",\"\")","v":""},{"$f":"IF(基本データ!BL299<>\"\",\"○\",\"\")","v":""},{"$f":"IF(基本データ!BM299<>\"\",\"○\",\"\")","v":""}]
[298,{"$f":"基本データ!J300","v":"神奈川県"},{"$f":"基本データ!B300","v":2022},{"$f":"基本データ!I300","v":"小田原市立病院"},{"$f":"基本データ!AL300","v":12},{"$f":"IF(基本データ!AM300<>\"\",\"○\",\"\")","v":"○"},{"$f":"IF(基本データ!AN300<>\"\",\"○\",\"\")","v":"○"},{"$f":"IF(基本データ!AO300<>\"\",\"○\",\"\")","v":""},{"$f":"IF(基本データ!AP300<>\"\",\"○\",\"\")","v":"○"},{"$f":"IF(基本データ!AQ300<>\"\",\"○\",\"\")","v":""},{"$f":"IF(基本データ!AR300<>\"\",\"○\",\"\")","v":""},{"$f":"IF(基本データ!AS300<>\"\",\"○\",\"\")","v":""},{"$f":"IF(基本データ!AT300<>\"\",\"○\",\"\")","v":""},{"$f":"IF(基本データ!AU300<>\"\",\"○\",\"\")","v":"○"},{"$f":"IF(基本データ!AV300<>\"\",\"○\",\"\")","v":"○"},{"$f":"IF(基本データ!AW300<>\"\",\"○\",\"\")","v":"○"},{"$f":"IF(基本データ!AX300<>\"\",\"○\",\"\")","v":""},{"$f":"IF(基本データ!AY300<>\"\",\"○\",\"\")","v":"○"},{"$f":"IF(基本データ!AZ300<>\"\",\"○\",\"\")","v":""},{"$f":"IF(基本データ!BA300<>\"\",\"○\",\"\")","v":"○"},{"$f":"IF(基本データ!BB300<>\"\",\"○\",\"\")","v":"○"},{"$f":"IF(基本データ!BC300<>\"\",\"○\",\"\")","v":""},{"$f":"IF(基本データ!BD300<>\"\",\"○\",\"\")","v":"○"},{"$f":"IF(基本データ!BE300<>\"\",\"○\",\"\")","v":"○"},{"$f":"IF(基本データ!BF300<>\"\",\"○\",\"\")","v":"○"},{"$f":"IF(基本データ!BG300<>\"\",\"○\",\"\")","v":""},{"$f":"基本データ!BN300","v":3},{"$f":"IF(基本データ!BH300<>\"\",\"○\",\"\")","v":""},{"$f":"IF(基本データ!BI300<>\"\",\"○\",\"\")","v":""},{"$f":"IF(基本データ!BJ300<>\"\",\"○\",\"\")","v":"○"},{"$f":"IF(基本データ!BK300<>\"\",\"○\",\"\")","v":"○"},{"$f":"IF(基本データ!BL300<>\"\",\"○\",\"\")","v":""},{"$f":"IF(基本データ!BM300<>\"\",\"○\",\"\")","v":"○"}]
[299,{"$f":"基本データ!J301","v":"富山県"},{"$f":"基本データ!B301","v":2022},{"$f":"基本データ!I301","v":"国立大学法人富山大学大学院総合医薬学研究科総合医薬学専攻"},{"$f":"基本データ!AL301","v":14},{"$f":"IF(基本データ!AM301<>\"\",\"○\",\"\")","v":"○"},{"$f":"IF(基本データ!AN301<>\"\",\"○\",\"\")","v":"○"},{"$f":"IF(基本データ!AO301<>\"\",\"○\",\"\")","v":"○"},{"$f":"IF(基本データ!AP301<>\"\",\"○\",\"\")","v":""},{"$f":"IF(基本データ!AQ301<>\"\",\"○\",\"\")","v":""},{"$f":"IF(基本データ!AR301<>\"\",\"○\",\"\")","v":""},{"$f":"IF(基本データ!AS301<>\"\",\"○\",\"\")","v":""},{"$f":"IF(基本データ!AT301<>\"\",\"○\",\"\")","v":"○"},{"$f":"IF(基本データ!AU301<>\"\",\"○\",\"\")","v":"○"},{"$f":"IF(基本データ!AV301<>\"\",\"○\",\"\")","v":""},{"$f":"IF(基本データ!AW301<>\"\",\"○\",\"\")","v":"○"},{"$f":"IF(基本データ!AX301<>\"\",\"○\",\"\")","v":"○"},{"$f":"IF(基本データ!AY301<>\"\",\"○\",\"\")","v":"○"},{"$f":"IF(基本データ!AZ301<>\"\",\"○\",\"\")","v":"○"},{"$f":"IF(基本データ!BA301<>\"\",\"○\",\"\")","v":"○"},{"$f":"IF(基本データ!BB301<>\"\",\"○\",\"\")","v":"○"},{"$f":"IF(基本データ!BC301<>\"\",\"○\",\"\")","v":"○"},{"$f":"IF(基本データ!BD301<>\"\",\"○\",\"\")","v":"○"},{"$f":"IF(基本データ!BE301<>\"\",\"○\",\"\")","v":"○"},{"$f":"IF(基本データ!BF301<>\"\",\"○\",\"\")","v":""},{"$f":"IF(基本データ!BG301<>\"\",\"○\",\"\")","v":""},{"$f":"基本データ!BN301","v":2},{"$f":"IF(基本データ!BH301<>\"\",\"○\",\"\")","v":"○"},{"$f":"IF(基本データ!BI301<>\"\",\"○\",\"\")","v":""},{"$f":"IF(基本データ!BJ301<>\"\",\"○\",\"\")","v":""},{"$f":"IF(基本データ!BK301<>\"\",\"○\",\"\")","v":""},{"$f":"IF(基本データ!BL301<>\"\",\"○\",\"\")","v":"○"},{"$f":"IF(基本データ!BM301<>\"\",\"○\",\"\")","v":""}]
[300,{"$f":"基本データ!J302","v":"山梨県"},{"$f":"基本データ!B302","v":2022},{"$f":"基本データ!I302","v":"地方独立行政法人山梨県立病院機構山梨県立中央病院"},{"$f":"基本データ!AL302","v":9},{"$f":"IF(基本データ!AM302<>\"\",\"○\",\"\")","v":"○"},{"$f":"IF(基本データ!AN302<>\"\",\"○\",\"\")","v":"○"},{"$f":"IF(基本データ!AO302<>\"\",\"○\",\"\")","v":""},{"$f":"IF(基本データ!AP302<>\"\",\"○\",\"\")","v":""},{"$f":"IF(基本データ!AQ302<>\"\",\"○\",\"\")","v":""},{"$f":"IF(基本データ!AR302<>\"\",\"○\",\"\")","v":""},{"$f":"IF(基本データ!AS302<>\"\",\"○\",\"\")","v":""},{"$f":"IF(基本データ!AT302<>\"\",\"○\",\"\")","v":""},{"$f":"IF(基本データ!AU302<>\"\",\"○\",\"\")","v":"○"},{"$f":"IF(基本データ!AV302<>\"\",\"○\",\"\")","v":""},{"$f":"IF(基本データ!AW302<>\"\",\"○\",\"\")","v":""},{"$f":"IF(基本データ!AX302<>\"\",\"○\",\"\")","v":""},{"$f":"IF(基本データ!AY302<>\"\",\"○\",\"\")","v":""},{"$f":"IF(基本データ!AZ302<>\"\",\"○\",\"\")","v":""},{"$f":"IF(基本データ!BA302<>\"\",\"○\",\"\")","v":"○"},{"$f":"IF(基本データ!BB302<>\"\",\"○\",\"\")","v":"○"},{"$f":"IF(基本データ!BC302<>\"\",\"○\",\"\")","v":"○"},{"$f":"IF(基本データ!BD302<>\"\",\"○\",\"\")","v":"○"},{"$f":"IF(基本データ!BE302<>\"\",\"○\",\"\")","v":"○"},{"$f":"IF(基本データ!BF302<>\"\",\"○\",\"\")","v":"○"},{"$f":"IF(基本データ!BG302<>\"\",\"○\",\"\")","v":""},{"$f":"基本データ!BN302","v":0},{"$f":"IF(基本データ!BH302<>\"\",\"○\",\"\")","v":""},{"$f":"IF(基本データ!BI302<>\"\",\"○\",\"\")","v":""},{"$f":"IF(基本データ!BJ302<>\"\",\"○\",\"\")","v":""},{"$f":"IF(基本データ!BK302<>\"\",\"○\",\"\")","v":""},{"$f":"IF(基本データ!BL302<>\"\",\"○\",\"\")","v":""},{"$f":"IF(基本データ!BM302<>\"\",\"○\",\"\")","v":""}]
[301,{"$f":"基本データ!J303","v":"長野県"},{"$f":"基本データ!B303","v":2022},{"$f":"基本データ!I303","v":"長野県看護大学看護実践国際研究センター"},{"$f":"基本データ!AL303","v":2},{"$f":"IF(基本データ!AM303<>\"\",\"○\",\"\")","v":""},{"$f":"IF(基本データ!AN303<>\"\",\"○\",\"\")","v":""},{"$f":"IF(基本データ!AO303<>\"\",\"○\",\"\")","v":""},{"$f":"IF(基本データ!AP303<>\"\",\"○\",\"\")","v":""},{"$f":"IF(基本データ!AQ303<>\"\",\"○\",\"\")","v":""},{"$f":"IF(基本データ!AR303<>\"\",\"○\",\"\")","v":""},{"$f":"IF(基本データ!AS303<>\"\",\"○\",\"\")","v":""},{"$f":"IF(基本データ!AT303<>\"\",\"○\",\"\")","v":""},{"$f":"IF(基本データ!AU303<>\"\",\"○\",\"\")","v":""},{"$f":"IF(基本データ!AV303<>\"\",\"○\",\"\")","v":""},{"$f":"IF(基本データ!AW303<>\"\",\"○\",\"\")","v":""},{"$f":"IF(基本データ!AX303<>\"\",\"○\",\"\")","v":""},{"$f":"IF(基本データ!AY303<>\"\",\"○\",\"\")","v":""},{"$f":"IF(基本データ!AZ303<>\"\",\"○\",\"\")","v":""},{"$f":"IF(基本データ!BA303<>\"\",\"○\",\"\")","v":"○"},{"$f":"IF(基本データ!BB303<>\"\",\"○\",\"\")","v":"○"},{"$f":"IF(基本データ!BC303<>\"\",\"○\",\"\")","v":""},{"$f":"IF(基本データ!BD303<>\"\",\"○\",\"\")","v":""},{"$f":"IF(基本データ!BE303<>\"\",\"○\",\"\")","v":""},{"$f":"IF(基本データ!BF303<>\"\",\"○\",\"\")","v":""},{"$f":"IF(基本データ!BG303<>\"\",\"○\",\"\")","v":""},{"$f":"基本データ!BN303","v":0},{"$f":"IF(基本データ!BH303<>\"\",\"○\",\"\")","v":""},{"$f":"IF(基本データ!BI303<>\"\",\"○\",\"\")","v":""},{"$f":"IF(基本データ!BJ303<>\"\",\"○\",\"\")","v":""},{"$f":"IF(基本データ!BK303<>\"\",\"○\",\"\")","v":""},{"$f":"IF(基本データ!BL303<>\"\",\"○\",\"\")","v":""},{"$f":"IF(基本データ!BM303<>\"\",\"○\",\"\")","v":""}]
[302,{"$f":"基本データ!J304","v":"静岡県"},{"$f":"基本データ!B304","v":2022},{"$f":"基本データ!I304","v":"公益社団法人静岡県看護協会"},{"$f":"基本データ!AL304","v":2},{"$f":"IF(基本データ!AM304<>\"\",\"○\",\"\")","v":""},{"$f":"IF(基本データ!AN304<>\"\",\"○\",\"\")","v":""},{"$f":"IF(基本データ!AO304<>\"\",\"○\",\"\")","v":""},{"$f":"IF(基本データ!AP304<>\"\",\"○\",\"\")","v":""},{"$f":"IF(基本データ!AQ304<>\"\",\"○\",\"\")","v":""},{"$f":"IF(基本データ!AR304<>\"\",\"○\",\"\")","v":""},{"$f":"IF(基本データ!AS304<>\"\",\"○\",\"\")","v":""},{"$f":"IF(基本データ!AT304<>\"\",\"○\",\"\")","v":""},{"$f":"IF(基本データ!AU304<>\"\",\"○\",\"\")","v":""},{"$f":"IF(基本データ!AV304<>\"\",\"○\",\"\")","v":""},{"$f":"IF(基本データ!AW304<>\"\",\"○\",\"\")","v":""},{"$f":"IF(基本データ!AX304<>\"\",\"○\",\"\")","v":""},{"$f":"IF(基本データ!AY304<>\"\",\"○\",\"\")","v":""},{"$f":"IF(基本データ!AZ304<>\"\",\"○\",\"\")","v":""},{"$f":"IF(基本データ!BA304<>\"\",\"○\",\"\")","v":"○"},{"$f":"IF(基本データ!BB304<>\"\",\"○\",\"\")","v":"○"},{"$f":"IF(基本データ!BC304<>\"\",\"○\",\"\")","v":""},{"$f":"IF(基本データ!BD304<>\"\",\"○\",\"\")","v":""},{"$f":"IF(基本データ!BE304<>\"\",\"○\",\"\")","v":""},{"$f":"IF(基本データ!BF304<>\"\",\"○\",\"\")","v":""},{"$f":"IF(基本データ!BG304<>\"\",\"○\",\"\")","v":""},{"$f":"基本データ!BN304","v":0},{"$f":"IF(基本データ!BH304<>\"\",\"○\",\"\")","v":""},{"$f":"IF(基本データ!BI304<>\"\",\"○\",\"\")","v":""},{"$f":"IF(基本データ!BJ304<>\"\",\"○\",\"\")","v":""},{"$f":"IF(基本データ!BK304<>\"\",\"○\",\"\")","v":""},{"$f":"IF(基本データ!BL304<>\"\",\"○\",\"\")","v":""},{"$f":"IF(基本データ!BM304<>\"\",\"○\",\"\")","v":""}]
[303,{"$f":"基本データ!J305","v":"愛知県"},{"$f":"基本データ!B305","v":2022},{"$f":"基本データ!I305","v":"医療法人清須呼吸器疾患研究会　はるひ呼吸器病院"},{"$f":"基本データ!AL305","v":4},{"$f":"IF(基本データ!AM305<>\"\",\"○\",\"\")","v":"○"},{"$f":"IF(基本データ!AN305<>\"\",\"○\",\"\")","v":"○"},{"$f":"IF(基本データ!AO305<>\"\",\"○\",\"\")","v":"○"},{"$f":"IF(基本データ!AP305<>\"\",\"○\",\"\")","v":""},{"$f":"IF(基本データ!AQ305<>\"\",\"○\",\"\")","v":""},{"$f":"IF(基本データ!AR305<>\"\",\"○\",\"\")","v":""},{"$f":"IF(基本データ!AS305<>\"\",\"○\",\"\")","v":""},{"$f":"IF(基本データ!AT305<>\"\",\"○\",\"\")","v":""},{"$f":"IF(基本データ!AU305<>\"\",\"○\",\"\")","v":""},{"$f":"IF(基本データ!AV305<>\"\",\"○\",\"\")","v":""},{"$f":"IF(基本データ!AW305<>\"\",\"○\",\"\")","v":""},{"$f":"IF(基本データ!AX305<>\"\",\"○\",\"\")","v":""},{"$f":"IF(基本データ!AY305<>\"\",\"○\",\"\")","v":"○"},{"$f":"IF(基本データ!AZ305<>\"\",\"○\",\"\")","v":""},{"$f":"IF(基本データ!BA305<>\"\",\"○\",\"\")","v":""},{"$f":"IF(基本データ!BB305<>\"\",\"○\",\"\")","v":""},{"$f":"IF(基本データ!BC305<>\"\",\"○\",\"\")","v":""},{"$f":"IF(基本データ!BD305<>\"\",\"○\",\"\")","v":""},{"$f":"IF(基本データ!BE305<>\"\",\"○\",\"\")","v":""},{"$f":"IF(基本データ!BF305<>\"\",\"○\",\"\")","v":""},{"$f":"IF(基本データ!BG305<>\"\",\"○\",\"\")","v":""},{"$f":"基本データ!BN305","v":0},{"$f":"IF(基本データ!BH305<>\"\",\"○\",\"\")","v":""},{"$f":"IF(基本データ!BI305<>\"\",\"○\",\"\")","v":""},{"$f":"IF(基本データ!BJ305<>\"\",\"○\",\"\")","v":""},{"$f":"IF(基本データ!BK305<>\"\",\"○\",\"\")","v":""},{"$f":"IF(基本データ!BL305<>\"\",\"○\",\"\")","v":""},{"$f":"IF(基本データ!BM305<>\"\",\"○\",\"\")","v":""}]
[304,{"$f":"基本データ!J306","v":"京都府"},{"$f":"基本データ!B306","v":2022},{"$f":"基本データ!I306","v":"京都橘大学看護教育研修センター"},{"$f":"基本データ!AL306","v":2},{"$f":"IF(基本データ!AM306<>\"\",\"○\",\"\")","v":""},{"$f":"IF(基本データ!AN306<>\"\",\"○\",\"\")","v":""},{"$f":"IF(基本データ!AO306<>\"\",\"○\",\"\")","v":""},{"$f":"IF(基本データ!AP306<>\"\",\"○\",\"\")","v":""},{"$f":"IF(基本データ!AQ306<>\"\",\"○\",\"\")","v":""},{"$f":"IF(基本データ!AR306<>\"\",\"○\",\"\")","v":""},{"$f":"IF(基本データ!AS306<>\"\",\"○\",\"\")","v":""},{"$f":"IF(基本データ!AT306<>\"\",\"○\",\"\")","v":""},{"$f":"IF(基本データ!AU306<>\"\",\"○\",\"\")","v":""},{"$f":"IF(基本データ!AV306<>\"\",\"○\",\"\")","v":""},{"$f":"IF(基本データ!AW306<>\"\",\"○\",\"\")","v":"○"},{"$f":"IF(基本データ!AX306<>\"\",\"○\",\"\")","v":""},{"$f":"IF(基本データ!AY306<>\"\",\"○\",\"\")","v":""},{"$f":"IF(基本データ!AZ306<>\"\",\"○\",\"\")","v":""},{"$f":"IF(基本データ!BA306<>\"\",\"○\",\"\")","v":"○"},{"$f":"IF(基本データ!BB306<>\"\",\"○\",\"\")","v":""},{"$f":"IF(基本データ!BC306<>\"\",\"○\",\"\")","v":""},{"$f":"IF(基本データ!BD306<>\"\",\"○\",\"\")","v":""},{"$f":"IF(基本データ!BE306<>\"\",\"○\",\"\")","v":""},{"$f":"IF(基本データ!BF306<>\"\",\"○\",\"\")","v":""},{"$f":"IF(基本データ!BG306<>\"\",\"○\",\"\")","v":""},{"$f":"基本データ!BN306","v":0},{"$f":"IF(基本データ!BH306<>\"\",\"○\",\"\")","v":""},{"$f":"IF(基本データ!BI306<>\"\",\"○\",\"\")","v":""},{"$f":"IF(基本データ!BJ306<>\"\",\"○\",\"\")","v":""},{"$f":"IF(基本データ!BK306<>\"\",\"○\",\"\")","v":""},{"$f":"IF(基本データ!BL306<>\"\",\"○\",\"\")","v":""},{"$f":"IF(基本データ!BM306<>\"\",\"○\",\"\")","v":""}]
[305,{"$f":"基本データ!J307","v":"大阪府"},{"$f":"基本データ!B307","v":2022},{"$f":"基本データ!I307","v":"社会医療法人東和会　第一東和会病院"},{"$f":"基本データ!AL307","v":11},{"$f":"IF(基本データ!AM307<>\"\",\"○\",\"\")","v":"○"},{"$f":"IF(基本データ!AN307<>\"\",\"○\",\"\")","v":"○"},{"$f":"IF(基本データ!AO307<>\"\",\"○\",\"\")","v":""},{"$f":"IF(基本データ!AP307<>\"\",\"○\",\"\")","v":""},{"$f":"IF(基本データ!AQ307<>\"\",\"○\",\"\")","v":""},{"$f":"IF(基本データ!AR307<>\"\",\"○\",\"\")","v":""},{"$f":"IF(基本データ!AS307<>\"\",\"○\",\"\")","v":"○"},{"$f":"IF(基本データ!AT307<>\"\",\"○\",\"\")","v":""},{"$f":"IF(基本データ!AU307<>\"\",\"○\",\"\")","v":"○"},{"$f":"IF(基本データ!AV307<>\"\",\"○\",\"\")","v":""},{"$f":"IF(基本データ!AW307<>\"\",\"○\",\"\")","v":"○"},{"$f":"IF(基本データ!AX307<>\"\",\"○\",\"\")","v":""},{"$f":"IF(基本データ!AY307<>\"\",\"○\",\"\")","v":"○"},{"$f":"IF(基本データ!AZ307<>\"\",\"○\",\"\")","v":""},{"$f":"IF(基本データ!BA307<>\"\",\"○\",\"\")","v":"○"},{"$f":"IF(基本データ!BB307<>\"\",\"○\",\"\")","v":"○"},{"$f":"IF(基本データ!BC307<>\"\",\"○\",\"\")","v":"○"},{"$f":"IF(基本データ!BD307<>\"\",\"○\",\"\")","v":"○"},{"$f":"IF(基本データ!BE307<>\"\",\"○\",\"\")","v":"○"},{"$f":"IF(基本データ!BF307<>\"\",\"○\",\"\")","v":""},{"$f":"IF(基本データ!BG307<>\"\",\"○\",\"\")","v":""},{"$f":"基本データ!BN307","v":1},{"$f":"IF(基本データ!BH307<>\"\",\"○\",\"\")","v":""},{"$f":"IF(基本データ!BI307<>\"\",\"○\",\"\")","v":""},{"$f":"IF(基本データ!BJ307<>\"\",\"○\",\"\")","v":"○"},{"$f":"IF(基本データ!BK307<>\"\",\"○\",\"\")","v":""},{"$f":"IF(基本データ!BL307<>\"\",\"○\",\"\")","v":""},{"$f":"IF(基本データ!BM307<>\"\",\"○\",\"\")","v":""}]
[306,{"$f":"基本データ!J308","v":"大阪府"},{"$f":"基本データ!B308","v":2022},{"$f":"基本データ!I308","v":"医療法人徳洲会　松原徳洲会病院"},{"$f":"基本データ!AL308","v":9},{"$f":"IF(基本データ!AM308<>\"\",\"○\",\"\")","v":"○"},{"$f":"IF(基本データ!AN308<>\"\",\"○\",\"\")","v":"○"},{"$f":"IF(基本データ!AO308<>\"\",\"○\",\"\")","v":""},{"$f":"IF(基本データ!AP308<>\"\",\"○\",\"\")","v":""},{"$f":"IF(基本データ!AQ308<>\"\",\"○\",\"\")","v":""},{"$f":"IF(基本データ!AR308<>\"\",\"○\",\"\")","v":""},{"$f":"IF(基本データ!AS308<>\"\",\"○\",\"\")","v":"○"},{"$f":"IF(基本データ!AT308<>\"\",\"○\",\"\")","v":""},{"$f":"IF(基本データ!AU308<>\"\",\"○\",\"\")","v":"○"},{"$f":"IF(基本データ!AV308<>\"\",\"○\",\"\")","v":""},{"$f":"IF(基本データ!AW308<>\"\",\"○\",\"\")","v":"○"},{"$f":"IF(基本データ!AX308<>\"\",\"○\",\"\")","v":"○"},{"$f":"IF(基本データ!AY308<>\"\",\"○\",\"\")","v":"○"},{"$f":"IF(基本データ!AZ308<>\"\",\"○\",\"\")","v":""},{"$f":"IF(基本データ!BA308<>\"\",\"○\",\"\")","v":"○"},{"$f":"IF(基本データ!BB308<>\"\",\"○\",\"\")","v":""},{"$f":"IF(基本データ!BC308<>\"\",\"○\",\"\")","v":""},{"$f":"IF(基本データ!BD308<>\"\",\"○\",\"\")","v":""},{"$f":"IF(基本データ!BE308<>\"\",\"○\",\"\")","v":""},{"$f":"IF(基本データ!BF308<>\"\",\"○\",\"\")","v":"○"},{"$f":"IF(基本データ!BG308<>\"\",\"○\",\"\")","v":""},{"$f":"基本データ!BN308","v":0},{"$f":"IF(基本データ!BH308<>\"\",\"○\",\"\")","v":""},{"$f":"IF(基本データ!BI308<>\"\",\"○\",\"\")","v":""},{"$f":"IF(基本データ!BJ308<>\"\",\"○\",\"\")","v":""},{"$f":"IF(基本データ!BK308<>\"\",\"○\",\"\")","v":""},{"$f":"IF(基本データ!BL308<>\"\",\"○\",\"\")","v":""},{"$f":"IF(基本データ!BM308<>\"\",\"○\",\"\")","v":""}]
[307,{"$f":"基本データ!J309","v":"大阪府"},{"$f":"基本データ!B309","v":2022},{"$f":"基本データ!I309","v":"近畿大学病院"},{"$f":"基本データ!AL309","v":10},{"$f":"IF(基本データ!AM309<>\"\",\"○\",\"\")","v":"○"},{"$f":"IF(基本データ!AN309<>\"\",\"○\",\"\")","v":"○"},{"$f":"IF(基本データ!AO309<>\"\",\"○\",\"\")","v":""},{"$f":"IF(基本データ!AP309<>\"\",\"○\",\"\")","v":"○"},{"$f":"IF(基本データ!AQ309<>\"\",\"○\",\"\")","v":""},{"$f":"IF(基本データ!AR309<>\"\",\"○\",\"\")","v":""},{"$f":"IF(基本データ!AS309<>\"\",\"○\",\"\")","v":""},{"$f":"IF(基本データ!AT309<>\"\",\"○\",\"\")","v":""},{"$f":"IF(基本データ!AU309<>\"\",\"○\",\"\")","v":"○"},{"$f":"IF(基本データ!AV309<>\"\",\"○\",\"\")","v":"○"},{"$f":"IF(基本データ!AW309<>\"\",\"○\",\"\")","v":""},{"$f":"IF(基本データ!AX309<>\"\",\"○\",\"\")","v":""},{"$f":"IF(基本データ!AY309<>\"\",\"○\",\"\")","v":"○"},{"$f":"IF(基本データ!AZ309<>\"\",\"○\",\"\")","v":""},{"$f":"IF(基本データ!BA309<>\"\",\"○\",\"\")","v":"○"},{"$f":"IF(基本データ!BB309<>\"\",\"○\",\"\")","v":""},{"$f":"IF(基本データ!BC309<>\"\",\"○\",\"\")","v":""},{"$f":"IF(基本データ!BD309<>\"\",\"○\",\"\")","v":"○"},{"$f":"IF(基本データ!BE309<>\"\",\"○\",\"\")","v":"○"},{"$f":"IF(基本データ!BF309<>\"\",\"○\",\"\")","v":"○"},{"$f":"IF(基本データ!BG309<>\"\",\"○\",\"\")","v":""},{"$f":"基本データ!BN309","v":3},{"$f":"IF(基本データ!BH309<>\"\",\"○\",\"\")","v":""},{"$f":"IF(基本データ!BI309<>\"\",\"○\",\"\")","v":""},{"$f":"IF(基本データ!BJ309<>\"\",\"○\",\"\")","v":"○"},{"$f":"IF(基本データ!BK309<>\"\",\"○\",\"\")","v":"○"},{"$f":"IF(基本データ!BL309<>\"\",\"○\",\"\")","v":""},{"$f":"IF(基本データ!BM309<>\"\",\"○\",\"\")","v":"○"}]
[308,{"$f":"基本データ!J310","v":"大阪府"},{"$f":"基本データ!B310","v":2022},{"$f":"基本データ!I310","v":"国立大学法人 大阪大学"},{"$f":"基本データ!AL310","v":1},{"$f":"IF(基本データ!AM310<>\"\",\"○\",\"\")","v":""},{"$f":"IF(基本データ!AN310<>\"\",\"○\",\"\")","v":""},{"$f":"IF(基本データ!AO310<>\"\",\"○\",\"\")","v":""},{"$f":"IF(基本データ!AP310<>\"\",\"○\",\"\")","v":""},{"$f":"IF(基本データ!AQ310<>\"\",\"○\",\"\")","v":""},{"$f":"IF(基本データ!AR310<>\"\",\"○\",\"\")","v":""},{"$f":"IF(基本データ!AS310<>\"\",\"○\",\"\")","v":""},{"$f":"IF(基本データ!AT310<>\"\",\"○\",\"\")","v":""},{"$f":"IF(基本データ!AU310<>\"\",\"○\",\"\")","v":""},{"$f":"IF(基本データ!AV310<>\"\",\"○\",\"\")","v":""},{"$f":"IF(基本データ!AW310<>\"\",\"○\",\"\")","v":""},{"$f":"IF(基本データ!AX310<>\"\",\"○\",\"\")","v":""},{"$f":"IF(基本データ!AY310<>\"\",\"○\",\"\")","v":""},{"$f":"IF(基本データ!AZ310<>\"\",\"○\",\"\")","v":""},{"$f":"IF(基本データ!BA310<>\"\",\"○\",\"\")","v":"○"},{"$f":"IF(基本データ!BB310<>\"\",\"○\",\"\")","v":""},{"$f":"IF(基本データ!BC310<>\"\",\"○\",\"\")","v":""},{"$f":"IF(基本データ!BD310<>\"\",\"○\",\"\")","v":""},{"$f":"IF(基本データ!BE310<>\"\",\"○\",\"\")","v":""},{"$f":"IF(基本データ!BF310<>\"\",\"○\",\"\")","v":""},{"$f":"IF(基本データ!BG310<>\"\",\"○\",\"\")","v":""},{"$f":"基本データ!BN310","v":0},{"$f":"IF(基本データ!BH310<>\"\",\"○\",\"\")","v":""},{"$f":"IF(基本データ!BI310<>\"\",\"○\",\"\")","v":""},{"$f":"IF(基本データ!BJ310<>\"\",\"○\",\"\")","v":""},{"$f":"IF(基本データ!BK310<>\"\",\"○\",\"\")","v":""},{"$f":"IF(基本データ!BL310<>\"\",\"○\",\"\")","v":""},{"$f":"IF(基本データ!BM310<>\"\",\"○\",\"\")","v":""}]
[310,{"$f":"基本データ!J312","v":"兵庫県"},{"$f":"基本データ!B312","v":2022},{"$f":"基本データ!I312","v":"独立行政法人国立病院機構　姫路医療センター"},{"$f":"基本データ!AL312","v":3},{"$f":"IF(基本データ!AM312<>\"\",\"○\",\"\")","v":""},{"$f":"IF(基本データ!AN312<>\"\",\"○\",\"\")","v":"○"},{"$f":"IF(基本データ!AO312<>\"\",\"○\",\"\")","v":""},{"$f":"IF(基本データ!AP312<>\"\",\"○\",\"\")","v":""},{"$f":"IF(基本データ!AQ312<>\"\",\"○\",\"\")","v":""},{"$f":"IF(基本データ!AR312<>\"\",\"○\",\"\")","v":""},{"$f":"IF(基本データ!AS312<>\"\",\"○\",\"\")","v":""},{"$f":"IF(基本データ!AT312<>\"\",\"○\",\"\")","v":""},{"$f":"IF(基本データ!AU312<>\"\",\"○\",\"\")","v":""},{"$f":"IF(基本データ!AV312<>\"\",\"○\",\"\")","v":"○"},{"$f":"IF(基本データ!AW312<>\"\",\"○\",\"\")","v":""},{"$f":"IF(基本データ!AX312<>\"\",\"○\",\"\")","v":""},{"$f":"IF(基本データ!AY312<>\"\",\"○\",\"\")","v":"○"},{"$f":"IF(基本データ!AZ312<>\"\",\"○\",\"\")","v":""},{"$f":"IF(基本データ!BA312<>\"\",\"○\",\"\")","v":""},{"$f":"IF(基本データ!BB312<>\"\",\"○\",\"\")","v":""},{"$f":"IF(基本データ!BC312<>\"\",\"○\",\"\")","v":""},{"$f":"IF(基本データ!BD312<>\"\",\"○\",\"\")","v":""},{"$f":"IF(基本データ!BE312<>\"\",\"○\",\"\")","v":""},{"$f":"IF(基本データ!BF312<>\"\",\"○\",\"\")","v":""},{"$f":"IF(基本データ!BG312<>\"\",\"○\",\"\")","v":""},{"$f":"基本データ!BN312","v":0},{"$f":"IF(基本データ!BH312<>\"\",\"○\",\"\")","v":""},{"$f":"IF(基本データ!BI312<>\"\",\"○\",\"\")","v":""},{"$f":"IF(基本データ!BJ312<>\"\",\"○\",\"\")","v":""},{"$f":"IF(基本データ!BK312<>\"\",\"○\",\"\")","v":""},{"$f":"IF(基本データ!BL312<>\"\",\"○\",\"\")","v":""},{"$f":"IF(基本データ!BM312<>\"\",\"○\",\"\")","v":""}]
[311,{"$f":"基本データ!J313","v":"岡山県"},{"$f":"基本データ!B313","v":2022},{"$f":"基本データ!I313","v":"独立行政法人国立病院機構　岡山医療センター"},{"$f":"基本データ!AL313","v":13},{"$f":"IF(基本データ!AM313<>\"\",\"○\",\"\")","v":"○"},{"$f":"IF(基本データ!AN313<>\"\",\"○\",\"\")","v":"○"},{"$f":"IF(基本データ!AO313<>\"\",\"○\",\"\")","v":"○"},{"$f":"IF(基本データ!AP313<>\"\",\"○\",\"\")","v":""},{"$f":"IF(基本データ!AQ313<>\"\",\"○\",\"\")","v":""},{"$f":"IF(基本データ!AR313<>\"\",\"○\",\"\")","v":"○"},{"$f":"IF(基本データ!AS313<>\"\",\"○\",\"\")","v":"○"},{"$f":"IF(基本データ!AT313<>\"\",\"○\",\"\")","v":""},{"$f":"IF(基本データ!AU313<>\"\",\"○\",\"\")","v":"○"},{"$f":"IF(基本データ!AV313<>\"\",\"○\",\"\")","v":"○"},{"$f":"IF(基本データ!AW313<>\"\",\"○\",\"\")","v":""},{"$f":"IF(基本データ!AX313<>\"\",\"○\",\"\")","v":"○"},{"$f":"IF(基本データ!AY313<>\"\",\"○\",\"\")","v":"○"},{"$f":"IF(基本データ!AZ313<>\"\",\"○\",\"\")","v":""},{"$f":"IF(基本データ!BA313<>\"\",\"○\",\"\")","v":"○"},{"$f":"IF(基本データ!BB313<>\"\",\"○\",\"\")","v":""},{"$f":"IF(基本データ!BC313<>\"\",\"○\",\"\")","v":"○"},{"$f":"IF(基本データ!BD313<>\"\",\"○\",\"\")","v":"○"},{"$f":"IF(基本データ!BE313<>\"\",\"○\",\"\")","v":"○"},{"$f":"IF(基本データ!BF313<>\"\",\"○\",\"\")","v":""},{"$f":"IF(基本データ!BG313<>\"\",\"○\",\"\")","v":""},{"$f":"基本データ!BN313","v":1},{"$f":"IF(基本データ!BH313<>\"\",\"○\",\"\")","v":""},{"$f":"IF(基本データ!BI313<>\"\",\"○\",\"\")","v":"○"},{"$f":"IF(基本データ!BJ313<>\"\",\"○\",\"\")","v":""},{"$f":"IF(基本データ!BK313<>\"\",\"○\",\"\")","v":""},{"$f":"IF(基本データ!BL313<>\"\",\"○\",\"\")","v":""},{"$f":"IF(基本データ!BM313<>\"\",\"○\",\"\")","v":""}]
[312,{"$f":"基本データ!J314","v":"広島県"},{"$f":"基本データ!B314","v":2022},{"$f":"基本データ!I314","v":"医療法人社団二山会　宗近病院"},{"$f":"基本データ!AL314","v":2},{"$f":"IF(基本データ!AM314<>\"\",\"○\",\"\")","v":""},{"$f":"IF(基本データ!AN314<>\"\",\"○\",\"\")","v":""},{"$f":"IF(基本データ!AO314<>\"\",\"○\",\"\")","v":""},{"$f":"IF(基本データ!AP314<>\"\",\"○\",\"\")","v":""},{"$f":"IF(基本データ!AQ314<>\"\",\"○\",\"\")","v":""},{"$f":"IF(基本データ!AR314<>\"\",\"○\",\"\")","v":""},{"$f":"IF(基本データ!AS314<>\"\",\"○\",\"\")","v":""},{"$f":"IF(基本データ!AT314<>\"\",\"○\",\"\")","v":""},{"$f":"IF(基本データ!AU314<>\"\",\"○\",\"\")","v":""},{"$f":"IF(基本データ!AV314<>\"\",\"○\",\"\")","v":""},{"$f":"IF(基本データ!AW314<>\"\",\"○\",\"\")","v":""},{"$f":"IF(基本データ!AX314<>\"\",\"○\",\"\")","v":""},{"$f":"IF(基本データ!AY314<>\"\",\"○\",\"\")","v":""},{"$f":"IF(基本データ!AZ314<>\"\",\"○\",\"\")","v":""},{"$f":"IF(基本データ!BA314<>\"\",\"○\",\"\")","v":"○"},{"$f":"IF(基本データ!BB314<>\"\",\"○\",\"\")","v":""},{"$f":"IF(基本データ!BC314<>\"\",\"○\",\"\")","v":""},{"$f":"IF(基本データ!BD314<>\"\",\"○\",\"\")","v":""},{"$f":"IF(基本データ!BE314<>\"\",\"○\",\"\")","v":""},{"$f":"IF(基本データ!BF314<>\"\",\"○\",\"\")","v":"○"},{"$f":"IF(基本データ!BG314<>\"\",\"○\",\"\")","v":""},{"$f":"基本データ!BN314","v":0},{"$f":"IF(基本データ!BH314<>\"\",\"○\",\"\")","v":""},{"$f":"IF(基本データ!BI314<>\"\",\"○\",\"\")","v":""},{"$f":"IF(基本データ!BJ314<>\"\",\"○\",\"\")","v":""},{"$f":"IF(基本データ!BK314<>\"\",\"○\",\"\")","v":""},{"$f":"IF(基本データ!BL314<>\"\",\"○\",\"\")","v":""},{"$f":"IF(基本データ!BM314<>\"\",\"○\",\"\")","v":""}]
[313,{"$f":"基本データ!J315","v":"広島県"},{"$f":"基本データ!B315","v":2022},{"$f":"基本データ!I315","v":"独立行政法人国立病院機構東広島医療センター"},{"$f":"基本データ!AL315","v":14},{"$f":"IF(基本データ!AM315<>\"\",\"○\",\"\")","v":"○"},{"$f":"IF(基本データ!AN315<>\"\",\"○\",\"\")","v":"○"},{"$f":"IF(基本データ!AO315<>\"\",\"○\",\"\")","v":"○"},{"$f":"IF(基本データ!AP315<>\"\",\"○\",\"\")","v":""},{"$f":"IF(基本データ!AQ315<>\"\",\"○\",\"\")","v":""},{"$f":"IF(基本データ!AR315<>\"\",\"○\",\"\")","v":"○"},{"$f":"IF(基本データ!AS315<>\"\",\"○\",\"\")","v":"○"},{"$f":"IF(基本データ!AT315<>\"\",\"○\",\"\")","v":""},{"$f":"IF(基本データ!AU315<>\"\",\"○\",\"\")","v":"○"},{"$f":"IF(基本データ!AV315<>\"\",\"○\",\"\")","v":"○"},{"$f":"IF(基本データ!AW315<>\"\",\"○\",\"\")","v":""},{"$f":"IF(基本データ!AX315<>\"\",\"○\",\"\")","v":"○"},{"$f":"IF(基本データ!AY315<>\"\",\"○\",\"\")","v":"○"},{"$f":"IF(基本データ!AZ315<>\"\",\"○\",\"\")","v":""},{"$f":"IF(基本データ!BA315<>\"\",\"○\",\"\")","v":"○"},{"$f":"IF(基本データ!BB315<>\"\",\"○\",\"\")","v":""},{"$f":"IF(基本データ!BC315<>\"\",\"○\",\"\")","v":"○"},{"$f":"IF(基本データ!BD315<>\"\",\"○\",\"\")","v":"○"},{"$f":"IF(基本データ!BE315<>\"\",\"○\",\"\")","v":"○"},{"$f":"IF(基本データ!BF315<>\"\",\"○\",\"\")","v":"○"},{"$f":"IF(基本データ!BG315<>\"\",\"○\",\"\")","v":""},{"$f":"基本データ!BN315","v":1},{"$f":"IF(基本データ!BH315<>\"\",\"○\",\"\")","v":""},{"$f":"IF(基本データ!BI315<>\"\",\"○\",\"\")","v":"○"},{"$f":"IF(基本データ!BJ315<>\"\",\"○\",\"\")","v":""},{"$f":"IF(基本データ!BK315<>\"\",\"○\",\"\")","v":""},{"$f":"IF(基本データ!BL315<>\"\",\"○\",\"\")","v":""},{"$f":"IF(基本データ!BM315<>\"\",\"○\",\"\")","v":""}]
[314,{"$f":"基本データ!J316","v":"愛媛県"},{"$f":"基本データ!B316","v":2022},{"$f":"基本データ!I316","v":"独立行政法人国立病院機構四国がんセンター"},{"$f":"基本データ!AL316","v":8},{"$f":"IF(基本データ!AM316<>\"\",\"○\",\"\")","v":""},{"$f":"IF(基本データ!AN316<>\"\",\"○\",\"\")","v":""},{"$f":"IF(基本データ!AO316<>\"\",\"○\",\"\")","v":""},{"$f":"IF(基本データ!AP316<>\"\",\"○\",\"\")","v":""},{"$f":"IF(基本データ!AQ316<>\"\",\"○\",\"\")","v":""},{"$f":"IF(基本データ!AR316<>\"\",\"○\",\"\")","v":""},{"$f":"IF(基本データ!AS316<>\"\",\"○\",\"\")","v":""},{"$f":"IF(基本データ!AT316<>\"\",\"○\",\"\")","v":""},{"$f":"IF(基本データ!AU316<>\"\",\"○\",\"\")","v":"○"},{"$f":"IF(基本データ!AV316<>\"\",\"○\",\"\")","v":"○"},{"$f":"IF(基本データ!AW316<>\"\",\"○\",\"\")","v":"○"},{"$f":"IF(基本データ!AX316<>\"\",\"○\",\"\")","v":"○"},{"$f":"IF(基本データ!AY316<>\"\",\"○\",\"\")","v":"○"},{"$f":"IF(基本データ!AZ316<>\"\",\"○\",\"\")","v":""},{"$f":"IF(基本データ!BA316<>\"\",\"○\",\"\")","v":"○"},{"$f":"IF(基本データ!BB316<>\"\",\"○\",\"\")","v":"○"},{"$f":"IF(基本データ!BC316<>\"\",\"○\",\"\")","v":""},{"$f":"IF(基本データ!BD316<>\"\",\"○\",\"\")","v":"○"},{"$f":"IF(基本データ!BE316<>\"\",\"○\",\"\")","v":""},{"$f":"IF(基本データ!BF316<>\"\",\"○\",\"\")","v":""},{"$f":"IF(基本データ!BG316<>\"\",\"○\",\"\")","v":""},{"$f":"基本データ!BN316","v":1},{"$f":"IF(基本データ!BH316<>\"\",\"○\",\"\")","v":""},{"$f":"IF(基本データ!BI316<>\"\",\"○\",\"\")","v":""},{"$f":"IF(基本データ!BJ316<>\"\",\"○\",\"\")","v":""},{"$f":"IF(基本データ!BK316<>\"\",\"○\",\"\")","v":""},{"$f":"IF(基本データ!BL316<>\"\",\"○\",\"\")","v":"○"},{"$f":"IF(基本データ!BM316<>\"\",\"○\",\"\")","v":""}]
[315,{"$f":"基本データ!J317","v":"高知県"},{"$f":"基本データ!B317","v":2022},{"$f":"基本データ!I317","v":"独立行政法人国立病院機構　高知病院"},{"$f":"基本データ!AL317","v":8},{"$f":"IF(基本データ!AM317<>\"\",\"○\",\"\")","v":"○"},{"$f":"IF(基本データ!AN317<>\"\",\"○\",\"\")","v":"○"},{"$f":"IF(基本データ!AO317<>\"\",\"○\",\"\")","v":"○"},{"$f":"IF(基本データ!AP317<>\"\",\"○\",\"\")","v":""},{"$f":"IF(基本データ!AQ317<>\"\",\"○\",\"\")","v":""},{"$f":"IF(基本データ!AR317<>\"\",\"○\",\"\")","v":"○"},{"$f":"IF(基本データ!AS317<>\"\",\"○\",\"\")","v":"○"},{"$f":"IF(基本データ!AT317<>\"\",\"○\",\"\")","v":"○"},{"$f":"IF(基本データ!AU317<>\"\",\"○\",\"\")","v":""},{"$f":"IF(基本データ!AV317<>\"\",\"○\",\"\")","v":""},{"$f":"IF(基本データ!AW317<>\"\",\"○\",\"\")","v":""},{"$f":"IF(基本データ!AX317<>\"\",\"○\",\"\")","v":"○"},{"$f":"IF(基本データ!AY317<>\"\",\"○\",\"\")","v":""},{"$f":"IF(基本データ!AZ317<>\"\",\"○\",\"\")","v":""},{"$f":"IF(基本データ!BA317<>\"\",\"○\",\"\")","v":"○"},{"$f":"IF(基本データ!BB317<>\"\",\"○\",\"\")","v":""},{"$f":"IF(基本データ!BC317<>\"\",\"○\",\"\")","v":""},{"$f":"IF(基本データ!BD317<>\"\",\"○\",\"\")","v":""},{"$f":"IF(基本データ!BE317<>\"\",\"○\",\"\")","v":""},{"$f":"IF(基本データ!BF317<>\"\",\"○\",\"\")","v":""},{"$f":"IF(基本データ!BG317<>\"\",\"○\",\"\")","v":""},{"$f":"基本データ!BN317","v":0},{"$f":"IF(基本データ!BH317<>\"\",\"○\",\"\")","v":""},{"$f":"IF(基本データ!BI317<>\"\",\"○\",\"\")","v":""},{"$f":"IF(基本データ!BJ317<>\"\",\"○\",\"\")","v":""},{"$f":"IF(基本データ!BK317<>\"\",\"○\",\"\")","v":""},{"$f":"IF(基本データ!BL317<>\"\",\"○\",\"\")","v":""},{"$f":"IF(基本データ!BM317<>\"\",\"○\",\"\")","v":""}]
[316,{"$f":"基本データ!J318","v":"福岡県"},{"$f":"基本データ!B318","v":2022},{"$f":"基本データ!I318","v":"医療法人聖峰会　田主丸中央病院"},{"$f":"基本データ!AL318","v":3},{"$f":"IF(基本データ!AM318<>\"\",\"○\",\"\")","v":""},{"$f":"IF(基本データ!AN318<>\"\",\"○\",\"\")","v":"○"},{"$f":"IF(基本データ!AO318<>\"\",\"○\",\"\")","v":""},{"$f":"IF(基本データ!AP318<>\"\",\"○\",\"\")","v":""},{"$f":"IF(基本データ!AQ318<>\"\",\"○\",\"\")","v":""},{"$f":"IF(基本データ!AR318<>\"\",\"○\",\"\")","v":""},{"$f":"IF(基本データ!AS318<>\"\",\"○\",\"\")","v":""},{"$f":"IF(基本データ!AT318<>\"\",\"○\",\"\")","v":""},{"$f":"IF(基本データ!AU318<>\"\",\"○\",\"\")","v":""},{"$f":"IF(基本データ!AV318<>\"\",\"○\",\"\")","v":""},{"$f":"IF(基本データ!AW318<>\"\",\"○\",\"\")","v":""},{"$f":"IF(基本データ!AX318<>\"\",\"○\",\"\")","v":""},{"$f":"IF(基本データ!AY318<>\"\",\"○\",\"\")","v":"○"},{"$f":"IF(基本データ!AZ318<>\"\",\"○\",\"\")","v":""},{"$f":"IF(基本データ!BA318<>\"\",\"○\",\"\")","v":"○"},{"$f":"IF(基本データ!BB318<>\"\",\"○\",\"\")","v":""},{"$f":"IF(基本データ!BC318<>\"\",\"○\",\"\")","v":""},{"$f":"IF(基本データ!BD318<>\"\",\"○\",\"\")","v":""},{"$f":"IF(基本データ!BE318<>\"\",\"○\",\"\")","v":""},{"$f":"IF(基本データ!BF318<>\"\",\"○\",\"\")","v":""},{"$f":"IF(基本データ!BG318<>\"\",\"○\",\"\")","v":""},{"$f":"基本データ!BN318","v":0},{"$f":"IF(基本データ!BH318<>\"\",\"○\",\"\")","v":""},{"$f":"IF(基本データ!BI318<>\"\",\"○\",\"\")","v":""},{"$f":"IF(基本データ!BJ318<>\"\",\"○\",\"\")","v":""},{"$f":"IF(基本データ!BK318<>\"\",\"○\",\"\")","v":""},{"$f":"IF(基本データ!BL318<>\"\",\"○\",\"\")","v":""},{"$f":"IF(基本データ!BM318<>\"\",\"○\",\"\")","v":""}]
[317,{"$f":"基本データ!J319","v":"福岡県"},{"$f":"基本データ!B319","v":2022},{"$f":"基本データ!I319","v":"株式会社　麻生　飯塚病院"},{"$f":"基本データ!AL319","v":7},{"$f":"IF(基本データ!AM319<>\"\",\"○\",\"\")","v":"○"},{"$f":"IF(基本データ!AN319<>\"\",\"○\",\"\")","v":"○"},{"$f":"IF(基本データ!AO319<>\"\",\"○\",\"\")","v":""},{"$f":"IF(基本データ!AP319<>\"\",\"○\",\"\")","v":""},{"$f":"IF(基本データ!AQ319<>\"\",\"○\",\"\")","v":""},{"$f":"IF(基本データ!AR319<>\"\",\"○\",\"\")","v":""},{"$f":"IF(基本データ!AS319<>\"\",\"○\",\"\")","v":""},{"$f":"IF(基本データ!AT319<>\"\",\"○\",\"\")","v":""},{"$f":"IF(基本データ!AU319<>\"\",\"○\",\"\")","v":""},{"$f":"IF(基本データ!AV319<>\"\",\"○\",\"\")","v":""},{"$f":"IF(基本データ!AW319<>\"\",\"○\",\"\")","v":""},{"$f":"IF(基本データ!AX319<>\"\",\"○\",\"\")","v":""},{"$f":"IF(基本データ!AY319<>\"\",\"○\",\"\")","v":"○"},{"$f":"IF(基本データ!AZ319<>\"\",\"○\",\"\")","v":""},{"$f":"IF(基本データ!BA319<>\"\",\"○\",\"\")","v":"○"},{"$f":"IF(基本データ!BB319<>\"\",\"○\",\"\")","v":""},{"$f":"IF(基本データ!BC319<>\"\",\"○\",\"\")","v":""},{"$f":"IF(基本データ!BD319<>\"\",\"○\",\"\")","v":"○"},{"$f":"IF(基本データ!BE319<>\"\",\"○\",\"\")","v":"○"},{"$f":"IF(基本データ!BF319<>\"\",\"○\",\"\")","v":"○"},{"$f":"IF(基本データ!BG319<>\"\",\"○\",\"\")","v":""},{"$f":"基本データ!BN319","v":2},{"$f":"IF(基本データ!BH319<>\"\",\"○\",\"\")","v":""},{"$f":"IF(基本データ!BI319<>\"\",\"○\",\"\")","v":""},{"$f":"IF(基本データ!BJ319<>\"\",\"○\",\"\")","v":"○"},{"$f":"IF(基本データ!BK319<>\"\",\"○\",\"\")","v":"○"},{"$f":"IF(基本データ!BL319<>\"\",\"○\",\"\")","v":""},{"$f":"IF(基本データ!BM319<>\"\",\"○\",\"\")","v":""}]
[318,{"$f":"基本データ!J320","v":"福岡県"},{"$f":"基本データ!B320","v":2022},{"$f":"基本データ!I320","v":"久留米大学認定看護師教育センター"},{"$f":"基本データ!AL320","v":7},{"$f":"IF(基本データ!AM320<>\"\",\"○\",\"\")","v":"○"},{"$f":"IF(基本データ!AN320<>\"\",\"○\",\"\")","v":"○"},{"$f":"IF(基本データ!AO320<>\"\",\"○\",\"\")","v":""},{"$f":"IF(基本データ!AP320<>\"\",\"○\",\"\")","v":""},{"$f":"IF(基本データ!AQ320<>\"\",\"○\",\"\")","v":""},{"$f":"IF(基本データ!AR320<>\"\",\"○\",\"\")","v":""},{"$f":"IF(基本データ!AS320<>\"\",\"○\",\"\")","v":""},{"$f":"IF(基本データ!AT320<>\"\",\"○\",\"\")","v":""},{"$f":"IF(基本データ!AU320<>\"\",\"○\",\"\")","v":""},{"$f":"IF(基本データ!AV320<>\"\",\"○\",\"\")","v":"○"},{"$f":"IF(基本データ!AW320<>\"\",\"○\",\"\")","v":""},{"$f":"IF(基本データ!AX320<>\"\",\"○\",\"\")","v":""},{"$f":"IF(基本データ!AY320<>\"\",\"○\",\"\")","v":"○"},{"$f":"IF(基本データ!AZ320<>\"\",\"○\",\"\")","v":""},{"$f":"IF(基本データ!BA320<>\"\",\"○\",\"\")","v":"○"},{"$f":"IF(基本データ!BB320<>\"\",\"○\",\"\")","v":""},{"$f":"IF(基本データ!BC320<>\"\",\"○\",\"\")","v":""},{"$f":"IF(基本データ!BD320<>\"\",\"○\",\"\")","v":"○"},{"$f":"IF(基本データ!BE320<>\"\",\"○\",\"\")","v":"○"},{"$f":"IF(基本データ!BF320<>\"\",\"○\",\"\")","v":""},{"$f":"IF(基本データ!BG320<>\"\",\"○\",\"\")","v":""},{"$f":"基本データ!BN320","v":1},{"$f":"IF(基本データ!BH320<>\"\",\"○\",\"\")","v":""},{"$f":"IF(基本データ!BI320<>\"\",\"○\",\"\")","v":""},{"$f":"IF(基本データ!BJ320<>\"\",\"○\",\"\")","v":"○"},{"$f":"IF(基本データ!BK320<>\"\",\"○\",\"\")","v":""},{"$f":"IF(基本データ!BL320<>\"\",\"○\",\"\")","v":""},{"$f":"IF(基本データ!BM320<>\"\",\"○\",\"\")","v":""}]
[319,{"$f":"基本データ!J321","v":"福岡県"},{"$f":"基本データ!B321","v":2022},{"$f":"基本データ!I321","v":"独立行政法人国立病院機構九州医療センター"},{"$f":"基本データ!AL321","v":13},{"$f":"IF(基本データ!AM321<>\"\",\"○\",\"\")","v":"○"},{"$f":"IF(基本データ!AN321<>\"\",\"○\",\"\")","v":"○"},{"$f":"IF(基本データ!AO321<>\"\",\"○\",\"\")","v":""},{"$f":"IF(基本データ!AP321<>\"\",\"○\",\"\")","v":""},{"$f":"IF(基本データ!AQ321<>\"\",\"○\",\"\")","v":""},{"$f":"IF(基本データ!AR321<>\"\",\"○\",\"\")","v":""},{"$f":"IF(基本データ!AS321<>\"\",\"○\",\"\")","v":""},{"$f":"IF(基本データ!AT321<>\"\",\"○\",\"\")","v":""},{"$f":"IF(基本データ!AU321<>\"\",\"○\",\"\")","v":"○"},{"$f":"IF(基本データ!AV321<>\"\",\"○\",\"\")","v":"○"},{"$f":"IF(基本データ!AW321<>\"\",\"○\",\"\")","v":"○"},{"$f":"IF(基本データ!AX321<>\"\",\"○\",\"\")","v":"○"},{"$f":"IF(基本データ!AY321<>\"\",\"○\",\"\")","v":"○"},{"$f":"IF(基本データ!AZ321<>\"\",\"○\",\"\")","v":""},{"$f":"IF(基本データ!BA321<>\"\",\"○\",\"\")","v":"○"},{"$f":"IF(基本データ!BB321<>\"\",\"○\",\"\")","v":"○"},{"$f":"IF(基本データ!BC321<>\"\",\"○\",\"\")","v":"○"},{"$f":"IF(基本データ!BD321<>\"\",\"○\",\"\")","v":"○"},{"$f":"IF(基本データ!BE321<>\"\",\"○\",\"\")","v":"○"},{"$f":"IF(基本データ!BF321<>\"\",\"○\",\"\")","v":"○"},{"$f":"IF(基本データ!BG321<>\"\",\"○\",\"\")","v":""},{"$f":"基本データ!BN321","v":3},{"$f":"IF(基本データ!BH321<>\"\",\"○\",\"\")","v":""},{"$f":"IF(基本データ!BI321<>\"\",\"○\",\"\")","v":""},{"$f":"IF(基本データ!BJ321<>\"\",\"○\",\"\")","v":"○"},{"$f":"IF(基本データ!BK321<>\"\",\"○\",\"\")","v":"○"},{"$f":"IF(基本データ!BL321<>\"\",\"○\",\"\")","v":"○"},{"$f":"IF(基本データ!BM321<>\"\",\"○\",\"\")","v":""}]
[320,{"$f":"基本データ!J322","v":"福岡県"},{"$f":"基本データ!B322","v":2022},{"$f":"基本データ!I322","v":"独立行政法人国立病院機構九州がんセンター"},{"$f":"基本データ!AL322","v":10},{"$f":"IF(基本データ!AM322<>\"\",\"○\",\"\")","v":""},{"$f":"IF(基本データ!AN322<>\"\",\"○\",\"\")","v":""},{"$f":"IF(基本データ!AO322<>\"\",\"○\",\"\")","v":""},{"$f":"IF(基本データ!AP322<>\"\",\"○\",\"\")","v":""},{"$f":"IF(基本データ!AQ322<>\"\",\"○\",\"\")","v":""},{"$f":"IF(基本データ!AR322<>\"\",\"○\",\"\")","v":"○"},{"$f":"IF(基本データ!AS322<>\"\",\"○\",\"\")","v":"○"},{"$f":"IF(基本データ!AT322<>\"\",\"○\",\"\")","v":""},{"$f":"IF(基本データ!AU322<>\"\",\"○\",\"\")","v":"○"},{"$f":"IF(基本データ!AV322<>\"\",\"○\",\"\")","v":""},{"$f":"IF(基本データ!AW322<>\"\",\"○\",\"\")","v":"○"},{"$f":"IF(基本データ!AX322<>\"\",\"○\",\"\")","v":"○"},{"$f":"IF(基本データ!AY322<>\"\",\"○\",\"\")","v":"○"},{"$f":"IF(基本データ!AZ322<>\"\",\"○\",\"\")","v":""},{"$f":"IF(基本データ!BA322<>\"\",\"○\",\"\")","v":"○"},{"$f":"IF(基本データ!BB322<>\"\",\"○\",\"\")","v":"○"},{"$f":"IF(基本データ!BC322<>\"\",\"○\",\"\")","v":"○"},{"$f":"IF(基本データ!BD322<>\"\",\"○\",\"\")","v":"○"},{"$f":"IF(基本データ!BE322<>\"\",\"○\",\"\")","v":""},{"$f":"IF(基本データ!BF322<>\"\",\"○\",\"\")","v":""},{"$f":"IF(基本データ!BG322<>\"\",\"○\",\"\")","v":""},{"$f":"基本データ!BN322","v":0},{"$f":"IF(基本データ!BH322<>\"\",\"○\",\"\")","v":""},{"$f":"IF(基本データ!BI322<>\"\",\"○\",\"\")","v":""},{"$f":"IF(基本データ!BJ322<>\"\",\"○\",\"\")","v":""},{"$f":"IF(基本データ!BK322<>\"\",\"○\",\"\")","v":""},{"$f":"IF(基本データ!BL322<>\"\",\"○\",\"\")","v":""},{"$f":"IF(基本データ!BM322<>\"\",\"○\",\"\")","v":""}]
[321,{"$f":"基本データ!J323","v":"宮崎県"},{"$f":"基本データ!B323","v":2022},{"$f":"基本データ!I323","v":"社会医療法人善仁会　宮崎善仁会病院"},{"$f":"基本データ!AL323","v":3},{"$f":"IF(基本データ!AM323<>\"\",\"○\",\"\")","v":"○"},{"$f":"IF(基本データ!AN323<>\"\",\"○\",\"\")","v":"○"},{"$f":"IF(基本データ!AO323<>\"\",\"○\",\"\")","v":""},{"$f":"IF(基本データ!AP323<>\"\",\"○\",\"\")","v":""},{"$f":"IF(基本データ!AQ323<>\"\",\"○\",\"\")","v":""},{"$f":"IF(基本データ!AR323<>\"\",\"○\",\"\")","v":""},{"$f":"IF(基本データ!AS323<>\"\",\"○\",\"\")","v":""},{"$f":"IF(基本データ!AT323<>\"\",\"○\",\"\")","v":""},{"$f":"IF(基本データ!AU323<>\"\",\"○\",\"\")","v":""},{"$f":"IF(基本データ!AV323<>\"\",\"○\",\"\")","v":""},{"$f":"IF(基本データ!AW323<>\"\",\"○\",\"\")","v":""},{"$f":"IF(基本データ!AX323<>\"\",\"○\",\"\")","v":""},{"$f":"IF(基本データ!AY323<>\"\",\"○\",\"\")","v":""},{"$f":"IF(基本データ!AZ323<>\"\",\"○\",\"\")","v":""},{"$f":"IF(基本データ!BA323<>\"\",\"○\",\"\")","v":"○"},{"$f":"IF(基本データ!BB323<>\"\",\"○\",\"\")","v":""},{"$f":"IF(基本データ!BC323<>\"\",\"○\",\"\")","v":""},{"$f":"IF(基本データ!BD323<>\"\",\"○\",\"\")","v":""},{"$f":"IF(基本データ!BE323<>\"\",\"○\",\"\")","v":""},{"$f":"IF(基本データ!BF323<>\"\",\"○\",\"\")","v":""},{"$f":"IF(基本データ!BG323<>\"\",\"○\",\"\")","v":""},{"$f":"基本データ!BN323","v":0},{"$f":"IF(基本データ!BH323<>\"\",\"○\",\"\")","v":""},{"$f":"IF(基本データ!BI323<>\"\",\"○\",\"\")","v":""},{"$f":"IF(基本データ!BJ323<>\"\",\"○\",\"\")","v":""},{"$f":"IF(基本データ!BK323<>\"\",\"○\",\"\")","v":""},{"$f":"IF(基本データ!BL323<>\"\",\"○\",\"\")","v":""},{"$f":"IF(基本データ!BM323<>\"\",\"○\",\"\")","v":""}]
[322,{"$f":"基本データ!J324","v":"北海道"},{"$f":"基本データ!B324","v":2022},{"$f":"基本データ!I324","v":"独立行政法人国立病院機構旭川医療センター"},{"$f":"基本データ!AL324","v":6},{"$f":"IF(基本データ!AM324<>\"\",\"○\",\"\")","v":""},{"$f":"IF(基本データ!AN324<>\"\",\"○\",\"\")","v":""},{"$f":"IF(基本データ!AO324<>\"\",\"○\",\"\")","v":"○"},{"$f":"IF(基本データ!AP324<>\"\",\"○\",\"\")","v":""},{"$f":"IF(基本データ!AQ324<>\"\",\"○\",\"\")","v":""},{"$f":"IF(基本データ!AR324<>\"\",\"○\",\"\")","v":""},{"$f":"IF(基本データ!AS324<>\"\",\"○\",\"\")","v":""},{"$f":"IF(基本データ!AT324<>\"\",\"○\",\"\")","v":"○"},{"$f":"IF(基本データ!AU324<>\"\",\"○\",\"\")","v":""},{"$f":"IF(基本データ!AV324<>\"\",\"○\",\"\")","v":"○"},{"$f":"IF(基本データ!AW324<>\"\",\"○\",\"\")","v":"○"},{"$f":"IF(基本データ!AX324<>\"\",\"○\",\"\")","v":""},{"$f":"IF(基本データ!AY324<>\"\",\"○\",\"\")","v":"○"},{"$f":"IF(基本データ!AZ324<>\"\",\"○\",\"\")","v":""},{"$f":"IF(基本データ!BA324<>\"\",\"○\",\"\")","v":"○"},{"$f":"IF(基本データ!BB324<>\"\",\"○\",\"\")","v":""},{"$f":"IF(基本データ!BC324<>\"\",\"○\",\"\")","v":""},{"$f":"IF(基本データ!BD324<>\"\",\"○\",\"\")","v":""},{"$f":"IF(基本データ!BE324<>\"\",\"○\",\"\")","v":""},{"$f":"IF(基本データ!BF324<>\"\",\"○\",\"\")","v":""},{"$f":"IF(基本データ!BG324<>\"\",\"○\",\"\")","v":""},{"$f":"基本データ!BN324","v":1},{"$f":"IF(基本データ!BH324<>\"\",\"○\",\"\")","v":"○"},{"$f":"IF(基本データ!BI324<>\"\",\"○\",\"\")","v":""},{"$f":"IF(基本データ!BJ324<>\"\",\"○\",\"\")","v":""},{"$f":"IF(基本データ!BK324<>\"\",\"○\",\"\")","v":""},{"$f":"IF(基本データ!BL324<>\"\",\"○\",\"\")","v":""},{"$f":"IF(基本データ!BM324<>\"\",\"○\",\"\")","v":""}]
[323,{"$f":"基本データ!J325","v":"秋田県"},{"$f":"基本データ!B325","v":2022},{"$f":"基本データ!I325","v":"秋田大学医学部附属病院"},{"$f":"基本データ!AL325","v":21},{"$f":"IF(基本データ!AM325<>\"\",\"○\",\"\")","v":"○"},{"$f":"IF(基本データ!AN325<>\"\",\"○\",\"\")","v":"○"},{"$f":"IF(基本データ!AO325<>\"\",\"○\",\"\")","v":"○"},{"$f":"IF(基本データ!AP325<>\"\",\"○\",\"\")","v":"○"},{"$f":"IF(基本データ!AQ325<>\"\",\"○\",\"\")","v":"○"},{"$f":"IF(基本データ!AR325<>\"\",\"○\",\"\")","v":"○"},{"$f":"IF(基本データ!AS325<>\"\",\"○\",\"\")","v":"○"},{"$f":"IF(基本データ!AT325<>\"\",\"○\",\"\")","v":"○"},{"$f":"IF(基本データ!AU325<>\"\",\"○\",\"\")","v":"○"},{"$f":"IF(基本データ!AV325<>\"\",\"○\",\"\")","v":"○"},{"$f":"IF(基本データ!AW325<>\"\",\"○\",\"\")","v":"○"},{"$f":"IF(基本データ!AX325<>\"\",\"○\",\"\")","v":"○"},{"$f":"IF(基本データ!AY325<>\"\",\"○\",\"\")","v":"○"},{"$f":"IF(基本データ!AZ325<>\"\",\"○\",\"\")","v":"○"},{"$f":"IF(基本データ!BA325<>\"\",\"○\",\"\")","v":"○"},{"$f":"IF(基本データ!BB325<>\"\",\"○\",\"\")","v":"○"},{"$f":"IF(基本データ!BC325<>\"\",\"○\",\"\")","v":"○"},{"$f":"IF(基本データ!BD325<>\"\",\"○\",\"\")","v":"○"},{"$f":"IF(基本データ!BE325<>\"\",\"○\",\"\")","v":"○"},{"$f":"IF(基本データ!BF325<>\"\",\"○\",\"\")","v":"○"},{"$f":"IF(基本データ!BG325<>\"\",\"○\",\"\")","v":"○"},{"$f":"基本データ!BN325","v":1},{"$f":"IF(基本データ!BH325<>\"\",\"○\",\"\")","v":""},{"$f":"IF(基本データ!BI325<>\"\",\"○\",\"\")","v":""},{"$f":"IF(基本データ!BJ325<>\"\",\"○\",\"\")","v":""},{"$f":"IF(基本データ!BK325<>\"\",\"○\",\"\")","v":""},{"$f":"IF(基本データ!BL325<>\"\",\"○\",\"\")","v":""},{"$f":"IF(基本データ!BM325<>\"\",\"○\",\"\")","v":"○"}]
[324,{"$f":"基本データ!J326","v":"埼玉県"},{"$f":"基本データ!B326","v":2022},{"$f":"基本データ!I326","v":"医療法人社団　武蔵野会　ＴＭＧあさか医療センター"},{"$f":"基本データ!AL326","v":11},{"$f":"IF(基本データ!AM326<>\"\",\"○\",\"\")","v":"○"},{"$f":"IF(基本データ!AN326<>\"\",\"○\",\"\")","v":"○"},{"$f":"IF(基本データ!AO326<>\"\",\"○\",\"\")","v":"○"},{"$f":"IF(基本データ!AP326<>\"\",\"○\",\"\")","v":""},{"$f":"IF(基本データ!AQ326<>\"\",\"○\",\"\")","v":""},{"$f":"IF(基本データ!AR326<>\"\",\"○\",\"\")","v":""},{"$f":"IF(基本データ!AS326<>\"\",\"○\",\"\")","v":""},{"$f":"IF(基本データ!AT326<>\"\",\"○\",\"\")","v":""},{"$f":"IF(基本データ!AU326<>\"\",\"○\",\"\")","v":"○"},{"$f":"IF(基本データ!AV326<>\"\",\"○\",\"\")","v":"○"},{"$f":"IF(基本データ!AW326<>\"\",\"○\",\"\")","v":""},{"$f":"IF(基本データ!AX326<>\"\",\"○\",\"\")","v":""},{"$f":"IF(基本データ!AY326<>\"\",\"○\",\"\")","v":"○"},{"$f":"IF(基本データ!AZ326<>\"\",\"○\",\"\")","v":""},{"$f":"IF(基本データ!BA326<>\"\",\"○\",\"\")","v":"○"},{"$f":"IF(基本データ!BB326<>\"\",\"○\",\"\")","v":""},{"$f":"IF(基本データ!BC326<>\"\",\"○\",\"\")","v":"○"},{"$f":"IF(基本データ!BD326<>\"\",\"○\",\"\")","v":"○"},{"$f":"IF(基本データ!BE326<>\"\",\"○\",\"\")","v":"○"},{"$f":"IF(基本データ!BF326<>\"\",\"○\",\"\")","v":"○"},{"$f":"IF(基本データ!BG326<>\"\",\"○\",\"\")","v":""},{"$f":"基本データ!BN326","v":1},{"$f":"IF(基本データ!BH326<>\"\",\"○\",\"\")","v":""},{"$f":"IF(基本データ!BI326<>\"\",\"○\",\"\")","v":""},{"$f":"IF(基本データ!BJ326<>\"\",\"○\",\"\")","v":"○"},{"$f":"IF(基本データ!BK326<>\"\",\"○\",\"\")","v":""},{"$f":"IF(基本データ!BL326<>\"\",\"○\",\"\")","v":""},{"$f":"IF(基本データ!BM326<>\"\",\"○\",\"\")","v":""}]
[325,{"$f":"基本データ!J327","v":"埼玉県"},{"$f":"基本データ!B327","v":2022},{"$f":"基本データ!I327","v":"社会医療法人財団石心会　埼玉石心会病院"},{"$f":"基本データ!AL327","v":17},{"$f":"IF(基本データ!AM327<>\"\",\"○\",\"\")","v":"○"},{"$f":"IF(基本データ!AN327<>\"\",\"○\",\"\")","v":"○"},{"$f":"IF(基本データ!AO327<>\"\",\"○\",\"\")","v":"○"},{"$f":"IF(基本データ!AP327<>\"\",\"○\",\"\")","v":"○"},{"$f":"IF(基本データ!AQ327<>\"\",\"○\",\"\")","v":"○"},{"$f":"IF(基本データ!AR327<>\"\",\"○\",\"\")","v":"○"},{"$f":"IF(基本データ!AS327<>\"\",\"○\",\"\")","v":"○"},{"$f":"IF(基本データ!AT327<>\"\",\"○\",\"\")","v":"○"},{"$f":"IF(基本データ!AU327<>\"\",\"○\",\"\")","v":"○"},{"$f":"IF(基本データ!AV327<>\"\",\"○\",\"\")","v":"○"},{"$f":"IF(基本データ!AW327<>\"\",\"○\",\"\")","v":"○"},{"$f":"IF(基本データ!AX327<>\"\",\"○\",\"\")","v":"○"},{"$f":"IF(基本データ!AY327<>\"\",\"○\",\"\")","v":"○"},{"$f":"IF(基本データ!AZ327<>\"\",\"○\",\"\")","v":""},{"$f":"IF(基本データ!BA327<>\"\",\"○\",\"\")","v":"○"},{"$f":"IF(基本データ!BB327<>\"\",\"○\",\"\")","v":""},{"$f":"IF(基本データ!BC327<>\"\",\"○\",\"\")","v":""},{"$f":"IF(基本データ!BD327<>\"\",\"○\",\"\")","v":"○"},{"$f":"IF(基本データ!BE327<>\"\",\"○\",\"\")","v":"○"},{"$f":"IF(基本データ!BF327<>\"\",\"○\",\"\")","v":"○"},{"$f":"IF(基本データ!BG327<>\"\",\"○\",\"\")","v":""},{"$f":"基本データ!BN327","v":5},{"$f":"IF(基本データ!BH327<>\"\",\"○\",\"\")","v":"○"},{"$f":"IF(基本データ!BI327<>\"\",\"○\",\"\")","v":"○"},{"$f":"IF(基本データ!BJ327<>\"\",\"○\",\"\")","v":"○"},{"$f":"IF(基本データ!BK327<>\"\",\"○\",\"\")","v":"○"},{"$f":"IF(基本データ!BL327<>\"\",\"○\",\"\")","v":""},{"$f":"IF(基本データ!BM327<>\"\",\"○\",\"\")","v":"○"}]
[326,{"$f":"基本データ!J328","v":"埼玉県"},{"$f":"基本データ!B328","v":2022},{"$f":"基本データ!I328","v":"医療法人社団東光会　戸田中央総合病院"},{"$f":"基本データ!AL328","v":15},{"$f":"IF(基本データ!AM328<>\"\",\"○\",\"\")","v":"○"},{"$f":"IF(基本データ!AN328<>\"\",\"○\",\"\")","v":"○"},{"$f":"IF(基本データ!AO328<>\"\",\"○\",\"\")","v":"○"},{"$f":"IF(基本データ!AP328<>\"\",\"○\",\"\")","v":"○"},{"$f":"IF(基本データ!AQ328<>\"\",\"○\",\"\")","v":""},{"$f":"IF(基本データ!AR328<>\"\",\"○\",\"\")","v":""},{"$f":"IF(基本データ!AS328<>\"\",\"○\",\"\")","v":""},{"$f":"IF(基本データ!AT328<>\"\",\"○\",\"\")","v":"○"},{"$f":"IF(基本データ!AU328<>\"\",\"○\",\"\")","v":"○"},{"$f":"IF(基本データ!AV328<>\"\",\"○\",\"\")","v":"○"},{"$f":"IF(基本データ!AW328<>\"\",\"○\",\"\")","v":"○"},{"$f":"IF(基本データ!AX328<>\"\",\"○\",\"\")","v":"○"},{"$f":"IF(基本データ!AY328<>\"\",\"○\",\"\")","v":"○"},{"$f":"IF(基本データ!AZ328<>\"\",\"○\",\"\")","v":"○"},{"$f":"IF(基本データ!BA328<>\"\",\"○\",\"\")","v":"○"},{"$f":"IF(基本データ!BB328<>\"\",\"○\",\"\")","v":""},{"$f":"IF(基本データ!BC328<>\"\",\"○\",\"\")","v":"○"},{"$f":"IF(基本データ!BD328<>\"\",\"○\",\"\")","v":"○"},{"$f":"IF(基本データ!BE328<>\"\",\"○\",\"\")","v":"○"},{"$f":"IF(基本データ!BF328<>\"\",\"○\",\"\")","v":""},{"$f":"IF(基本データ!BG328<>\"\",\"○\",\"\")","v":""},{"$f":"基本データ!BN328","v":0},{"$f":"IF(基本データ!BH328<>\"\",\"○\",\"\")","v":""},{"$f":"IF(基本データ!BI328<>\"\",\"○\",\"\")","v":""},{"$f":"IF(基本データ!BJ328<>\"\",\"○\",\"\")","v":""},{"$f":"IF(基本データ!BK328<>\"\",\"○\",\"\")","v":""},{"$f":"IF(基本データ!BL328<>\"\",\"○\",\"\")","v":""},{"$f":"IF(基本データ!BM328<>\"\",\"○\",\"\")","v":""}]
[327,{"$f":"基本データ!J329","v":"千葉県"},{"$f":"基本データ!B329","v":2022},{"$f":"基本データ!I329","v":"自動車事故対策機構　千葉療護センター"},{"$f":"基本データ!AL329","v":2},{"$f":"IF(基本データ!AM329<>\"\",\"○\",\"\")","v":""},{"$f":"IF(基本データ!AN329<>\"\",\"○\",\"\")","v":""},{"$f":"IF(基本データ!AO329<>\"\",\"○\",\"\")","v":"○"},{"$f":"IF(基本データ!AP329<>\"\",\"○\",\"\")","v":""},{"$f":"IF(基本データ!AQ329<>\"\",\"○\",\"\")","v":""},{"$f":"IF(基本データ!AR329<>\"\",\"○\",\"\")","v":""},{"$f":"IF(基本データ!AS329<>\"\",\"○\",\"\")","v":""},{"$f":"IF(基本データ!AT329<>\"\",\"○\",\"\")","v":"○"},{"$f":"IF(基本データ!AU329<>\"\",\"○\",\"\")","v":""},{"$f":"IF(基本データ!AV329<>\"\",\"○\",\"\")","v":""},{"$f":"IF(基本データ!AW329<>\"\",\"○\",\"\")","v":""},{"$f":"IF(基本データ!AX329<>\"\",\"○\",\"\")","v":""},{"$f":"IF(基本データ!AY329<>\"\",\"○\",\"\")","v":""},{"$f":"IF(基本データ!AZ329<>\"\",\"○\",\"\")","v":""},{"$f":"IF(基本データ!BA329<>\"\",\"○\",\"\")","v":""},{"$f":"IF(基本データ!BB329<>\"\",\"○\",\"\")","v":""},{"$f":"IF(基本データ!BC329<>\"\",\"○\",\"\")","v":""},{"$f":"IF(基本データ!BD329<>\"\",\"○\",\"\")","v":""},{"$f":"IF(基本データ!BE329<>\"\",\"○\",\"\")","v":""},{"$f":"IF(基本データ!BF329<>\"\",\"○\",\"\")","v":""},{"$f":"IF(基本データ!BG329<>\"\",\"○\",\"\")","v":""},{"$f":"基本データ!BN329","v":0},{"$f":"IF(基本データ!BH329<>\"\",\"○\",\"\")","v":""},{"$f":"IF(基本データ!BI329<>\"\",\"○\",\"\")","v":""},{"$f":"IF(基本データ!BJ329<>\"\",\"○\",\"\")","v":""},{"$f":"IF(基本データ!BK329<>\"\",\"○\",\"\")","v":""},{"$f":"IF(基本データ!BL329<>\"\",\"○\",\"\")","v":""},{"$f":"IF(基本データ!BM329<>\"\",\"○\",\"\")","v":""}]
[328,{"$f":"基本データ!J330","v":"東京都"},{"$f":"基本データ!B330","v":2022},{"$f":"基本データ!I330","v":"医療法人社団時正会　佐々総合病院"},{"$f":"基本データ!AL330","v":14},{"$f":"IF(基本データ!AM330<>\"\",\"○\",\"\")","v":"○"},{"$f":"IF(基本データ!AN330<>\"\",\"○\",\"\")","v":"○"},{"$f":"IF(基本データ!AO330<>\"\",\"○\",\"\")","v":"○"},{"$f":"IF(基本データ!AP330<>\"\",\"○\",\"\")","v":""},{"$f":"IF(基本データ!AQ330<>\"\",\"○\",\"\")","v":""},{"$f":"IF(基本データ!AR330<>\"\",\"○\",\"\")","v":"○"},{"$f":"IF(基本データ!AS330<>\"\",\"○\",\"\")","v":"○"},{"$f":"IF(基本データ!AT330<>\"\",\"○\",\"\")","v":""},{"$f":"IF(基本データ!AU330<>\"\",\"○\",\"\")","v":"○"},{"$f":"IF(基本データ!AV330<>\"\",\"○\",\"\")","v":"○"},{"$f":"IF(基本データ!AW330<>\"\",\"○\",\"\")","v":"○"},{"$f":"IF(基本データ!AX330<>\"\",\"○\",\"\")","v":"○"},{"$f":"IF(基本データ!AY330<>\"\",\"○\",\"\")","v":"○"},{"$f":"IF(基本データ!AZ330<>\"\",\"○\",\"\")","v":""},{"$f":"IF(基本データ!BA330<>\"\",\"○\",\"\")","v":"○"},{"$f":"IF(基本データ!BB330<>\"\",\"○\",\"\")","v":"○"},{"$f":"IF(基本データ!BC330<>\"\",\"○\",\"\")","v":""},{"$f":"IF(基本データ!BD330<>\"\",\"○\",\"\")","v":"○"},{"$f":"IF(基本データ!BE330<>\"\",\"○\",\"\")","v":"○"},{"$f":"IF(基本データ!BF330<>\"\",\"○\",\"\")","v":""},{"$f":"IF(基本データ!BG330<>\"\",\"○\",\"\")","v":""},{"$f":"基本データ!BN330","v":3},{"$f":"IF(基本データ!BH330<>\"\",\"○\",\"\")","v":""},{"$f":"IF(基本データ!BI330<>\"\",\"○\",\"\")","v":"○"},{"$f":"IF(基本データ!BJ330<>\"\",\"○\",\"\")","v":"○"},{"$f":"IF(基本データ!BK330<>\"\",\"○\",\"\")","v":""},{"$f":"IF(基本データ!BL330<>\"\",\"○\",\"\")","v":"○"},{"$f":"IF(基本データ!BM330<>\"\",\"○\",\"\")","v":""}]
[329,{"$f":"基本データ!J331","v":"東京都"},{"$f":"基本データ!B331","v":2022},{"$f":"基本データ!I331","v":"学校法人順天堂　順天堂大学医学部附属練馬病院"},{"$f":"基本データ!AL331","v":14},{"$f":"IF(基本データ!AM331<>\"\",\"○\",\"\")","v":"○"},{"$f":"IF(基本データ!AN331<>\"\",\"○\",\"\")","v":"○"},{"$f":"IF(基本データ!AO331<>\"\",\"○\",\"\")","v":""},{"$f":"IF(基本データ!AP331<>\"\",\"○\",\"\")","v":""},{"$f":"IF(基本データ!AQ331<>\"\",\"○\",\"\")","v":""},{"$f":"IF(基本データ!AR331<>\"\",\"○\",\"\")","v":"○"},{"$f":"IF(基本データ!AS331<>\"\",\"○\",\"\")","v":"○"},{"$f":"IF(基本データ!AT331<>\"\",\"○\",\"\")","v":""},{"$f":"IF(基本データ!AU331<>\"\",\"○\",\"\")","v":"○"},{"$f":"IF(基本データ!AV331<>\"\",\"○\",\"\")","v":""},{"$f":"IF(基本データ!AW331<>\"\",\"○\",\"\")","v":"○"},{"$f":"IF(基本データ!AX331<>\"\",\"○\",\"\")","v":"○"},{"$f":"IF(基本データ!AY331<>\"\",\"○\",\"\")","v":"○"},{"$f":"IF(基本データ!AZ331<>\"\",\"○\",\"\")","v":""},{"$f":"IF(基本データ!BA331<>\"\",\"○\",\"\")","v":"○"},{"$f":"IF(基本データ!BB331<>\"\",\"○\",\"\")","v":"○"},{"$f":"IF(基本データ!BC331<>\"\",\"○\",\"\")","v":"○"},{"$f":"IF(基本データ!BD331<>\"\",\"○\",\"\")","v":"○"},{"$f":"IF(基本データ!BE331<>\"\",\"○\",\"\")","v":"○"},{"$f":"IF(基本データ!BF331<>\"\",\"○\",\"\")","v":"○"},{"$f":"IF(基本データ!BG331<>\"\",\"○\",\"\")","v":""},{"$f":"基本データ!BN331","v":3},{"$f":"IF(基本データ!BH331<>\"\",\"○\",\"\")","v":""},{"$f":"IF(基本データ!BI331<>\"\",\"○\",\"\")","v":""},{"$f":"IF(基本データ!BJ331<>\"\",\"○\",\"\")","v":"○"},{"$f":"IF(基本データ!BK331<>\"\",\"○\",\"\")","v":"○"},{"$f":"IF(基本データ!BL331<>\"\",\"○\",\"\")","v":"○"},{"$f":"IF(基本データ!BM331<>\"\",\"○\",\"\")","v":""}]
[330,{"$f":"基本データ!J332","v":"東京都"},{"$f":"基本データ!B332","v":2022},{"$f":"基本データ!I332","v":"東京医療保健大学大学院　医療保健学研究科　医療保健学専攻　"},{"$f":"基本データ!AL332","v":7},{"$f":"IF(基本データ!AM332<>\"\",\"○\",\"\")","v":""},{"$f":"IF(基本データ!AN332<>\"\",\"○\",\"\")","v":""},{"$f":"IF(基本データ!AO332<>\"\",\"○\",\"\")","v":"○"},{"$f":"IF(基本データ!AP332<>\"\",\"○\",\"\")","v":""},{"$f":"IF(基本データ!AQ332<>\"\",\"○\",\"\")","v":""},{"$f":"IF(基本データ!AR332<>\"\",\"○\",\"\")","v":""},{"$f":"IF(基本データ!AS332<>\"\",\"○\",\"\")","v":""},{"$f":"IF(基本データ!AT332<>\"\",\"○\",\"\")","v":"○"},{"$f":"IF(基本データ!AU332<>\"\",\"○\",\"\")","v":""},{"$f":"IF(基本データ!AV332<>\"\",\"○\",\"\")","v":""},{"$f":"IF(基本データ!AW332<>\"\",\"○\",\"\")","v":"○"},{"$f":"IF(基本データ!AX332<>\"\",\"○\",\"\")","v":""},{"$f":"IF(基本データ!AY332<>\"\",\"○\",\"\")","v":""},{"$f":"IF(基本データ!AZ332<>\"\",\"○\",\"\")","v":""},{"$f":"IF(基本データ!BA332<>\"\",\"○\",\"\")","v":"○"},{"$f":"IF(基本データ!BB332<>\"\",\"○\",\"\")","v":"○"},{"$f":"IF(基本データ!BC332<>\"\",\"○\",\"\")","v":"○"},{"$f":"IF(基本データ!BD332<>\"\",\"○\",\"\")","v":""},{"$f":"IF(基本データ!BE332<>\"\",\"○\",\"\")","v":""},{"$f":"IF(基本データ!BF332<>\"\",\"○\",\"\")","v":"○"},{"$f":"IF(基本データ!BG332<>\"\",\"○\",\"\")","v":""},{"$f":"基本データ!BN332","v":1},{"$f":"IF(基本データ!BH332<>\"\",\"○\",\"\")","v":"○"},{"$f":"IF(基本データ!BI332<>\"\",\"○\",\"\")","v":""},{"$f":"IF(基本データ!BJ332<>\"\",\"○\",\"\")","v":""},{"$f":"IF(基本データ!BK332<>\"\",\"○\",\"\")","v":""},{"$f":"IF(基本データ!BL332<>\"\",\"○\",\"\")","v":""},{"$f":"IF(基本データ!BM332<>\"\",\"○\",\"\")","v":""}]
[331,{"$f":"基本データ!J333","v":"神奈川県"},{"$f":"基本データ!B333","v":2022},{"$f":"基本データ!I333","v":"一般財団法人神奈川県警友会　けいゆう病院"},{"$f":"基本データ!AL333","v":2},{"$f":"IF(基本データ!AM333<>\"\",\"○\",\"\")","v":""},{"$f":"IF(基本データ!AN333<>\"\",\"○\",\"\")","v":""},{"$f":"IF(基本データ!AO333<>\"\",\"○\",\"\")","v":""},{"$f":"IF(基本データ!AP333<>\"\",\"○\",\"\")","v":""},{"$f":"IF(基本データ!AQ333<>\"\",\"○\",\"\")","v":""},{"$f":"IF(基本データ!AR333<>\"\",\"○\",\"\")","v":""},{"$f":"IF(基本データ!AS333<>\"\",\"○\",\"\")","v":""},{"$f":"IF(基本データ!AT333<>\"\",\"○\",\"\")","v":""},{"$f":"IF(基本データ!AU333<>\"\",\"○\",\"\")","v":""},{"$f":"IF(基本データ!AV333<>\"\",\"○\",\"\")","v":""},{"$f":"IF(基本データ!AW333<>\"\",\"○\",\"\")","v":""},{"$f":"IF(基本データ!AX333<>\"\",\"○\",\"\")","v":""},{"$f":"IF(基本データ!AY333<>\"\",\"○\",\"\")","v":"○"},{"$f":"IF(基本データ!AZ333<>\"\",\"○\",\"\")","v":""},{"$f":"IF(基本データ!BA333<>\"\",\"○\",\"\")","v":"○"},{"$f":"IF(基本データ!BB333<>\"\",\"○\",\"\")","v":""},{"$f":"IF(基本データ!BC333<>\"\",\"○\",\"\")","v":""},{"$f":"IF(基本データ!BD333<>\"\",\"○\",\"\")","v":""},{"$f":"IF(基本データ!BE333<>\"\",\"○\",\"\")","v":""},{"$f":"IF(基本データ!BF333<>\"\",\"○\",\"\")","v":""},{"$f":"IF(基本データ!BG333<>\"\",\"○\",\"\")","v":""},{"$f":"基本データ!BN333","v":0},{"$f":"IF(基本データ!BH333<>\"\",\"○\",\"\")","v":""},{"$f":"IF(基本データ!BI333<>\"\",\"○\",\"\")","v":""},{"$f":"IF(基本データ!BJ333<>\"\",\"○\",\"\")","v":""},{"$f":"IF(基本データ!BK333<>\"\",\"○\",\"\")","v":""},{"$f":"IF(基本データ!BL333<>\"\",\"○\",\"\")","v":""},{"$f":"IF(基本データ!BM333<>\"\",\"○\",\"\")","v":""}]
[332,{"$f":"基本データ!J334","v":"神奈川県"},{"$f":"基本データ!B334","v":2022},{"$f":"基本データ!I334","v":"医療法人徳洲会　湘南藤沢徳洲会病院"},{"$f":"基本データ!AL334","v":12},{"$f":"IF(基本データ!AM334<>\"\",\"○\",\"\")","v":"○"},{"$f":"IF(基本データ!AN334<>\"\",\"○\",\"\")","v":"○"},{"$f":"IF(基本データ!AO334<>\"\",\"○\",\"\")","v":"○"},{"$f":"IF(基本データ!AP334<>\"\",\"○\",\"\")","v":""},{"$f":"IF(基本データ!AQ334<>\"\",\"○\",\"\")","v":""},{"$f":"IF(基本データ!AR334<>\"\",\"○\",\"\")","v":"○"},{"$f":"IF(基本データ!AS334<>\"\",\"○\",\"\")","v":"○"},{"$f":"IF(基本データ!AT334<>\"\",\"○\",\"\")","v":""},{"$f":"IF(基本データ!AU334<>\"\",\"○\",\"\")","v":"○"},{"$f":"IF(基本データ!AV334<>\"\",\"○\",\"\")","v":"○"},{"$f":"IF(基本データ!AW334<>\"\",\"○\",\"\")","v":""},{"$f":"IF(基本データ!AX334<>\"\",\"○\",\"\")","v":"○"},{"$f":"IF(基本データ!AY334<>\"\",\"○\",\"\")","v":"○"},{"$f":"IF(基本データ!AZ334<>\"\",\"○\",\"\")","v":""},{"$f":"IF(基本データ!BA334<>\"\",\"○\",\"\")","v":"○"},{"$f":"IF(基本データ!BB334<>\"\",\"○\",\"\")","v":""},{"$f":"IF(基本データ!BC334<>\"\",\"○\",\"\")","v":""},{"$f":"IF(基本データ!BD334<>\"\",\"○\",\"\")","v":"○"},{"$f":"IF(基本データ!BE334<>\"\",\"○\",\"\")","v":"○"},{"$f":"IF(基本データ!BF334<>\"\",\"○\",\"\")","v":""},{"$f":"IF(基本データ!BG334<>\"\",\"○\",\"\")","v":""},{"$f":"基本データ!BN334","v":1},{"$f":"IF(基本データ!BH334<>\"\",\"○\",\"\")","v":""},{"$f":"IF(基本データ!BI334<>\"\",\"○\",\"\")","v":"○"},{"$f":"IF(基本データ!BJ334<>\"\",\"○\",\"\")","v":""},{"$f":"IF(基本データ!BK334<>\"\",\"○\",\"\")","v":""},{"$f":"IF(基本データ!BL334<>\"\",\"○\",\"\")","v":""},{"$f":"IF(基本データ!BM334<>\"\",\"○\",\"\")","v":""}]
[333,{"$f":"基本データ!J335","v":"神奈川県"},{"$f":"基本データ!B335","v":2022},{"$f":"基本データ!I335","v":"藤沢市民病院"},{"$f":"基本データ!AL335","v":3},{"$f":"IF(基本データ!AM335<>\"\",\"○\",\"\")","v":""},{"$f":"IF(基本データ!AN335<>\"\",\"○\",\"\")","v":""},{"$f":"IF(基本データ!AO335<>\"\",\"○\",\"\")","v":""},{"$f":"IF(基本データ!AP335<>\"\",\"○\",\"\")","v":""},{"$f":"IF(基本データ!AQ335<>\"\",\"○\",\"\")","v":""},{"$f":"IF(基本データ!AR335<>\"\",\"○\",\"\")","v":""},{"$f":"IF(基本データ!AS335<>\"\",\"○\",\"\")","v":""},{"$f":"IF(基本データ!AT335<>\"\",\"○\",\"\")","v":""},{"$f":"IF(基本データ!AU335<>\"\",\"○\",\"\")","v":""},{"$f":"IF(基本データ!AV335<>\"\",\"○\",\"\")","v":""},{"$f":"IF(基本データ!AW335<>\"\",\"○\",\"\")","v":""},{"$f":"IF(基本データ!AX335<>\"\",\"○\",\"\")","v":""},{"$f":"IF(基本データ!AY335<>\"\",\"○\",\"\")","v":""},{"$f":"IF(基本データ!AZ335<>\"\",\"○\",\"\")","v":"○"},{"$f":"IF(基本データ!BA335<>\"\",\"○\",\"\")","v":"○"},{"$f":"IF(基本データ!BB335<>\"\",\"○\",\"\")","v":""},{"$f":"IF(基本データ!BC335<>\"\",\"○\",\"\")","v":"○"},{"$f":"IF(基本データ!BD335<>\"\",\"○\",\"\")","v":""},{"$f":"IF(基本データ!BE335<>\"\",\"○\",\"\")","v":""},{"$f":"IF(基本データ!BF335<>\"\",\"○\",\"\")","v":""},{"$f":"IF(基本データ!BG335<>\"\",\"○\",\"\")","v":""},{"$f":"基本データ!BN335","v":0},{"$f":"IF(基本データ!BH335<>\"\",\"○\",\"\")","v":""},{"$f":"IF(基本データ!BI335<>\"\",\"○\",\"\")","v":""},{"$f":"IF(基本データ!BJ335<>\"\",\"○\",\"\")","v":""},{"$f":"IF(基本データ!BK335<>\"\",\"○\",\"\")","v":""},{"$f":"IF(基本データ!BL335<>\"\",\"○\",\"\")","v":""},{"$f":"IF(基本データ!BM335<>\"\",\"○\",\"\")","v":""}]
[334,{"$f":"基本データ!J336","v":"岐阜県"},{"$f":"基本データ!B336","v":2022},{"$f":"基本データ!I336","v":"独立行政法人国立病院機構　長良医療センター"},{"$f":"基本データ!AL336","v":5},{"$f":"IF(基本データ!AM336<>\"\",\"○\",\"\")","v":""},{"$f":"IF(基本データ!AN336<>\"\",\"○\",\"\")","v":""},{"$f":"IF(基本データ!AO336<>\"\",\"○\",\"\")","v":"○"},{"$f":"IF(基本データ!AP336<>\"\",\"○\",\"\")","v":""},{"$f":"IF(基本データ!AQ336<>\"\",\"○\",\"\")","v":""},{"$f":"IF(基本データ!AR336<>\"\",\"○\",\"\")","v":""},{"$f":"IF(基本データ!AS336<>\"\",\"○\",\"\")","v":""},{"$f":"IF(基本データ!AT336<>\"\",\"○\",\"\")","v":"○"},{"$f":"IF(基本データ!AU336<>\"\",\"○\",\"\")","v":""},{"$f":"IF(基本データ!AV336<>\"\",\"○\",\"\")","v":""},{"$f":"IF(基本データ!AW336<>\"\",\"○\",\"\")","v":"○"},{"$f":"IF(基本データ!AX336<>\"\",\"○\",\"\")","v":""},{"$f":"IF(基本データ!AY336<>\"\",\"○\",\"\")","v":""},{"$f":"IF(基本データ!AZ336<>\"\",\"○\",\"\")","v":""},{"$f":"IF(基本データ!BA336<>\"\",\"○\",\"\")","v":"○"},{"$f":"IF(基本データ!BB336<>\"\",\"○\",\"\")","v":"○"},{"$f":"IF(基本データ!BC336<>\"\",\"○\",\"\")","v":""},{"$f":"IF(基本データ!BD336<>\"\",\"○\",\"\")","v":""},{"$f":"IF(基本データ!BE336<>\"\",\"○\",\"\")","v":""},{"$f":"IF(基本データ!BF336<>\"\",\"○\",\"\")","v":""},{"$f":"IF(基本データ!BG336<>\"\",\"○\",\"\")","v":""},{"$f":"基本データ!BN336","v":1},{"$f":"IF(基本データ!BH336<>\"\",\"○\",\"\")","v":"○"},{"$f":"IF(基本データ!BI336<>\"\",\"○\",\"\")","v":""},{"$f":"IF(基本データ!BJ336<>\"\",\"○\",\"\")","v":""},{"$f":"IF(基本データ!BK336<>\"\",\"○\",\"\")","v":""},{"$f":"IF(基本データ!BL336<>\"\",\"○\",\"\")","v":""},{"$f":"IF(基本データ!BM336<>\"\",\"○\",\"\")","v":""}]
[335,{"$f":"基本データ!J337","v":"三重県"},{"$f":"基本データ!B337","v":2022},{"$f":"基本データ!I337","v":"医療法人永井病院"},{"$f":"基本データ!AL337","v":12},{"$f":"IF(基本データ!AM337<>\"\",\"○\",\"\")","v":"○"},{"$f":"IF(基本データ!AN337<>\"\",\"○\",\"\")","v":"○"},{"$f":"IF(基本データ!AO337<>\"\",\"○\",\"\")","v":"○"},{"$f":"IF(基本データ!AP337<>\"\",\"○\",\"\")","v":""},{"$f":"IF(基本データ!AQ337<>\"\",\"○\",\"\")","v":""},{"$f":"IF(基本データ!AR337<>\"\",\"○\",\"\")","v":""},{"$f":"IF(基本データ!AS337<>\"\",\"○\",\"\")","v":"○"},{"$f":"IF(基本データ!AT337<>\"\",\"○\",\"\")","v":"○"},{"$f":"IF(基本データ!AU337<>\"\",\"○\",\"\")","v":"○"},{"$f":"IF(基本データ!AV337<>\"\",\"○\",\"\")","v":"○"},{"$f":"IF(基本データ!AW337<>\"\",\"○\",\"\")","v":"○"},{"$f":"IF(基本データ!AX337<>\"\",\"○\",\"\")","v":""},{"$f":"IF(基本データ!AY337<>\"\",\"○\",\"\")","v":"○"},{"$f":"IF(基本データ!AZ337<>\"\",\"○\",\"\")","v":""},{"$f":"IF(基本データ!BA337<>\"\",\"○\",\"\")","v":"○"},{"$f":"IF(基本データ!BB337<>\"\",\"○\",\"\")","v":""},{"$f":"IF(基本データ!BC337<>\"\",\"○\",\"\")","v":""},{"$f":"IF(基本データ!BD337<>\"\",\"○\",\"\")","v":"○"},{"$f":"IF(基本データ!BE337<>\"\",\"○\",\"\")","v":"○"},{"$f":"IF(基本データ!BF337<>\"\",\"○\",\"\")","v":""},{"$f":"IF(基本データ!BG337<>\"\",\"○\",\"\")","v":""},{"$f":"基本データ!BN337","v":2},{"$f":"IF(基本データ!BH337<>\"\",\"○\",\"\")","v":"○"},{"$f":"IF(基本データ!BI337<>\"\",\"○\",\"\")","v":""},{"$f":"IF(基本データ!BJ337<>\"\",\"○\",\"\")","v":"○"},{"$f":"IF(基本データ!BK337<>\"\",\"○\",\"\")","v":""},{"$f":"IF(基本データ!BL337<>\"\",\"○\",\"\")","v":""},{"$f":"IF(基本データ!BM337<>\"\",\"○\",\"\")","v":""}]
[336,{"$f":"基本データ!J338","v":"京都府"},{"$f":"基本データ!B338","v":2022},{"$f":"基本データ!I338","v":"独立行政法人国立病院機構　京都医療センター"},{"$f":"基本データ!AL338","v":6},{"$f":"IF(基本データ!AM338<>\"\",\"○\",\"\")","v":"○"},{"$f":"IF(基本データ!AN338<>\"\",\"○\",\"\")","v":"○"},{"$f":"IF(基本データ!AO338<>\"\",\"○\",\"\")","v":""},{"$f":"IF(基本データ!AP338<>\"\",\"○\",\"\")","v":""},{"$f":"IF(基本データ!AQ338<>\"\",\"○\",\"\")","v":""},{"$f":"IF(基本データ!AR338<>\"\",\"○\",\"\")","v":""},{"$f":"IF(基本データ!AS338<>\"\",\"○\",\"\")","v":""},{"$f":"IF(基本データ!AT338<>\"\",\"○\",\"\")","v":""},{"$f":"IF(基本データ!AU338<>\"\",\"○\",\"\")","v":""},{"$f":"IF(基本データ!AV338<>\"\",\"○\",\"\")","v":""},{"$f":"IF(基本データ!AW338<>\"\",\"○\",\"\")","v":""},{"$f":"IF(基本データ!AX338<>\"\",\"○\",\"\")","v":""},{"$f":"IF(基本データ!AY338<>\"\",\"○\",\"\")","v":"○"},{"$f":"IF(基本データ!AZ338<>\"\",\"○\",\"\")","v":""},{"$f":"IF(基本データ!BA338<>\"\",\"○\",\"\")","v":"○"},{"$f":"IF(基本データ!BB338<>\"\",\"○\",\"\")","v":"○"},{"$f":"IF(基本データ!BC338<>\"\",\"○\",\"\")","v":""},{"$f":"IF(基本データ!BD338<>\"\",\"○\",\"\")","v":""},{"$f":"IF(基本データ!BE338<>\"\",\"○\",\"\")","v":"○"},{"$f":"IF(基本データ!BF338<>\"\",\"○\",\"\")","v":""},{"$f":"IF(基本データ!BG338<>\"\",\"○\",\"\")","v":""},{"$f":"基本データ!BN338","v":0},{"$f":"IF(基本データ!BH338<>\"\",\"○\",\"\")","v":""},{"$f":"IF(基本データ!BI338<>\"\",\"○\",\"\")","v":""},{"$f":"IF(基本データ!BJ338<>\"\",\"○\",\"\")","v":""},{"$f":"IF(基本データ!BK338<>\"\",\"○\",\"\")","v":""},{"$f":"IF(基本データ!BL338<>\"\",\"○\",\"\")","v":""},{"$f":"IF(基本データ!BM338<>\"\",\"○\",\"\")","v":""}]
[337,{"$f":"基本データ!J339","v":"大阪府"},{"$f":"基本データ!B339","v":2022},{"$f":"基本データ!I339","v":"地方独立行政法人　市立東大阪医療センター"},{"$f":"基本データ!AL339","v":15},{"$f":"IF(基本データ!AM339<>\"\",\"○\",\"\")","v":"○"},{"$f":"IF(基本データ!AN339<>\"\",\"○\",\"\")","v":"○"},{"$f":"IF(基本データ!AO339<>\"\",\"○\",\"\")","v":"○"},{"$f":"IF(基本データ!AP339<>\"\",\"○\",\"\")","v":"○"},{"$f":"IF(基本データ!AQ339<>\"\",\"○\",\"\")","v":""},{"$f":"IF(基本データ!AR339<>\"\",\"○\",\"\")","v":"○"},{"$f":"IF(基本データ!AS339<>\"\",\"○\",\"\")","v":"○"},{"$f":"IF(基本データ!AT339<>\"\",\"○\",\"\")","v":"○"},{"$f":"IF(基本データ!AU339<>\"\",\"○\",\"\")","v":"○"},{"$f":"IF(基本データ!AV339<>\"\",\"○\",\"\")","v":"○"},{"$f":"IF(基本データ!AW339<>\"\",\"○\",\"\")","v":"○"},{"$f":"IF(基本データ!AX339<>\"\",\"○\",\"\")","v":"○"},{"$f":"IF(基本データ!AY339<>\"\",\"○\",\"\")","v":"○"},{"$f":"IF(基本データ!AZ339<>\"\",\"○\",\"\")","v":""},{"$f":"IF(基本データ!BA339<>\"\",\"○\",\"\")","v":"○"},{"$f":"IF(基本データ!BB339<>\"\",\"○\",\"\")","v":""},{"$f":"IF(基本データ!BC339<>\"\",\"○\",\"\")","v":""},{"$f":"IF(基本データ!BD339<>\"\",\"○\",\"\")","v":"○"},{"$f":"IF(基本データ!BE339<>\"\",\"○\",\"\")","v":"○"},{"$f":"IF(基本データ!BF339<>\"\",\"○\",\"\")","v":""},{"$f":"IF(基本データ!BG339<>\"\",\"○\",\"\")","v":""},{"$f":"基本データ!BN339","v":4},{"$f":"IF(基本データ!BH339<>\"\",\"○\",\"\")","v":"○"},{"$f":"IF(基本データ!BI339<>\"\",\"○\",\"\")","v":"○"},{"$f":"IF(基本データ!BJ339<>\"\",\"○\",\"\")","v":"○"},{"$f":"IF(基本データ!BK339<>\"\",\"○\",\"\")","v":""},{"$f":"IF(基本データ!BL339<>\"\",\"○\",\"\")","v":""},{"$f":"IF(基本データ!BM339<>\"\",\"○\",\"\")","v":"○"}]
[338,{"$f":"基本データ!J340","v":"広島県"},{"$f":"基本データ!B340","v":2022},{"$f":"基本データ!I340","v":"地方独立行政法人広島市立病院機構広島市立北部医療センタ－安佐市民病院"},{"$f":"基本データ!AL340","v":12},{"$f":"IF(基本データ!AM340<>\"\",\"○\",\"\")","v":"○"},{"$f":"IF(基本データ!AN340<>\"\",\"○\",\"\")","v":"○"},{"$f":"IF(基本データ!AO340<>\"\",\"○\",\"\")","v":"○"},{"$f":"IF(基本データ!AP340<>\"\",\"○\",\"\")","v":""},{"$f":"IF(基本データ!AQ340<>\"\",\"○\",\"\")","v":""},{"$f":"IF(基本データ!AR340<>\"\",\"○\",\"\")","v":"○"},{"$f":"IF(基本データ!AS340<>\"\",\"○\",\"\")","v":"○"},{"$f":"IF(基本データ!AT340<>\"\",\"○\",\"\")","v":""},{"$f":"IF(基本データ!AU340<>\"\",\"○\",\"\")","v":"○"},{"$f":"IF(基本データ!AV340<>\"\",\"○\",\"\")","v":"○"},{"$f":"IF(基本データ!AW340<>\"\",\"○\",\"\")","v":""},{"$f":"IF(基本データ!AX340<>\"\",\"○\",\"\")","v":"○"},{"$f":"IF(基本データ!AY340<>\"\",\"○\",\"\")","v":"○"},{"$f":"IF(基本データ!AZ340<>\"\",\"○\",\"\")","v":""},{"$f":"IF(基本データ!BA340<>\"\",\"○\",\"\")","v":"○"},{"$f":"IF(基本データ!BB340<>\"\",\"○\",\"\")","v":""},{"$f":"IF(基本データ!BC340<>\"\",\"○\",\"\")","v":""},{"$f":"IF(基本データ!BD340<>\"\",\"○\",\"\")","v":"○"},{"$f":"IF(基本データ!BE340<>\"\",\"○\",\"\")","v":"○"},{"$f":"IF(基本データ!BF340<>\"\",\"○\",\"\")","v":""},{"$f":"IF(基本データ!BG340<>\"\",\"○\",\"\")","v":""},{"$f":"基本データ!BN340","v":1},{"$f":"IF(基本データ!BH340<>\"\",\"○\",\"\")","v":""},{"$f":"IF(基本データ!BI340<>\"\",\"○\",\"\")","v":"○"},{"$f":"IF(基本データ!BJ340<>\"\",\"○\",\"\")","v":""},{"$f":"IF(基本データ!BK340<>\"\",\"○\",\"\")","v":""},{"$f":"IF(基本データ!BL340<>\"\",\"○\",\"\")","v":""},{"$f":"IF(基本データ!BM340<>\"\",\"○\",\"\")","v":""}]
[339,{"$f":"基本データ!J341","v":"広島県"},{"$f":"基本データ!B341","v":2022},{"$f":"基本データ!I341","v":"社会医療法人祥和会　脳神経センター大田記念病院"},{"$f":"基本データ!AL341","v":4},{"$f":"IF(基本データ!AM341<>\"\",\"○\",\"\")","v":""},{"$f":"IF(基本データ!AN341<>\"\",\"○\",\"\")","v":""},{"$f":"IF(基本データ!AO341<>\"\",\"○\",\"\")","v":""},{"$f":"IF(基本データ!AP341<>\"\",\"○\",\"\")","v":""},{"$f":"IF(基本データ!AQ341<>\"\",\"○\",\"\")","v":""},{"$f":"IF(基本データ!AR341<>\"\",\"○\",\"\")","v":""},{"$f":"IF(基本データ!AS341<>\"\",\"○\",\"\")","v":""},{"$f":"IF(基本データ!AT341<>\"\",\"○\",\"\")","v":""},{"$f":"IF(基本データ!AU341<>\"\",\"○\",\"\")","v":""},{"$f":"IF(基本データ!AV341<>\"\",\"○\",\"\")","v":"○"},{"$f":"IF(基本データ!AW341<>\"\",\"○\",\"\")","v":""},{"$f":"IF(基本データ!AX341<>\"\",\"○\",\"\")","v":""},{"$f":"IF(基本データ!AY341<>\"\",\"○\",\"\")","v":"○"},{"$f":"IF(基本データ!AZ341<>\"\",\"○\",\"\")","v":""},{"$f":"IF(基本データ!BA341<>\"\",\"○\",\"\")","v":"○"},{"$f":"IF(基本データ!BB341<>\"\",\"○\",\"\")","v":""},{"$f":"IF(基本データ!BC341<>\"\",\"○\",\"\")","v":"○"},{"$f":"IF(基本データ!BD341<>\"\",\"○\",\"\")","v":""},{"$f":"IF(基本データ!BE341<>\"\",\"○\",\"\")","v":""},{"$f":"IF(基本データ!BF341<>\"\",\"○\",\"\")","v":""},{"$f":"IF(基本データ!BG341<>\"\",\"○\",\"\")","v":""},{"$f":"基本データ!BN341","v":0},{"$f":"IF(基本データ!BH341<>\"\",\"○\",\"\")","v":""},{"$f":"IF(基本データ!BI341<>\"\",\"○\",\"\")","v":""},{"$f":"IF(基本データ!BJ341<>\"\",\"○\",\"\")","v":""},{"$f":"IF(基本データ!BK341<>\"\",\"○\",\"\")","v":""},{"$f":"IF(基本データ!BL341<>\"\",\"○\",\"\")","v":""},{"$f":"IF(基本データ!BM341<>\"\",\"○\",\"\")","v":""}]
[340,{"$f":"基本データ!J342","v":"宮崎県"},{"$f":"基本データ!B342","v":2022},{"$f":"基本データ!I342","v":"独立行政法人国立病院機構宮崎東病院"},{"$f":"基本データ!AL342","v":1},{"$f":"IF(基本データ!AM342<>\"\",\"○\",\"\")","v":""},{"$f":"IF(基本データ!AN342<>\"\",\"○\",\"\")","v":""},{"$f":"IF(基本データ!AO342<>\"\",\"○\",\"\")","v":"○"},{"$f":"IF(基本データ!AP342<>\"\",\"○\",\"\")","v":""},{"$f":"IF(基本データ!AQ342<>\"\",\"○\",\"\")","v":""},{"$f":"IF(基本データ!AR342<>\"\",\"○\",\"\")","v":""},{"$f":"IF(基本データ!AS342<>\"\",\"○\",\"\")","v":""},{"$f":"IF(基本データ!AT342<>\"\",\"○\",\"\")","v":""},{"$f":"IF(基本データ!AU342<>\"\",\"○\",\"\")","v":""},{"$f":"IF(基本データ!AV342<>\"\",\"○\",\"\")","v":""},{"$f":"IF(基本データ!AW342<>\"\",\"○\",\"\")","v":""},{"$f":"IF(基本データ!AX342<>\"\",\"○\",\"\")","v":""},{"$f":"IF(基本データ!AY342<>\"\",\"○\",\"\")","v":""},{"$f":"IF(基本データ!AZ342<>\"\",\"○\",\"\")","v":""},{"$f":"IF(基本データ!BA342<>\"\",\"○\",\"\")","v":""},{"$f":"IF(基本データ!BB342<>\"\",\"○\",\"\")","v":""},{"$f":"IF(基本データ!BC342<>\"\",\"○\",\"\")","v":""},{"$f":"IF(基本データ!BD342<>\"\",\"○\",\"\")","v":""},{"$f":"IF(基本データ!BE342<>\"\",\"○\",\"\")","v":""},{"$f":"IF(基本データ!BF342<>\"\",\"○\",\"\")","v":""},{"$f":"IF(基本データ!BG342<>\"\",\"○\",\"\")","v":""},{"$f":"基本データ!BN342","v":0},{"$f":"IF(基本データ!BH342<>\"\",\"○\",\"\")","v":""},{"$f":"IF(基本データ!BI342<>\"\",\"○\",\"\")","v":""},{"$f":"IF(基本データ!BJ342<>\"\",\"○\",\"\")","v":""},{"$f":"IF(基本データ!BK342<>\"\",\"○\",\"\")","v":""},{"$f":"IF(基本データ!BL342<>\"\",\"○\",\"\")","v":""},{"$f":"IF(基本データ!BM342<>\"\",\"○\",\"\")","v":""}]
[341,{"$f":"基本データ!J343","v":"埼玉県"},{"$f":"基本データ!B343","v":2023},{"$f":"基本データ!I343","v":"医療法人社団武蔵野会　新座志木中央総合病院"},{"$f":"基本データ!AL343","v":4},{"$f":"IF(基本データ!AM343<>\"\",\"○\",\"\")","v":""},{"$f":"IF(基本データ!AN343<>\"\",\"○\",\"\")","v":""},{"$f":"IF(基本データ!AO343<>\"\",\"○\",\"\")","v":""},{"$f":"IF(基本データ!AP343<>\"\",\"○\",\"\")","v":""},{"$f":"IF(基本データ!AQ343<>\"\",\"○\",\"\")","v":""},{"$f":"IF(基本データ!AR343<>\"\",\"○\",\"\")","v":"○"},{"$f":"IF(基本データ!AS343<>\"\",\"○\",\"\")","v":""},{"$f":"IF(基本データ!AT343<>\"\",\"○\",\"\")","v":""},{"$f":"IF(基本データ!AU343<>\"\",\"○\",\"\")","v":""},{"$f":"IF(基本データ!AV343<>\"\",\"○\",\"\")","v":""},{"$f":"IF(基本データ!AW343<>\"\",\"○\",\"\")","v":""},{"$f":"IF(基本データ!AX343<>\"\",\"○\",\"\")","v":""},{"$f":"IF(基本データ!AY343<>\"\",\"○\",\"\")","v":"○"},{"$f":"IF(基本データ!AZ343<>\"\",\"○\",\"\")","v":""},{"$f":"IF(基本データ!BA343<>\"\",\"○\",\"\")","v":"○"},{"$f":"IF(基本データ!BB343<>\"\",\"○\",\"\")","v":""},{"$f":"IF(基本データ!BC343<>\"\",\"○\",\"\")","v":""},{"$f":"IF(基本データ!BD343<>\"\",\"○\",\"\")","v":"○"},{"$f":"IF(基本データ!BE343<>\"\",\"○\",\"\")","v":""},{"$f":"IF(基本データ!BF343<>\"\",\"○\",\"\")","v":""},{"$f":"IF(基本データ!BG343<>\"\",\"○\",\"\")","v":""},{"$f":"基本データ!BN343","v":0},{"$f":"IF(基本データ!BH343<>\"\",\"○\",\"\")","v":""},{"$f":"IF(基本データ!BI343<>\"\",\"○\",\"\")","v":""},{"$f":"IF(基本データ!BJ343<>\"\",\"○\",\"\")","v":""},{"$f":"IF(基本データ!BK343<>\"\",\"○\",\"\")","v":""},{"$f":"IF(基本データ!BL343<>\"\",\"○\",\"\")","v":""},{"$f":"IF(基本データ!BM343<>\"\",\"○\",\"\")","v":""}]
[342,{"$f":"基本データ!J344","v":"千葉県"},{"$f":"基本データ!B344","v":2023},{"$f":"基本データ!I344","v":"医療法人徳洲会　千葉西総合病院"},{"$f":"基本データ!AL344","v":12},{"$f":"IF(基本データ!AM344<>\"\",\"○\",\"\")","v":"○"},{"$f":"IF(基本データ!AN344<>\"\",\"○\",\"\")","v":"○"},{"$f":"IF(基本データ!AO344<>\"\",\"○\",\"\")","v":"○"},{"$f":"IF(基本データ!AP344<>\"\",\"○\",\"\")","v":""},{"$f":"IF(基本データ!AQ344<>\"\",\"○\",\"\")","v":""},{"$f":"IF(基本データ!AR344<>\"\",\"○\",\"\")","v":"○"},{"$f":"IF(基本データ!AS344<>\"\",\"○\",\"\")","v":"○"},{"$f":"IF(基本データ!AT344<>\"\",\"○\",\"\")","v":""},{"$f":"IF(基本データ!AU344<>\"\",\"○\",\"\")","v":"○"},{"$f":"IF(基本データ!AV344<>\"\",\"○\",\"\")","v":"○"},{"$f":"IF(基本データ!AW344<>\"\",\"○\",\"\")","v":""},{"$f":"IF(基本データ!AX344<>\"\",\"○\",\"\")","v":"○"},{"$f":"IF(基本データ!AY344<>\"\",\"○\",\"\")","v":"○"},{"$f":"IF(基本データ!AZ344<>\"\",\"○\",\"\")","v":""},{"$f":"IF(基本データ!BA344<>\"\",\"○\",\"\")","v":"○"},{"$f":"IF(基本データ!BB344<>\"\",\"○\",\"\")","v":""},{"$f":"IF(基本データ!BC344<>\"\",\"○\",\"\")","v":""},{"$f":"IF(基本データ!BD344<>\"\",\"○\",\"\")","v":"○"},{"$f":"IF(基本データ!BE344<>\"\",\"○\",\"\")","v":"○"},{"$f":"IF(基本データ!BF344<>\"\",\"○\",\"\")","v":""},{"$f":"IF(基本データ!BG344<>\"\",\"○\",\"\")","v":""},{"$f":"基本データ!BN344","v":2},{"$f":"IF(基本データ!BH344<>\"\",\"○\",\"\")","v":""},{"$f":"IF(基本データ!BI344<>\"\",\"○\",\"\")","v":"○"},{"$f":"IF(基本データ!BJ344<>\"\",\"○\",\"\")","v":"○"},{"$f":"IF(基本データ!BK344<>\"\",\"○\",\"\")","v":""},{"$f":"IF(基本データ!BL344<>\"\",\"○\",\"\")","v":""},{"$f":"IF(基本データ!BM344<>\"\",\"○\",\"\")","v":""}]
[343,{"$f":"基本データ!J345","v":"千葉県"},{"$f":"基本データ!B345","v":2023},{"$f":"基本データ!I345","v":"国立研究開発法人国立がん研究センター東病院"},{"$f":"基本データ!AL345","v":1},{"$f":"IF(基本データ!AM345<>\"\",\"○\",\"\")","v":""},{"$f":"IF(基本データ!AN345<>\"\",\"○\",\"\")","v":""},{"$f":"IF(基本データ!AO345<>\"\",\"○\",\"\")","v":""},{"$f":"IF(基本データ!AP345<>\"\",\"○\",\"\")","v":""},{"$f":"IF(基本データ!AQ345<>\"\",\"○\",\"\")","v":""},{"$f":"IF(基本データ!AR345<>\"\",\"○\",\"\")","v":""},{"$f":"IF(基本データ!AS345<>\"\",\"○\",\"\")","v":""},{"$f":"IF(基本データ!AT345<>\"\",\"○\",\"\")","v":""},{"$f":"IF(基本データ!AU345<>\"\",\"○\",\"\")","v":""},{"$f":"IF(基本データ!AV345<>\"\",\"○\",\"\")","v":""},{"$f":"IF(基本データ!AW345<>\"\",\"○\",\"\")","v":""},{"$f":"IF(基本データ!AX345<>\"\",\"○\",\"\")","v":""},{"$f":"IF(基本データ!AY345<>\"\",\"○\",\"\")","v":""},{"$f":"IF(基本データ!AZ345<>\"\",\"○\",\"\")","v":""},{"$f":"IF(基本データ!BA345<>\"\",\"○\",\"\")","v":"○"},{"$f":"IF(基本データ!BB345<>\"\",\"○\",\"\")","v":""},{"$f":"IF(基本データ!BC345<>\"\",\"○\",\"\")","v":""},{"$f":"IF(基本データ!BD345<>\"\",\"○\",\"\")","v":""},{"$f":"IF(基本データ!BE345<>\"\",\"○\",\"\")","v":""},{"$f":"IF(基本データ!BF345<>\"\",\"○\",\"\")","v":""},{"$f":"IF(基本データ!BG345<>\"\",\"○\",\"\")","v":""},{"$f":"基本データ!BN345","v":0},{"$f":"IF(基本データ!BH345<>\"\",\"○\",\"\")","v":""},{"$f":"IF(基本データ!BI345<>\"\",\"○\",\"\")","v":""},{"$f":"IF(基本データ!BJ345<>\"\",\"○\",\"\")","v":""},{"$f":"IF(基本データ!BK345<>\"\",\"○\",\"\")","v":""},{"$f":"IF(基本データ!BL345<>\"\",\"○\",\"\")","v":""},{"$f":"IF(基本データ!BM345<>\"\",\"○\",\"\")","v":""}]
[344,{"$f":"基本データ!J346","v":"東京都"},{"$f":"基本データ!B346","v":2023},{"$f":"基本データ!I346","v":"医療法人財団健貢会　総合東京病院"},{"$f":"基本データ!AL346","v":6},{"$f":"IF(基本データ!AM346<>\"\",\"○\",\"\")","v":"○"},{"$f":"IF(基本データ!AN346<>\"\",\"○\",\"\")","v":"○"},{"$f":"IF(基本データ!AO346<>\"\",\"○\",\"\")","v":""},{"$f":"IF(基本データ!AP346<>\"\",\"○\",\"\")","v":""},{"$f":"IF(基本データ!AQ346<>\"\",\"○\",\"\")","v":""},{"$f":"IF(基本データ!AR346<>\"\",\"○\",\"\")","v":""},{"$f":"IF(基本データ!AS346<>\"\",\"○\",\"\")","v":""},{"$f":"IF(基本データ!AT346<>\"\",\"○\",\"\")","v":""},{"$f":"IF(基本データ!AU346<>\"\",\"○\",\"\")","v":""},{"$f":"IF(基本データ!AV346<>\"\",\"○\",\"\")","v":""},{"$f":"IF(基本データ!AW346<>\"\",\"○\",\"\")","v":""},{"$f":"IF(基本データ!AX346<>\"\",\"○\",\"\")","v":""},{"$f":"IF(基本データ!AY346<>\"\",\"○\",\"\")","v":"○"},{"$f":"IF(基本データ!AZ346<>\"\",\"○\",\"\")","v":""},{"$f":"IF(基本データ!BA346<>\"\",\"○\",\"\")","v":"○"},{"$f":"IF(基本データ!BB346<>\"\",\"○\",\"\")","v":""},{"$f":"IF(基本データ!BC346<>\"\",\"○\",\"\")","v":""},{"$f":"IF(基本データ!BD346<>\"\",\"○\",\"\")","v":"○"},{"$f":"IF(基本データ!BE346<>\"\",\"○\",\"\")","v":"○"},{"$f":"IF(基本データ!BF346<>\"\",\"○\",\"\")","v":""},{"$f":"IF(基本データ!BG346<>\"\",\"○\",\"\")","v":""},{"$f":"基本データ!BN346","v":1},{"$f":"IF(基本データ!BH346<>\"\",\"○\",\"\")","v":""},{"$f":"IF(基本データ!BI346<>\"\",\"○\",\"\")","v":""},{"$f":"IF(基本データ!BJ346<>\"\",\"○\",\"\")","v":"○"},{"$f":"IF(基本データ!BK346<>\"\",\"○\",\"\")","v":""},{"$f":"IF(基本データ!BL346<>\"\",\"○\",\"\")","v":""},{"$f":"IF(基本データ!BM346<>\"\",\"○\",\"\")","v":""}]
[345,{"$f":"基本データ!J347","v":"東京都"},{"$f":"基本データ!B347","v":2023},{"$f":"基本データ!I347","v":"地方独立行政法人東京都立病院機構　東京都立墨東病院"},{"$f":"基本データ!AL347","v":13},{"$f":"IF(基本データ!AM347<>\"\",\"○\",\"\")","v":"○"},{"$f":"IF(基本データ!AN347<>\"\",\"○\",\"\")","v":"○"},{"$f":"IF(基本データ!AO347<>\"\",\"○\",\"\")","v":"○"},{"$f":"IF(基本データ!AP347<>\"\",\"○\",\"\")","v":"○"},{"$f":"IF(基本データ!AQ347<>\"\",\"○\",\"\")","v":""},{"$f":"IF(基本データ!AR347<>\"\",\"○\",\"\")","v":""},{"$f":"IF(基本データ!AS347<>\"\",\"○\",\"\")","v":""},{"$f":"IF(基本データ!AT347<>\"\",\"○\",\"\")","v":"○"},{"$f":"IF(基本データ!AU347<>\"\",\"○\",\"\")","v":"○"},{"$f":"IF(基本データ!AV347<>\"\",\"○\",\"\")","v":"○"},{"$f":"IF(基本データ!AW347<>\"\",\"○\",\"\")","v":"○"},{"$f":"IF(基本データ!AX347<>\"\",\"○\",\"\")","v":""},{"$f":"IF(基本データ!AY347<>\"\",\"○\",\"\")","v":"○"},{"$f":"IF(基本データ!AZ347<>\"\",\"○\",\"\")","v":""},{"$f":"IF(基本データ!BA347<>\"\",\"○\",\"\")","v":"○"},{"$f":"IF(基本データ!BB347<>\"\",\"○\",\"\")","v":"○"},{"$f":"IF(基本データ!BC347<>\"\",\"○\",\"\")","v":"○"},{"$f":"IF(基本データ!BD347<>\"\",\"○\",\"\")","v":""},{"$f":"IF(基本データ!BE347<>\"\",\"○\",\"\")","v":"○"},{"$f":"IF(基本データ!BF347<>\"\",\"○\",\"\")","v":""},{"$f":"IF(基本データ!BG347<>\"\",\"○\",\"\")","v":""},{"$f":"基本データ!BN347","v":0},{"$f":"IF(基本データ!BH347<>\"\",\"○\",\"\")","v":""},{"$f":"IF(基本データ!BI347<>\"\",\"○\",\"\")","v":""},{"$f":"IF(基本データ!BJ347<>\"\",\"○\",\"\")","v":""},{"$f":"IF(基本データ!BK347<>\"\",\"○\",\"\")","v":""},{"$f":"IF(基本データ!BL347<>\"\",\"○\",\"\")","v":""},{"$f":"IF(基本データ!BM347<>\"\",\"○\",\"\")","v":""}]
[346,{"$f":"基本データ!J348","v":"東京都"},{"$f":"基本データ!B348","v":2023},{"$f":"基本データ!I348","v":"独立行政法人国立病院機構災害医療センター"},{"$f":"基本データ!AL348","v":9},{"$f":"IF(基本データ!AM348<>\"\",\"○\",\"\")","v":"○"},{"$f":"IF(基本データ!AN348<>\"\",\"○\",\"\")","v":"○"},{"$f":"IF(基本データ!AO348<>\"\",\"○\",\"\")","v":""},{"$f":"IF(基本データ!AP348<>\"\",\"○\",\"\")","v":""},{"$f":"IF(基本データ!AQ348<>\"\",\"○\",\"\")","v":""},{"$f":"IF(基本データ!AR348<>\"\",\"○\",\"\")","v":""},{"$f":"IF(基本データ!AS348<>\"\",\"○\",\"\")","v":""},{"$f":"IF(基本データ!AT348<>\"\",\"○\",\"\")","v":""},{"$f":"IF(基本データ!AU348<>\"\",\"○\",\"\")","v":"○"},{"$f":"IF(基本データ!AV348<>\"\",\"○\",\"\")","v":""},{"$f":"IF(基本データ!AW348<>\"\",\"○\",\"\")","v":"○"},{"$f":"IF(基本データ!AX348<>\"\",\"○\",\"\")","v":"○"},{"$f":"IF(基本データ!AY348<>\"\",\"○\",\"\")","v":"○"},{"$f":"IF(基本データ!AZ348<>\"\",\"○\",\"\")","v":""},{"$f":"IF(基本データ!BA348<>\"\",\"○\",\"\")","v":"○"},{"$f":"IF(基本データ!BB348<>\"\",\"○\",\"\")","v":"○"},{"$f":"IF(基本データ!BC348<>\"\",\"○\",\"\")","v":""},{"$f":"IF(基本データ!BD348<>\"\",\"○\",\"\")","v":"○"},{"$f":"IF(基本データ!BE348<>\"\",\"○\",\"\")","v":""},{"$f":"IF(基本データ!BF348<>\"\",\"○\",\"\")","v":""},{"$f":"IF(基本データ!BG348<>\"\",\"○\",\"\")","v":""},{"$f":"基本データ!BN348","v":1},{"$f":"IF(基本データ!BH348<>\"\",\"○\",\"\")","v":""},{"$f":"IF(基本データ!BI348<>\"\",\"○\",\"\")","v":""},{"$f":"IF(基本データ!BJ348<>\"\",\"○\",\"\")","v":""},{"$f":"IF(基本データ!BK348<>\"\",\"○\",\"\")","v":""},{"$f":"IF(基本データ!BL348<>\"\",\"○\",\"\")","v":"○"},{"$f":"IF(基本データ!BM348<>\"\",\"○\",\"\")","v":""}]
[347,{"$f":"基本データ!J349","v":"新潟県"},{"$f":"基本データ!B349","v":2023},{"$f":"基本データ!I349","v":"新潟県地域医療推進機構魚沼基幹病院"},{"$f":"基本データ!AL349","v":12},{"$f":"IF(基本データ!AM349<>\"\",\"○\",\"\")","v":"○"},{"$f":"IF(基本データ!AN349<>\"\",\"○\",\"\")","v":"○"},{"$f":"IF(基本データ!AO349<>\"\",\"○\",\"\")","v":"○"},{"$f":"IF(基本データ!AP349<>\"\",\"○\",\"\")","v":""},{"$f":"IF(基本データ!AQ349<>\"\",\"○\",\"\")","v":""},{"$f":"IF(基本データ!AR349<>\"\",\"○\",\"\")","v":""},{"$f":"IF(基本データ!AS349<>\"\",\"○\",\"\")","v":""},{"$f":"IF(基本データ!AT349<>\"\",\"○\",\"\")","v":"○"},{"$f":"IF(基本データ!AU349<>\"\",\"○\",\"\")","v":"○"},{"$f":"IF(基本データ!AV349<>\"\",\"○\",\"\")","v":"○"},{"$f":"IF(基本データ!AW349<>\"\",\"○\",\"\")","v":"○"},{"$f":"IF(基本データ!AX349<>\"\",\"○\",\"\")","v":""},{"$f":"IF(基本データ!AY349<>\"\",\"○\",\"\")","v":"○"},{"$f":"IF(基本データ!AZ349<>\"\",\"○\",\"\")","v":""},{"$f":"IF(基本データ!BA349<>\"\",\"○\",\"\")","v":"○"},{"$f":"IF(基本データ!BB349<>\"\",\"○\",\"\")","v":""},{"$f":"IF(基本データ!BC349<>\"\",\"○\",\"\")","v":""},{"$f":"IF(基本データ!BD349<>\"\",\"○\",\"\")","v":"○"},{"$f":"IF(基本データ!BE349<>\"\",\"○\",\"\")","v":"○"},{"$f":"IF(基本データ!BF349<>\"\",\"○\",\"\")","v":"○"},{"$f":"IF(基本データ!BG349<>\"\",\"○\",\"\")","v":""},{"$f":"基本データ!BN349","v":2},{"$f":"IF(基本データ!BH349<>\"\",\"○\",\"\")","v":"○"},{"$f":"IF(基本データ!BI349<>\"\",\"○\",\"\")","v":""},{"$f":"IF(基本データ!BJ349<>\"\",\"○\",\"\")","v":"○"},{"$f":"IF(基本データ!BK349<>\"\",\"○\",\"\")","v":""},{"$f":"IF(基本データ!BL349<>\"\",\"○\",\"\")","v":""},{"$f":"IF(基本データ!BM349<>\"\",\"○\",\"\")","v":""}]
[348,{"$f":"基本データ!J350","v":"山梨県"},{"$f":"基本データ!B350","v":2023},{"$f":"基本データ!I350","v":"公立大学法人山梨県立大学"},{"$f":"基本データ!AL350","v":3},{"$f":"IF(基本データ!AM350<>\"\",\"○\",\"\")","v":""},{"$f":"IF(基本データ!AN350<>\"\",\"○\",\"\")","v":""},{"$f":"IF(基本データ!AO350<>\"\",\"○\",\"\")","v":""},{"$f":"IF(基本データ!AP350<>\"\",\"○\",\"\")","v":""},{"$f":"IF(基本データ!AQ350<>\"\",\"○\",\"\")","v":""},{"$f":"IF(基本データ!AR350<>\"\",\"○\",\"\")","v":""},{"$f":"IF(基本データ!AS350<>\"\",\"○\",\"\")","v":""},{"$f":"IF(基本データ!AT350<>\"\",\"○\",\"\")","v":""},{"$f":"IF(基本データ!AU350<>\"\",\"○\",\"\")","v":""},{"$f":"IF(基本データ!AV350<>\"\",\"○\",\"\")","v":""},{"$f":"IF(基本データ!AW350<>\"\",\"○\",\"\")","v":""},{"$f":"IF(基本データ!AX350<>\"\",\"○\",\"\")","v":""},{"$f":"IF(基本データ!AY350<>\"\",\"○\",\"\")","v":""},{"$f":"IF(基本データ!AZ350<>\"\",\"○\",\"\")","v":""},{"$f":"IF(基本データ!BA350<>\"\",\"○\",\"\")","v":"○"},{"$f":"IF(基本データ!BB350<>\"\",\"○\",\"\")","v":"○"},{"$f":"IF(基本データ!BC350<>\"\",\"○\",\"\")","v":""},{"$f":"IF(基本データ!BD350<>\"\",\"○\",\"\")","v":""},{"$f":"IF(基本データ!BE350<>\"\",\"○\",\"\")","v":""},{"$f":"IF(基本データ!BF350<>\"\",\"○\",\"\")","v":"○"},{"$f":"IF(基本データ!BG350<>\"\",\"○\",\"\")","v":""},{"$f":"基本データ!BN350","v":0},{"$f":"IF(基本データ!BH350<>\"\",\"○\",\"\")","v":""},{"$f":"IF(基本データ!BI350<>\"\",\"○\",\"\")","v":""},{"$f":"IF(基本データ!BJ350<>\"\",\"○\",\"\")","v":""},{"$f":"IF(基本データ!BK350<>\"\",\"○\",\"\")","v":""},{"$f":"IF(基本データ!BL350<>\"\",\"○\",\"\")","v":""},{"$f":"IF(基本データ!BM350<>\"\",\"○\",\"\")","v":""}]
[349,{"$f":"基本データ!J351","v":"富山県"},{"$f":"基本データ!B351","v":2023},{"$f":"基本データ!I351","v":"富山市立富山市民病院"},{"$f":"基本データ!AL351","v":10},{"$f":"IF(基本データ!AM351<>\"\",\"○\",\"\")","v":"○"},{"$f":"IF(基本データ!AN351<>\"\",\"○\",\"\")","v":"○"},{"$f":"IF(基本データ!AO351<>\"\",\"○\",\"\")","v":""},{"$f":"IF(基本データ!AP351<>\"\",\"○\",\"\")","v":""},{"$f":"IF(基本データ!AQ351<>\"\",\"○\",\"\")","v":""},{"$f":"IF(基本データ!AR351<>\"\",\"○\",\"\")","v":""},{"$f":"IF(基本データ!AS351<>\"\",\"○\",\"\")","v":""},{"$f":"IF(基本データ!AT351<>\"\",\"○\",\"\")","v":""},{"$f":"IF(基本データ!AU351<>\"\",\"○\",\"\")","v":"○"},{"$f":"IF(基本データ!AV351<>\"\",\"○\",\"\")","v":"○"},{"$f":"IF(基本データ!AW351<>\"\",\"○\",\"\")","v":"○"},{"$f":"IF(基本データ!AX351<>\"\",\"○\",\"\")","v":""},{"$f":"IF(基本データ!AY351<>\"\",\"○\",\"\")","v":"○"},{"$f":"IF(基本データ!AZ351<>\"\",\"○\",\"\")","v":""},{"$f":"IF(基本データ!BA351<>\"\",\"○\",\"\")","v":"○"},{"$f":"IF(基本データ!BB351<>\"\",\"○\",\"\")","v":""},{"$f":"IF(基本データ!BC351<>\"\",\"○\",\"\")","v":"○"},{"$f":"IF(基本データ!BD351<>\"\",\"○\",\"\")","v":"○"},{"$f":"IF(基本データ!BE351<>\"\",\"○\",\"\")","v":"○"},{"$f":"IF(基本データ!BF351<>\"\",\"○\",\"\")","v":""},{"$f":"IF(基本データ!BG351<>\"\",\"○\",\"\")","v":""},{"$f":"基本データ!BN351","v":1},{"$f":"IF(基本データ!BH351<>\"\",\"○\",\"\")","v":""},{"$f":"IF(基本データ!BI351<>\"\",\"○\",\"\")","v":""},{"$f":"IF(基本データ!BJ351<>\"\",\"○\",\"\")","v":"○"},{"$f":"IF(基本データ!BK351<>\"\",\"○\",\"\")","v":""},{"$f":"IF(基本データ!BL351<>\"\",\"○\",\"\")","v":""},{"$f":"IF(基本データ!BM351<>\"\",\"○\",\"\")","v":""}]
[350,{"$f":"基本データ!J352","v":"京都府"},{"$f":"基本データ!B352","v":2023},{"$f":"基本データ!I352","v":"学校法人　京都育英館　京都看護大学"},{"$f":"基本データ!AL352","v":2},{"$f":"IF(基本データ!AM352<>\"\",\"○\",\"\")","v":""},{"$f":"IF(基本データ!AN352<>\"\",\"○\",\"\")","v":""},{"$f":"IF(基本データ!AO352<>\"\",\"○\",\"\")","v":""},{"$f":"IF(基本データ!AP352<>\"\",\"○\",\"\")","v":""},{"$f":"IF(基本データ!AQ352<>\"\",\"○\",\"\")","v":""},{"$f":"IF(基本データ!AR352<>\"\",\"○\",\"\")","v":""},{"$f":"IF(基本データ!AS352<>\"\",\"○\",\"\")","v":""},{"$f":"IF(基本データ!AT352<>\"\",\"○\",\"\")","v":""},{"$f":"IF(基本データ!AU352<>\"\",\"○\",\"\")","v":""},{"$f":"IF(基本データ!AV352<>\"\",\"○\",\"\")","v":""},{"$f":"IF(基本データ!AW352<>\"\",\"○\",\"\")","v":""},{"$f":"IF(基本データ!AX352<>\"\",\"○\",\"\")","v":""},{"$f":"IF(基本データ!AY352<>\"\",\"○\",\"\")","v":""},{"$f":"IF(基本データ!AZ352<>\"\",\"○\",\"\")","v":""},{"$f":"IF(基本データ!BA352<>\"\",\"○\",\"\")","v":"○"},{"$f":"IF(基本データ!BB352<>\"\",\"○\",\"\")","v":"○"},{"$f":"IF(基本データ!BC352<>\"\",\"○\",\"\")","v":""},{"$f":"IF(基本データ!BD352<>\"\",\"○\",\"\")","v":""},{"$f":"IF(基本データ!BE352<>\"\",\"○\",\"\")","v":""},{"$f":"IF(基本データ!BF352<>\"\",\"○\",\"\")","v":""},{"$f":"IF(基本データ!BG352<>\"\",\"○\",\"\")","v":""},{"$f":"基本データ!BN352","v":0},{"$f":"IF(基本データ!BH352<>\"\",\"○\",\"\")","v":""},{"$f":"IF(基本データ!BI352<>\"\",\"○\",\"\")","v":""},{"$f":"IF(基本データ!BJ352<>\"\",\"○\",\"\")","v":""},{"$f":"IF(基本データ!BK352<>\"\",\"○\",\"\")","v":""},{"$f":"IF(基本データ!BL352<>\"\",\"○\",\"\")","v":""},{"$f":"IF(基本データ!BM352<>\"\",\"○\",\"\")","v":""}]
[351,{"$f":"基本データ!J353","v":"大阪府"},{"$f":"基本データ!B353","v":2023},{"$f":"基本データ!I353","v":"一般財団法人住友病院"},{"$f":"基本データ!AL353","v":8},{"$f":"IF(基本データ!AM353<>\"\",\"○\",\"\")","v":"○"},{"$f":"IF(基本データ!AN353<>\"\",\"○\",\"\")","v":"○"},{"$f":"IF(基本データ!AO353<>\"\",\"○\",\"\")","v":""},{"$f":"IF(基本データ!AP353<>\"\",\"○\",\"\")","v":"○"},{"$f":"IF(基本データ!AQ353<>\"\",\"○\",\"\")","v":""},{"$f":"IF(基本データ!AR353<>\"\",\"○\",\"\")","v":""},{"$f":"IF(基本データ!AS353<>\"\",\"○\",\"\")","v":""},{"$f":"IF(基本データ!AT353<>\"\",\"○\",\"\")","v":""},{"$f":"IF(基本データ!AU353<>\"\",\"○\",\"\")","v":"○"},{"$f":"IF(基本データ!AV353<>\"\",\"○\",\"\")","v":""},{"$f":"IF(基本データ!AW353<>\"\",\"○\",\"\")","v":"○"},{"$f":"IF(基本データ!AX353<>\"\",\"○\",\"\")","v":""},{"$f":"IF(基本データ!AY353<>\"\",\"○\",\"\")","v":"○"},{"$f":"IF(基本データ!AZ353<>\"\",\"○\",\"\")","v":""},{"$f":"IF(基本データ!BA353<>\"\",\"○\",\"\")","v":"○"},{"$f":"IF(基本データ!BB353<>\"\",\"○\",\"\")","v":""},{"$f":"IF(基本データ!BC353<>\"\",\"○\",\"\")","v":""},{"$f":"IF(基本データ!BD353<>\"\",\"○\",\"\")","v":""},{"$f":"IF(基本データ!BE353<>\"\",\"○\",\"\")","v":"○"},{"$f":"IF(基本データ!BF353<>\"\",\"○\",\"\")","v":""},{"$f":"IF(基本データ!BG353<>\"\",\"○\",\"\")","v":""},{"$f":"基本データ!BN353","v":1},{"$f":"IF(基本データ!BH353<>\"\",\"○\",\"\")","v":""},{"$f":"IF(基本データ!BI353<>\"\",\"○\",\"\")","v":""},{"$f":"IF(基本データ!BJ353<>\"\",\"○\",\"\")","v":""},{"$f":"IF(基本データ!BK353<>\"\",\"○\",\"\")","v":""},{"$f":"IF(基本データ!BL353<>\"\",\"○\",\"\")","v":""},{"$f":"IF(基本データ!BM353<>\"\",\"○\",\"\")","v":"○"}]
[352,{"$f":"基本データ!J354","v":"大阪府"},{"$f":"基本データ!B354","v":2023},{"$f":"基本データ!I354","v":"学校法人金蘭会学園　千里金蘭大学　看護実践・研修センター"},{"$f":"基本データ!AL354","v":1},{"$f":"IF(基本データ!AM354<>\"\",\"○\",\"\")","v":""},{"$f":"IF(基本データ!AN354<>\"\",\"○\",\"\")","v":""},{"$f":"IF(基本データ!AO354<>\"\",\"○\",\"\")","v":""},{"$f":"IF(基本データ!AP354<>\"\",\"○\",\"\")","v":""},{"$f":"IF(基本データ!AQ354<>\"\",\"○\",\"\")","v":""},{"$f":"IF(基本データ!AR354<>\"\",\"○\",\"\")","v":""},{"$f":"IF(基本データ!AS354<>\"\",\"○\",\"\")","v":""},{"$f":"IF(基本データ!AT354<>\"\",\"○\",\"\")","v":""},{"$f":"IF(基本データ!AU354<>\"\",\"○\",\"\")","v":""},{"$f":"IF(基本データ!AV354<>\"\",\"○\",\"\")","v":""},{"$f":"IF(基本データ!AW354<>\"\",\"○\",\"\")","v":""},{"$f":"IF(基本データ!AX354<>\"\",\"○\",\"\")","v":""},{"$f":"IF(基本データ!AY354<>\"\",\"○\",\"\")","v":""},{"$f":"IF(基本データ!AZ354<>\"\",\"○\",\"\")","v":""},{"$f":"IF(基本データ!BA354<>\"\",\"○\",\"\")","v":"○"},{"$f":"IF(基本データ!BB354<>\"\",\"○\",\"\")","v":""},{"$f":"IF(基本データ!BC354<>\"\",\"○\",\"\")","v":""},{"$f":"IF(基本データ!BD354<>\"\",\"○\",\"\")","v":""},{"$f":"IF(基本データ!BE354<>\"\",\"○\",\"\")","v":""},{"$f":"IF(基本データ!BF354<>\"\",\"○\",\"\")","v":""},{"$f":"IF(基本データ!BG354<>\"\",\"○\",\"\")","v":""},{"$f":"基本データ!BN354","v":0},{"$f":"IF(基本データ!BH354<>\"\",\"○\",\"\")","v":""},{"$f":"IF(基本データ!BI354<>\"\",\"○\",\"\")","v":""},{"$f":"IF(基本データ!BJ354<>\"\",\"○\",\"\")","v":""},{"$f":"IF(基本データ!BK354<>\"\",\"○\",\"\")","v":""},{"$f":"IF(基本データ!BL354<>\"\",\"○\",\"\")","v":""},{"$f":"IF(基本データ!BM354<>\"\",\"○\",\"\")","v":""}]
[353,{"$f":"基本データ!J355","v":"大阪府"},{"$f":"基本データ!B355","v":2023},{"$f":"基本データ!I355","v":"社会医療法人生長会　阪南市民病院"},{"$f":"基本データ!AL355","v":10},{"$f":"IF(基本データ!AM355<>\"\",\"○\",\"\")","v":"○"},{"$f":"IF(基本データ!AN355<>\"\",\"○\",\"\")","v":"○"},{"$f":"IF(基本データ!AO355<>\"\",\"○\",\"\")","v":"○"},{"$f":"IF(基本データ!AP355<>\"\",\"○\",\"\")","v":""},{"$f":"IF(基本データ!AQ355<>\"\",\"○\",\"\")","v":""},{"$f":"IF(基本データ!AR355<>\"\",\"○\",\"\")","v":""},{"$f":"IF(基本データ!AS355<>\"\",\"○\",\"\")","v":""},{"$f":"IF(基本データ!AT355<>\"\",\"○\",\"\")","v":"○"},{"$f":"IF(基本データ!AU355<>\"\",\"○\",\"\")","v":"○"},{"$f":"IF(基本データ!AV355<>\"\",\"○\",\"\")","v":"○"},{"$f":"IF(基本データ!AW355<>\"\",\"○\",\"\")","v":"○"},{"$f":"IF(基本データ!AX355<>\"\",\"○\",\"\")","v":""},{"$f":"IF(基本データ!AY355<>\"\",\"○\",\"\")","v":"○"},{"$f":"IF(基本データ!AZ355<>\"\",\"○\",\"\")","v":""},{"$f":"IF(基本データ!BA355<>\"\",\"○\",\"\")","v":"○"},{"$f":"IF(基本データ!BB355<>\"\",\"○\",\"\")","v":""},{"$f":"IF(基本データ!BC355<>\"\",\"○\",\"\")","v":""},{"$f":"IF(基本データ!BD355<>\"\",\"○\",\"\")","v":""},{"$f":"IF(基本データ!BE355<>\"\",\"○\",\"\")","v":""},{"$f":"IF(基本データ!BF355<>\"\",\"○\",\"\")","v":"○"},{"$f":"IF(基本データ!BG355<>\"\",\"○\",\"\")","v":""},{"$f":"基本データ!BN355","v":2},{"$f":"IF(基本データ!BH355<>\"\",\"○\",\"\")","v":"○"},{"$f":"IF(基本データ!BI355<>\"\",\"○\",\"\")","v":""},{"$f":"IF(基本データ!BJ355<>\"\",\"○\",\"\")","v":""},{"$f":"IF(基本データ!BK355<>\"\",\"○\",\"\")","v":"○"},{"$f":"IF(基本データ!BL355<>\"\",\"○\",\"\")","v":""},{"$f":"IF(基本データ!BM355<>\"\",\"○\",\"\")","v":""}]
[354,{"$f":"基本データ!J356","v":"大阪府"},{"$f":"基本データ!B356","v":2023},{"$f":"基本データ!I356","v":"泉大津急性期メディカルセンター"},{"$f":"基本データ!AL356","v":9},{"$f":"IF(基本データ!AM356<>\"\",\"○\",\"\")","v":"○"},{"$f":"IF(基本データ!AN356<>\"\",\"○\",\"\")","v":"○"},{"$f":"IF(基本データ!AO356<>\"\",\"○\",\"\")","v":""},{"$f":"IF(基本データ!AP356<>\"\",\"○\",\"\")","v":""},{"$f":"IF(基本データ!AQ356<>\"\",\"○\",\"\")","v":""},{"$f":"IF(基本データ!AR356<>\"\",\"○\",\"\")","v":""},{"$f":"IF(基本データ!AS356<>\"\",\"○\",\"\")","v":""},{"$f":"IF(基本データ!AT356<>\"\",\"○\",\"\")","v":""},{"$f":"IF(基本データ!AU356<>\"\",\"○\",\"\")","v":"○"},{"$f":"IF(基本データ!AV356<>\"\",\"○\",\"\")","v":"○"},{"$f":"IF(基本データ!AW356<>\"\",\"○\",\"\")","v":""},{"$f":"IF(基本データ!AX356<>\"\",\"○\",\"\")","v":""},{"$f":"IF(基本データ!AY356<>\"\",\"○\",\"\")","v":"○"},{"$f":"IF(基本データ!AZ356<>\"\",\"○\",\"\")","v":""},{"$f":"IF(基本データ!BA356<>\"\",\"○\",\"\")","v":"○"},{"$f":"IF(基本データ!BB356<>\"\",\"○\",\"\")","v":""},{"$f":"IF(基本データ!BC356<>\"\",\"○\",\"\")","v":""},{"$f":"IF(基本データ!BD356<>\"\",\"○\",\"\")","v":"○"},{"$f":"IF(基本データ!BE356<>\"\",\"○\",\"\")","v":"○"},{"$f":"IF(基本データ!BF356<>\"\",\"○\",\"\")","v":"○"},{"$f":"IF(基本データ!BG356<>\"\",\"○\",\"\")","v":""},{"$f":"基本データ!BN356","v":2},{"$f":"IF(基本データ!BH356<>\"\",\"○\",\"\")","v":""},{"$f":"IF(基本データ!BI356<>\"\",\"○\",\"\")","v":""},{"$f":"IF(基本データ!BJ356<>\"\",\"○\",\"\")","v":"○"},{"$f":"IF(基本データ!BK356<>\"\",\"○\",\"\")","v":"○"},{"$f":"IF(基本データ!BL356<>\"\",\"○\",\"\")","v":""},{"$f":"IF(基本データ!BM356<>\"\",\"○\",\"\")","v":""}]
[355,{"$f":"基本データ!J357","v":"大阪府"},{"$f":"基本データ!B357","v":2023},{"$f":"基本データ!I357","v":"社会福祉法人恩賜財団済生会支部大阪府済生会吹田病院"},{"$f":"基本データ!AL357","v":4},{"$f":"IF(基本データ!AM357<>\"\",\"○\",\"\")","v":""},{"$f":"IF(基本データ!AN357<>\"\",\"○\",\"\")","v":""},{"$f":"IF(基本データ!AO357<>\"\",\"○\",\"\")","v":""},{"$f":"IF(基本データ!AP357<>\"\",\"○\",\"\")","v":""},{"$f":"IF(基本データ!AQ357<>\"\",\"○\",\"\")","v":""},{"$f":"IF(基本データ!AR357<>\"\",\"○\",\"\")","v":""},{"$f":"IF(基本データ!AS357<>\"\",\"○\",\"\")","v":"○"},{"$f":"IF(基本データ!AT357<>\"\",\"○\",\"\")","v":""},{"$f":"IF(基本データ!AU357<>\"\",\"○\",\"\")","v":"○"},{"$f":"IF(基本データ!AV357<>\"\",\"○\",\"\")","v":"○"},{"$f":"IF(基本データ!AW357<>\"\",\"○\",\"\")","v":""},{"$f":"IF(基本データ!AX357<>\"\",\"○\",\"\")","v":""},{"$f":"IF(基本データ!AY357<>\"\",\"○\",\"\")","v":"○"},{"$f":"IF(基本データ!AZ357<>\"\",\"○\",\"\")","v":""},{"$f":"IF(基本データ!BA357<>\"\",\"○\",\"\")","v":""},{"$f":"IF(基本データ!BB357<>\"\",\"○\",\"\")","v":""},{"$f":"IF(基本データ!BC357<>\"\",\"○\",\"\")","v":""},{"$f":"IF(基本データ!BD357<>\"\",\"○\",\"\")","v":""},{"$f":"IF(基本データ!BE357<>\"\",\"○\",\"\")","v":""},{"$f":"IF(基本データ!BF357<>\"\",\"○\",\"\")","v":""},{"$f":"IF(基本データ!BG357<>\"\",\"○\",\"\")","v":""},{"$f":"基本データ!BN357","v":0},{"$f":"IF(基本データ!BH357<>\"\",\"○\",\"\")","v":""},{"$f":"IF(基本データ!BI357<>\"\",\"○\",\"\")","v":""},{"$f":"IF(基本データ!BJ357<>\"\",\"○\",\"\")","v":""},{"$f":"IF(基本データ!BK357<>\"\",\"○\",\"\")","v":""},{"$f":"IF(基本データ!BL357<>\"\",\"○\",\"\")","v":""},{"$f":"IF(基本データ!BM357<>\"\",\"○\",\"\")","v":""}]
[356,{"$f":"基本データ!J358","v":"大阪府"},{"$f":"基本データ!B358","v":2023},{"$f":"基本データ!I358","v":"独立行政法人国立病院機構　大阪医療センター"},{"$f":"基本データ!AL358","v":12},{"$f":"IF(基本データ!AM358<>\"\",\"○\",\"\")","v":"○"},{"$f":"IF(基本データ!AN358<>\"\",\"○\",\"\")","v":"○"},{"$f":"IF(基本データ!AO358<>\"\",\"○\",\"\")","v":""},{"$f":"IF(基本データ!AP358<>\"\",\"○\",\"\")","v":""},{"$f":"IF(基本データ!AQ358<>\"\",\"○\",\"\")","v":""},{"$f":"IF(基本データ!AR358<>\"\",\"○\",\"\")","v":""},{"$f":"IF(基本データ!AS358<>\"\",\"○\",\"\")","v":""},{"$f":"IF(基本データ!AT358<>\"\",\"○\",\"\")","v":""},{"$f":"IF(基本データ!AU358<>\"\",\"○\",\"\")","v":"○"},{"$f":"IF(基本データ!AV358<>\"\",\"○\",\"\")","v":"○"},{"$f":"IF(基本データ!AW358<>\"\",\"○\",\"\")","v":"○"},{"$f":"IF(基本データ!AX358<>\"\",\"○\",\"\")","v":"○"},{"$f":"IF(基本データ!AY358<>\"\",\"○\",\"\")","v":"○"},{"$f":"IF(基本データ!AZ358<>\"\",\"○\",\"\")","v":""},{"$f":"IF(基本データ!BA358<>\"\",\"○\",\"\")","v":"○"},{"$f":"IF(基本データ!BB358<>\"\",\"○\",\"\")","v":"○"},{"$f":"IF(基本データ!BC358<>\"\",\"○\",\"\")","v":""},{"$f":"IF(基本データ!BD358<>\"\",\"○\",\"\")","v":"○"},{"$f":"IF(基本データ!BE358<>\"\",\"○\",\"\")","v":"○"},{"$f":"IF(基本データ!BF358<>\"\",\"○\",\"\")","v":"○"},{"$f":"IF(基本データ!BG358<>\"\",\"○\",\"\")","v":""},{"$f":"基本データ!BN358","v":2},{"$f":"IF(基本データ!BH358<>\"\",\"○\",\"\")","v":""},{"$f":"IF(基本データ!BI358<>\"\",\"○\",\"\")","v":""},{"$f":"IF(基本データ!BJ358<>\"\",\"○\",\"\")","v":"○"},{"$f":"IF(基本データ!BK358<>\"\",\"○\",\"\")","v":""},{"$f":"IF(基本データ!BL358<>\"\",\"○\",\"\")","v":"○"},{"$f":"IF(基本データ!BM358<>\"\",\"○\",\"\")","v":""}]
[357,{"$f":"基本データ!J359","v":"山口県"},{"$f":"基本データ!B359","v":2023},{"$f":"基本データ!I359","v":"社会福祉法人恩賜財団済生会支部　山口県済生会豊浦病院"},{"$f":"基本データ!AL359","v":5},{"$f":"IF(基本データ!AM359<>\"\",\"○\",\"\")","v":""},{"$f":"IF(基本データ!AN359<>\"\",\"○\",\"\")","v":""},{"$f":"IF(基本データ!AO359<>\"\",\"○\",\"\")","v":"○"},{"$f":"IF(基本データ!AP359<>\"\",\"○\",\"\")","v":""},{"$f":"IF(基本データ!AQ359<>\"\",\"○\",\"\")","v":""},{"$f":"IF(基本データ!AR359<>\"\",\"○\",\"\")","v":""},{"$f":"IF(基本データ!AS359<>\"\",\"○\",\"\")","v":""},{"$f":"IF(基本データ!AT359<>\"\",\"○\",\"\")","v":""},{"$f":"IF(基本データ!AU359<>\"\",\"○\",\"\")","v":""},{"$f":"IF(基本データ!AV359<>\"\",\"○\",\"\")","v":""},{"$f":"IF(基本データ!AW359<>\"\",\"○\",\"\")","v":"○"},{"$f":"IF(基本データ!AX359<>\"\",\"○\",\"\")","v":""},{"$f":"IF(基本データ!AY359<>\"\",\"○\",\"\")","v":"○"},{"$f":"IF(基本データ!AZ359<>\"\",\"○\",\"\")","v":""},{"$f":"IF(基本データ!BA359<>\"\",\"○\",\"\")","v":"○"},{"$f":"IF(基本データ!BB359<>\"\",\"○\",\"\")","v":""},{"$f":"IF(基本データ!BC359<>\"\",\"○\",\"\")","v":""},{"$f":"IF(基本データ!BD359<>\"\",\"○\",\"\")","v":""},{"$f":"IF(基本データ!BE359<>\"\",\"○\",\"\")","v":""},{"$f":"IF(基本データ!BF359<>\"\",\"○\",\"\")","v":"○"},{"$f":"IF(基本データ!BG359<>\"\",\"○\",\"\")","v":""},{"$f":"基本データ!BN359","v":0},{"$f":"IF(基本データ!BH359<>\"\",\"○\",\"\")","v":""},{"$f":"IF(基本データ!BI359<>\"\",\"○\",\"\")","v":""},{"$f":"IF(基本データ!BJ359<>\"\",\"○\",\"\")","v":""},{"$f":"IF(基本データ!BK359<>\"\",\"○\",\"\")","v":""},{"$f":"IF(基本データ!BL359<>\"\",\"○\",\"\")","v":""},{"$f":"IF(基本データ!BM359<>\"\",\"○\",\"\")","v":""}]
[358,{"$f":"基本データ!J360","v":"香川県"},{"$f":"基本データ!B360","v":2023},{"$f":"基本データ!I360","v":"公益社団法人香川県看護協会"},{"$f":"基本データ!AL360","v":2},{"$f":"IF(基本データ!AM360<>\"\",\"○\",\"\")","v":""},{"$f":"IF(基本データ!AN360<>\"\",\"○\",\"\")","v":""},{"$f":"IF(基本データ!AO360<>\"\",\"○\",\"\")","v":""},{"$f":"IF(基本データ!AP360<>\"\",\"○\",\"\")","v":""},{"$f":"IF(基本データ!AQ360<>\"\",\"○\",\"\")","v":""},{"$f":"IF(基本データ!AR360<>\"\",\"○\",\"\")","v":""},{"$f":"IF(基本データ!AS360<>\"\",\"○\",\"\")","v":""},{"$f":"IF(基本データ!AT360<>\"\",\"○\",\"\")","v":""},{"$f":"IF(基本データ!AU360<>\"\",\"○\",\"\")","v":""},{"$f":"IF(基本データ!AV360<>\"\",\"○\",\"\")","v":""},{"$f":"IF(基本データ!AW360<>\"\",\"○\",\"\")","v":""},{"$f":"IF(基本データ!AX360<>\"\",\"○\",\"\")","v":""},{"$f":"IF(基本データ!AY360<>\"\",\"○\",\"\")","v":""},{"$f":"IF(基本データ!AZ360<>\"\",\"○\",\"\")","v":""},{"$f":"IF(基本データ!BA360<>\"\",\"○\",\"\")","v":"○"},{"$f":"IF(基本データ!BB360<>\"\",\"○\",\"\")","v":"○"},{"$f":"IF(基本データ!BC360<>\"\",\"○\",\"\")","v":""},{"$f":"IF(基本データ!BD360<>\"\",\"○\",\"\")","v":""},{"$f":"IF(基本データ!BE360<>\"\",\"○\",\"\")","v":""},{"$f":"IF(基本データ!BF360<>\"\",\"○\",\"\")","v":""},{"$f":"IF(基本データ!BG360<>\"\",\"○\",\"\")","v":""},{"$f":"基本データ!BN360","v":0},{"$f":"IF(基本データ!BH360<>\"\",\"○\",\"\")","v":""},{"$f":"IF(基本データ!BI360<>\"\",\"○\",\"\")","v":""},{"$f":"IF(基本データ!BJ360<>\"\",\"○\",\"\")","v":""},{"$f":"IF(基本データ!BK360<>\"\",\"○\",\"\")","v":""},{"$f":"IF(基本データ!BL360<>\"\",\"○\",\"\")","v":""},{"$f":"IF(基本データ!BM360<>\"\",\"○\",\"\")","v":""}]
[359,{"$f":"基本データ!J361","v":"宮崎県"},{"$f":"基本データ!B361","v":2023},{"$f":"基本データ!I361","v":"宮崎大学医学部附属病院"},{"$f":"基本データ!AL361","v":14},{"$f":"IF(基本データ!AM361<>\"\",\"○\",\"\")","v":"○"},{"$f":"IF(基本データ!AN361<>\"\",\"○\",\"\")","v":"○"},{"$f":"IF(基本データ!AO361<>\"\",\"○\",\"\")","v":"○"},{"$f":"IF(基本データ!AP361<>\"\",\"○\",\"\")","v":""},{"$f":"IF(基本データ!AQ361<>\"\",\"○\",\"\")","v":""},{"$f":"IF(基本データ!AR361<>\"\",\"○\",\"\")","v":"○"},{"$f":"IF(基本データ!AS361<>\"\",\"○\",\"\")","v":"○"},{"$f":"IF(基本データ!AT361<>\"\",\"○\",\"\")","v":""},{"$f":"IF(基本データ!AU361<>\"\",\"○\",\"\")","v":"○"},{"$f":"IF(基本データ!AV361<>\"\",\"○\",\"\")","v":"○"},{"$f":"IF(基本データ!AW361<>\"\",\"○\",\"\")","v":"○"},{"$f":"IF(基本データ!AX361<>\"\",\"○\",\"\")","v":"○"},{"$f":"IF(基本データ!AY361<>\"\",\"○\",\"\")","v":"○"},{"$f":"IF(基本データ!AZ361<>\"\",\"○\",\"\")","v":""},{"$f":"IF(基本データ!BA361<>\"\",\"○\",\"\")","v":"○"},{"$f":"IF(基本データ!BB361<>\"\",\"○\",\"\")","v":""},{"$f":"IF(基本データ!BC361<>\"\",\"○\",\"\")","v":""},{"$f":"IF(基本データ!BD361<>\"\",\"○\",\"\")","v":"○"},{"$f":"IF(基本データ!BE361<>\"\",\"○\",\"\")","v":"○"},{"$f":"IF(基本データ!BF361<>\"\",\"○\",\"\")","v":"○"},{"$f":"IF(基本データ!BG361<>\"\",\"○\",\"\")","v":""},{"$f":"基本データ!BN361","v":2},{"$f":"IF(基本データ!BH361<>\"\",\"○\",\"\")","v":""},{"$f":"IF(基本データ!BI361<>\"\",\"○\",\"\")","v":"○"},{"$f":"IF(基本データ!BJ361<>\"\",\"○\",\"\")","v":"○"},{"$f":"IF(基本データ!BK361<>\"\",\"○\",\"\")","v":""},{"$f":"IF(基本データ!BL361<>\"\",\"○\",\"\")","v":""},{"$f":"IF(基本データ!BM361<>\"\",\"○\",\"\")","v":""}]
[360,{"$f":"基本データ!J362","v":"鹿児島県"},{"$f":"基本データ!B362","v":2023},{"$f":"基本データ!I362","v":"独立行政法人国立病院機構　南九州病院"},{"$f":"基本データ!AL362","v":1},{"$f":"IF(基本データ!AM362<>\"\",\"○\",\"\")","v":""},{"$f":"IF(基本データ!AN362<>\"\",\"○\",\"\")","v":""},{"$f":"IF(基本データ!AO362<>\"\",\"○\",\"\")","v":"○"},{"$f":"IF(基本データ!AP362<>\"\",\"○\",\"\")","v":""},{"$f":"IF(基本データ!AQ362<>\"\",\"○\",\"\")","v":""},{"$f":"IF(基本データ!AR362<>\"\",\"○\",\"\")","v":""},{"$f":"IF(基本データ!AS362<>\"\",\"○\",\"\")","v":""},{"$f":"IF(基本データ!AT362<>\"\",\"○\",\"\")","v":""},{"$f":"IF(基本データ!AU362<>\"\",\"○\",\"\")","v":""},{"$f":"IF(基本データ!AV362<>\"\",\"○\",\"\")","v":""},{"$f":"IF(基本データ!AW362<>\"\",\"○\",\"\")","v":""},{"$f":"IF(基本データ!AX362<>\"\",\"○\",\"\")","v":""},{"$f":"IF(基本データ!AY362<>\"\",\"○\",\"\")","v":""},{"$f":"IF(基本データ!AZ362<>\"\",\"○\",\"\")","v":""},{"$f":"IF(基本データ!BA362<>\"\",\"○\",\"\")","v":""},{"$f":"IF(基本データ!BB362<>\"\",\"○\",\"\")","v":""},{"$f":"IF(基本データ!BC362<>\"\",\"○\",\"\")","v":""},{"$f":"IF(基本データ!BD362<>\"\",\"○\",\"\")","v":""},{"$f":"IF(基本データ!BE362<>\"\",\"○\",\"\")","v":""},{"$f":"IF(基本データ!BF362<>\"\",\"○\",\"\")","v":""},{"$f":"IF(基本データ!BG362<>\"\",\"○\",\"\")","v":""},{"$f":"基本データ!BN362","v":0},{"$f":"IF(基本データ!BH362<>\"\",\"○\",\"\")","v":""},{"$f":"IF(基本データ!BI362<>\"\",\"○\",\"\")","v":""},{"$f":"IF(基本データ!BJ362<>\"\",\"○\",\"\")","v":""},{"$f":"IF(基本データ!BK362<>\"\",\"○\",\"\")","v":""},{"$f":"IF(基本データ!BL362<>\"\",\"○\",\"\")","v":""},{"$f":"IF(基本データ!BM362<>\"\",\"○\",\"\")","v":""}]
[361,{"$f":"基本データ!J363","v":"沖縄県"},{"$f":"基本データ!B363","v":2023},{"$f":"基本データ!I363","v":"沖縄県立南部医療センター・こども医療センター"},{"$f":"基本データ!AL363","v":11},{"$f":"IF(基本データ!AM363<>\"\",\"○\",\"\")","v":"○"},{"$f":"IF(基本データ!AN363<>\"\",\"○\",\"\")","v":"○"},{"$f":"IF(基本データ!AO363<>\"\",\"○\",\"\")","v":"○"},{"$f":"IF(基本データ!AP363<>\"\",\"○\",\"\")","v":"○"},{"$f":"IF(基本データ!AQ363<>\"\",\"○\",\"\")","v":""},{"$f":"IF(基本データ!AR363<>\"\",\"○\",\"\")","v":""},{"$f":"IF(基本データ!AS363<>\"\",\"○\",\"\")","v":""},{"$f":"IF(基本データ!AT363<>\"\",\"○\",\"\")","v":"○"},{"$f":"IF(基本データ!AU363<>\"\",\"○\",\"\")","v":"○"},{"$f":"IF(基本データ!AV363<>\"\",\"○\",\"\")","v":""},{"$f":"IF(基本データ!AW363<>\"\",\"○\",\"\")","v":"○"},{"$f":"IF(基本データ!AX363<>\"\",\"○\",\"\")","v":""},{"$f":"IF(基本データ!AY363<>\"\",\"○\",\"\")","v":"○"},{"$f":"IF(基本データ!AZ363<>\"\",\"○\",\"\")","v":""},{"$f":"IF(基本データ!BA363<>\"\",\"○\",\"\")","v":"○"},{"$f":"IF(基本データ!BB363<>\"\",\"○\",\"\")","v":""},{"$f":"IF(基本データ!BC363<>\"\",\"○\",\"\")","v":""},{"$f":"IF(基本データ!BD363<>\"\",\"○\",\"\")","v":"○"},{"$f":"IF(基本データ!BE363<>\"\",\"○\",\"\")","v":"○"},{"$f":"IF(基本データ!BF363<>\"\",\"○\",\"\")","v":""},{"$f":"IF(基本データ!BG363<>\"\",\"○\",\"\")","v":""},{"$f":"基本データ!BN363","v":2},{"$f":"IF(基本データ!BH363<>\"\",\"○\",\"\")","v":""},{"$f":"IF(基本データ!BI363<>\"\",\"○\",\"\")","v":""},{"$f":"IF(基本データ!BJ363<>\"\",\"○\",\"\")","v":"○"},{"$f":"IF(基本データ!BK363<>\"\",\"○\",\"\")","v":""},{"$f":"IF(基本データ!BL363<>\"\",\"○\",\"\")","v":""},{"$f":"IF(基本データ!BM363<>\"\",\"○\",\"\")","v":"○"}]
[362,{"$f":"基本データ!J364","v":"沖縄県"},{"$f":"基本データ!B364","v":2023},{"$f":"基本データ!I364","v":"社会医療法人かりゆし会　ハートライフ病院"},{"$f":"基本データ!AL364","v":7},{"$f":"IF(基本データ!AM364<>\"\",\"○\",\"\")","v":"○"},{"$f":"IF(基本データ!AN364<>\"\",\"○\",\"\")","v":"○"},{"$f":"IF(基本データ!AO364<>\"\",\"○\",\"\")","v":""},{"$f":"IF(基本データ!AP364<>\"\",\"○\",\"\")","v":""},{"$f":"IF(基本データ!AQ364<>\"\",\"○\",\"\")","v":""},{"$f":"IF(基本データ!AR364<>\"\",\"○\",\"\")","v":""},{"$f":"IF(基本データ!AS364<>\"\",\"○\",\"\")","v":""},{"$f":"IF(基本データ!AT364<>\"\",\"○\",\"\")","v":"○"},{"$f":"IF(基本データ!AU364<>\"\",\"○\",\"\")","v":""},{"$f":"IF(基本データ!AV364<>\"\",\"○\",\"\")","v":""},{"$f":"IF(基本データ!AW364<>\"\",\"○\",\"\")","v":""},{"$f":"IF(基本データ!AX364<>\"\",\"○\",\"\")","v":""},{"$f":"IF(基本データ!AY364<>\"\",\"○\",\"\")","v":"○"},{"$f":"IF(基本データ!AZ364<>\"\",\"○\",\"\")","v":""},{"$f":"IF(基本データ!BA364<>\"\",\"○\",\"\")","v":"○"},{"$f":"IF(基本データ!BB364<>\"\",\"○\",\"\")","v":""},{"$f":"IF(基本データ!BC364<>\"\",\"○\",\"\")","v":"○"},{"$f":"IF(基本データ!BD364<>\"\",\"○\",\"\")","v":""},{"$f":"IF(基本データ!BE364<>\"\",\"○\",\"\")","v":"○"},{"$f":"IF(基本データ!BF364<>\"\",\"○\",\"\")","v":""},{"$f":"IF(基本データ!BG364<>\"\",\"○\",\"\")","v":""},{"$f":"基本データ!BN364","v":0},{"$f":"IF(基本データ!BH364<>\"\",\"○\",\"\")","v":""},{"$f":"IF(基本データ!BI364<>\"\",\"○\",\"\")","v":""},{"$f":"IF(基本データ!BJ364<>\"\",\"○\",\"\")","v":""},{"$f":"IF(基本データ!BK364<>\"\",\"○\",\"\")","v":""},{"$f":"IF(基本データ!BL364<>\"\",\"○\",\"\")","v":""},{"$f":"IF(基本データ!BM364<>\"\",\"○\",\"\")","v":""}]
[363,{"$f":"基本データ!J365","v":"北海道"},{"$f":"基本データ!B365","v":2023},{"$f":"基本データ!I365","v":"北海道公立大学法人札幌医科大学附属病院"},{"$f":"基本データ!AL365","v":11},{"$f":"IF(基本データ!AM365<>\"\",\"○\",\"\")","v":"○"},{"$f":"IF(基本データ!AN365<>\"\",\"○\",\"\")","v":"○"},{"$f":"IF(基本データ!AO365<>\"\",\"○\",\"\")","v":"○"},{"$f":"IF(基本データ!AP365<>\"\",\"○\",\"\")","v":"○"},{"$f":"IF(基本データ!AQ365<>\"\",\"○\",\"\")","v":""},{"$f":"IF(基本データ!AR365<>\"\",\"○\",\"\")","v":""},{"$f":"IF(基本データ!AS365<>\"\",\"○\",\"\")","v":""},{"$f":"IF(基本データ!AT365<>\"\",\"○\",\"\")","v":""},{"$f":"IF(基本データ!AU365<>\"\",\"○\",\"\")","v":"○"},{"$f":"IF(基本データ!AV365<>\"\",\"○\",\"\")","v":"○"},{"$f":"IF(基本データ!AW365<>\"\",\"○\",\"\")","v":""},{"$f":"IF(基本データ!AX365<>\"\",\"○\",\"\")","v":""},{"$f":"IF(基本データ!AY365<>\"\",\"○\",\"\")","v":"○"},{"$f":"IF(基本データ!AZ365<>\"\",\"○\",\"\")","v":"○"},{"$f":"IF(基本データ!BA365<>\"\",\"○\",\"\")","v":"○"},{"$f":"IF(基本データ!BB365<>\"\",\"○\",\"\")","v":"○"},{"$f":"IF(基本データ!BC365<>\"\",\"○\",\"\")","v":""},{"$f":"IF(基本データ!BD365<>\"\",\"○\",\"\")","v":""},{"$f":"IF(基本データ!BE365<>\"\",\"○\",\"\")","v":"○"},{"$f":"IF(基本データ!BF365<>\"\",\"○\",\"\")","v":""},{"$f":"IF(基本データ!BG365<>\"\",\"○\",\"\")","v":""},{"$f":"基本データ!BN365","v":1},{"$f":"IF(基本データ!BH365<>\"\",\"○\",\"\")","v":""},{"$f":"IF(基本データ!BI365<>\"\",\"○\",\"\")","v":""},{"$f":"IF(基本データ!BJ365<>\"\",\"○\",\"\")","v":""},{"$f":"IF(基本データ!BK365<>\"\",\"○\",\"\")","v":""},{"$f":"IF(基本データ!BL365<>\"\",\"○\",\"\")","v":""},{"$f":"IF(基本データ!BM365<>\"\",\"○\",\"\")","v":"○"}]
[364,{"$f":"基本データ!J366","v":"東京都"},{"$f":"基本データ!B366","v":2023},{"$f":"基本データ!I366","v":"公立昭和病院"},{"$f":"基本データ!AL366","v":5},{"$f":"IF(基本データ!AM366<>\"\",\"○\",\"\")","v":"○"},{"$f":"IF(基本データ!AN366<>\"\",\"○\",\"\")","v":"○"},{"$f":"IF(基本データ!AO366<>\"\",\"○\",\"\")","v":""},{"$f":"IF(基本データ!AP366<>\"\",\"○\",\"\")","v":""},{"$f":"IF(基本データ!AQ366<>\"\",\"○\",\"\")","v":""},{"$f":"IF(基本データ!AR366<>\"\",\"○\",\"\")","v":""},{"$f":"IF(基本データ!AS366<>\"\",\"○\",\"\")","v":""},{"$f":"IF(基本データ!AT366<>\"\",\"○\",\"\")","v":""},{"$f":"IF(基本データ!AU366<>\"\",\"○\",\"\")","v":""},{"$f":"IF(基本データ!AV366<>\"\",\"○\",\"\")","v":""},{"$f":"IF(基本データ!AW366<>\"\",\"○\",\"\")","v":""},{"$f":"IF(基本データ!AX366<>\"\",\"○\",\"\")","v":""},{"$f":"IF(基本データ!AY366<>\"\",\"○\",\"\")","v":"○"},{"$f":"IF(基本データ!AZ366<>\"\",\"○\",\"\")","v":""},{"$f":"IF(基本データ!BA366<>\"\",\"○\",\"\")","v":"○"},{"$f":"IF(基本データ!BB366<>\"\",\"○\",\"\")","v":""},{"$f":"IF(基本データ!BC366<>\"\",\"○\",\"\")","v":""},{"$f":"IF(基本データ!BD366<>\"\",\"○\",\"\")","v":""},{"$f":"IF(基本データ!BE366<>\"\",\"○\",\"\")","v":""},{"$f":"IF(基本データ!BF366<>\"\",\"○\",\"\")","v":"○"},{"$f":"IF(基本データ!BG366<>\"\",\"○\",\"\")","v":""},{"$f":"基本データ!BN366","v":1},{"$f":"IF(基本データ!BH366<>\"\",\"○\",\"\")","v":""},{"$f":"IF(基本データ!BI366<>\"\",\"○\",\"\")","v":""},{"$f":"IF(基本データ!BJ366<>\"\",\"○\",\"\")","v":""},{"$f":"IF(基本データ!BK366<>\"\",\"○\",\"\")","v":"○"},{"$f":"IF(基本データ!BL366<>\"\",\"○\",\"\")","v":""},{"$f":"IF(基本データ!BM366<>\"\",\"○\",\"\")","v":""}]
[365,{"$f":"基本データ!J367","v":"神奈川県"},{"$f":"基本データ!B367","v":2023},{"$f":"基本データ!I367","v":"社会医療法人財団石心会　川崎幸病院"},{"$f":"基本データ!AL367","v":4},{"$f":"IF(基本データ!AM367<>\"\",\"○\",\"\")","v":"○"},{"$f":"IF(基本データ!AN367<>\"\",\"○\",\"\")","v":"○"},{"$f":"IF(基本データ!AO367<>\"\",\"○\",\"\")","v":""},{"$f":"IF(基本データ!AP367<>\"\",\"○\",\"\")","v":""},{"$f":"IF(基本データ!AQ367<>\"\",\"○\",\"\")","v":""},{"$f":"IF(基本データ!AR367<>\"\",\"○\",\"\")","v":""},{"$f":"IF(基本データ!AS367<>\"\",\"○\",\"\")","v":""},{"$f":"IF(基本データ!AT367<>\"\",\"○\",\"\")","v":""},{"$f":"IF(基本データ!AU367<>\"\",\"○\",\"\")","v":""},{"$f":"IF(基本データ!AV367<>\"\",\"○\",\"\")","v":""},{"$f":"IF(基本データ!AW367<>\"\",\"○\",\"\")","v":""},{"$f":"IF(基本データ!AX367<>\"\",\"○\",\"\")","v":""},{"$f":"IF(基本データ!AY367<>\"\",\"○\",\"\")","v":""},{"$f":"IF(基本データ!AZ367<>\"\",\"○\",\"\")","v":""},{"$f":"IF(基本データ!BA367<>\"\",\"○\",\"\")","v":"○"},{"$f":"IF(基本データ!BB367<>\"\",\"○\",\"\")","v":""},{"$f":"IF(基本データ!BC367<>\"\",\"○\",\"\")","v":""},{"$f":"IF(基本データ!BD367<>\"\",\"○\",\"\")","v":""},{"$f":"IF(基本データ!BE367<>\"\",\"○\",\"\")","v":"○"},{"$f":"IF(基本データ!BF367<>\"\",\"○\",\"\")","v":""},{"$f":"IF(基本データ!BG367<>\"\",\"○\",\"\")","v":""},{"$f":"基本データ!BN367","v":0},{"$f":"IF(基本データ!BH367<>\"\",\"○\",\"\")","v":""},{"$f":"IF(基本データ!BI367<>\"\",\"○\",\"\")","v":""},{"$f":"IF(基本データ!BJ367<>\"\",\"○\",\"\")","v":""},{"$f":"IF(基本データ!BK367<>\"\",\"○\",\"\")","v":""},{"$f":"IF(基本データ!BL367<>\"\",\"○\",\"\")","v":""},{"$f":"IF(基本データ!BM367<>\"\",\"○\",\"\")","v":""}]
[366,{"$f":"基本データ!J368","v":"神奈川県"},{"$f":"基本データ!B368","v":2023},{"$f":"基本データ!I368","v":"社会福祉法人恩賜財団済生会支部神奈川県済生会横浜市南部病院"},{"$f":"基本データ!AL368","v":5},{"$f":"IF(基本データ!AM368<>\"\",\"○\",\"\")","v":""},{"$f":"IF(基本データ!AN368<>\"\",\"○\",\"\")","v":""},{"$f":"IF(基本データ!AO368<>\"\",\"○\",\"\")","v":""},{"$f":"IF(基本データ!AP368<>\"\",\"○\",\"\")","v":""},{"$f":"IF(基本データ!AQ368<>\"\",\"○\",\"\")","v":""},{"$f":"IF(基本データ!AR368<>\"\",\"○\",\"\")","v":""},{"$f":"IF(基本データ!AS368<>\"\",\"○\",\"\")","v":""},{"$f":"IF(基本データ!AT368<>\"\",\"○\",\"\")","v":""},{"$f":"IF(基本データ!AU368<>\"\",\"○\",\"\")","v":""},{"$f":"IF(基本データ!AV368<>\"\",\"○\",\"\")","v":"○"},{"$f":"IF(基本データ!AW368<>\"\",\"○\",\"\")","v":""},{"$f":"IF(基本データ!AX368<>\"\",\"○\",\"\")","v":""},{"$f":"IF(基本データ!AY368<>\"\",\"○\",\"\")","v":"○"},{"$f":"IF(基本データ!AZ368<>\"\",\"○\",\"\")","v":""},{"$f":"IF(基本データ!BA368<>\"\",\"○\",\"\")","v":"○"},{"$f":"IF(基本データ!BB368<>\"\",\"○\",\"\")","v":""},{"$f":"IF(基本データ!BC368<>\"\",\"○\",\"\")","v":"○"},{"$f":"IF(基本データ!BD368<>\"\",\"○\",\"\")","v":"○"},{"$f":"IF(基本データ!BE368<>\"\",\"○\",\"\")","v":""},{"$f":"IF(基本データ!BF368<>\"\",\"○\",\"\")","v":""},{"$f":"IF(基本データ!BG368<>\"\",\"○\",\"\")","v":""},{"$f":"基本データ!BN368","v":0},{"$f":"IF(基本データ!BH368<>\"\",\"○\",\"\")","v":""},{"$f":"IF(基本データ!BI368<>\"\",\"○\",\"\")","v":""},{"$f":"IF(基本データ!BJ368<>\"\",\"○\",\"\")","v":""},{"$f":"IF(基本データ!BK368<>\"\",\"○\",\"\")","v":""},{"$f":"IF(基本データ!BL368<>\"\",\"○\",\"\")","v":""},{"$f":"IF(基本データ!BM368<>\"\",\"○\",\"\")","v":""}]
[367,{"$f":"基本データ!J369","v":"神奈川県"},{"$f":"基本データ!B369","v":2023},{"$f":"基本データ!I369","v":"平塚市民病院"},{"$f":"基本データ!AL369","v":6},{"$f":"IF(基本データ!AM369<>\"\",\"○\",\"\")","v":"○"},{"$f":"IF(基本データ!AN369<>\"\",\"○\",\"\")","v":"○"},{"$f":"IF(基本データ!AO369<>\"\",\"○\",\"\")","v":""},{"$f":"IF(基本データ!AP369<>\"\",\"○\",\"\")","v":""},{"$f":"IF(基本データ!AQ369<>\"\",\"○\",\"\")","v":""},{"$f":"IF(基本データ!AR369<>\"\",\"○\",\"\")","v":""},{"$f":"IF(基本データ!AS369<>\"\",\"○\",\"\")","v":""},{"$f":"IF(基本データ!AT369<>\"\",\"○\",\"\")","v":""},{"$f":"IF(基本データ!AU369<>\"\",\"○\",\"\")","v":""},{"$f":"IF(基本データ!AV369<>\"\",\"○\",\"\")","v":"○"},{"$f":"IF(基本データ!AW369<>\"\",\"○\",\"\")","v":""},{"$f":"IF(基本データ!AX369<>\"\",\"○\",\"\")","v":""},{"$f":"IF(基本データ!AY369<>\"\",\"○\",\"\")","v":"○"},{"$f":"IF(基本データ!AZ369<>\"\",\"○\",\"\")","v":""},{"$f":"IF(基本データ!BA369<>\"\",\"○\",\"\")","v":"○"},{"$f":"IF(基本データ!BB369<>\"\",\"○\",\"\")","v":""},{"$f":"IF(基本データ!BC369<>\"\",\"○\",\"\")","v":""},{"$f":"IF(基本データ!BD369<>\"\",\"○\",\"\")","v":""},{"$f":"IF(基本データ!BE369<>\"\",\"○\",\"\")","v":""},{"$f":"IF(基本データ!BF369<>\"\",\"○\",\"\")","v":"○"},{"$f":"IF(基本データ!BG369<>\"\",\"○\",\"\")","v":""},{"$f":"基本データ!BN369","v":1},{"$f":"IF(基本データ!BH369<>\"\",\"○\",\"\")","v":""},{"$f":"IF(基本データ!BI369<>\"\",\"○\",\"\")","v":""},{"$f":"IF(基本データ!BJ369<>\"\",\"○\",\"\")","v":""},{"$f":"IF(基本データ!BK369<>\"\",\"○\",\"\")","v":"○"},{"$f":"IF(基本データ!BL369<>\"\",\"○\",\"\")","v":""},{"$f":"IF(基本データ!BM369<>\"\",\"○\",\"\")","v":""}]
[368,{"$f":"基本データ!J370","v":"新潟県"},{"$f":"基本データ!B370","v":2023},{"$f":"基本データ!I370","v":"新潟県厚生農業協同組合連合会　村上総合病院"},{"$f":"基本データ!AL370","v":2},{"$f":"IF(基本データ!AM370<>\"\",\"○\",\"\")","v":""},{"$f":"IF(基本データ!AN370<>\"\",\"○\",\"\")","v":""},{"$f":"IF(基本データ!AO370<>\"\",\"○\",\"\")","v":""},{"$f":"IF(基本データ!AP370<>\"\",\"○\",\"\")","v":""},{"$f":"IF(基本データ!AQ370<>\"\",\"○\",\"\")","v":""},{"$f":"IF(基本データ!AR370<>\"\",\"○\",\"\")","v":""},{"$f":"IF(基本データ!AS370<>\"\",\"○\",\"\")","v":""},{"$f":"IF(基本データ!AT370<>\"\",\"○\",\"\")","v":""},{"$f":"IF(基本データ!AU370<>\"\",\"○\",\"\")","v":"○"},{"$f":"IF(基本データ!AV370<>\"\",\"○\",\"\")","v":"○"},{"$f":"IF(基本データ!AW370<>\"\",\"○\",\"\")","v":""},{"$f":"IF(基本データ!AX370<>\"\",\"○\",\"\")","v":""},{"$f":"IF(基本データ!AY370<>\"\",\"○\",\"\")","v":""},{"$f":"IF(基本データ!AZ370<>\"\",\"○\",\"\")","v":""},{"$f":"IF(基本データ!BA370<>\"\",\"○\",\"\")","v":""},{"$f":"IF(基本データ!BB370<>\"\",\"○\",\"\")","v":""},{"$f":"IF(基本データ!BC370<>\"\",\"○\",\"\")","v":""},{"$f":"IF(基本データ!BD370<>\"\",\"○\",\"\")","v":""},{"$f":"IF(基本データ!BE370<>\"\",\"○\",\"\")","v":""},{"$f":"IF(基本データ!BF370<>\"\",\"○\",\"\")","v":""},{"$f":"IF(基本データ!BG370<>\"\",\"○\",\"\")","v":""},{"$f":"基本データ!BN370","v":0},{"$f":"IF(基本データ!BH370<>\"\",\"○\",\"\")","v":""},{"$f":"IF(基本データ!BI370<>\"\",\"○\",\"\")","v":""},{"$f":"IF(基本データ!BJ370<>\"\",\"○\",\"\")","v":""},{"$f":"IF(基本データ!BK370<>\"\",\"○\",\"\")","v":""},{"$f":"IF(基本データ!BL370<>\"\",\"○\",\"\")","v":""},{"$f":"IF(基本データ!BM370<>\"\",\"○\",\"\")","v":""}]
[369,{"$f":"基本データ!J371","v":"石川県"},{"$f":"基本データ!B371","v":2023},{"$f":"基本データ!I371","v":"加賀市医療センター"},{"$f":"基本データ!AL371","v":6},{"$f":"IF(基本データ!AM371<>\"\",\"○\",\"\")","v":"○"},{"$f":"IF(基本データ!AN371<>\"\",\"○\",\"\")","v":"○"},{"$f":"IF(基本データ!AO371<>\"\",\"○\",\"\")","v":"○"},{"$f":"IF(基本データ!AP371<>\"\",\"○\",\"\")","v":""},{"$f":"IF(基本データ!AQ371<>\"\",\"○\",\"\")","v":""},{"$f":"IF(基本データ!AR371<>\"\",\"○\",\"\")","v":""},{"$f":"IF(基本データ!AS371<>\"\",\"○\",\"\")","v":""},{"$f":"IF(基本データ!AT371<>\"\",\"○\",\"\")","v":""},{"$f":"IF(基本データ!AU371<>\"\",\"○\",\"\")","v":""},{"$f":"IF(基本データ!AV371<>\"\",\"○\",\"\")","v":""},{"$f":"IF(基本データ!AW371<>\"\",\"○\",\"\")","v":""},{"$f":"IF(基本データ!AX371<>\"\",\"○\",\"\")","v":""},{"$f":"IF(基本データ!AY371<>\"\",\"○\",\"\")","v":"○"},{"$f":"IF(基本データ!AZ371<>\"\",\"○\",\"\")","v":""},{"$f":"IF(基本データ!BA371<>\"\",\"○\",\"\")","v":"○"},{"$f":"IF(基本データ!BB371<>\"\",\"○\",\"\")","v":""},{"$f":"IF(基本データ!BC371<>\"\",\"○\",\"\")","v":"○"},{"$f":"IF(基本データ!BD371<>\"\",\"○\",\"\")","v":""},{"$f":"IF(基本データ!BE371<>\"\",\"○\",\"\")","v":""},{"$f":"IF(基本データ!BF371<>\"\",\"○\",\"\")","v":""},{"$f":"IF(基本データ!BG371<>\"\",\"○\",\"\")","v":""},{"$f":"基本データ!BN371","v":0},{"$f":"IF(基本データ!BH371<>\"\",\"○\",\"\")","v":""},{"$f":"IF(基本データ!BI371<>\"\",\"○\",\"\")","v":""},{"$f":"IF(基本データ!BJ371<>\"\",\"○\",\"\")","v":""},{"$f":"IF(基本データ!BK371<>\"\",\"○\",\"\")","v":""},{"$f":"IF(基本データ!BL371<>\"\",\"○\",\"\")","v":""},{"$f":"IF(基本データ!BM371<>\"\",\"○\",\"\")","v":""}]
[370,{"$f":"基本データ!J372","v":"石川県"},{"$f":"基本データ!B372","v":2023},{"$f":"基本データ!I372","v":"独立行政法人国立病院機構　金沢医療センター"},{"$f":"基本データ!AL372","v":15},{"$f":"IF(基本データ!AM372<>\"\",\"○\",\"\")","v":"○"},{"$f":"IF(基本データ!AN372<>\"\",\"○\",\"\")","v":"○"},{"$f":"IF(基本データ!AO372<>\"\",\"○\",\"\")","v":"○"},{"$f":"IF(基本データ!AP372<>\"\",\"○\",\"\")","v":""},{"$f":"IF(基本データ!AQ372<>\"\",\"○\",\"\")","v":""},{"$f":"IF(基本データ!AR372<>\"\",\"○\",\"\")","v":"○"},{"$f":"IF(基本データ!AS372<>\"\",\"○\",\"\")","v":"○"},{"$f":"IF(基本データ!AT372<>\"\",\"○\",\"\")","v":""},{"$f":"IF(基本データ!AU372<>\"\",\"○\",\"\")","v":"○"},{"$f":"IF(基本データ!AV372<>\"\",\"○\",\"\")","v":"○"},{"$f":"IF(基本データ!AW372<>\"\",\"○\",\"\")","v":"○"},{"$f":"IF(基本データ!AX372<>\"\",\"○\",\"\")","v":"○"},{"$f":"IF(基本データ!AY372<>\"\",\"○\",\"\")","v":"○"},{"$f":"IF(基本データ!AZ372<>\"\",\"○\",\"\")","v":"○"},{"$f":"IF(基本データ!BA372<>\"\",\"○\",\"\")","v":"○"},{"$f":"IF(基本データ!BB372<>\"\",\"○\",\"\")","v":""},{"$f":"IF(基本データ!BC372<>\"\",\"○\",\"\")","v":"○"},{"$f":"IF(基本データ!BD372<>\"\",\"○\",\"\")","v":"○"},{"$f":"IF(基本データ!BE372<>\"\",\"○\",\"\")","v":"○"},{"$f":"IF(基本データ!BF372<>\"\",\"○\",\"\")","v":""},{"$f":"IF(基本データ!BG372<>\"\",\"○\",\"\")","v":""},{"$f":"基本データ!BN372","v":1},{"$f":"IF(基本データ!BH372<>\"\",\"○\",\"\")","v":""},{"$f":"IF(基本データ!BI372<>\"\",\"○\",\"\")","v":"○"},{"$f":"IF(基本データ!BJ372<>\"\",\"○\",\"\")","v":""},{"$f":"IF(基本データ!BK372<>\"\",\"○\",\"\")","v":""},{"$f":"IF(基本データ!BL372<>\"\",\"○\",\"\")","v":""},{"$f":"IF(基本データ!BM372<>\"\",\"○\",\"\")","v":""}]
[371,{"$f":"基本データ!J373","v":"静岡県"},{"$f":"基本データ!B373","v":2023},{"$f":"基本データ!I373","v":"磐田市立総合病院"},{"$f":"基本データ!AL373","v":11},{"$f":"IF(基本データ!AM373<>\"\",\"○\",\"\")","v":"○"},{"$f":"IF(基本データ!AN373<>\"\",\"○\",\"\")","v":"○"},{"$f":"IF(基本データ!AO373<>\"\",\"○\",\"\")","v":""},{"$f":"IF(基本データ!AP373<>\"\",\"○\",\"\")","v":""},{"$f":"IF(基本データ!AQ373<>\"\",\"○\",\"\")","v":""},{"$f":"IF(基本データ!AR373<>\"\",\"○\",\"\")","v":""},{"$f":"IF(基本データ!AS373<>\"\",\"○\",\"\")","v":"○"},{"$f":"IF(基本データ!AT373<>\"\",\"○\",\"\")","v":""},{"$f":"IF(基本データ!AU373<>\"\",\"○\",\"\")","v":"○"},{"$f":"IF(基本データ!AV373<>\"\",\"○\",\"\")","v":"○"},{"$f":"IF(基本データ!AW373<>\"\",\"○\",\"\")","v":""},{"$f":"IF(基本データ!AX373<>\"\",\"○\",\"\")","v":"○"},{"$f":"IF(基本データ!AY373<>\"\",\"○\",\"\")","v":"○"},{"$f":"IF(基本データ!AZ373<>\"\",\"○\",\"\")","v":""},{"$f":"IF(基本データ!BA373<>\"\",\"○\",\"\")","v":"○"},{"$f":"IF(基本データ!BB373<>\"\",\"○\",\"\")","v":""},{"$f":"IF(基本データ!BC373<>\"\",\"○\",\"\")","v":""},{"$f":"IF(基本データ!BD373<>\"\",\"○\",\"\")","v":"○"},{"$f":"IF(基本データ!BE373<>\"\",\"○\",\"\")","v":"○"},{"$f":"IF(基本データ!BF373<>\"\",\"○\",\"\")","v":"○"},{"$f":"IF(基本データ!BG373<>\"\",\"○\",\"\")","v":""},{"$f":"基本データ!BN373","v":2},{"$f":"IF(基本データ!BH373<>\"\",\"○\",\"\")","v":""},{"$f":"IF(基本データ!BI373<>\"\",\"○\",\"\")","v":""},{"$f":"IF(基本データ!BJ373<>\"\",\"○\",\"\")","v":"○"},{"$f":"IF(基本データ!BK373<>\"\",\"○\",\"\")","v":"○"},{"$f":"IF(基本データ!BL373<>\"\",\"○\",\"\")","v":""},{"$f":"IF(基本データ!BM373<>\"\",\"○\",\"\")","v":""}]
[372,{"$f":"基本データ!J374","v":"愛知県"},{"$f":"基本データ!B374","v":2023},{"$f":"基本データ!I374","v":"公立陶生病院"},{"$f":"基本データ!AL374","v":5},{"$f":"IF(基本データ!AM374<>\"\",\"○\",\"\")","v":""},{"$f":"IF(基本データ!AN374<>\"\",\"○\",\"\")","v":""},{"$f":"IF(基本データ!AO374<>\"\",\"○\",\"\")","v":""},{"$f":"IF(基本データ!AP374<>\"\",\"○\",\"\")","v":""},{"$f":"IF(基本データ!AQ374<>\"\",\"○\",\"\")","v":""},{"$f":"IF(基本データ!AR374<>\"\",\"○\",\"\")","v":""},{"$f":"IF(基本データ!AS374<>\"\",\"○\",\"\")","v":""},{"$f":"IF(基本データ!AT374<>\"\",\"○\",\"\")","v":""},{"$f":"IF(基本データ!AU374<>\"\",\"○\",\"\")","v":"○"},{"$f":"IF(基本データ!AV374<>\"\",\"○\",\"\")","v":"○"},{"$f":"IF(基本データ!AW374<>\"\",\"○\",\"\")","v":""},{"$f":"IF(基本データ!AX374<>\"\",\"○\",\"\")","v":""},{"$f":"IF(基本データ!AY374<>\"\",\"○\",\"\")","v":"○"},{"$f":"IF(基本データ!AZ374<>\"\",\"○\",\"\")","v":""},{"$f":"IF(基本データ!BA374<>\"\",\"○\",\"\")","v":"○"},{"$f":"IF(基本データ!BB374<>\"\",\"○\",\"\")","v":"○"},{"$f":"IF(基本データ!BC374<>\"\",\"○\",\"\")","v":""},{"$f":"IF(基本データ!BD374<>\"\",\"○\",\"\")","v":""},{"$f":"IF(基本データ!BE374<>\"\",\"○\",\"\")","v":""},{"$f":"IF(基本データ!BF374<>\"\",\"○\",\"\")","v":""},{"$f":"IF(基本データ!BG374<>\"\",\"○\",\"\")","v":""},{"$f":"基本データ!BN374","v":0},{"$f":"IF(基本データ!BH374<>\"\",\"○\",\"\")","v":""},{"$f":"IF(基本データ!BI374<>\"\",\"○\",\"\")","v":""},{"$f":"IF(基本データ!BJ374<>\"\",\"○\",\"\")","v":""},{"$f":"IF(基本データ!BK374<>\"\",\"○\",\"\")","v":""},{"$f":"IF(基本データ!BL374<>\"\",\"○\",\"\")","v":""},{"$f":"IF(基本データ!BM374<>\"\",\"○\",\"\")","v":""}]
[373,{"$f":"基本データ!J375","v":"大阪府"},{"$f":"基本データ!B375","v":2023},{"$f":"基本データ!I375","v":"市立ひらかた病院"},{"$f":"基本データ!AL375","v":8},{"$f":"IF(基本データ!AM375<>\"\",\"○\",\"\")","v":"○"},{"$f":"IF(基本データ!AN375<>\"\",\"○\",\"\")","v":"○"},{"$f":"IF(基本データ!AO375<>\"\",\"○\",\"\")","v":""},{"$f":"IF(基本データ!AP375<>\"\",\"○\",\"\")","v":""},{"$f":"IF(基本データ!AQ375<>\"\",\"○\",\"\")","v":""},{"$f":"IF(基本データ!AR375<>\"\",\"○\",\"\")","v":""},{"$f":"IF(基本データ!AS375<>\"\",\"○\",\"\")","v":""},{"$f":"IF(基本データ!AT375<>\"\",\"○\",\"\")","v":""},{"$f":"IF(基本データ!AU375<>\"\",\"○\",\"\")","v":""},{"$f":"IF(基本データ!AV375<>\"\",\"○\",\"\")","v":""},{"$f":"IF(基本データ!AW375<>\"\",\"○\",\"\")","v":"○"},{"$f":"IF(基本データ!AX375<>\"\",\"○\",\"\")","v":""},{"$f":"IF(基本データ!AY375<>\"\",\"○\",\"\")","v":"○"},{"$f":"IF(基本データ!AZ375<>\"\",\"○\",\"\")","v":""},{"$f":"IF(基本データ!BA375<>\"\",\"○\",\"\")","v":"○"},{"$f":"IF(基本データ!BB375<>\"\",\"○\",\"\")","v":"○"},{"$f":"IF(基本データ!BC375<>\"\",\"○\",\"\")","v":"○"},{"$f":"IF(基本データ!BD375<>\"\",\"○\",\"\")","v":""},{"$f":"IF(基本データ!BE375<>\"\",\"○\",\"\")","v":""},{"$f":"IF(基本データ!BF375<>\"\",\"○\",\"\")","v":"○"},{"$f":"IF(基本データ!BG375<>\"\",\"○\",\"\")","v":""},{"$f":"基本データ!BN375","v":1},{"$f":"IF(基本データ!BH375<>\"\",\"○\",\"\")","v":""},{"$f":"IF(基本データ!BI375<>\"\",\"○\",\"\")","v":""},{"$f":"IF(基本データ!BJ375<>\"\",\"○\",\"\")","v":""},{"$f":"IF(基本データ!BK375<>\"\",\"○\",\"\")","v":"○"},{"$f":"IF(基本データ!BL375<>\"\",\"○\",\"\")","v":""},{"$f":"IF(基本データ!BM375<>\"\",\"○\",\"\")","v":""}]
[374,{"$f":"基本データ!J376","v":"広島県"},{"$f":"基本データ!B376","v":2023},{"$f":"基本データ!I376","v":"社会医療法人千秋会　井野口病院"},{"$f":"基本データ!AL376","v":4},{"$f":"IF(基本データ!AM376<>\"\",\"○\",\"\")","v":""},{"$f":"IF(基本データ!AN376<>\"\",\"○\",\"\")","v":""},{"$f":"IF(基本データ!AO376<>\"\",\"○\",\"\")","v":"○"},{"$f":"IF(基本データ!AP376<>\"\",\"○\",\"\")","v":""},{"$f":"IF(基本データ!AQ376<>\"\",\"○\",\"\")","v":""},{"$f":"IF(基本データ!AR376<>\"\",\"○\",\"\")","v":""},{"$f":"IF(基本データ!AS376<>\"\",\"○\",\"\")","v":""},{"$f":"IF(基本データ!AT376<>\"\",\"○\",\"\")","v":"○"},{"$f":"IF(基本データ!AU376<>\"\",\"○\",\"\")","v":""},{"$f":"IF(基本データ!AV376<>\"\",\"○\",\"\")","v":""},{"$f":"IF(基本データ!AW376<>\"\",\"○\",\"\")","v":"○"},{"$f":"IF(基本データ!AX376<>\"\",\"○\",\"\")","v":""},{"$f":"IF(基本データ!AY376<>\"\",\"○\",\"\")","v":""},{"$f":"IF(基本データ!AZ376<>\"\",\"○\",\"\")","v":""},{"$f":"IF(基本データ!BA376<>\"\",\"○\",\"\")","v":"○"},{"$f":"IF(基本データ!BB376<>\"\",\"○\",\"\")","v":""},{"$f":"IF(基本データ!BC376<>\"\",\"○\",\"\")","v":""},{"$f":"IF(基本データ!BD376<>\"\",\"○\",\"\")","v":""},{"$f":"IF(基本データ!BE376<>\"\",\"○\",\"\")","v":""},{"$f":"IF(基本データ!BF376<>\"\",\"○\",\"\")","v":""},{"$f":"IF(基本データ!BG376<>\"\",\"○\",\"\")","v":""},{"$f":"基本データ!BN376","v":1},{"$f":"IF(基本データ!BH376<>\"\",\"○\",\"\")","v":"○"},{"$f":"IF(基本データ!BI376<>\"\",\"○\",\"\")","v":""},{"$f":"IF(基本データ!BJ376<>\"\",\"○\",\"\")","v":""},{"$f":"IF(基本データ!BK376<>\"\",\"○\",\"\")","v":""},{"$f":"IF(基本データ!BL376<>\"\",\"○\",\"\")","v":""},{"$f":"IF(基本データ!BM376<>\"\",\"○\",\"\")","v":""}]
[375,{"$f":"基本データ!J377","v":"福岡県"},{"$f":"基本データ!B377","v":2023},{"$f":"基本データ!I377","v":"社会医療法人財団　池友会　福岡和白病院"},{"$f":"基本データ!AL377","v":16},{"$f":"IF(基本データ!AM377<>\"\",\"○\",\"\")","v":"○"},{"$f":"IF(基本データ!AN377<>\"\",\"○\",\"\")","v":"○"},{"$f":"IF(基本データ!AO377<>\"\",\"○\",\"\")","v":"○"},{"$f":"IF(基本データ!AP377<>\"\",\"○\",\"\")","v":""},{"$f":"IF(基本データ!AQ377<>\"\",\"○\",\"\")","v":""},{"$f":"IF(基本データ!AR377<>\"\",\"○\",\"\")","v":"○"},{"$f":"IF(基本データ!AS377<>\"\",\"○\",\"\")","v":"○"},{"$f":"IF(基本データ!AT377<>\"\",\"○\",\"\")","v":"○"},{"$f":"IF(基本データ!AU377<>\"\",\"○\",\"\")","v":"○"},{"$f":"IF(基本データ!AV377<>\"\",\"○\",\"\")","v":"○"},{"$f":"IF(基本データ!AW377<>\"\",\"○\",\"\")","v":"○"},{"$f":"IF(基本データ!AX377<>\"\",\"○\",\"\")","v":"○"},{"$f":"IF(基本データ!AY377<>\"\",\"○\",\"\")","v":"○"},{"$f":"IF(基本データ!AZ377<>\"\",\"○\",\"\")","v":""},{"$f":"IF(基本データ!BA377<>\"\",\"○\",\"\")","v":"○"},{"$f":"IF(基本データ!BB377<>\"\",\"○\",\"\")","v":"○"},{"$f":"IF(基本データ!BC377<>\"\",\"○\",\"\")","v":""},{"$f":"IF(基本データ!BD377<>\"\",\"○\",\"\")","v":"○"},{"$f":"IF(基本データ!BE377<>\"\",\"○\",\"\")","v":"○"},{"$f":"IF(基本データ!BF377<>\"\",\"○\",\"\")","v":"○"},{"$f":"IF(基本データ!BG377<>\"\",\"○\",\"\")","v":""},{"$f":"基本データ!BN377","v":3},{"$f":"IF(基本データ!BH377<>\"\",\"○\",\"\")","v":"○"},{"$f":"IF(基本データ!BI377<>\"\",\"○\",\"\")","v":""},{"$f":"IF(基本データ!BJ377<>\"\",\"○\",\"\")","v":"○"},{"$f":"IF(基本データ!BK377<>\"\",\"○\",\"\")","v":""},{"$f":"IF(基本データ!BL377<>\"\",\"○\",\"\")","v":"○"},{"$f":"IF(基本データ!BM377<>\"\",\"○\",\"\")","v":""}]
[376,{"$f":"基本データ!J378","v":"北海道"},{"$f":"基本データ!B378","v":2024},{"$f":"基本データ!I378","v":"公益社団法人北海道勤労者医療協会　勤医協中央病院"},{"$f":"基本データ!AL378","v":7},{"$f":"IF(基本データ!AM378<>\"\",\"○\",\"\")","v":"○"},{"$f":"IF(基本データ!AN378<>\"\",\"○\",\"\")","v":"○"},{"$f":"IF(基本データ!AO378<>\"\",\"○\",\"\")","v":""},{"$f":"IF(基本データ!AP378<>\"\",\"○\",\"\")","v":""},{"$f":"IF(基本データ!AQ378<>\"\",\"○\",\"\")","v":""},{"$f":"IF(基本データ!AR378<>\"\",\"○\",\"\")","v":""},{"$f":"IF(基本データ!AS378<>\"\",\"○\",\"\")","v":""},{"$f":"IF(基本データ!AT378<>\"\",\"○\",\"\")","v":""},{"$f":"IF(基本データ!AU378<>\"\",\"○\",\"\")","v":"○"},{"$f":"IF(基本データ!AV378<>\"\",\"○\",\"\")","v":"○"},{"$f":"IF(基本データ!AW378<>\"\",\"○\",\"\")","v":""},{"$f":"IF(基本データ!AX378<>\"\",\"○\",\"\")","v":""},{"$f":"IF(基本データ!AY378<>\"\",\"○\",\"\")","v":"○"},{"$f":"IF(基本データ!AZ378<>\"\",\"○\",\"\")","v":""},{"$f":"IF(基本データ!BA378<>\"\",\"○\",\"\")","v":"○"},{"$f":"IF(基本データ!BB378<>\"\",\"○\",\"\")","v":""},{"$f":"IF(基本データ!BC378<>\"\",\"○\",\"\")","v":""},{"$f":"IF(基本データ!BD378<>\"\",\"○\",\"\")","v":""},{"$f":"IF(基本データ!BE378<>\"\",\"○\",\"\")","v":""},{"$f":"IF(基本データ!BF378<>\"\",\"○\",\"\")","v":"○"},{"$f":"IF(基本データ!BG378<>\"\",\"○\",\"\")","v":""},{"$f":"基本データ!BN378","v":1},{"$f":"IF(基本データ!BH378<>\"\",\"○\",\"\")","v":""},{"$f":"IF(基本データ!BI378<>\"\",\"○\",\"\")","v":""},{"$f":"IF(基本データ!BJ378<>\"\",\"○\",\"\")","v":""},{"$f":"IF(基本データ!BK378<>\"\",\"○\",\"\")","v":"○"},{"$f":"IF(基本データ!BL378<>\"\",\"○\",\"\")","v":""},{"$f":"IF(基本データ!BM378<>\"\",\"○\",\"\")","v":""}]
[377,{"$f":"基本データ!J379","v":"青森県"},{"$f":"基本データ!B379","v":2024},{"$f":"基本データ!I379","v":"独立行政法人国立病院機構弘前総合医療センター"},{"$f":"基本データ!AL379","v":7},{"$f":"IF(基本データ!AM379<>\"\",\"○\",\"\")","v":""},{"$f":"IF(基本データ!AN379<>\"\",\"○\",\"\")","v":""},{"$f":"IF(基本データ!AO379<>\"\",\"○\",\"\")","v":""},{"$f":"IF(基本データ!AP379<>\"\",\"○\",\"\")","v":""},{"$f":"IF(基本データ!AQ379<>\"\",\"○\",\"\")","v":""},{"$f":"IF(基本データ!AR379<>\"\",\"○\",\"\")","v":""},{"$f":"IF(基本データ!AS379<>\"\",\"○\",\"\")","v":""},{"$f":"IF(基本データ!AT379<>\"\",\"○\",\"\")","v":""},{"$f":"IF(基本データ!AU379<>\"\",\"○\",\"\")","v":"○"},{"$f":"IF(基本データ!AV379<>\"\",\"○\",\"\")","v":""},{"$f":"IF(基本データ!AW379<>\"\",\"○\",\"\")","v":"○"},{"$f":"IF(基本データ!AX379<>\"\",\"○\",\"\")","v":"○"},{"$f":"IF(基本データ!AY379<>\"\",\"○\",\"\")","v":"○"},{"$f":"IF(基本データ!AZ379<>\"\",\"○\",\"\")","v":""},{"$f":"IF(基本データ!BA379<>\"\",\"○\",\"\")","v":"○"},{"$f":"IF(基本データ!BB379<>\"\",\"○\",\"\")","v":"○"},{"$f":"IF(基本データ!BC379<>\"\",\"○\",\"\")","v":""},{"$f":"IF(基本データ!BD379<>\"\",\"○\",\"\")","v":"○"},{"$f":"IF(基本データ!BE379<>\"\",\"○\",\"\")","v":""},{"$f":"IF(基本データ!BF379<>\"\",\"○\",\"\")","v":""},{"$f":"IF(基本データ!BG379<>\"\",\"○\",\"\")","v":""},{"$f":"基本データ!BN379","v":1},{"$f":"IF(基本データ!BH379<>\"\",\"○\",\"\")","v":""},{"$f":"IF(基本データ!BI379<>\"\",\"○\",\"\")","v":""},{"$f":"IF(基本データ!BJ379<>\"\",\"○\",\"\")","v":""},{"$f":"IF(基本データ!BK379<>\"\",\"○\",\"\")","v":""},{"$f":"IF(基本データ!BL379<>\"\",\"○\",\"\")","v":"○"},{"$f":"IF(基本データ!BM379<>\"\",\"○\",\"\")","v":""}]
[378,{"$f":"基本データ!J380","v":"宮城県"},{"$f":"基本データ!B380","v":2024},{"$f":"基本データ!I380","v":"東北医科薬科大学病院"},{"$f":"基本データ!AL380","v":4},{"$f":"IF(基本データ!AM380<>\"\",\"○\",\"\")","v":"○"},{"$f":"IF(基本データ!AN380<>\"\",\"○\",\"\")","v":"○"},{"$f":"IF(基本データ!AO380<>\"\",\"○\",\"\")","v":""},{"$f":"IF(基本データ!AP380<>\"\",\"○\",\"\")","v":""},{"$f":"IF(基本データ!AQ380<>\"\",\"○\",\"\")","v":""},{"$f":"IF(基本データ!AR380<>\"\",\"○\",\"\")","v":""},{"$f":"IF(基本データ!AS380<>\"\",\"○\",\"\")","v":""},{"$f":"IF(基本データ!AT380<>\"\",\"○\",\"\")","v":""},{"$f":"IF(基本データ!AU380<>\"\",\"○\",\"\")","v":"○"},{"$f":"IF(基本データ!AV380<>\"\",\"○\",\"\")","v":""},{"$f":"IF(基本データ!AW380<>\"\",\"○\",\"\")","v":""},{"$f":"IF(基本データ!AX380<>\"\",\"○\",\"\")","v":""},{"$f":"IF(基本データ!AY380<>\"\",\"○\",\"\")","v":""},{"$f":"IF(基本データ!AZ380<>\"\",\"○\",\"\")","v":""},{"$f":"IF(基本データ!BA380<>\"\",\"○\",\"\")","v":""},{"$f":"IF(基本データ!BB380<>\"\",\"○\",\"\")","v":""},{"$f":"IF(基本データ!BC380<>\"\",\"○\",\"\")","v":""},{"$f":"IF(基本データ!BD380<>\"\",\"○\",\"\")","v":""},{"$f":"IF(基本データ!BE380<>\"\",\"○\",\"\")","v":"○"},{"$f":"IF(基本データ!BF380<>\"\",\"○\",\"\")","v":""},{"$f":"IF(基本データ!BG380<>\"\",\"○\",\"\")","v":""},{"$f":"基本データ!BN380","v":0},{"$f":"IF(基本データ!BH380<>\"\",\"○\",\"\")","v":""},{"$f":"IF(基本データ!BI380<>\"\",\"○\",\"\")","v":""},{"$f":"IF(基本データ!BJ380<>\"\",\"○\",\"\")","v":""},{"$f":"IF(基本データ!BK380<>\"\",\"○\",\"\")","v":""},{"$f":"IF(基本データ!BL380<>\"\",\"○\",\"\")","v":""},{"$f":"IF(基本データ!BM380<>\"\",\"○\",\"\")","v":""}]
[379,{"$f":"基本データ!J381","v":"福島県"},{"$f":"基本データ!B381","v":2024},{"$f":"基本データ!I381","v":"一般財団法人太田綜合病院附属太田西ノ内病院"},{"$f":"基本データ!AL381","v":14},{"$f":"IF(基本データ!AM381<>\"\",\"○\",\"\")","v":"○"},{"$f":"IF(基本データ!AN381<>\"\",\"○\",\"\")","v":"○"},{"$f":"IF(基本データ!AO381<>\"\",\"○\",\"\")","v":"○"},{"$f":"IF(基本データ!AP381<>\"\",\"○\",\"\")","v":""},{"$f":"IF(基本データ!AQ381<>\"\",\"○\",\"\")","v":""},{"$f":"IF(基本データ!AR381<>\"\",\"○\",\"\")","v":"○"},{"$f":"IF(基本データ!AS381<>\"\",\"○\",\"\")","v":"○"},{"$f":"IF(基本データ!AT381<>\"\",\"○\",\"\")","v":"○"},{"$f":"IF(基本データ!AU381<>\"\",\"○\",\"\")","v":"○"},{"$f":"IF(基本データ!AV381<>\"\",\"○\",\"\")","v":"○"},{"$f":"IF(基本データ!AW381<>\"\",\"○\",\"\")","v":"○"},{"$f":"IF(基本データ!AX381<>\"\",\"○\",\"\")","v":"○"},{"$f":"IF(基本データ!AY381<>\"\",\"○\",\"\")","v":"○"},{"$f":"IF(基本データ!AZ381<>\"\",\"○\",\"\")","v":""},{"$f":"IF(基本データ!BA381<>\"\",\"○\",\"\")","v":"○"},{"$f":"IF(基本データ!BB381<>\"\",\"○\",\"\")","v":""},{"$f":"IF(基本データ!BC381<>\"\",\"○\",\"\")","v":""},{"$f":"IF(基本データ!BD381<>\"\",\"○\",\"\")","v":"○"},{"$f":"IF(基本データ!BE381<>\"\",\"○\",\"\")","v":"○"},{"$f":"IF(基本データ!BF381<>\"\",\"○\",\"\")","v":""},{"$f":"IF(基本データ!BG381<>\"\",\"○\",\"\")","v":""},{"$f":"基本データ!BN381","v":3},{"$f":"IF(基本データ!BH381<>\"\",\"○\",\"\")","v":"○"},{"$f":"IF(基本データ!BI381<>\"\",\"○\",\"\")","v":"○"},{"$f":"IF(基本データ!BJ381<>\"\",\"○\",\"\")","v":"○"},{"$f":"IF(基本データ!BK381<>\"\",\"○\",\"\")","v":""},{"$f":"IF(基本データ!BL381<>\"\",\"○\",\"\")","v":""},{"$f":"IF(基本データ!BM381<>\"\",\"○\",\"\")","v":""}]
[380,{"$f":"基本データ!J382","v":"埼玉県"},{"$f":"基本データ!B382","v":2024},{"$f":"基本データ!I382","v":"一般社団法人上尾中央医科グループ協議会"},{"$f":"基本データ!AL382","v":2},{"$f":"IF(基本データ!AM382<>\"\",\"○\",\"\")","v":""},{"$f":"IF(基本データ!AN382<>\"\",\"○\",\"\")","v":""},{"$f":"IF(基本データ!AO382<>\"\",\"○\",\"\")","v":""},{"$f":"IF(基本データ!AP382<>\"\",\"○\",\"\")","v":""},{"$f":"IF(基本データ!AQ382<>\"\",\"○\",\"\")","v":""},{"$f":"IF(基本データ!AR382<>\"\",\"○\",\"\")","v":""},{"$f":"IF(基本データ!AS382<>\"\",\"○\",\"\")","v":""},{"$f":"IF(基本データ!AT382<>\"\",\"○\",\"\")","v":""},{"$f":"IF(基本データ!AU382<>\"\",\"○\",\"\")","v":""},{"$f":"IF(基本データ!AV382<>\"\",\"○\",\"\")","v":""},{"$f":"IF(基本データ!AW382<>\"\",\"○\",\"\")","v":""},{"$f":"IF(基本データ!AX382<>\"\",\"○\",\"\")","v":""},{"$f":"IF(基本データ!AY382<>\"\",\"○\",\"\")","v":""},{"$f":"IF(基本データ!AZ382<>\"\",\"○\",\"\")","v":""},{"$f":"IF(基本データ!BA382<>\"\",\"○\",\"\")","v":"○"},{"$f":"IF(基本データ!BB382<>\"\",\"○\",\"\")","v":"○"},{"$f":"IF(基本データ!BC382<>\"\",\"○\",\"\")","v":""},{"$f":"IF(基本データ!BD382<>\"\",\"○\",\"\")","v":""},{"$f":"IF(基本データ!BE382<>\"\",\"○\",\"\")","v":""},{"$f":"IF(基本データ!BF382<>\"\",\"○\",\"\")","v":""},{"$f":"IF(基本データ!BG382<>\"\",\"○\",\"\")","v":""},{"$f":"基本データ!BN382","v":0},{"$f":"IF(基本データ!BH382<>\"\",\"○\",\"\")","v":""},{"$f":"IF(基本データ!BI382<>\"\",\"○\",\"\")","v":""},{"$f":"IF(基本データ!BJ382<>\"\",\"○\",\"\")","v":""},{"$f":"IF(基本データ!BK382<>\"\",\"○\",\"\")","v":""},{"$f":"IF(基本データ!BL382<>\"\",\"○\",\"\")","v":""},{"$f":"IF(基本データ!BM382<>\"\",\"○\",\"\")","v":""}]
[381,{"$f":"基本データ!J383","v":"埼玉県"},{"$f":"基本データ!B383","v":2024},{"$f":"基本データ!I383","v":"学校法人埼玉医科大学"},{"$f":"基本データ!AL383","v":15},{"$f":"IF(基本データ!AM383<>\"\",\"○\",\"\")","v":"○"},{"$f":"IF(基本データ!AN383<>\"\",\"○\",\"\")","v":"○"},{"$f":"IF(基本データ!AO383<>\"\",\"○\",\"\")","v":"○"},{"$f":"IF(基本データ!AP383<>\"\",\"○\",\"\")","v":"○"},{"$f":"IF(基本データ!AQ383<>\"\",\"○\",\"\")","v":""},{"$f":"IF(基本データ!AR383<>\"\",\"○\",\"\")","v":""},{"$f":"IF(基本データ!AS383<>\"\",\"○\",\"\")","v":""},{"$f":"IF(基本データ!AT383<>\"\",\"○\",\"\")","v":"○"},{"$f":"IF(基本データ!AU383<>\"\",\"○\",\"\")","v":"○"},{"$f":"IF(基本データ!AV383<>\"\",\"○\",\"\")","v":"○"},{"$f":"IF(基本データ!AW383<>\"\",\"○\",\"\")","v":"○"},{"$f":"IF(基本データ!AX383<>\"\",\"○\",\"\")","v":"○"},{"$f":"IF(基本データ!AY383<>\"\",\"○\",\"\")","v":"○"},{"$f":"IF(基本データ!AZ383<>\"\",\"○\",\"\")","v":""},{"$f":"IF(基本データ!BA383<>\"\",\"○\",\"\")","v":"○"},{"$f":"IF(基本データ!BB383<>\"\",\"○\",\"\")","v":"○"},{"$f":"IF(基本データ!BC383<>\"\",\"○\",\"\")","v":"○"},{"$f":"IF(基本データ!BD383<>\"\",\"○\",\"\")","v":"○"},{"$f":"IF(基本データ!BE383<>\"\",\"○\",\"\")","v":"○"},{"$f":"IF(基本データ!BF383<>\"\",\"○\",\"\")","v":""},{"$f":"IF(基本データ!BG383<>\"\",\"○\",\"\")","v":""},{"$f":"基本データ!BN383","v":4},{"$f":"IF(基本データ!BH383<>\"\",\"○\",\"\")","v":"○"},{"$f":"IF(基本データ!BI383<>\"\",\"○\",\"\")","v":""},{"$f":"IF(基本データ!BJ383<>\"\",\"○\",\"\")","v":"○"},{"$f":"IF(基本データ!BK383<>\"\",\"○\",\"\")","v":""},{"$f":"IF(基本データ!BL383<>\"\",\"○\",\"\")","v":"○"},{"$f":"IF(基本データ!BM383<>\"\",\"○\",\"\")","v":"○"}]
[382,{"$f":"基本データ!J384","v":"埼玉県"},{"$f":"基本データ!B384","v":2024},{"$f":"基本データ!I384","v":"社会福祉法人恩賜財団済生会支部　埼玉県済生会川口総合病院"},{"$f":"基本データ!AL384","v":6},{"$f":"IF(基本データ!AM384<>\"\",\"○\",\"\")","v":"○"},{"$f":"IF(基本データ!AN384<>\"\",\"○\",\"\")","v":"○"},{"$f":"IF(基本データ!AO384<>\"\",\"○\",\"\")","v":""},{"$f":"IF(基本データ!AP384<>\"\",\"○\",\"\")","v":""},{"$f":"IF(基本データ!AQ384<>\"\",\"○\",\"\")","v":""},{"$f":"IF(基本データ!AR384<>\"\",\"○\",\"\")","v":""},{"$f":"IF(基本データ!AS384<>\"\",\"○\",\"\")","v":""},{"$f":"IF(基本データ!AT384<>\"\",\"○\",\"\")","v":""},{"$f":"IF(基本データ!AU384<>\"\",\"○\",\"\")","v":"○"},{"$f":"IF(基本データ!AV384<>\"\",\"○\",\"\")","v":""},{"$f":"IF(基本データ!AW384<>\"\",\"○\",\"\")","v":""},{"$f":"IF(基本データ!AX384<>\"\",\"○\",\"\")","v":"○"},{"$f":"IF(基本データ!AY384<>\"\",\"○\",\"\")","v":"○"},{"$f":"IF(基本データ!AZ384<>\"\",\"○\",\"\")","v":""},{"$f":"IF(基本データ!BA384<>\"\",\"○\",\"\")","v":"○"},{"$f":"IF(基本データ!BB384<>\"\",\"○\",\"\")","v":""},{"$f":"IF(基本データ!BC384<>\"\",\"○\",\"\")","v":""},{"$f":"IF(基本データ!BD384<>\"\",\"○\",\"\")","v":""},{"$f":"IF(基本データ!BE384<>\"\",\"○\",\"\")","v":""},{"$f":"IF(基本データ!BF384<>\"\",\"○\",\"\")","v":""},{"$f":"IF(基本データ!BG384<>\"\",\"○\",\"\")","v":""},{"$f":"基本データ!BN384","v":0},{"$f":"IF(基本データ!BH384<>\"\",\"○\",\"\")","v":""},{"$f":"IF(基本データ!BI384<>\"\",\"○\",\"\")","v":""},{"$f":"IF(基本データ!BJ384<>\"\",\"○\",\"\")","v":""},{"$f":"IF(基本データ!BK384<>\"\",\"○\",\"\")","v":""},{"$f":"IF(基本データ!BL384<>\"\",\"○\",\"\")","v":""},{"$f":"IF(基本データ!BM384<>\"\",\"○\",\"\")","v":""}]
[383,{"$f":"基本データ!J385","v":"東京都"},{"$f":"基本データ!B385","v":2024},{"$f":"基本データ!I385","v":"医療法人財団荻窪病院"},{"$f":"基本データ!AL385","v":12},{"$f":"IF(基本データ!AM385<>\"\",\"○\",\"\")","v":"○"},{"$f":"IF(基本データ!AN385<>\"\",\"○\",\"\")","v":"○"},{"$f":"IF(基本データ!AO385<>\"\",\"○\",\"\")","v":""},{"$f":"IF(基本データ!AP385<>\"\",\"○\",\"\")","v":""},{"$f":"IF(基本データ!AQ385<>\"\",\"○\",\"\")","v":""},{"$f":"IF(基本データ!AR385<>\"\",\"○\",\"\")","v":""},{"$f":"IF(基本データ!AS385<>\"\",\"○\",\"\")","v":""},{"$f":"IF(基本データ!AT385<>\"\",\"○\",\"\")","v":""},{"$f":"IF(基本データ!AU385<>\"\",\"○\",\"\")","v":"○"},{"$f":"IF(基本データ!AV385<>\"\",\"○\",\"\")","v":"○"},{"$f":"IF(基本データ!AW385<>\"\",\"○\",\"\")","v":"○"},{"$f":"IF(基本データ!AX385<>\"\",\"○\",\"\")","v":"○"},{"$f":"IF(基本データ!AY385<>\"\",\"○\",\"\")","v":"○"},{"$f":"IF(基本データ!AZ385<>\"\",\"○\",\"\")","v":""},{"$f":"IF(基本データ!BA385<>\"\",\"○\",\"\")","v":"○"},{"$f":"IF(基本データ!BB385<>\"\",\"○\",\"\")","v":"○"},{"$f":"IF(基本データ!BC385<>\"\",\"○\",\"\")","v":"○"},{"$f":"IF(基本データ!BD385<>\"\",\"○\",\"\")","v":"○"},{"$f":"IF(基本データ!BE385<>\"\",\"○\",\"\")","v":"○"},{"$f":"IF(基本データ!BF385<>\"\",\"○\",\"\")","v":""},{"$f":"IF(基本データ!BG385<>\"\",\"○\",\"\")","v":""},{"$f":"基本データ!BN385","v":2},{"$f":"IF(基本データ!BH385<>\"\",\"○\",\"\")","v":""},{"$f":"IF(基本データ!BI385<>\"\",\"○\",\"\")","v":""},{"$f":"IF(基本データ!BJ385<>\"\",\"○\",\"\")","v":"○"},{"$f":"IF(基本データ!BK385<>\"\",\"○\",\"\")","v":""},{"$f":"IF(基本データ!BL385<>\"\",\"○\",\"\")","v":"○"},{"$f":"IF(基本データ!BM385<>\"\",\"○\",\"\")","v":""}]
[384,{"$f":"基本データ!J386","v":"東京都"},{"$f":"基本データ!B386","v":2024},{"$f":"基本データ!I386","v":"公益財団法人 榊原記念財団 附属 榊原記念病院"},{"$f":"基本データ!AL386","v":2},{"$f":"IF(基本データ!AM386<>\"\",\"○\",\"\")","v":""},{"$f":"IF(基本データ!AN386<>\"\",\"○\",\"\")","v":""},{"$f":"IF(基本データ!AO386<>\"\",\"○\",\"\")","v":""},{"$f":"IF(基本データ!AP386<>\"\",\"○\",\"\")","v":""},{"$f":"IF(基本データ!AQ386<>\"\",\"○\",\"\")","v":""},{"$f":"IF(基本データ!AR386<>\"\",\"○\",\"\")","v":""},{"$f":"IF(基本データ!AS386<>\"\",\"○\",\"\")","v":""},{"$f":"IF(基本データ!AT386<>\"\",\"○\",\"\")","v":""},{"$f":"IF(基本データ!AU386<>\"\",\"○\",\"\")","v":""},{"$f":"IF(基本データ!AV386<>\"\",\"○\",\"\")","v":""},{"$f":"IF(基本データ!AW386<>\"\",\"○\",\"\")","v":""},{"$f":"IF(基本データ!AX386<>\"\",\"○\",\"\")","v":""},{"$f":"IF(基本データ!AY386<>\"\",\"○\",\"\")","v":""},{"$f":"IF(基本データ!AZ386<>\"\",\"○\",\"\")","v":""},{"$f":"IF(基本データ!BA386<>\"\",\"○\",\"\")","v":"○"},{"$f":"IF(基本データ!BB386<>\"\",\"○\",\"\")","v":""},{"$f":"IF(基本データ!BC386<>\"\",\"○\",\"\")","v":""},{"$f":"IF(基本データ!BD386<>\"\",\"○\",\"\")","v":""},{"$f":"IF(基本データ!BE386<>\"\",\"○\",\"\")","v":"○"},{"$f":"IF(基本データ!BF386<>\"\",\"○\",\"\")","v":""},{"$f":"IF(基本データ!BG386<>\"\",\"○\",\"\")","v":""},{"$f":"基本データ!BN386","v":0},{"$f":"IF(基本データ!BH386<>\"\",\"○\",\"\")","v":""},{"$f":"IF(基本データ!BI386<>\"\",\"○\",\"\")","v":""},{"$f":"IF(基本データ!BJ386<>\"\",\"○\",\"\")","v":""},{"$f":"IF(基本データ!BK386<>\"\",\"○\",\"\")","v":""},{"$f":"IF(基本データ!BL386<>\"\",\"○\",\"\")","v":""},{"$f":"IF(基本データ!BM386<>\"\",\"○\",\"\")","v":""}]
[385,{"$f":"基本データ!J387","v":"東京都"},{"$f":"基本データ!B387","v":2024},{"$f":"基本データ!I387","v":"地方独立行政法人東京都立病院機構　東京都立多摩総合医療センター"},{"$f":"基本データ!AL387","v":11},{"$f":"IF(基本データ!AM387<>\"\",\"○\",\"\")","v":"○"},{"$f":"IF(基本データ!AN387<>\"\",\"○\",\"\")","v":"○"},{"$f":"IF(基本データ!AO387<>\"\",\"○\",\"\")","v":"○"},{"$f":"IF(基本データ!AP387<>\"\",\"○\",\"\")","v":"○"},{"$f":"IF(基本データ!AQ387<>\"\",\"○\",\"\")","v":""},{"$f":"IF(基本データ!AR387<>\"\",\"○\",\"\")","v":""},{"$f":"IF(基本データ!AS387<>\"\",\"○\",\"\")","v":""},{"$f":"IF(基本データ!AT387<>\"\",\"○\",\"\")","v":""},{"$f":"IF(基本データ!AU387<>\"\",\"○\",\"\")","v":"○"},{"$f":"IF(基本データ!AV387<>\"\",\"○\",\"\")","v":"○"},{"$f":"IF(基本データ!AW387<>\"\",\"○\",\"\")","v":"○"},{"$f":"IF(基本データ!AX387<>\"\",\"○\",\"\")","v":""},{"$f":"IF(基本データ!AY387<>\"\",\"○\",\"\")","v":"○"},{"$f":"IF(基本データ!AZ387<>\"\",\"○\",\"\")","v":""},{"$f":"IF(基本データ!BA387<>\"\",\"○\",\"\")","v":"○"},{"$f":"IF(基本データ!BB387<>\"\",\"○\",\"\")","v":""},{"$f":"IF(基本データ!BC387<>\"\",\"○\",\"\")","v":""},{"$f":"IF(基本データ!BD387<>\"\",\"○\",\"\")","v":""},{"$f":"IF(基本データ!BE387<>\"\",\"○\",\"\")","v":"○"},{"$f":"IF(基本データ!BF387<>\"\",\"○\",\"\")","v":"○"},{"$f":"IF(基本データ!BG387<>\"\",\"○\",\"\")","v":""},{"$f":"基本データ!BN387","v":2},{"$f":"IF(基本データ!BH387<>\"\",\"○\",\"\")","v":""},{"$f":"IF(基本データ!BI387<>\"\",\"○\",\"\")","v":""},{"$f":"IF(基本データ!BJ387<>\"\",\"○\",\"\")","v":""},{"$f":"IF(基本データ!BK387<>\"\",\"○\",\"\")","v":"○"},{"$f":"IF(基本データ!BL387<>\"\",\"○\",\"\")","v":""},{"$f":"IF(基本データ!BM387<>\"\",\"○\",\"\")","v":"○"}]
[386,{"$f":"基本データ!J388","v":"東京都"},{"$f":"基本データ!B388","v":2024},{"$f":"基本データ!I388","v":"地方独立行政法人東京都立病院機構　東京都立広尾病院"},{"$f":"基本データ!AL388","v":11},{"$f":"IF(基本データ!AM388<>\"\",\"○\",\"\")","v":"○"},{"$f":"IF(基本データ!AN388<>\"\",\"○\",\"\")","v":"○"},{"$f":"IF(基本データ!AO388<>\"\",\"○\",\"\")","v":"○"},{"$f":"IF(基本データ!AP388<>\"\",\"○\",\"\")","v":""},{"$f":"IF(基本データ!AQ388<>\"\",\"○\",\"\")","v":""},{"$f":"IF(基本データ!AR388<>\"\",\"○\",\"\")","v":""},{"$f":"IF(基本データ!AS388<>\"\",\"○\",\"\")","v":""},{"$f":"IF(基本データ!AT388<>\"\",\"○\",\"\")","v":"○"},{"$f":"IF(基本データ!AU388<>\"\",\"○\",\"\")","v":""},{"$f":"IF(基本データ!AV388<>\"\",\"○\",\"\")","v":"○"},{"$f":"IF(基本データ!AW388<>\"\",\"○\",\"\")","v":"○"},{"$f":"IF(基本データ!AX388<>\"\",\"○\",\"\")","v":""},{"$f":"IF(基本データ!AY388<>\"\",\"○\",\"\")","v":"○"},{"$f":"IF(基本データ!AZ388<>\"\",\"○\",\"\")","v":""},{"$f":"IF(基本データ!BA388<>\"\",\"○\",\"\")","v":"○"},{"$f":"IF(基本データ!BB388<>\"\",\"○\",\"\")","v":""},{"$f":"IF(基本データ!BC388<>\"\",\"○\",\"\")","v":"○"},{"$f":"IF(基本データ!BD388<>\"\",\"○\",\"\")","v":"○"},{"$f":"IF(基本データ!BE388<>\"\",\"○\",\"\")","v":"○"},{"$f":"IF(基本データ!BF388<>\"\",\"○\",\"\")","v":""},{"$f":"IF(基本データ!BG388<>\"\",\"○\",\"\")","v":""},{"$f":"基本データ!BN388","v":1},{"$f":"IF(基本データ!BH388<>\"\",\"○\",\"\")","v":"○"},{"$f":"IF(基本データ!BI388<>\"\",\"○\",\"\")","v":""},{"$f":"IF(基本データ!BJ388<>\"\",\"○\",\"\")","v":""},{"$f":"IF(基本データ!BK388<>\"\",\"○\",\"\")","v":""},{"$f":"IF(基本データ!BL388<>\"\",\"○\",\"\")","v":""},{"$f":"IF(基本データ!BM388<>\"\",\"○\",\"\")","v":""}]
[387,{"$f":"基本データ!J389","v":"神奈川県"},{"$f":"基本データ!B389","v":2024},{"$f":"基本データ!I389","v":"茅ヶ崎市立病院"},{"$f":"基本データ!AL389","v":4},{"$f":"IF(基本データ!AM389<>\"\",\"○\",\"\")","v":""},{"$f":"IF(基本データ!AN389<>\"\",\"○\",\"\")","v":""},{"$f":"IF(基本データ!AO389<>\"\",\"○\",\"\")","v":""},{"$f":"IF(基本データ!AP389<>\"\",\"○\",\"\")","v":""},{"$f":"IF(基本データ!AQ389<>\"\",\"○\",\"\")","v":""},{"$f":"IF(基本データ!AR389<>\"\",\"○\",\"\")","v":""},{"$f":"IF(基本データ!AS389<>\"\",\"○\",\"\")","v":""},{"$f":"IF(基本データ!AT389<>\"\",\"○\",\"\")","v":""},{"$f":"IF(基本データ!AU389<>\"\",\"○\",\"\")","v":""},{"$f":"IF(基本データ!AV389<>\"\",\"○\",\"\")","v":""},{"$f":"IF(基本データ!AW389<>\"\",\"○\",\"\")","v":"○"},{"$f":"IF(基本データ!AX389<>\"\",\"○\",\"\")","v":""},{"$f":"IF(基本データ!AY389<>\"\",\"○\",\"\")","v":""},{"$f":"IF(基本データ!AZ389<>\"\",\"○\",\"\")","v":""},{"$f":"IF(基本データ!BA389<>\"\",\"○\",\"\")","v":"○"},{"$f":"IF(基本データ!BB389<>\"\",\"○\",\"\")","v":""},{"$f":"IF(基本データ!BC389<>\"\",\"○\",\"\")","v":"○"},{"$f":"IF(基本データ!BD389<>\"\",\"○\",\"\")","v":""},{"$f":"IF(基本データ!BE389<>\"\",\"○\",\"\")","v":"○"},{"$f":"IF(基本データ!BF389<>\"\",\"○\",\"\")","v":""},{"$f":"IF(基本データ!BG389<>\"\",\"○\",\"\")","v":""},{"$f":"基本データ!BN389","v":0},{"$f":"IF(基本データ!BH389<>\"\",\"○\",\"\")","v":""},{"$f":"IF(基本データ!BI389<>\"\",\"○\",\"\")","v":""},{"$f":"IF(基本データ!BJ389<>\"\",\"○\",\"\")","v":""},{"$f":"IF(基本データ!BK389<>\"\",\"○\",\"\")","v":""},{"$f":"IF(基本データ!BL389<>\"\",\"○\",\"\")","v":""},{"$f":"IF(基本データ!BM389<>\"\",\"○\",\"\")","v":""}]
[388,{"$f":"基本データ!J390","v":"新潟県"},{"$f":"基本データ!B390","v":2024},{"$f":"基本データ!I390","v":"学校法人悠久崇徳学園長岡崇徳大学長岡崇徳大学教育センター"},{"$f":"基本データ!AL390","v":2},{"$f":"IF(基本データ!AM390<>\"\",\"○\",\"\")","v":""},{"$f":"IF(基本データ!AN390<>\"\",\"○\",\"\")","v":""},{"$f":"IF(基本データ!AO390<>\"\",\"○\",\"\")","v":""},{"$f":"IF(基本データ!AP390<>\"\",\"○\",\"\")","v":""},{"$f":"IF(基本データ!AQ390<>\"\",\"○\",\"\")","v":""},{"$f":"IF(基本データ!AR390<>\"\",\"○\",\"\")","v":""},{"$f":"IF(基本データ!AS390<>\"\",\"○\",\"\")","v":""},{"$f":"IF(基本データ!AT390<>\"\",\"○\",\"\")","v":""},{"$f":"IF(基本データ!AU390<>\"\",\"○\",\"\")","v":""},{"$f":"IF(基本データ!AV390<>\"\",\"○\",\"\")","v":""},{"$f":"IF(基本データ!AW390<>\"\",\"○\",\"\")","v":""},{"$f":"IF(基本データ!AX390<>\"\",\"○\",\"\")","v":""},{"$f":"IF(基本データ!AY390<>\"\",\"○\",\"\")","v":""},{"$f":"IF(基本データ!AZ390<>\"\",\"○\",\"\")","v":""},{"$f":"IF(基本データ!BA390<>\"\",\"○\",\"\")","v":"○"},{"$f":"IF(基本データ!BB390<>\"\",\"○\",\"\")","v":""},{"$f":"IF(基本データ!BC390<>\"\",\"○\",\"\")","v":""},{"$f":"IF(基本データ!BD390<>\"\",\"○\",\"\")","v":""},{"$f":"IF(基本データ!BE390<>\"\",\"○\",\"\")","v":""},{"$f":"IF(基本データ!BF390<>\"\",\"○\",\"\")","v":"○"},{"$f":"IF(基本データ!BG390<>\"\",\"○\",\"\")","v":""},{"$f":"基本データ!BN390","v":0},{"$f":"IF(基本データ!BH390<>\"\",\"○\",\"\")","v":""},{"$f":"IF(基本データ!BI390<>\"\",\"○\",\"\")","v":""},{"$f":"IF(基本データ!BJ390<>\"\",\"○\",\"\")","v":""},{"$f":"IF(基本データ!BK390<>\"\",\"○\",\"\")","v":""},{"$f":"IF(基本データ!BL390<>\"\",\"○\",\"\")","v":""},{"$f":"IF(基本データ!BM390<>\"\",\"○\",\"\")","v":""}]
[389,{"$f":"基本データ!J391","v":"新潟県"},{"$f":"基本データ!B391","v":2024},{"$f":"基本データ!I391","v":"社会福祉法人恩賜財団済生会　新潟県央基幹病院"},{"$f":"基本データ!AL391","v":8},{"$f":"IF(基本データ!AM391<>\"\",\"○\",\"\")","v":"○"},{"$f":"IF(基本データ!AN391<>\"\",\"○\",\"\")","v":"○"},{"$f":"IF(基本データ!AO391<>\"\",\"○\",\"\")","v":""},{"$f":"IF(基本データ!AP391<>\"\",\"○\",\"\")","v":"○"},{"$f":"IF(基本データ!AQ391<>\"\",\"○\",\"\")","v":""},{"$f":"IF(基本データ!AR391<>\"\",\"○\",\"\")","v":""},{"$f":"IF(基本データ!AS391<>\"\",\"○\",\"\")","v":""},{"$f":"IF(基本データ!AT391<>\"\",\"○\",\"\")","v":""},{"$f":"IF(基本データ!AU391<>\"\",\"○\",\"\")","v":"○"},{"$f":"IF(基本データ!AV391<>\"\",\"○\",\"\")","v":""},{"$f":"IF(基本データ!AW391<>\"\",\"○\",\"\")","v":""},{"$f":"IF(基本データ!AX391<>\"\",\"○\",\"\")","v":""},{"$f":"IF(基本データ!AY391<>\"\",\"○\",\"\")","v":"○"},{"$f":"IF(基本データ!AZ391<>\"\",\"○\",\"\")","v":""},{"$f":"IF(基本データ!BA391<>\"\",\"○\",\"\")","v":"○"},{"$f":"IF(基本データ!BB391<>\"\",\"○\",\"\")","v":""},{"$f":"IF(基本データ!BC391<>\"\",\"○\",\"\")","v":""},{"$f":"IF(基本データ!BD391<>\"\",\"○\",\"\")","v":"○"},{"$f":"IF(基本データ!BE391<>\"\",\"○\",\"\")","v":"○"},{"$f":"IF(基本データ!BF391<>\"\",\"○\",\"\")","v":""},{"$f":"IF(基本データ!BG391<>\"\",\"○\",\"\")","v":""},{"$f":"基本データ!BN391","v":2},{"$f":"IF(基本データ!BH391<>\"\",\"○\",\"\")","v":""},{"$f":"IF(基本データ!BI391<>\"\",\"○\",\"\")","v":""},{"$f":"IF(基本データ!BJ391<>\"\",\"○\",\"\")","v":"○"},{"$f":"IF(基本データ!BK391<>\"\",\"○\",\"\")","v":""},{"$f":"IF(基本データ!BL391<>\"\",\"○\",\"\")","v":""},{"$f":"IF(基本データ!BM391<>\"\",\"○\",\"\")","v":"○"}]
[390,{"$f":"基本データ!J392","v":"石川県"},{"$f":"基本データ!B392","v":2024},{"$f":"基本データ!I392","v":"石川県公立大学法人　石川県立看護大学"},{"$f":"基本データ!AL392","v":2},{"$f":"IF(基本データ!AM392<>\"\",\"○\",\"\")","v":""},{"$f":"IF(基本データ!AN392<>\"\",\"○\",\"\")","v":""},{"$f":"IF(基本データ!AO392<>\"\",\"○\",\"\")","v":""},{"$f":"IF(基本データ!AP392<>\"\",\"○\",\"\")","v":""},{"$f":"IF(基本データ!AQ392<>\"\",\"○\",\"\")","v":""},{"$f":"IF(基本データ!AR392<>\"\",\"○\",\"\")","v":""},{"$f":"IF(基本データ!AS392<>\"\",\"○\",\"\")","v":""},{"$f":"IF(基本データ!AT392<>\"\",\"○\",\"\")","v":""},{"$f":"IF(基本データ!AU392<>\"\",\"○\",\"\")","v":""},{"$f":"IF(基本データ!AV392<>\"\",\"○\",\"\")","v":""},{"$f":"IF(基本データ!AW392<>\"\",\"○\",\"\")","v":"○"},{"$f":"IF(基本データ!AX392<>\"\",\"○\",\"\")","v":""},{"$f":"IF(基本データ!AY392<>\"\",\"○\",\"\")","v":""},{"$f":"IF(基本データ!AZ392<>\"\",\"○\",\"\")","v":""},{"$f":"IF(基本データ!BA392<>\"\",\"○\",\"\")","v":"○"},{"$f":"IF(基本データ!BB392<>\"\",\"○\",\"\")","v":""},{"$f":"IF(基本データ!BC392<>\"\",\"○\",\"\")","v":""},{"$f":"IF(基本データ!BD392<>\"\",\"○\",\"\")","v":""},{"$f":"IF(基本データ!BE392<>\"\",\"○\",\"\")","v":""},{"$f":"IF(基本データ!BF392<>\"\",\"○\",\"\")","v":""},{"$f":"IF(基本データ!BG392<>\"\",\"○\",\"\")","v":""},{"$f":"基本データ!BN392","v":0},{"$f":"IF(基本データ!BH392<>\"\",\"○\",\"\")","v":""},{"$f":"IF(基本データ!BI392<>\"\",\"○\",\"\")","v":""},{"$f":"IF(基本データ!BJ392<>\"\",\"○\",\"\")","v":""},{"$f":"IF(基本データ!BK392<>\"\",\"○\",\"\")","v":""},{"$f":"IF(基本データ!BL392<>\"\",\"○\",\"\")","v":""},{"$f":"IF(基本データ!BM392<>\"\",\"○\",\"\")","v":""}]
[391,{"$f":"基本データ!J393","v":"石川県"},{"$f":"基本データ!B393","v":2024},{"$f":"基本データ!I393","v":"石川県立中央病院"},{"$f":"基本データ!AL393","v":7},{"$f":"IF(基本データ!AM393<>\"\",\"○\",\"\")","v":"○"},{"$f":"IF(基本データ!AN393<>\"\",\"○\",\"\")","v":"○"},{"$f":"IF(基本データ!AO393<>\"\",\"○\",\"\")","v":""},{"$f":"IF(基本データ!AP393<>\"\",\"○\",\"\")","v":""},{"$f":"IF(基本データ!AQ393<>\"\",\"○\",\"\")","v":""},{"$f":"IF(基本データ!AR393<>\"\",\"○\",\"\")","v":""},{"$f":"IF(基本データ!AS393<>\"\",\"○\",\"\")","v":""},{"$f":"IF(基本データ!AT393<>\"\",\"○\",\"\")","v":""},{"$f":"IF(基本データ!AU393<>\"\",\"○\",\"\")","v":""},{"$f":"IF(基本データ!AV393<>\"\",\"○\",\"\")","v":"○"},{"$f":"IF(基本データ!AW393<>\"\",\"○\",\"\")","v":""},{"$f":"IF(基本データ!AX393<>\"\",\"○\",\"\")","v":""},{"$f":"IF(基本データ!AY393<>\"\",\"○\",\"\")","v":"○"},{"$f":"IF(基本データ!AZ393<>\"\",\"○\",\"\")","v":""},{"$f":"IF(基本データ!BA393<>\"\",\"○\",\"\")","v":"○"},{"$f":"IF(基本データ!BB393<>\"\",\"○\",\"\")","v":""},{"$f":"IF(基本データ!BC393<>\"\",\"○\",\"\")","v":"○"},{"$f":"IF(基本データ!BD393<>\"\",\"○\",\"\")","v":""},{"$f":"IF(基本データ!BE393<>\"\",\"○\",\"\")","v":""},{"$f":"IF(基本データ!BF393<>\"\",\"○\",\"\")","v":"○"},{"$f":"IF(基本データ!BG393<>\"\",\"○\",\"\")","v":""},{"$f":"基本データ!BN393","v":1},{"$f":"IF(基本データ!BH393<>\"\",\"○\",\"\")","v":""},{"$f":"IF(基本データ!BI393<>\"\",\"○\",\"\")","v":""},{"$f":"IF(基本データ!BJ393<>\"\",\"○\",\"\")","v":""},{"$f":"IF(基本データ!BK393<>\"\",\"○\",\"\")","v":"○"},{"$f":"IF(基本データ!BL393<>\"\",\"○\",\"\")","v":""},{"$f":"IF(基本データ!BM393<>\"\",\"○\",\"\")","v":""}]
[392,{"$f":"基本データ!J394","v":"石川県"},{"$f":"基本データ!B394","v":2024},{"$f":"基本データ!I394","v":"国立大学法人金沢大学附属病院"},{"$f":"基本データ!AL394","v":10},{"$f":"IF(基本データ!AM394<>\"\",\"○\",\"\")","v":"○"},{"$f":"IF(基本データ!AN394<>\"\",\"○\",\"\")","v":"○"},{"$f":"IF(基本データ!AO394<>\"\",\"○\",\"\")","v":"○"},{"$f":"IF(基本データ!AP394<>\"\",\"○\",\"\")","v":"○"},{"$f":"IF(基本データ!AQ394<>\"\",\"○\",\"\")","v":""},{"$f":"IF(基本データ!AR394<>\"\",\"○\",\"\")","v":""},{"$f":"IF(基本データ!AS394<>\"\",\"○\",\"\")","v":""},{"$f":"IF(基本データ!AT394<>\"\",\"○\",\"\")","v":""},{"$f":"IF(基本データ!AU394<>\"\",\"○\",\"\")","v":"○"},{"$f":"IF(基本データ!AV394<>\"\",\"○\",\"\")","v":""},{"$f":"IF(基本データ!AW394<>\"\",\"○\",\"\")","v":""},{"$f":"IF(基本データ!AX394<>\"\",\"○\",\"\")","v":""},{"$f":"IF(基本データ!AY394<>\"\",\"○\",\"\")","v":"○"},{"$f":"IF(基本データ!AZ394<>\"\",\"○\",\"\")","v":""},{"$f":"IF(基本データ!BA394<>\"\",\"○\",\"\")","v":"○"},{"$f":"IF(基本データ!BB394<>\"\",\"○\",\"\")","v":""},{"$f":"IF(基本データ!BC394<>\"\",\"○\",\"\")","v":""},{"$f":"IF(基本データ!BD394<>\"\",\"○\",\"\")","v":"○"},{"$f":"IF(基本データ!BE394<>\"\",\"○\",\"\")","v":"○"},{"$f":"IF(基本データ!BF394<>\"\",\"○\",\"\")","v":"○"},{"$f":"IF(基本データ!BG394<>\"\",\"○\",\"\")","v":""},{"$f":"基本データ!BN394","v":3},{"$f":"IF(基本データ!BH394<>\"\",\"○\",\"\")","v":""},{"$f":"IF(基本データ!BI394<>\"\",\"○\",\"\")","v":""},{"$f":"IF(基本データ!BJ394<>\"\",\"○\",\"\")","v":"○"},{"$f":"IF(基本データ!BK394<>\"\",\"○\",\"\")","v":"○"},{"$f":"IF(基本データ!BL394<>\"\",\"○\",\"\")","v":""},{"$f":"IF(基本データ!BM394<>\"\",\"○\",\"\")","v":"○"}]
[393,{"$f":"基本データ!J395","v":"静岡県"},{"$f":"基本データ!B395","v":2024},{"$f":"基本データ!I395","v":"沼津市立病院"},{"$f":"基本データ!AL395","v":9},{"$f":"IF(基本データ!AM395<>\"\",\"○\",\"\")","v":"○"},{"$f":"IF(基本データ!AN395<>\"\",\"○\",\"\")","v":"○"},{"$f":"IF(基本データ!AO395<>\"\",\"○\",\"\")","v":""},{"$f":"IF(基本データ!AP395<>\"\",\"○\",\"\")","v":"○"},{"$f":"IF(基本データ!AQ395<>\"\",\"○\",\"\")","v":""},{"$f":"IF(基本データ!AR395<>\"\",\"○\",\"\")","v":""},{"$f":"IF(基本データ!AS395<>\"\",\"○\",\"\")","v":""},{"$f":"IF(基本データ!AT395<>\"\",\"○\",\"\")","v":""},{"$f":"IF(基本データ!AU395<>\"\",\"○\",\"\")","v":"○"},{"$f":"IF(基本データ!AV395<>\"\",\"○\",\"\")","v":"○"},{"$f":"IF(基本データ!AW395<>\"\",\"○\",\"\")","v":""},{"$f":"IF(基本データ!AX395<>\"\",\"○\",\"\")","v":""},{"$f":"IF(基本データ!AY395<>\"\",\"○\",\"\")","v":"○"},{"$f":"IF(基本データ!AZ395<>\"\",\"○\",\"\")","v":""},{"$f":"IF(基本データ!BA395<>\"\",\"○\",\"\")","v":"○"},{"$f":"IF(基本データ!BB395<>\"\",\"○\",\"\")","v":""},{"$f":"IF(基本データ!BC395<>\"\",\"○\",\"\")","v":""},{"$f":"IF(基本データ!BD395<>\"\",\"○\",\"\")","v":"○"},{"$f":"IF(基本データ!BE395<>\"\",\"○\",\"\")","v":"○"},{"$f":"IF(基本データ!BF395<>\"\",\"○\",\"\")","v":""},{"$f":"IF(基本データ!BG395<>\"\",\"○\",\"\")","v":""},{"$f":"基本データ!BN395","v":2},{"$f":"IF(基本データ!BH395<>\"\",\"○\",\"\")","v":""},{"$f":"IF(基本データ!BI395<>\"\",\"○\",\"\")","v":""},{"$f":"IF(基本データ!BJ395<>\"\",\"○\",\"\")","v":"○"},{"$f":"IF(基本データ!BK395<>\"\",\"○\",\"\")","v":""},{"$f":"IF(基本データ!BL395<>\"\",\"○\",\"\")","v":""},{"$f":"IF(基本データ!BM395<>\"\",\"○\",\"\")","v":"○"}]
[394,{"$f":"基本データ!J396","v":"愛知県"},{"$f":"基本データ!B396","v":2024},{"$f":"基本データ!I396","v":"一宮市立市民病院"},{"$f":"基本データ!AL396","v":8},{"$f":"IF(基本データ!AM396<>\"\",\"○\",\"\")","v":"○"},{"$f":"IF(基本データ!AN396<>\"\",\"○\",\"\")","v":"○"},{"$f":"IF(基本データ!AO396<>\"\",\"○\",\"\")","v":""},{"$f":"IF(基本データ!AP396<>\"\",\"○\",\"\")","v":""},{"$f":"IF(基本データ!AQ396<>\"\",\"○\",\"\")","v":""},{"$f":"IF(基本データ!AR396<>\"\",\"○\",\"\")","v":""},{"$f":"IF(基本データ!AS396<>\"\",\"○\",\"\")","v":""},{"$f":"IF(基本データ!AT396<>\"\",\"○\",\"\")","v":""},{"$f":"IF(基本データ!AU396<>\"\",\"○\",\"\")","v":""},{"$f":"IF(基本データ!AV396<>\"\",\"○\",\"\")","v":""},{"$f":"IF(基本データ!AW396<>\"\",\"○\",\"\")","v":""},{"$f":"IF(基本データ!AX396<>\"\",\"○\",\"\")","v":""},{"$f":"IF(基本データ!AY396<>\"\",\"○\",\"\")","v":"○"},{"$f":"IF(基本データ!AZ396<>\"\",\"○\",\"\")","v":""},{"$f":"IF(基本データ!BA396<>\"\",\"○\",\"\")","v":"○"},{"$f":"IF(基本データ!BB396<>\"\",\"○\",\"\")","v":""},{"$f":"IF(基本データ!BC396<>\"\",\"○\",\"\")","v":"○"},{"$f":"IF(基本データ!BD396<>\"\",\"○\",\"\")","v":"○"},{"$f":"IF(基本データ!BE396<>\"\",\"○\",\"\")","v":"○"},{"$f":"IF(基本データ!BF396<>\"\",\"○\",\"\")","v":"○"},{"$f":"IF(基本データ!BG396<>\"\",\"○\",\"\")","v":""},{"$f":"基本データ!BN396","v":0},{"$f":"IF(基本データ!BH396<>\"\",\"○\",\"\")","v":""},{"$f":"IF(基本データ!BI396<>\"\",\"○\",\"\")","v":""},{"$f":"IF(基本データ!BJ396<>\"\",\"○\",\"\")","v":""},{"$f":"IF(基本データ!BK396<>\"\",\"○\",\"\")","v":""},{"$f":"IF(基本データ!BL396<>\"\",\"○\",\"\")","v":""},{"$f":"IF(基本データ!BM396<>\"\",\"○\",\"\")","v":""}]
[395,{"$f":"基本データ!J397","v":"愛知県"},{"$f":"基本データ!B397","v":2024},{"$f":"基本データ!I397","v":"医療法人豊田会　刈谷豊田総合病院"},{"$f":"基本データ!AL397","v":7},{"$f":"IF(基本データ!AM397<>\"\",\"○\",\"\")","v":""},{"$f":"IF(基本データ!AN397<>\"\",\"○\",\"\")","v":""},{"$f":"IF(基本データ!AO397<>\"\",\"○\",\"\")","v":"○"},{"$f":"IF(基本データ!AP397<>\"\",\"○\",\"\")","v":""},{"$f":"IF(基本データ!AQ397<>\"\",\"○\",\"\")","v":""},{"$f":"IF(基本データ!AR397<>\"\",\"○\",\"\")","v":""},{"$f":"IF(基本データ!AS397<>\"\",\"○\",\"\")","v":""},{"$f":"IF(基本データ!AT397<>\"\",\"○\",\"\")","v":""},{"$f":"IF(基本データ!AU397<>\"\",\"○\",\"\")","v":"○"},{"$f":"IF(基本データ!AV397<>\"\",\"○\",\"\")","v":"○"},{"$f":"IF(基本データ!AW397<>\"\",\"○\",\"\")","v":"○"},{"$f":"IF(基本データ!AX397<>\"\",\"○\",\"\")","v":"○"},{"$f":"IF(基本データ!AY397<>\"\",\"○\",\"\")","v":"○"},{"$f":"IF(基本データ!AZ397<>\"\",\"○\",\"\")","v":""},{"$f":"IF(基本データ!BA397<>\"\",\"○\",\"\")","v":"○"},{"$f":"IF(基本データ!BB397<>\"\",\"○\",\"\")","v":""},{"$f":"IF(基本データ!BC397<>\"\",\"○\",\"\")","v":""},{"$f":"IF(基本データ!BD397<>\"\",\"○\",\"\")","v":""},{"$f":"IF(基本データ!BE397<>\"\",\"○\",\"\")","v":""},{"$f":"IF(基本データ!BF397<>\"\",\"○\",\"\")","v":""},{"$f":"IF(基本データ!BG397<>\"\",\"○\",\"\")","v":""},{"$f":"基本データ!BN397","v":0},{"$f":"IF(基本データ!BH397<>\"\",\"○\",\"\")","v":""},{"$f":"IF(基本データ!BI397<>\"\",\"○\",\"\")","v":""},{"$f":"IF(基本データ!BJ397<>\"\",\"○\",\"\")","v":""},{"$f":"IF(基本データ!BK397<>\"\",\"○\",\"\")","v":""},{"$f":"IF(基本データ!BL397<>\"\",\"○\",\"\")","v":""},{"$f":"IF(基本データ!BM397<>\"\",\"○\",\"\")","v":""}]
[396,{"$f":"基本データ!J398","v":"愛知県"},{"$f":"基本データ!B398","v":2024},{"$f":"基本データ!I398","v":"公立大学法人名古屋市立大学大学院医学研究科"},{"$f":"基本データ!AL398","v":21},{"$f":"IF(基本データ!AM398<>\"\",\"○\",\"\")","v":"○"},{"$f":"IF(基本データ!AN398<>\"\",\"○\",\"\")","v":"○"},{"$f":"IF(基本データ!AO398<>\"\",\"○\",\"\")","v":"○"},{"$f":"IF(基本データ!AP398<>\"\",\"○\",\"\")","v":"○"},{"$f":"IF(基本データ!AQ398<>\"\",\"○\",\"\")","v":"○"},{"$f":"IF(基本データ!AR398<>\"\",\"○\",\"\")","v":"○"},{"$f":"IF(基本データ!AS398<>\"\",\"○\",\"\")","v":"○"},{"$f":"IF(基本データ!AT398<>\"\",\"○\",\"\")","v":"○"},{"$f":"IF(基本データ!AU398<>\"\",\"○\",\"\")","v":"○"},{"$f":"IF(基本データ!AV398<>\"\",\"○\",\"\")","v":"○"},{"$f":"IF(基本データ!AW398<>\"\",\"○\",\"\")","v":"○"},{"$f":"IF(基本データ!AX398<>\"\",\"○\",\"\")","v":"○"},{"$f":"IF(基本データ!AY398<>\"\",\"○\",\"\")","v":"○"},{"$f":"IF(基本データ!AZ398<>\"\",\"○\",\"\")","v":"○"},{"$f":"IF(基本データ!BA398<>\"\",\"○\",\"\")","v":"○"},{"$f":"IF(基本データ!BB398<>\"\",\"○\",\"\")","v":"○"},{"$f":"IF(基本データ!BC398<>\"\",\"○\",\"\")","v":"○"},{"$f":"IF(基本データ!BD398<>\"\",\"○\",\"\")","v":"○"},{"$f":"IF(基本データ!BE398<>\"\",\"○\",\"\")","v":"○"},{"$f":"IF(基本データ!BF398<>\"\",\"○\",\"\")","v":"○"},{"$f":"IF(基本データ!BG398<>\"\",\"○\",\"\")","v":"○"},{"$f":"基本データ!BN398","v":0},{"$f":"IF(基本データ!BH398<>\"\",\"○\",\"\")","v":""},{"$f":"IF(基本データ!BI398<>\"\",\"○\",\"\")","v":""},{"$f":"IF(基本データ!BJ398<>\"\",\"○\",\"\")","v":""},{"$f":"IF(基本データ!BK398<>\"\",\"○\",\"\")","v":""},{"$f":"IF(基本データ!BL398<>\"\",\"○\",\"\")","v":""},{"$f":"IF(基本データ!BM398<>\"\",\"○\",\"\")","v":""}]
[397,{"$f":"基本データ!J399","v":"愛知県"},{"$f":"基本データ!B399","v":2024},{"$f":"基本データ!I399","v":"社会医療法人宏潤会　大同病院"},{"$f":"基本データ!AL399","v":19},{"$f":"IF(基本データ!AM399<>\"\",\"○\",\"\")","v":"○"},{"$f":"IF(基本データ!AN399<>\"\",\"○\",\"\")","v":"○"},{"$f":"IF(基本データ!AO399<>\"\",\"○\",\"\")","v":"○"},{"$f":"IF(基本データ!AP399<>\"\",\"○\",\"\")","v":"○"},{"$f":"IF(基本データ!AQ399<>\"\",\"○\",\"\")","v":""},{"$f":"IF(基本データ!AR399<>\"\",\"○\",\"\")","v":"○"},{"$f":"IF(基本データ!AS399<>\"\",\"○\",\"\")","v":"○"},{"$f":"IF(基本データ!AT399<>\"\",\"○\",\"\")","v":"○"},{"$f":"IF(基本データ!AU399<>\"\",\"○\",\"\")","v":"○"},{"$f":"IF(基本データ!AV399<>\"\",\"○\",\"\")","v":"○"},{"$f":"IF(基本データ!AW399<>\"\",\"○\",\"\")","v":"○"},{"$f":"IF(基本データ!AX399<>\"\",\"○\",\"\")","v":"○"},{"$f":"IF(基本データ!AY399<>\"\",\"○\",\"\")","v":"○"},{"$f":"IF(基本データ!AZ399<>\"\",\"○\",\"\")","v":"○"},{"$f":"IF(基本データ!BA399<>\"\",\"○\",\"\")","v":"○"},{"$f":"IF(基本データ!BB399<>\"\",\"○\",\"\")","v":"○"},{"$f":"IF(基本データ!BC399<>\"\",\"○\",\"\")","v":"○"},{"$f":"IF(基本データ!BD399<>\"\",\"○\",\"\")","v":"○"},{"$f":"IF(基本データ!BE399<>\"\",\"○\",\"\")","v":"○"},{"$f":"IF(基本データ!BF399<>\"\",\"○\",\"\")","v":"○"},{"$f":"IF(基本データ!BG399<>\"\",\"○\",\"\")","v":""},{"$f":"基本データ!BN399","v":4},{"$f":"IF(基本データ!BH399<>\"\",\"○\",\"\")","v":"○"},{"$f":"IF(基本データ!BI399<>\"\",\"○\",\"\")","v":"○"},{"$f":"IF(基本データ!BJ399<>\"\",\"○\",\"\")","v":""},{"$f":"IF(基本データ!BK399<>\"\",\"○\",\"\")","v":"○"},{"$f":"IF(基本データ!BL399<>\"\",\"○\",\"\")","v":""},{"$f":"IF(基本データ!BM399<>\"\",\"○\",\"\")","v":"○"}]
[398,{"$f":"基本データ!J400","v":"愛知県"},{"$f":"基本データ!B400","v":2024},{"$f":"基本データ!I400","v":"独立行政法人国立病院機構　名古屋医療センター"},{"$f":"基本データ!AL400","v":5},{"$f":"IF(基本データ!AM400<>\"\",\"○\",\"\")","v":""},{"$f":"IF(基本データ!AN400<>\"\",\"○\",\"\")","v":""},{"$f":"IF(基本データ!AO400<>\"\",\"○\",\"\")","v":""},{"$f":"IF(基本データ!AP400<>\"\",\"○\",\"\")","v":""},{"$f":"IF(基本データ!AQ400<>\"\",\"○\",\"\")","v":""},{"$f":"IF(基本データ!AR400<>\"\",\"○\",\"\")","v":""},{"$f":"IF(基本データ!AS400<>\"\",\"○\",\"\")","v":""},{"$f":"IF(基本データ!AT400<>\"\",\"○\",\"\")","v":""},{"$f":"IF(基本データ!AU400<>\"\",\"○\",\"\")","v":"○"},{"$f":"IF(基本データ!AV400<>\"\",\"○\",\"\")","v":""},{"$f":"IF(基本データ!AW400<>\"\",\"○\",\"\")","v":"○"},{"$f":"IF(基本データ!AX400<>\"\",\"○\",\"\")","v":"○"},{"$f":"IF(基本データ!AY400<>\"\",\"○\",\"\")","v":"○"},{"$f":"IF(基本データ!AZ400<>\"\",\"○\",\"\")","v":""},{"$f":"IF(基本データ!BA400<>\"\",\"○\",\"\")","v":"○"},{"$f":"IF(基本データ!BB400<>\"\",\"○\",\"\")","v":""},{"$f":"IF(基本データ!BC400<>\"\",\"○\",\"\")","v":""},{"$f":"IF(基本データ!BD400<>\"\",\"○\",\"\")","v":""},{"$f":"IF(基本データ!BE400<>\"\",\"○\",\"\")","v":""},{"$f":"IF(基本データ!BF400<>\"\",\"○\",\"\")","v":""},{"$f":"IF(基本データ!BG400<>\"\",\"○\",\"\")","v":""},{"$f":"基本データ!BN400","v":0},{"$f":"IF(基本データ!BH400<>\"\",\"○\",\"\")","v":""},{"$f":"IF(基本データ!BI400<>\"\",\"○\",\"\")","v":""},{"$f":"IF(基本データ!BJ400<>\"\",\"○\",\"\")","v":""},{"$f":"IF(基本データ!BK400<>\"\",\"○\",\"\")","v":""},{"$f":"IF(基本データ!BL400<>\"\",\"○\",\"\")","v":""},{"$f":"IF(基本データ!BM400<>\"\",\"○\",\"\")","v":""}]
[399,{"$f":"基本データ!J401","v":"大阪府"},{"$f":"基本データ!B401","v":2024},{"$f":"基本データ!I401","v":"学校法人大阪信愛女学院　大阪信愛学院大学"},{"$f":"基本データ!AL401","v":1},{"$f":"IF(基本データ!AM401<>\"\",\"○\",\"\")","v":""},{"$f":"IF(基本データ!AN401<>\"\",\"○\",\"\")","v":""},{"$f":"IF(基本データ!AO401<>\"\",\"○\",\"\")","v":""},{"$f":"IF(基本データ!AP401<>\"\",\"○\",\"\")","v":""},{"$f":"IF(基本データ!AQ401<>\"\",\"○\",\"\")","v":""},{"$f":"IF(基本データ!AR401<>\"\",\"○\",\"\")","v":""},{"$f":"IF(基本データ!AS401<>\"\",\"○\",\"\")","v":""},{"$f":"IF(基本データ!AT401<>\"\",\"○\",\"\")","v":""},{"$f":"IF(基本データ!AU401<>\"\",\"○\",\"\")","v":""},{"$f":"IF(基本データ!AV401<>\"\",\"○\",\"\")","v":""},{"$f":"IF(基本データ!AW401<>\"\",\"○\",\"\")","v":""},{"$f":"IF(基本データ!AX401<>\"\",\"○\",\"\")","v":""},{"$f":"IF(基本データ!AY401<>\"\",\"○\",\"\")","v":""},{"$f":"IF(基本データ!AZ401<>\"\",\"○\",\"\")","v":""},{"$f":"IF(基本データ!BA401<>\"\",\"○\",\"\")","v":"○"},{"$f":"IF(基本データ!BB401<>\"\",\"○\",\"\")","v":""},{"$f":"IF(基本データ!BC401<>\"\",\"○\",\"\")","v":""},{"$f":"IF(基本データ!BD401<>\"\",\"○\",\"\")","v":""},{"$f":"IF(基本データ!BE401<>\"\",\"○\",\"\")","v":""},{"$f":"IF(基本データ!BF401<>\"\",\"○\",\"\")","v":""},{"$f":"IF(基本データ!BG401<>\"\",\"○\",\"\")","v":""},{"$f":"基本データ!BN401","v":0},{"$f":"IF(基本データ!BH401<>\"\",\"○\",\"\")","v":""},{"$f":"IF(基本データ!BI401<>\"\",\"○\",\"\")","v":""},{"$f":"IF(基本データ!BJ401<>\"\",\"○\",\"\")","v":""},{"$f":"IF(基本データ!BK401<>\"\",\"○\",\"\")","v":""},{"$f":"IF(基本データ!BL401<>\"\",\"○\",\"\")","v":""},{"$f":"IF(基本データ!BM401<>\"\",\"○\",\"\")","v":""}]
[400,{"$f":"基本データ!J402","v":"大阪府"},{"$f":"基本データ!B402","v":2024},{"$f":"基本データ!I402","v":"社会福祉法人恩賜財団大阪府済生会千里病院"},{"$f":"基本データ!AL402","v":5},{"$f":"IF(基本データ!AM402<>\"\",\"○\",\"\")","v":""},{"$f":"IF(基本データ!AN402<>\"\",\"○\",\"\")","v":""},{"$f":"IF(基本データ!AO402<>\"\",\"○\",\"\")","v":""},{"$f":"IF(基本データ!AP402<>\"\",\"○\",\"\")","v":"○"},{"$f":"IF(基本データ!AQ402<>\"\",\"○\",\"\")","v":""},{"$f":"IF(基本データ!AR402<>\"\",\"○\",\"\")","v":""},{"$f":"IF(基本データ!AS402<>\"\",\"○\",\"\")","v":""},{"$f":"IF(基本データ!AT402<>\"\",\"○\",\"\")","v":""},{"$f":"IF(基本データ!AU402<>\"\",\"○\",\"\")","v":"○"},{"$f":"IF(基本データ!AV402<>\"\",\"○\",\"\")","v":""},{"$f":"IF(基本データ!AW402<>\"\",\"○\",\"\")","v":""},{"$f":"IF(基本データ!AX402<>\"\",\"○\",\"\")","v":""},{"$f":"IF(基本データ!AY402<>\"\",\"○\",\"\")","v":"○"},{"$f":"IF(基本データ!AZ402<>\"\",\"○\",\"\")","v":""},{"$f":"IF(基本データ!BA402<>\"\",\"○\",\"\")","v":"○"},{"$f":"IF(基本データ!BB402<>\"\",\"○\",\"\")","v":""},{"$f":"IF(基本データ!BC402<>\"\",\"○\",\"\")","v":""},{"$f":"IF(基本データ!BD402<>\"\",\"○\",\"\")","v":""},{"$f":"IF(基本データ!BE402<>\"\",\"○\",\"\")","v":"○"},{"$f":"IF(基本データ!BF402<>\"\",\"○\",\"\")","v":""},{"$f":"IF(基本データ!BG402<>\"\",\"○\",\"\")","v":""},{"$f":"基本データ!BN402","v":2},{"$f":"IF(基本データ!BH402<>\"\",\"○\",\"\")","v":""},{"$f":"IF(基本データ!BI402<>\"\",\"○\",\"\")","v":""},{"$f":"IF(基本データ!BJ402<>\"\",\"○\",\"\")","v":"○"},{"$f":"IF(基本データ!BK402<>\"\",\"○\",\"\")","v":""},{"$f":"IF(基本データ!BL402<>\"\",\"○\",\"\")","v":""},{"$f":"IF(基本データ!BM402<>\"\",\"○\",\"\")","v":"○"}]
[401,{"$f":"基本データ!J403","v":"京都府"},{"$f":"基本データ!B403","v":2024},{"$f":"基本データ!I403","v":"社会福祉法人　恩賜財団　京都府済生会　京都済生会病院"},{"$f":"基本データ!AL403","v":7},{"$f":"IF(基本データ!AM403<>\"\",\"○\",\"\")","v":"○"},{"$f":"IF(基本データ!AN403<>\"\",\"○\",\"\")","v":"○"},{"$f":"IF(基本データ!AO403<>\"\",\"○\",\"\")","v":"○"},{"$f":"IF(基本データ!AP403<>\"\",\"○\",\"\")","v":""},{"$f":"IF(基本データ!AQ403<>\"\",\"○\",\"\")","v":""},{"$f":"IF(基本データ!AR403<>\"\",\"○\",\"\")","v":""},{"$f":"IF(基本データ!AS403<>\"\",\"○\",\"\")","v":""},{"$f":"IF(基本データ!AT403<>\"\",\"○\",\"\")","v":""},{"$f":"IF(基本データ!AU403<>\"\",\"○\",\"\")","v":""},{"$f":"IF(基本データ!AV403<>\"\",\"○\",\"\")","v":""},{"$f":"IF(基本データ!AW403<>\"\",\"○\",\"\")","v":""},{"$f":"IF(基本データ!AX403<>\"\",\"○\",\"\")","v":""},{"$f":"IF(基本データ!AY403<>\"\",\"○\",\"\")","v":"○"},{"$f":"IF(基本データ!AZ403<>\"\",\"○\",\"\")","v":""},{"$f":"IF(基本データ!BA403<>\"\",\"○\",\"\")","v":"○"},{"$f":"IF(基本データ!BB403<>\"\",\"○\",\"\")","v":""},{"$f":"IF(基本データ!BC403<>\"\",\"○\",\"\")","v":"○"},{"$f":"IF(基本データ!BD403<>\"\",\"○\",\"\")","v":""},{"$f":"IF(基本データ!BE403<>\"\",\"○\",\"\")","v":"○"},{"$f":"IF(基本データ!BF403<>\"\",\"○\",\"\")","v":""},{"$f":"IF(基本データ!BG403<>\"\",\"○\",\"\")","v":""},{"$f":"基本データ!BN403","v":0},{"$f":"IF(基本データ!BH403<>\"\",\"○\",\"\")","v":""},{"$f":"IF(基本データ!BI403<>\"\",\"○\",\"\")","v":""},{"$f":"IF(基本データ!BJ403<>\"\",\"○\",\"\")","v":""},{"$f":"IF(基本データ!BK403<>\"\",\"○\",\"\")","v":""},{"$f":"IF(基本データ!BL403<>\"\",\"○\",\"\")","v":""},{"$f":"IF(基本データ!BM403<>\"\",\"○\",\"\")","v":""}]
[402,{"$f":"基本データ!J404","v":"大阪府"},{"$f":"基本データ!B404","v":2024},{"$f":"基本データ!I404","v":"医療法人マックシール　巽病院"},{"$f":"基本データ!AL404","v":2},{"$f":"IF(基本データ!AM404<>\"\",\"○\",\"\")","v":""},{"$f":"IF(基本データ!AN404<>\"\",\"○\",\"\")","v":""},{"$f":"IF(基本データ!AO404<>\"\",\"○\",\"\")","v":""},{"$f":"IF(基本データ!AP404<>\"\",\"○\",\"\")","v":""},{"$f":"IF(基本データ!AQ404<>\"\",\"○\",\"\")","v":""},{"$f":"IF(基本データ!AR404<>\"\",\"○\",\"\")","v":""},{"$f":"IF(基本データ!AS404<>\"\",\"○\",\"\")","v":""},{"$f":"IF(基本データ!AT404<>\"\",\"○\",\"\")","v":""},{"$f":"IF(基本データ!AU404<>\"\",\"○\",\"\")","v":""},{"$f":"IF(基本データ!AV404<>\"\",\"○\",\"\")","v":"○"},{"$f":"IF(基本データ!AW404<>\"\",\"○\",\"\")","v":""},{"$f":"IF(基本データ!AX404<>\"\",\"○\",\"\")","v":""},{"$f":"IF(基本データ!AY404<>\"\",\"○\",\"\")","v":""},{"$f":"IF(基本データ!AZ404<>\"\",\"○\",\"\")","v":""},{"$f":"IF(基本データ!BA404<>\"\",\"○\",\"\")","v":"○"},{"$f":"IF(基本データ!BB404<>\"\",\"○\",\"\")","v":""},{"$f":"IF(基本データ!BC404<>\"\",\"○\",\"\")","v":""},{"$f":"IF(基本データ!BD404<>\"\",\"○\",\"\")","v":""},{"$f":"IF(基本データ!BE404<>\"\",\"○\",\"\")","v":""},{"$f":"IF(基本データ!BF404<>\"\",\"○\",\"\")","v":""},{"$f":"IF(基本データ!BG404<>\"\",\"○\",\"\")","v":""},{"$f":"基本データ!BN404","v":0},{"$f":"IF(基本データ!BH404<>\"\",\"○\",\"\")","v":""},{"$f":"IF(基本データ!BI404<>\"\",\"○\",\"\")","v":""},{"$f":"IF(基本データ!BJ404<>\"\",\"○\",\"\")","v":""},{"$f":"IF(基本データ!BK404<>\"\",\"○\",\"\")","v":""},{"$f":"IF(基本データ!BL404<>\"\",\"○\",\"\")","v":""},{"$f":"IF(基本データ!BM404<>\"\",\"○\",\"\")","v":""}]
[403,{"$f":"基本データ!J405","v":"大阪府"},{"$f":"基本データ!B405","v":2024},{"$f":"基本データ!I405","v":"医療法人徳洲会岸和田徳洲会病院"},{"$f":"基本データ!AL405","v":6},{"$f":"IF(基本データ!AM405<>\"\",\"○\",\"\")","v":"○"},{"$f":"IF(基本データ!AN405<>\"\",\"○\",\"\")","v":"○"},{"$f":"IF(基本データ!AO405<>\"\",\"○\",\"\")","v":""},{"$f":"IF(基本データ!AP405<>\"\",\"○\",\"\")","v":""},{"$f":"IF(基本データ!AQ405<>\"\",\"○\",\"\")","v":""},{"$f":"IF(基本データ!AR405<>\"\",\"○\",\"\")","v":""},{"$f":"IF(基本データ!AS405<>\"\",\"○\",\"\")","v":""},{"$f":"IF(基本データ!AT405<>\"\",\"○\",\"\")","v":""},{"$f":"IF(基本データ!AU405<>\"\",\"○\",\"\")","v":""},{"$f":"IF(基本データ!AV405<>\"\",\"○\",\"\")","v":""},{"$f":"IF(基本データ!AW405<>\"\",\"○\",\"\")","v":""},{"$f":"IF(基本データ!AX405<>\"\",\"○\",\"\")","v":""},{"$f":"IF(基本データ!AY405<>\"\",\"○\",\"\")","v":"○"},{"$f":"IF(基本データ!AZ405<>\"\",\"○\",\"\")","v":""},{"$f":"IF(基本データ!BA405<>\"\",\"○\",\"\")","v":"○"},{"$f":"IF(基本データ!BB405<>\"\",\"○\",\"\")","v":""},{"$f":"IF(基本データ!BC405<>\"\",\"○\",\"\")","v":""},{"$f":"IF(基本データ!BD405<>\"\",\"○\",\"\")","v":"○"},{"$f":"IF(基本データ!BE405<>\"\",\"○\",\"\")","v":"○"},{"$f":"IF(基本データ!BF405<>\"\",\"○\",\"\")","v":""},{"$f":"IF(基本データ!BG405<>\"\",\"○\",\"\")","v":""},{"$f":"基本データ!BN405","v":1},{"$f":"IF(基本データ!BH405<>\"\",\"○\",\"\")","v":""},{"$f":"IF(基本データ!BI405<>\"\",\"○\",\"\")","v":""},{"$f":"IF(基本データ!BJ405<>\"\",\"○\",\"\")","v":"○"},{"$f":"IF(基本データ!BK405<>\"\",\"○\",\"\")","v":""},{"$f":"IF(基本データ!BL405<>\"\",\"○\",\"\")","v":""},{"$f":"IF(基本データ!BM405<>\"\",\"○\",\"\")","v":""}]
[404,{"$f":"基本データ!J406","v":"兵庫県"},{"$f":"基本データ!B406","v":2024},{"$f":"基本データ!I406","v":"社会医療法人渡邊高記念会　医療人材開発センター"},{"$f":"基本データ!AL406","v":14},{"$f":"IF(基本データ!AM406<>\"\",\"○\",\"\")","v":"○"},{"$f":"IF(基本データ!AN406<>\"\",\"○\",\"\")","v":"○"},{"$f":"IF(基本データ!AO406<>\"\",\"○\",\"\")","v":"○"},{"$f":"IF(基本データ!AP406<>\"\",\"○\",\"\")","v":"○"},{"$f":"IF(基本データ!AQ406<>\"\",\"○\",\"\")","v":""},{"$f":"IF(基本データ!AR406<>\"\",\"○\",\"\")","v":""},{"$f":"IF(基本データ!AS406<>\"\",\"○\",\"\")","v":""},{"$f":"IF(基本データ!AT406<>\"\",\"○\",\"\")","v":"○"},{"$f":"IF(基本データ!AU406<>\"\",\"○\",\"\")","v":"○"},{"$f":"IF(基本データ!AV406<>\"\",\"○\",\"\")","v":"○"},{"$f":"IF(基本データ!AW406<>\"\",\"○\",\"\")","v":"○"},{"$f":"IF(基本データ!AX406<>\"\",\"○\",\"\")","v":""},{"$f":"IF(基本データ!AY406<>\"\",\"○\",\"\")","v":"○"},{"$f":"IF(基本データ!AZ406<>\"\",\"○\",\"\")","v":""},{"$f":"IF(基本データ!BA406<>\"\",\"○\",\"\")","v":"○"},{"$f":"IF(基本データ!BB406<>\"\",\"○\",\"\")","v":""},{"$f":"IF(基本データ!BC406<>\"\",\"○\",\"\")","v":"○"},{"$f":"IF(基本データ!BD406<>\"\",\"○\",\"\")","v":"○"},{"$f":"IF(基本データ!BE406<>\"\",\"○\",\"\")","v":"○"},{"$f":"IF(基本データ!BF406<>\"\",\"○\",\"\")","v":"○"},{"$f":"IF(基本データ!BG406<>\"\",\"○\",\"\")","v":""},{"$f":"基本データ!BN406","v":4},{"$f":"IF(基本データ!BH406<>\"\",\"○\",\"\")","v":"○"},{"$f":"IF(基本データ!BI406<>\"\",\"○\",\"\")","v":""},{"$f":"IF(基本データ!BJ406<>\"\",\"○\",\"\")","v":"○"},{"$f":"IF(基本データ!BK406<>\"\",\"○\",\"\")","v":"○"},{"$f":"IF(基本データ!BL406<>\"\",\"○\",\"\")","v":""},{"$f":"IF(基本データ!BM406<>\"\",\"○\",\"\")","v":"○"}]
[405,{"$f":"基本データ!J407","v":"岡山県"},{"$f":"基本データ!B407","v":2024},{"$f":"基本データ!I407","v":"公立大学法人新見公立大学"},{"$f":"基本データ!AL407","v":1},{"$f":"IF(基本データ!AM407<>\"\",\"○\",\"\")","v":""},{"$f":"IF(基本データ!AN407<>\"\",\"○\",\"\")","v":""},{"$f":"IF(基本データ!AO407<>\"\",\"○\",\"\")","v":""},{"$f":"IF(基本データ!AP407<>\"\",\"○\",\"\")","v":""},{"$f":"IF(基本データ!AQ407<>\"\",\"○\",\"\")","v":""},{"$f":"IF(基本データ!AR407<>\"\",\"○\",\"\")","v":""},{"$f":"IF(基本データ!AS407<>\"\",\"○\",\"\")","v":""},{"$f":"IF(基本データ!AT407<>\"\",\"○\",\"\")","v":""},{"$f":"IF(基本データ!AU407<>\"\",\"○\",\"\")","v":""},{"$f":"IF(基本データ!AV407<>\"\",\"○\",\"\")","v":""},{"$f":"IF(基本データ!AW407<>\"\",\"○\",\"\")","v":""},{"$f":"IF(基本データ!AX407<>\"\",\"○\",\"\")","v":""},{"$f":"IF(基本データ!AY407<>\"\",\"○\",\"\")","v":""},{"$f":"IF(基本データ!AZ407<>\"\",\"○\",\"\")","v":""},{"$f":"IF(基本データ!BA407<>\"\",\"○\",\"\")","v":"○"},{"$f":"IF(基本データ!BB407<>\"\",\"○\",\"\")","v":""},{"$f":"IF(基本データ!BC407<>\"\",\"○\",\"\")","v":""},{"$f":"IF(基本データ!BD407<>\"\",\"○\",\"\")","v":""},{"$f":"IF(基本データ!BE407<>\"\",\"○\",\"\")","v":""},{"$f":"IF(基本データ!BF407<>\"\",\"○\",\"\")","v":""},{"$f":"IF(基本データ!BG407<>\"\",\"○\",\"\")","v":""},{"$f":"基本データ!BN407","v":0},{"$f":"IF(基本データ!BH407<>\"\",\"○\",\"\")","v":""},{"$f":"IF(基本データ!BI407<>\"\",\"○\",\"\")","v":""},{"$f":"IF(基本データ!BJ407<>\"\",\"○\",\"\")","v":""},{"$f":"IF(基本データ!BK407<>\"\",\"○\",\"\")","v":""},{"$f":"IF(基本データ!BL407<>\"\",\"○\",\"\")","v":""},{"$f":"IF(基本データ!BM407<>\"\",\"○\",\"\")","v":""}]
[406,{"$f":"基本データ!J408","v":"広島県"},{"$f":"基本データ!B408","v":2024},{"$f":"基本データ!I408","v":"五日市記念病院"},{"$f":"基本データ!AL408","v":4},{"$f":"IF(基本データ!AM408<>\"\",\"○\",\"\")","v":""},{"$f":"IF(基本データ!AN408<>\"\",\"○\",\"\")","v":""},{"$f":"IF(基本データ!AO408<>\"\",\"○\",\"\")","v":""},{"$f":"IF(基本データ!AP408<>\"\",\"○\",\"\")","v":""},{"$f":"IF(基本データ!AQ408<>\"\",\"○\",\"\")","v":""},{"$f":"IF(基本データ!AR408<>\"\",\"○\",\"\")","v":""},{"$f":"IF(基本データ!AS408<>\"\",\"○\",\"\")","v":""},{"$f":"IF(基本データ!AT408<>\"\",\"○\",\"\")","v":""},{"$f":"IF(基本データ!AU408<>\"\",\"○\",\"\")","v":"○"},{"$f":"IF(基本データ!AV408<>\"\",\"○\",\"\")","v":"○"},{"$f":"IF(基本データ!AW408<>\"\",\"○\",\"\")","v":""},{"$f":"IF(基本データ!AX408<>\"\",\"○\",\"\")","v":""},{"$f":"IF(基本データ!AY408<>\"\",\"○\",\"\")","v":""},{"$f":"IF(基本データ!AZ408<>\"\",\"○\",\"\")","v":""},{"$f":"IF(基本データ!BA408<>\"\",\"○\",\"\")","v":"○"},{"$f":"IF(基本データ!BB408<>\"\",\"○\",\"\")","v":""},{"$f":"IF(基本データ!BC408<>\"\",\"○\",\"\")","v":"○"},{"$f":"IF(基本データ!BD408<>\"\",\"○\",\"\")","v":""},{"$f":"IF(基本データ!BE408<>\"\",\"○\",\"\")","v":""},{"$f":"IF(基本データ!BF408<>\"\",\"○\",\"\")","v":""},{"$f":"IF(基本データ!BG408<>\"\",\"○\",\"\")","v":""},{"$f":"基本データ!BN408","v":0},{"$f":"IF(基本データ!BH408<>\"\",\"○\",\"\")","v":""},{"$f":"IF(基本データ!BI408<>\"\",\"○\",\"\")","v":""},{"$f":"IF(基本データ!BJ408<>\"\",\"○\",\"\")","v":""},{"$f":"IF(基本データ!BK408<>\"\",\"○\",\"\")","v":""},{"$f":"IF(基本データ!BL408<>\"\",\"○\",\"\")","v":""},{"$f":"IF(基本データ!BM408<>\"\",\"○\",\"\")","v":""}]
[407,{"$f":"基本データ!J409","v":"山口県"},{"$f":"基本データ!B409","v":2024},{"$f":"基本データ!I409","v":"一般社団法人岩国市医師会　岩国市医療センター医師会病院"},{"$f":"基本データ!AL409","v":5},{"$f":"IF(基本データ!AM409<>\"\",\"○\",\"\")","v":""},{"$f":"IF(基本データ!AN409<>\"\",\"○\",\"\")","v":""},{"$f":"IF(基本データ!AO409<>\"\",\"○\",\"\")","v":"○"},{"$f":"IF(基本データ!AP409<>\"\",\"○\",\"\")","v":""},{"$f":"IF(基本データ!AQ409<>\"\",\"○\",\"\")","v":""},{"$f":"IF(基本データ!AR409<>\"\",\"○\",\"\")","v":""},{"$f":"IF(基本データ!AS409<>\"\",\"○\",\"\")","v":""},{"$f":"IF(基本データ!AT409<>\"\",\"○\",\"\")","v":"○"},{"$f":"IF(基本データ!AU409<>\"\",\"○\",\"\")","v":""},{"$f":"IF(基本データ!AV409<>\"\",\"○\",\"\")","v":""},{"$f":"IF(基本データ!AW409<>\"\",\"○\",\"\")","v":"○"},{"$f":"IF(基本データ!AX409<>\"\",\"○\",\"\")","v":""},{"$f":"IF(基本データ!AY409<>\"\",\"○\",\"\")","v":"○"},{"$f":"IF(基本データ!AZ409<>\"\",\"○\",\"\")","v":""},{"$f":"IF(基本データ!BA409<>\"\",\"○\",\"\")","v":"○"},{"$f":"IF(基本データ!BB409<>\"\",\"○\",\"\")","v":""},{"$f":"IF(基本データ!BC409<>\"\",\"○\",\"\")","v":""},{"$f":"IF(基本データ!BD409<>\"\",\"○\",\"\")","v":""},{"$f":"IF(基本データ!BE409<>\"\",\"○\",\"\")","v":""},{"$f":"IF(基本データ!BF409<>\"\",\"○\",\"\")","v":""},{"$f":"IF(基本データ!BG409<>\"\",\"○\",\"\")","v":""},{"$f":"基本データ!BN409","v":1},{"$f":"IF(基本データ!BH409<>\"\",\"○\",\"\")","v":"○"},{"$f":"IF(基本データ!BI409<>\"\",\"○\",\"\")","v":""},{"$f":"IF(基本データ!BJ409<>\"\",\"○\",\"\")","v":""},{"$f":"IF(基本データ!BK409<>\"\",\"○\",\"\")","v":""},{"$f":"IF(基本データ!BL409<>\"\",\"○\",\"\")","v":""},{"$f":"IF(基本データ!BM409<>\"\",\"○\",\"\")","v":""}]
[408,{"$f":"基本データ!J410","v":"福岡県"},{"$f":"基本データ!B410","v":2024},{"$f":"基本データ!I410","v":"医療法人博愛会　頴田病院"},{"$f":"基本データ!AL410","v":4},{"$f":"IF(基本データ!AM410<>\"\",\"○\",\"\")","v":""},{"$f":"IF(基本データ!AN410<>\"\",\"○\",\"\")","v":""},{"$f":"IF(基本データ!AO410<>\"\",\"○\",\"\")","v":"○"},{"$f":"IF(基本データ!AP410<>\"\",\"○\",\"\")","v":""},{"$f":"IF(基本データ!AQ410<>\"\",\"○\",\"\")","v":""},{"$f":"IF(基本データ!AR410<>\"\",\"○\",\"\")","v":""},{"$f":"IF(基本データ!AS410<>\"\",\"○\",\"\")","v":""},{"$f":"IF(基本データ!AT410<>\"\",\"○\",\"\")","v":"○"},{"$f":"IF(基本データ!AU410<>\"\",\"○\",\"\")","v":""},{"$f":"IF(基本データ!AV410<>\"\",\"○\",\"\")","v":""},{"$f":"IF(基本データ!AW410<>\"\",\"○\",\"\")","v":"○"},{"$f":"IF(基本データ!AX410<>\"\",\"○\",\"\")","v":""},{"$f":"IF(基本データ!AY410<>\"\",\"○\",\"\")","v":""},{"$f":"IF(基本データ!AZ410<>\"\",\"○\",\"\")","v":""},{"$f":"IF(基本データ!BA410<>\"\",\"○\",\"\")","v":"○"},{"$f":"IF(基本データ!BB410<>\"\",\"○\",\"\")","v":""},{"$f":"IF(基本データ!BC410<>\"\",\"○\",\"\")","v":""},{"$f":"IF(基本データ!BD410<>\"\",\"○\",\"\")","v":""},{"$f":"IF(基本データ!BE410<>\"\",\"○\",\"\")","v":""},{"$f":"IF(基本データ!BF410<>\"\",\"○\",\"\")","v":""},{"$f":"IF(基本データ!BG410<>\"\",\"○\",\"\")","v":""},{"$f":"基本データ!BN410","v":1},{"$f":"IF(基本データ!BH410<>\"\",\"○\",\"\")","v":"○"},{"$f":"IF(基本データ!BI410<>\"\",\"○\",\"\")","v":""},{"$f":"IF(基本データ!BJ410<>\"\",\"○\",\"\")","v":""},{"$f":"IF(基本データ!BK410<>\"\",\"○\",\"\")","v":""},{"$f":"IF(基本データ!BL410<>\"\",\"○\",\"\")","v":""},{"$f":"IF(基本データ!BM410<>\"\",\"○\",\"\")","v":""}]
[409,{"$f":"基本データ!J411","v":"福岡県"},{"$f":"基本データ!B411","v":2024},{"$f":"基本データ!I411","v":"学校法人純真学園　純真学園大学　大学院　保健医療学研究科　看護学専攻"},{"$f":"基本データ!AL411","v":20},{"$f":"IF(基本データ!AM411<>\"\",\"○\",\"\")","v":"○"},{"$f":"IF(基本データ!AN411<>\"\",\"○\",\"\")","v":"○"},{"$f":"IF(基本データ!AO411<>\"\",\"○\",\"\")","v":"○"},{"$f":"IF(基本データ!AP411<>\"\",\"○\",\"\")","v":"○"},{"$f":"IF(基本データ!AQ411<>\"\",\"○\",\"\")","v":"○"},{"$f":"IF(基本データ!AR411<>\"\",\"○\",\"\")","v":"○"},{"$f":"IF(基本データ!AS411<>\"\",\"○\",\"\")","v":"○"},{"$f":"IF(基本データ!AT411<>\"\",\"○\",\"\")","v":"○"},{"$f":"IF(基本データ!AU411<>\"\",\"○\",\"\")","v":"○"},{"$f":"IF(基本データ!AV411<>\"\",\"○\",\"\")","v":"○"},{"$f":"IF(基本データ!AW411<>\"\",\"○\",\"\")","v":"○"},{"$f":"IF(基本データ!AX411<>\"\",\"○\",\"\")","v":"○"},{"$f":"IF(基本データ!AY411<>\"\",\"○\",\"\")","v":"○"},{"$f":"IF(基本データ!AZ411<>\"\",\"○\",\"\")","v":"○"},{"$f":"IF(基本データ!BA411<>\"\",\"○\",\"\")","v":"○"},{"$f":"IF(基本データ!BB411<>\"\",\"○\",\"\")","v":"○"},{"$f":"IF(基本データ!BC411<>\"\",\"○\",\"\")","v":"○"},{"$f":"IF(基本データ!BD411<>\"\",\"○\",\"\")","v":"○"},{"$f":"IF(基本データ!BE411<>\"\",\"○\",\"\")","v":"○"},{"$f":"IF(基本データ!BF411<>\"\",\"○\",\"\")","v":"○"},{"$f":"IF(基本データ!BG411<>\"\",\"○\",\"\")","v":""},{"$f":"基本データ!BN411","v":0},{"$f":"IF(基本データ!BH411<>\"\",\"○\",\"\")","v":""},{"$f":"IF(基本データ!BI411<>\"\",\"○\",\"\")","v":""},{"$f":"IF(基本データ!BJ411<>\"\",\"○\",\"\")","v":""},{"$f":"IF(基本データ!BK411<>\"\",\"○\",\"\")","v":""},{"$f":"IF(基本データ!BL411<>\"\",\"○\",\"\")","v":""},{"$f":"IF(基本データ!BM411<>\"\",\"○\",\"\")","v":""}]
[410,{"$f":"基本データ!J412","v":"福岡県"},{"$f":"基本データ!B412","v":2024},{"$f":"基本データ!I412","v":"新古賀リハビリテーション病院みらい"},{"$f":"基本データ!AL412","v":4},{"$f":"IF(基本データ!AM412<>\"\",\"○\",\"\")","v":""},{"$f":"IF(基本データ!AN412<>\"\",\"○\",\"\")","v":""},{"$f":"IF(基本データ!AO412<>\"\",\"○\",\"\")","v":"○"},{"$f":"IF(基本データ!AP412<>\"\",\"○\",\"\")","v":""},{"$f":"IF(基本データ!AQ412<>\"\",\"○\",\"\")","v":""},{"$f":"IF(基本データ!AR412<>\"\",\"○\",\"\")","v":""},{"$f":"IF(基本データ!AS412<>\"\",\"○\",\"\")","v":""},{"$f":"IF(基本データ!AT412<>\"\",\"○\",\"\")","v":"○"},{"$f":"IF(基本データ!AU412<>\"\",\"○\",\"\")","v":""},{"$f":"IF(基本データ!AV412<>\"\",\"○\",\"\")","v":""},{"$f":"IF(基本データ!AW412<>\"\",\"○\",\"\")","v":"○"},{"$f":"IF(基本データ!AX412<>\"\",\"○\",\"\")","v":""},{"$f":"IF(基本データ!AY412<>\"\",\"○\",\"\")","v":""},{"$f":"IF(基本データ!AZ412<>\"\",\"○\",\"\")","v":""},{"$f":"IF(基本データ!BA412<>\"\",\"○\",\"\")","v":"○"},{"$f":"IF(基本データ!BB412<>\"\",\"○\",\"\")","v":""},{"$f":"IF(基本データ!BC412<>\"\",\"○\",\"\")","v":""},{"$f":"IF(基本データ!BD412<>\"\",\"○\",\"\")","v":""},{"$f":"IF(基本データ!BE412<>\"\",\"○\",\"\")","v":""},{"$f":"IF(基本データ!BF412<>\"\",\"○\",\"\")","v":""},{"$f":"IF(基本データ!BG412<>\"\",\"○\",\"\")","v":""},{"$f":"基本データ!BN412","v":1},{"$f":"IF(基本データ!BH412<>\"\",\"○\",\"\")","v":"○"},{"$f":"IF(基本データ!BI412<>\"\",\"○\",\"\")","v":""},{"$f":"IF(基本データ!BJ412<>\"\",\"○\",\"\")","v":""},{"$f":"IF(基本データ!BK412<>\"\",\"○\",\"\")","v":""},{"$f":"IF(基本データ!BL412<>\"\",\"○\",\"\")","v":""},{"$f":"IF(基本データ!BM412<>\"\",\"○\",\"\")","v":""}]
[411,{"$f":"基本データ!J413","v":"福岡県"},{"$f":"基本データ!B413","v":2024},{"$f":"基本データ!I413","v":"地方独立行政法人北九州市立病院機構　北九州市立医療センター"},{"$f":"基本データ!AL413","v":9},{"$f":"IF(基本データ!AM413<>\"\",\"○\",\"\")","v":"○"},{"$f":"IF(基本データ!AN413<>\"\",\"○\",\"\")","v":"○"},{"$f":"IF(基本データ!AO413<>\"\",\"○\",\"\")","v":""},{"$f":"IF(基本データ!AP413<>\"\",\"○\",\"\")","v":""},{"$f":"IF(基本データ!AQ413<>\"\",\"○\",\"\")","v":""},{"$f":"IF(基本データ!AR413<>\"\",\"○\",\"\")","v":""},{"$f":"IF(基本データ!AS413<>\"\",\"○\",\"\")","v":""},{"$f":"IF(基本データ!AT413<>\"\",\"○\",\"\")","v":""},{"$f":"IF(基本データ!AU413<>\"\",\"○\",\"\")","v":"○"},{"$f":"IF(基本データ!AV413<>\"\",\"○\",\"\")","v":"○"},{"$f":"IF(基本データ!AW413<>\"\",\"○\",\"\")","v":""},{"$f":"IF(基本データ!AX413<>\"\",\"○\",\"\")","v":""},{"$f":"IF(基本データ!AY413<>\"\",\"○\",\"\")","v":"○"},{"$f":"IF(基本データ!AZ413<>\"\",\"○\",\"\")","v":""},{"$f":"IF(基本データ!BA413<>\"\",\"○\",\"\")","v":"○"},{"$f":"IF(基本データ!BB413<>\"\",\"○\",\"\")","v":""},{"$f":"IF(基本データ!BC413<>\"\",\"○\",\"\")","v":""},{"$f":"IF(基本データ!BD413<>\"\",\"○\",\"\")","v":"○"},{"$f":"IF(基本データ!BE413<>\"\",\"○\",\"\")","v":"○"},{"$f":"IF(基本データ!BF413<>\"\",\"○\",\"\")","v":"○"},{"$f":"IF(基本データ!BG413<>\"\",\"○\",\"\")","v":""},{"$f":"基本データ!BN413","v":1},{"$f":"IF(基本データ!BH413<>\"\",\"○\",\"\")","v":""},{"$f":"IF(基本データ!BI413<>\"\",\"○\",\"\")","v":""},{"$f":"IF(基本データ!BJ413<>\"\",\"○\",\"\")","v":""},{"$f":"IF(基本データ!BK413<>\"\",\"○\",\"\")","v":"○"},{"$f":"IF(基本データ!BL413<>\"\",\"○\",\"\")","v":""},{"$f":"IF(基本データ!BM413<>\"\",\"○\",\"\")","v":""}]
[412,{"$f":"基本データ!J414","v":"熊本県"},{"$f":"基本データ!B414","v":2024},{"$f":"基本データ!I414","v":"医療法人社団鶴友会　鶴田病院"},{"$f":"基本データ!AL414","v":2},{"$f":"IF(基本データ!AM414<>\"\",\"○\",\"\")","v":""},{"$f":"IF(基本データ!AN414<>\"\",\"○\",\"\")","v":""},{"$f":"IF(基本データ!AO414<>\"\",\"○\",\"\")","v":"○"},{"$f":"IF(基本データ!AP414<>\"\",\"○\",\"\")","v":""},{"$f":"IF(基本データ!AQ414<>\"\",\"○\",\"\")","v":""},{"$f":"IF(基本データ!AR414<>\"\",\"○\",\"\")","v":""},{"$f":"IF(基本データ!AS414<>\"\",\"○\",\"\")","v":""},{"$f":"IF(基本データ!AT414<>\"\",\"○\",\"\")","v":"○"},{"$f":"IF(基本データ!AU414<>\"\",\"○\",\"\")","v":""},{"$f":"IF(基本データ!AV414<>\"\",\"○\",\"\")","v":""},{"$f":"IF(基本データ!AW414<>\"\",\"○\",\"\")","v":""},{"$f":"IF(基本データ!AX414<>\"\",\"○\",\"\")","v":""},{"$f":"IF(基本データ!AY414<>\"\",\"○\",\"\")","v":""},{"$f":"IF(基本データ!AZ414<>\"\",\"○\",\"\")","v":""},{"$f":"IF(基本データ!BA414<>\"\",\"○\",\"\")","v":""},{"$f":"IF(基本データ!BB414<>\"\",\"○\",\"\")","v":""},{"$f":"IF(基本データ!BC414<>\"\",\"○\",\"\")","v":""},{"$f":"IF(基本データ!BD414<>\"\",\"○\",\"\")","v":""},{"$f":"IF(基本データ!BE414<>\"\",\"○\",\"\")","v":""},{"$f":"IF(基本データ!BF414<>\"\",\"○\",\"\")","v":""},{"$f":"IF(基本データ!BG414<>\"\",\"○\",\"\")","v":""},{"$f":"基本データ!BN414","v":0},{"$f":"IF(基本データ!BH414<>\"\",\"○\",\"\")","v":""},{"$f":"IF(基本データ!BI414<>\"\",\"○\",\"\")","v":""},{"$f":"IF(基本データ!BJ414<>\"\",\"○\",\"\")","v":""},{"$f":"IF(基本データ!BK414<>\"\",\"○\",\"\")","v":""},{"$f":"IF(基本データ!BL414<>\"\",\"○\",\"\")","v":""},{"$f":"IF(基本データ!BM414<>\"\",\"○\",\"\")","v":""}]
[413,{"$f":"基本データ!J415","v":"宮崎県"},{"$f":"基本データ!B415","v":2024},{"$f":"基本データ!I415","v":"県立宮崎病院"},{"$f":"基本データ!AL415","v":6},{"$f":"IF(基本データ!AM415<>\"\",\"○\",\"\")","v":"○"},{"$f":"IF(基本データ!AN415<>\"\",\"○\",\"\")","v":"○"},{"$f":"IF(基本データ!AO415<>\"\",\"○\",\"\")","v":""},{"$f":"IF(基本データ!AP415<>\"\",\"○\",\"\")","v":"○"},{"$f":"IF(基本データ!AQ415<>\"\",\"○\",\"\")","v":""},{"$f":"IF(基本データ!AR415<>\"\",\"○\",\"\")","v":""},{"$f":"IF(基本データ!AS415<>\"\",\"○\",\"\")","v":""},{"$f":"IF(基本データ!AT415<>\"\",\"○\",\"\")","v":""},{"$f":"IF(基本データ!AU415<>\"\",\"○\",\"\")","v":"○"},{"$f":"IF(基本データ!AV415<>\"\",\"○\",\"\")","v":""},{"$f":"IF(基本データ!AW415<>\"\",\"○\",\"\")","v":""},{"$f":"IF(基本データ!AX415<>\"\",\"○\",\"\")","v":""},{"$f":"IF(基本データ!AY415<>\"\",\"○\",\"\")","v":"○"},{"$f":"IF(基本データ!AZ415<>\"\",\"○\",\"\")","v":""},{"$f":"IF(基本データ!BA415<>\"\",\"○\",\"\")","v":""},{"$f":"IF(基本データ!BB415<>\"\",\"○\",\"\")","v":""},{"$f":"IF(基本データ!BC415<>\"\",\"○\",\"\")","v":""},{"$f":"IF(基本データ!BD415<>\"\",\"○\",\"\")","v":""},{"$f":"IF(基本データ!BE415<>\"\",\"○\",\"\")","v":"○"},{"$f":"IF(基本データ!BF415<>\"\",\"○\",\"\")","v":""},{"$f":"IF(基本データ!BG415<>\"\",\"○\",\"\")","v":""},{"$f":"基本データ!BN415","v":1},{"$f":"IF(基本データ!BH415<>\"\",\"○\",\"\")","v":""},{"$f":"IF(基本データ!BI415<>\"\",\"○\",\"\")","v":""},{"$f":"IF(基本データ!BJ415<>\"\",\"○\",\"\")","v":""},{"$f":"IF(基本データ!BK415<>\"\",\"○\",\"\")","v":""},{"$f":"IF(基本データ!BL415<>\"\",\"○\",\"\")","v":""},{"$f":"IF(基本データ!BM415<>\"\",\"○\",\"\")","v":"○"}]
[414,{"$f":"基本データ!J416","v":"鹿児島県"},{"$f":"基本データ!B416","v":2024},{"$f":"基本データ!I416","v":"社会医療法人緑泉会　米盛病院"},{"$f":"基本データ!AL416","v":12},{"$f":"IF(基本データ!AM416<>\"\",\"○\",\"\")","v":"○"},{"$f":"IF(基本データ!AN416<>\"\",\"○\",\"\")","v":"○"},{"$f":"IF(基本データ!AO416<>\"\",\"○\",\"\")","v":""},{"$f":"IF(基本データ!AP416<>\"\",\"○\",\"\")","v":"○"},{"$f":"IF(基本データ!AQ416<>\"\",\"○\",\"\")","v":""},{"$f":"IF(基本データ!AR416<>\"\",\"○\",\"\")","v":""},{"$f":"IF(基本データ!AS416<>\"\",\"○\",\"\")","v":""},{"$f":"IF(基本データ!AT416<>\"\",\"○\",\"\")","v":""},{"$f":"IF(基本データ!AU416<>\"\",\"○\",\"\")","v":"○"},{"$f":"IF(基本データ!AV416<>\"\",\"○\",\"\")","v":""},{"$f":"IF(基本データ!AW416<>\"\",\"○\",\"\")","v":"○"},{"$f":"IF(基本データ!AX416<>\"\",\"○\",\"\")","v":"○"},{"$f":"IF(基本データ!AY416<>\"\",\"○\",\"\")","v":"○"},{"$f":"IF(基本データ!AZ416<>\"\",\"○\",\"\")","v":""},{"$f":"IF(基本データ!BA416<>\"\",\"○\",\"\")","v":"○"},{"$f":"IF(基本データ!BB416<>\"\",\"○\",\"\")","v":"○"},{"$f":"IF(基本データ!BC416<>\"\",\"○\",\"\")","v":""},{"$f":"IF(基本データ!BD416<>\"\",\"○\",\"\")","v":"○"},{"$f":"IF(基本データ!BE416<>\"\",\"○\",\"\")","v":"○"},{"$f":"IF(基本データ!BF416<>\"\",\"○\",\"\")","v":"○"},{"$f":"IF(基本データ!BG416<>\"\",\"○\",\"\")","v":""},{"$f":"基本データ!BN416","v":4},{"$f":"IF(基本データ!BH416<>\"\",\"○\",\"\")","v":""},{"$f":"IF(基本データ!BI416<>\"\",\"○\",\"\")","v":""},{"$f":"IF(基本データ!BJ416<>\"\",\"○\",\"\")","v":"○"},{"$f":"IF(基本データ!BK416<>\"\",\"○\",\"\")","v":"○"},{"$f":"IF(基本データ!BL416<>\"\",\"○\",\"\")","v":"○"},{"$f":"IF(基本データ!BM416<>\"\",\"○\",\"\")","v":"○"}]
[415,{"$f":"基本データ!J417","v":"埼玉県"},{"$f":"基本データ!B417","v":2024},{"$f":"基本データ!I417","v":"埼玉県立小児医療センター"},{"$f":"基本データ!AL417","v":2},{"$f":"IF(基本データ!AM417<>\"\",\"○\",\"\")","v":""},{"$f":"IF(基本データ!AN417<>\"\",\"○\",\"\")","v":""},{"$f":"IF(基本データ!AO417<>\"\",\"○\",\"\")","v":"○"},{"$f":"IF(基本データ!AP417<>\"\",\"○\",\"\")","v":""},{"$f":"IF(基本データ!AQ417<>\"\",\"○\",\"\")","v":""},{"$f":"IF(基本データ!AR417<>\"\",\"○\",\"\")","v":""},{"$f":"IF(基本データ!AS417<>\"\",\"○\",\"\")","v":""},{"$f":"IF(基本データ!AT417<>\"\",\"○\",\"\")","v":"○"},{"$f":"IF(基本データ!AU417<>\"\",\"○\",\"\")","v":""},{"$f":"IF(基本データ!AV417<>\"\",\"○\",\"\")","v":""},{"$f":"IF(基本データ!AW417<>\"\",\"○\",\"\")","v":""},{"$f":"IF(基本データ!AX417<>\"\",\"○\",\"\")","v":""},{"$f":"IF(基本データ!AY417<>\"\",\"○\",\"\")","v":""},{"$f":"IF(基本データ!AZ417<>\"\",\"○\",\"\")","v":""},{"$f":"IF(基本データ!BA417<>\"\",\"○\",\"\")","v":""},{"$f":"IF(基本データ!BB417<>\"\",\"○\",\"\")","v":""},{"$f":"IF(基本データ!BC417<>\"\",\"○\",\"\")","v":""},{"$f":"IF(基本データ!BD417<>\"\",\"○\",\"\")","v":""},{"$f":"IF(基本データ!BE417<>\"\",\"○\",\"\")","v":""},{"$f":"IF(基本データ!BF417<>\"\",\"○\",\"\")","v":""},{"$f":"IF(基本データ!BG417<>\"\",\"○\",\"\")","v":""},{"$f":"基本データ!BN417","v":0},{"$f":"IF(基本データ!BH417<>\"\",\"○\",\"\")","v":""},{"$f":"IF(基本データ!BI417<>\"\",\"○\",\"\")","v":""},{"$f":"IF(基本データ!BJ417<>\"\",\"○\",\"\")","v":""},{"$f":"IF(基本データ!BK417<>\"\",\"○\",\"\")","v":""},{"$f":"IF(基本データ!BL417<>\"\",\"○\",\"\")","v":""},{"$f":"IF(基本データ!BM417<>\"\",\"○\",\"\")","v":""}]
[416,{"$f":"基本データ!J418","v":"埼玉県"},{"$f":"基本データ!B418","v":2024},{"$f":"基本データ!I418","v":"独立行政法人国立病院機構埼玉病院"},{"$f":"基本データ!AL418","v":3},{"$f":"IF(基本データ!AM418<>\"\",\"○\",\"\")","v":""},{"$f":"IF(基本データ!AN418<>\"\",\"○\",\"\")","v":"○"},{"$f":"IF(基本データ!AO418<>\"\",\"○\",\"\")","v":""},{"$f":"IF(基本データ!AP418<>\"\",\"○\",\"\")","v":""},{"$f":"IF(基本データ!AQ418<>\"\",\"○\",\"\")","v":""},{"$f":"IF(基本データ!AR418<>\"\",\"○\",\"\")","v":""},{"$f":"IF(基本データ!AS418<>\"\",\"○\",\"\")","v":""},{"$f":"IF(基本データ!AT418<>\"\",\"○\",\"\")","v":""},{"$f":"IF(基本データ!AU418<>\"\",\"○\",\"\")","v":"○"},{"$f":"IF(基本データ!AV418<>\"\",\"○\",\"\")","v":""},{"$f":"IF(基本データ!AW418<>\"\",\"○\",\"\")","v":""},{"$f":"IF(基本データ!AX418<>\"\",\"○\",\"\")","v":""},{"$f":"IF(基本データ!AY418<>\"\",\"○\",\"\")","v":"○"},{"$f":"IF(基本データ!AZ418<>\"\",\"○\",\"\")","v":""},{"$f":"IF(基本データ!BA418<>\"\",\"○\",\"\")","v":""},{"$f":"IF(基本データ!BB418<>\"\",\"○\",\"\")","v":""},{"$f":"IF(基本データ!BC418<>\"\",\"○\",\"\")","v":""},{"$f":"IF(基本データ!BD418<>\"\",\"○\",\"\")","v":""},{"$f":"IF(基本データ!BE418<>\"\",\"○\",\"\")","v":""},{"$f":"IF(基本データ!BF418<>\"\",\"○\",\"\")","v":""},{"$f":"IF(基本データ!BG418<>\"\",\"○\",\"\")","v":""},{"$f":"基本データ!BN418","v":0},{"$f":"IF(基本データ!BH418<>\"\",\"○\",\"\")","v":""},{"$f":"IF(基本データ!BI418<>\"\",\"○\",\"\")","v":""},{"$f":"IF(基本データ!BJ418<>\"\",\"○\",\"\")","v":""},{"$f":"IF(基本データ!BK418<>\"\",\"○\",\"\")","v":""},{"$f":"IF(基本データ!BL418<>\"\",\"○\",\"\")","v":""},{"$f":"IF(基本データ!BM418<>\"\",\"○\",\"\")","v":""}]
[417,{"$f":"基本データ!J419","v":"東京都"},{"$f":"基本データ!B419","v":2024},{"$f":"基本データ!I419","v":"医療法人徳洲会　東京西徳洲会病院"},{"$f":"基本データ!AL419","v":6},{"$f":"IF(基本データ!AM419<>\"\",\"○\",\"\")","v":"○"},{"$f":"IF(基本データ!AN419<>\"\",\"○\",\"\")","v":"○"},{"$f":"IF(基本データ!AO419<>\"\",\"○\",\"\")","v":""},{"$f":"IF(基本データ!AP419<>\"\",\"○\",\"\")","v":""},{"$f":"IF(基本データ!AQ419<>\"\",\"○\",\"\")","v":""},{"$f":"IF(基本データ!AR419<>\"\",\"○\",\"\")","v":""},{"$f":"IF(基本データ!AS419<>\"\",\"○\",\"\")","v":""},{"$f":"IF(基本データ!AT419<>\"\",\"○\",\"\")","v":""},{"$f":"IF(基本データ!AU419<>\"\",\"○\",\"\")","v":""},{"$f":"IF(基本データ!AV419<>\"\",\"○\",\"\")","v":""},{"$f":"IF(基本データ!AW419<>\"\",\"○\",\"\")","v":""},{"$f":"IF(基本データ!AX419<>\"\",\"○\",\"\")","v":""},{"$f":"IF(基本データ!AY419<>\"\",\"○\",\"\")","v":"○"},{"$f":"IF(基本データ!AZ419<>\"\",\"○\",\"\")","v":""},{"$f":"IF(基本データ!BA419<>\"\",\"○\",\"\")","v":"○"},{"$f":"IF(基本データ!BB419<>\"\",\"○\",\"\")","v":""},{"$f":"IF(基本データ!BC419<>\"\",\"○\",\"\")","v":""},{"$f":"IF(基本データ!BD419<>\"\",\"○\",\"\")","v":"○"},{"$f":"IF(基本データ!BE419<>\"\",\"○\",\"\")","v":"○"},{"$f":"IF(基本データ!BF419<>\"\",\"○\",\"\")","v":""},{"$f":"IF(基本データ!BG419<>\"\",\"○\",\"\")","v":""},{"$f":"基本データ!BN419","v":1},{"$f":"IF(基本データ!BH419<>\"\",\"○\",\"\")","v":""},{"$f":"IF(基本データ!BI419<>\"\",\"○\",\"\")","v":""},{"$f":"IF(基本データ!BJ419<>\"\",\"○\",\"\")","v":"○"},{"$f":"IF(基本データ!BK419<>\"\",\"○\",\"\")","v":""},{"$f":"IF(基本データ!BL419<>\"\",\"○\",\"\")","v":""},{"$f":"IF(基本データ!BM419<>\"\",\"○\",\"\")","v":""}]
[418,{"$f":"基本データ!J420","v":"神奈川県"},{"$f":"基本データ!B420","v":2024},{"$f":"基本データ!I420","v":"国家公務員共済組合連合会　横須賀共済病院"},{"$f":"基本データ!AL420","v":9},{"$f":"IF(基本データ!AM420<>\"\",\"○\",\"\")","v":"○"},{"$f":"IF(基本データ!AN420<>\"\",\"○\",\"\")","v":"○"},{"$f":"IF(基本データ!AO420<>\"\",\"○\",\"\")","v":""},{"$f":"IF(基本データ!AP420<>\"\",\"○\",\"\")","v":"○"},{"$f":"IF(基本データ!AQ420<>\"\",\"○\",\"\")","v":""},{"$f":"IF(基本データ!AR420<>\"\",\"○\",\"\")","v":""},{"$f":"IF(基本データ!AS420<>\"\",\"○\",\"\")","v":""},{"$f":"IF(基本データ!AT420<>\"\",\"○\",\"\")","v":""},{"$f":"IF(基本データ!AU420<>\"\",\"○\",\"\")","v":"○"},{"$f":"IF(基本データ!AV420<>\"\",\"○\",\"\")","v":""},{"$f":"IF(基本データ!AW420<>\"\",\"○\",\"\")","v":"○"},{"$f":"IF(基本データ!AX420<>\"\",\"○\",\"\")","v":""},{"$f":"IF(基本データ!AY420<>\"\",\"○\",\"\")","v":"○"},{"$f":"IF(基本データ!AZ420<>\"\",\"○\",\"\")","v":""},{"$f":"IF(基本データ!BA420<>\"\",\"○\",\"\")","v":"○"},{"$f":"IF(基本データ!BB420<>\"\",\"○\",\"\")","v":""},{"$f":"IF(基本データ!BC420<>\"\",\"○\",\"\")","v":""},{"$f":"IF(基本データ!BD420<>\"\",\"○\",\"\")","v":""},{"$f":"IF(基本データ!BE420<>\"\",\"○\",\"\")","v":"○"},{"$f":"IF(基本データ!BF420<>\"\",\"○\",\"\")","v":"○"},{"$f":"IF(基本データ!BG420<>\"\",\"○\",\"\")","v":""},{"$f":"基本データ!BN420","v":0},{"$f":"IF(基本データ!BH420<>\"\",\"○\",\"\")","v":""},{"$f":"IF(基本データ!BI420<>\"\",\"○\",\"\")","v":""},{"$f":"IF(基本データ!BJ420<>\"\",\"○\",\"\")","v":""},{"$f":"IF(基本データ!BK420<>\"\",\"○\",\"\")","v":""},{"$f":"IF(基本データ!BL420<>\"\",\"○\",\"\")","v":""},{"$f":"IF(基本データ!BM420<>\"\",\"○\",\"\")","v":""}]
[419,{"$f":"基本データ!J421","v":"静岡県"},{"$f":"基本データ!B421","v":2024},{"$f":"基本データ!I421","v":"掛川市・袋井市病院企業団立中東遠総合医療センター"},{"$f":"基本データ!AL421","v":4},{"$f":"IF(基本データ!AM421<>\"\",\"○\",\"\")","v":""},{"$f":"IF(基本データ!AN421<>\"\",\"○\",\"\")","v":"○"},{"$f":"IF(基本データ!AO421<>\"\",\"○\",\"\")","v":""},{"$f":"IF(基本データ!AP421<>\"\",\"○\",\"\")","v":""},{"$f":"IF(基本データ!AQ421<>\"\",\"○\",\"\")","v":""},{"$f":"IF(基本データ!AR421<>\"\",\"○\",\"\")","v":""},{"$f":"IF(基本データ!AS421<>\"\",\"○\",\"\")","v":""},{"$f":"IF(基本データ!AT421<>\"\",\"○\",\"\")","v":""},{"$f":"IF(基本データ!AU421<>\"\",\"○\",\"\")","v":""},{"$f":"IF(基本データ!AV421<>\"\",\"○\",\"\")","v":""},{"$f":"IF(基本データ!AW421<>\"\",\"○\",\"\")","v":""},{"$f":"IF(基本データ!AX421<>\"\",\"○\",\"\")","v":""},{"$f":"IF(基本データ!AY421<>\"\",\"○\",\"\")","v":"○"},{"$f":"IF(基本データ!AZ421<>\"\",\"○\",\"\")","v":""},{"$f":"IF(基本データ!BA421<>\"\",\"○\",\"\")","v":"○"},{"$f":"IF(基本データ!BB421<>\"\",\"○\",\"\")","v":""},{"$f":"IF(基本データ!BC421<>\"\",\"○\",\"\")","v":""},{"$f":"IF(基本データ!BD421<>\"\",\"○\",\"\")","v":"○"},{"$f":"IF(基本データ!BE421<>\"\",\"○\",\"\")","v":""},{"$f":"IF(基本データ!BF421<>\"\",\"○\",\"\")","v":""},{"$f":"IF(基本データ!BG421<>\"\",\"○\",\"\")","v":""},{"$f":"基本データ!BN421","v":0},{"$f":"IF(基本データ!BH421<>\"\",\"○\",\"\")","v":""},{"$f":"IF(基本データ!BI421<>\"\",\"○\",\"\")","v":""},{"$f":"IF(基本データ!BJ421<>\"\",\"○\",\"\")","v":""},{"$f":"IF(基本データ!BK421<>\"\",\"○\",\"\")","v":""},{"$f":"IF(基本データ!BL421<>\"\",\"○\",\"\")","v":""},{"$f":"IF(基本データ!BM421<>\"\",\"○\",\"\")","v":""}]
[420,{"$f":"基本データ!J422","v":"愛知県"},{"$f":"基本データ!B422","v":2024},{"$f":"基本データ!I422","v":"愛知県厚生農業協同組合連合会　江南厚生病院"},{"$f":"基本データ!AL422","v":13},{"$f":"IF(基本データ!AM422<>\"\",\"○\",\"\")","v":"○"},{"$f":"IF(基本データ!AN422<>\"\",\"○\",\"\")","v":"○"},{"$f":"IF(基本データ!AO422<>\"\",\"○\",\"\")","v":""},{"$f":"IF(基本データ!AP422<>\"\",\"○\",\"\")","v":"○"},{"$f":"IF(基本データ!AQ422<>\"\",\"○\",\"\")","v":""},{"$f":"IF(基本データ!AR422<>\"\",\"○\",\"\")","v":""},{"$f":"IF(基本データ!AS422<>\"\",\"○\",\"\")","v":""},{"$f":"IF(基本データ!AT422<>\"\",\"○\",\"\")","v":""},{"$f":"IF(基本データ!AU422<>\"\",\"○\",\"\")","v":"○"},{"$f":"IF(基本データ!AV422<>\"\",\"○\",\"\")","v":"○"},{"$f":"IF(基本データ!AW422<>\"\",\"○\",\"\")","v":"○"},{"$f":"IF(基本データ!AX422<>\"\",\"○\",\"\")","v":"○"},{"$f":"IF(基本データ!AY422<>\"\",\"○\",\"\")","v":"○"},{"$f":"IF(基本データ!AZ422<>\"\",\"○\",\"\")","v":""},{"$f":"IF(基本データ!BA422<>\"\",\"○\",\"\")","v":"○"},{"$f":"IF(基本データ!BB422<>\"\",\"○\",\"\")","v":"○"},{"$f":"IF(基本データ!BC422<>\"\",\"○\",\"\")","v":"○"},{"$f":"IF(基本データ!BD422<>\"\",\"○\",\"\")","v":"○"},{"$f":"IF(基本データ!BE422<>\"\",\"○\",\"\")","v":"○"},{"$f":"IF(基本データ!BF422<>\"\",\"○\",\"\")","v":""},{"$f":"IF(基本データ!BG422<>\"\",\"○\",\"\")","v":""},{"$f":"基本データ!BN422","v":2},{"$f":"IF(基本データ!BH422<>\"\",\"○\",\"\")","v":""},{"$f":"IF(基本データ!BI422<>\"\",\"○\",\"\")","v":""},{"$f":"IF(基本データ!BJ422<>\"\",\"○\",\"\")","v":""},{"$f":"IF(基本データ!BK422<>\"\",\"○\",\"\")","v":""},{"$f":"IF(基本データ!BL422<>\"\",\"○\",\"\")","v":"○"},{"$f":"IF(基本データ!BM422<>\"\",\"○\",\"\")","v":"○"}]
[421,{"$f":"基本データ!J423","v":"三重県"},{"$f":"基本データ!B423","v":2024},{"$f":"基本データ!I423","v":"三重県厚生農業協同組合連合会"},{"$f":"基本データ!AL423","v":8},{"$f":"IF(基本データ!AM423<>\"\",\"○\",\"\")","v":"○"},{"$f":"IF(基本データ!AN423<>\"\",\"○\",\"\")","v":"○"},{"$f":"IF(基本データ!AO423<>\"\",\"○\",\"\")","v":""},{"$f":"IF(基本データ!AP423<>\"\",\"○\",\"\")","v":""},{"$f":"IF(基本データ!AQ423<>\"\",\"○\",\"\")","v":""},{"$f":"IF(基本データ!AR423<>\"\",\"○\",\"\")","v":""},{"$f":"IF(基本データ!AS423<>\"\",\"○\",\"\")","v":""},{"$f":"IF(基本データ!AT423<>\"\",\"○\",\"\")","v":""},{"$f":"IF(基本データ!AU423<>\"\",\"○\",\"\")","v":"○"},{"$f":"IF(基本データ!AV423<>\"\",\"○\",\"\")","v":"○"},{"$f":"IF(基本データ!AW423<>\"\",\"○\",\"\")","v":""},{"$f":"IF(基本データ!AX423<>\"\",\"○\",\"\")","v":""},{"$f":"IF(基本データ!AY423<>\"\",\"○\",\"\")","v":"○"},{"$f":"IF(基本データ!AZ423<>\"\",\"○\",\"\")","v":""},{"$f":"IF(基本データ!BA423<>\"\",\"○\",\"\")","v":"○"},{"$f":"IF(基本データ!BB423<>\"\",\"○\",\"\")","v":""},{"$f":"IF(基本データ!BC423<>\"\",\"○\",\"\")","v":""},{"$f":"IF(基本データ!BD423<>\"\",\"○\",\"\")","v":"○"},{"$f":"IF(基本データ!BE423<>\"\",\"○\",\"\")","v":"○"},{"$f":"IF(基本データ!BF423<>\"\",\"○\",\"\")","v":""},{"$f":"IF(基本データ!BG423<>\"\",\"○\",\"\")","v":""},{"$f":"基本データ!BN423","v":1},{"$f":"IF(基本データ!BH423<>\"\",\"○\",\"\")","v":""},{"$f":"IF(基本データ!BI423<>\"\",\"○\",\"\")","v":""},{"$f":"IF(基本データ!BJ423<>\"\",\"○\",\"\")","v":"○"},{"$f":"IF(基本データ!BK423<>\"\",\"○\",\"\")","v":""},{"$f":"IF(基本データ!BL423<>\"\",\"○\",\"\")","v":""},{"$f":"IF(基本データ!BM423<>\"\",\"○\",\"\")","v":""}]
[422,{"$f":"基本データ!J424","v":"広島県"},{"$f":"基本データ!B424","v":2024},{"$f":"基本データ!I424","v":"広島赤十字・原爆病院"},{"$f":"基本データ!AL424","v":7},{"$f":"IF(基本データ!AM424<>\"\",\"○\",\"\")","v":"○"},{"$f":"IF(基本データ!AN424<>\"\",\"○\",\"\")","v":"○"},{"$f":"IF(基本データ!AO424<>\"\",\"○\",\"\")","v":""},{"$f":"IF(基本データ!AP424<>\"\",\"○\",\"\")","v":""},{"$f":"IF(基本データ!AQ424<>\"\",\"○\",\"\")","v":""},{"$f":"IF(基本データ!AR424<>\"\",\"○\",\"\")","v":""},{"$f":"IF(基本データ!AS424<>\"\",\"○\",\"\")","v":""},{"$f":"IF(基本データ!AT424<>\"\",\"○\",\"\")","v":""},{"$f":"IF(基本データ!AU424<>\"\",\"○\",\"\")","v":"○"},{"$f":"IF(基本データ!AV424<>\"\",\"○\",\"\")","v":"○"},{"$f":"IF(基本データ!AW424<>\"\",\"○\",\"\")","v":""},{"$f":"IF(基本データ!AX424<>\"\",\"○\",\"\")","v":""},{"$f":"IF(基本データ!AY424<>\"\",\"○\",\"\")","v":"○"},{"$f":"IF(基本データ!AZ424<>\"\",\"○\",\"\")","v":""},{"$f":"IF(基本データ!BA424<>\"\",\"○\",\"\")","v":"○"},{"$f":"IF(基本データ!BB424<>\"\",\"○\",\"\")","v":""},{"$f":"IF(基本データ!BC424<>\"\",\"○\",\"\")","v":""},{"$f":"IF(基本データ!BD424<>\"\",\"○\",\"\")","v":""},{"$f":"IF(基本データ!BE424<>\"\",\"○\",\"\")","v":""},{"$f":"IF(基本データ!BF424<>\"\",\"○\",\"\")","v":"○"},{"$f":"IF(基本データ!BG424<>\"\",\"○\",\"\")","v":""},{"$f":"基本データ!BN424","v":1},{"$f":"IF(基本データ!BH424<>\"\",\"○\",\"\")","v":""},{"$f":"IF(基本データ!BI424<>\"\",\"○\",\"\")","v":""},{"$f":"IF(基本データ!BJ424<>\"\",\"○\",\"\")","v":""},{"$f":"IF(基本データ!BK424<>\"\",\"○\",\"\")","v":"○"},{"$f":"IF(基本データ!BL424<>\"\",\"○\",\"\")","v":""},{"$f":"IF(基本データ!BM424<>\"\",\"○\",\"\")","v":""}]
[423,{"$f":"基本データ!J425","v":"広島県"},{"$f":"基本データ!B425","v":2024},{"$f":"基本データ!I425","v":"地方独立行政法人広島県立病院機構　県立広島病院"},{"$f":"基本データ!AL425","v":10},{"$f":"IF(基本データ!AM425<>\"\",\"○\",\"\")","v":""},{"$f":"IF(基本データ!AN425<>\"\",\"○\",\"\")","v":""},{"$f":"IF(基本データ!AO425<>\"\",\"○\",\"\")","v":""},{"$f":"IF(基本データ!AP425<>\"\",\"○\",\"\")","v":""},{"$f":"IF(基本データ!AQ425<>\"\",\"○\",\"\")","v":""},{"$f":"IF(基本データ!AR425<>\"\",\"○\",\"\")","v":"○"},{"$f":"IF(基本データ!AS425<>\"\",\"○\",\"\")","v":"○"},{"$f":"IF(基本データ!AT425<>\"\",\"○\",\"\")","v":""},{"$f":"IF(基本データ!AU425<>\"\",\"○\",\"\")","v":"○"},{"$f":"IF(基本データ!AV425<>\"\",\"○\",\"\")","v":"○"},{"$f":"IF(基本データ!AW425<>\"\",\"○\",\"\")","v":"○"},{"$f":"IF(基本データ!AX425<>\"\",\"○\",\"\")","v":"○"},{"$f":"IF(基本データ!AY425<>\"\",\"○\",\"\")","v":"○"},{"$f":"IF(基本データ!AZ425<>\"\",\"○\",\"\")","v":""},{"$f":"IF(基本データ!BA425<>\"\",\"○\",\"\")","v":"○"},{"$f":"IF(基本データ!BB425<>\"\",\"○\",\"\")","v":"○"},{"$f":"IF(基本データ!BC425<>\"\",\"○\",\"\")","v":""},{"$f":"IF(基本データ!BD425<>\"\",\"○\",\"\")","v":"○"},{"$f":"IF(基本データ!BE425<>\"\",\"○\",\"\")","v":""},{"$f":"IF(基本データ!BF425<>\"\",\"○\",\"\")","v":""},{"$f":"IF(基本データ!BG425<>\"\",\"○\",\"\")","v":""},{"$f":"基本データ!BN425","v":1},{"$f":"IF(基本データ!BH425<>\"\",\"○\",\"\")","v":""},{"$f":"IF(基本データ!BI425<>\"\",\"○\",\"\")","v":""},{"$f":"IF(基本データ!BJ425<>\"\",\"○\",\"\")","v":""},{"$f":"IF(基本データ!BK425<>\"\",\"○\",\"\")","v":""},{"$f":"IF(基本データ!BL425<>\"\",\"○\",\"\")","v":"○"},{"$f":"IF(基本データ!BM425<>\"\",\"○\",\"\")","v":""}]
[424,{"$f":"基本データ!J426","v":"山口県"},{"$f":"基本データ!B426","v":2024},{"$f":"基本データ!I426","v":"医療法人茜会　よしみず病院"},{"$f":"基本データ!AL426","v":2},{"$f":"IF(基本データ!AM426<>\"\",\"○\",\"\")","v":""},{"$f":"IF(基本データ!AN426<>\"\",\"○\",\"\")","v":""},{"$f":"IF(基本データ!AO426<>\"\",\"○\",\"\")","v":"○"},{"$f":"IF(基本データ!AP426<>\"\",\"○\",\"\")","v":""},{"$f":"IF(基本データ!AQ426<>\"\",\"○\",\"\")","v":""},{"$f":"IF(基本データ!AR426<>\"\",\"○\",\"\")","v":""},{"$f":"IF(基本データ!AS426<>\"\",\"○\",\"\")","v":""},{"$f":"IF(基本データ!AT426<>\"\",\"○\",\"\")","v":""},{"$f":"IF(基本データ!AU426<>\"\",\"○\",\"\")","v":""},{"$f":"IF(基本データ!AV426<>\"\",\"○\",\"\")","v":""},{"$f":"IF(基本データ!AW426<>\"\",\"○\",\"\")","v":"○"},{"$f":"IF(基本データ!AX426<>\"\",\"○\",\"\")","v":""},{"$f":"IF(基本データ!AY426<>\"\",\"○\",\"\")","v":""},{"$f":"IF(基本データ!AZ426<>\"\",\"○\",\"\")","v":""},{"$f":"IF(基本データ!BA426<>\"\",\"○\",\"\")","v":""},{"$f":"IF(基本データ!BB426<>\"\",\"○\",\"\")","v":""},{"$f":"IF(基本データ!BC426<>\"\",\"○\",\"\")","v":""},{"$f":"IF(基本データ!BD426<>\"\",\"○\",\"\")","v":""},{"$f":"IF(基本データ!BE426<>\"\",\"○\",\"\")","v":""},{"$f":"IF(基本データ!BF426<>\"\",\"○\",\"\")","v":""},{"$f":"IF(基本データ!BG426<>\"\",\"○\",\"\")","v":""},{"$f":"基本データ!BN426","v":0},{"$f":"IF(基本データ!BH426<>\"\",\"○\",\"\")","v":""},{"$f":"IF(基本データ!BI426<>\"\",\"○\",\"\")","v":""},{"$f":"IF(基本データ!BJ426<>\"\",\"○\",\"\")","v":""},{"$f":"IF(基本データ!BK426<>\"\",\"○\",\"\")","v":""},{"$f":"IF(基本データ!BL426<>\"\",\"○\",\"\")","v":""},{"$f":"IF(基本データ!BM426<>\"\",\"○\",\"\")","v":""}]
[425,{"$f":"基本データ!J427","v":"山口県"},{"$f":"基本データ!B427","v":2024},{"$f":"基本データ!I427","v":"山口県立総合医療センター"},{"$f":"基本データ!AL427","v":6},{"$f":"IF(基本データ!AM427<>\"\",\"○\",\"\")","v":"○"},{"$f":"IF(基本データ!AN427<>\"\",\"○\",\"\")","v":"○"},{"$f":"IF(基本データ!AO427<>\"\",\"○\",\"\")","v":""},{"$f":"IF(基本データ!AP427<>\"\",\"○\",\"\")","v":"○"},{"$f":"IF(基本データ!AQ427<>\"\",\"○\",\"\")","v":""},{"$f":"IF(基本データ!AR427<>\"\",\"○\",\"\")","v":""},{"$f":"IF(基本データ!AS427<>\"\",\"○\",\"\")","v":""},{"$f":"IF(基本データ!AT427<>\"\",\"○\",\"\")","v":""},{"$f":"IF(基本データ!AU427<>\"\",\"○\",\"\")","v":"○"},{"$f":"IF(基本データ!AV427<>\"\",\"○\",\"\")","v":""},{"$f":"IF(基本データ!AW427<>\"\",\"○\",\"\")","v":""},{"$f":"IF(基本データ!AX427<>\"\",\"○\",\"\")","v":""},{"$f":"IF(基本データ!AY427<>\"\",\"○\",\"\")","v":"○"},{"$f":"IF(基本データ!AZ427<>\"\",\"○\",\"\")","v":""},{"$f":"IF(基本データ!BA427<>\"\",\"○\",\"\")","v":""},{"$f":"IF(基本データ!BB427<>\"\",\"○\",\"\")","v":""},{"$f":"IF(基本データ!BC427<>\"\",\"○\",\"\")","v":""},{"$f":"IF(基本データ!BD427<>\"\",\"○\",\"\")","v":""},{"$f":"IF(基本データ!BE427<>\"\",\"○\",\"\")","v":"○"},{"$f":"IF(基本データ!BF427<>\"\",\"○\",\"\")","v":""},{"$f":"IF(基本データ!BG427<>\"\",\"○\",\"\")","v":""},{"$f":"基本データ!BN427","v":1},{"$f":"IF(基本データ!BH427<>\"\",\"○\",\"\")","v":""},{"$f":"IF(基本データ!BI427<>\"\",\"○\",\"\")","v":""},{"$f":"IF(基本データ!BJ427<>\"\",\"○\",\"\")","v":""},{"$f":"IF(基本データ!BK427<>\"\",\"○\",\"\")","v":""},{"$f":"IF(基本データ!BL427<>\"\",\"○\",\"\")","v":""},{"$f":"IF(基本データ!BM427<>\"\",\"○\",\"\")","v":"○"}]
[426,{"$f":"基本データ!J428","v":"佐賀県"},{"$f":"基本データ!B428","v":2024},{"$f":"基本データ!I428","v":"医療法人　ひらまつ病院"},{"$f":"基本データ!AL428","v":2},{"$f":"IF(基本データ!AM428<>\"\",\"○\",\"\")","v":""},{"$f":"IF(基本データ!AN428<>\"\",\"○\",\"\")","v":""},{"$f":"IF(基本データ!AO428<>\"\",\"○\",\"\")","v":"○"},{"$f":"IF(基本データ!AP428<>\"\",\"○\",\"\")","v":""},{"$f":"IF(基本データ!AQ428<>\"\",\"○\",\"\")","v":""},{"$f":"IF(基本データ!AR428<>\"\",\"○\",\"\")","v":""},{"$f":"IF(基本データ!AS428<>\"\",\"○\",\"\")","v":""},{"$f":"IF(基本データ!AT428<>\"\",\"○\",\"\")","v":""},{"$f":"IF(基本データ!AU428<>\"\",\"○\",\"\")","v":""},{"$f":"IF(基本データ!AV428<>\"\",\"○\",\"\")","v":""},{"$f":"IF(基本データ!AW428<>\"\",\"○\",\"\")","v":""},{"$f":"IF(基本データ!AX428<>\"\",\"○\",\"\")","v":""},{"$f":"IF(基本データ!AY428<>\"\",\"○\",\"\")","v":"○"},{"$f":"IF(基本データ!AZ428<>\"\",\"○\",\"\")","v":""},{"$f":"IF(基本データ!BA428<>\"\",\"○\",\"\")","v":""},{"$f":"IF(基本データ!BB428<>\"\",\"○\",\"\")","v":""},{"$f":"IF(基本データ!BC428<>\"\",\"○\",\"\")","v":""},{"$f":"IF(基本データ!BD428<>\"\",\"○\",\"\")","v":""},{"$f":"IF(基本データ!BE428<>\"\",\"○\",\"\")","v":""},{"$f":"IF(基本データ!BF428<>\"\",\"○\",\"\")","v":""},{"$f":"IF(基本データ!BG428<>\"\",\"○\",\"\")","v":""},{"$f":"基本データ!BN428","v":0},{"$f":"IF(基本データ!BH428<>\"\",\"○\",\"\")","v":""},{"$f":"IF(基本データ!BI428<>\"\",\"○\",\"\")","v":""},{"$f":"IF(基本データ!BJ428<>\"\",\"○\",\"\")","v":""},{"$f":"IF(基本データ!BK428<>\"\",\"○\",\"\")","v":""},{"$f":"IF(基本データ!BL428<>\"\",\"○\",\"\")","v":""},{"$f":"IF(基本データ!BM428<>\"\",\"○\",\"\")","v":""}]
[427,{"$f":"基本データ!J429","v":"福岡県"},{"$f":"基本データ!B429","v":2024},{"$f":"基本データ!I429","v":"北九州市立門司病院"},{"$f":"基本データ!AL429","v":2},{"$f":"IF(基本データ!AM429<>\"\",\"○\",\"\")","v":""},{"$f":"IF(基本データ!AN429<>\"\",\"○\",\"\")","v":""},{"$f":"IF(基本データ!AO429<>\"\",\"○\",\"\")","v":"○"},{"$f":"IF(基本データ!AP429<>\"\",\"○\",\"\")","v":""},{"$f":"IF(基本データ!AQ429<>\"\",\"○\",\"\")","v":""},{"$f":"IF(基本データ!AR429<>\"\",\"○\",\"\")","v":""},{"$f":"IF(基本データ!AS429<>\"\",\"○\",\"\")","v":""},{"$f":"IF(基本データ!AT429<>\"\",\"○\",\"\")","v":""},{"$f":"IF(基本データ!AU429<>\"\",\"○\",\"\")","v":""},{"$f":"IF(基本データ!AV429<>\"\",\"○\",\"\")","v":""},{"$f":"IF(基本データ!AW429<>\"\",\"○\",\"\")","v":"○"},{"$f":"IF(基本データ!AX429<>\"\",\"○\",\"\")","v":""},{"$f":"IF(基本データ!AY429<>\"\",\"○\",\"\")","v":""},{"$f":"IF(基本データ!AZ429<>\"\",\"○\",\"\")","v":""},{"$f":"IF(基本データ!BA429<>\"\",\"○\",\"\")","v":""},{"$f":"IF(基本データ!BB429<>\"\",\"○\",\"\")","v":""},{"$f":"IF(基本データ!BC429<>\"\",\"○\",\"\")","v":""},{"$f":"IF(基本データ!BD429<>\"\",\"○\",\"\")","v":""},{"$f":"IF(基本データ!BE429<>\"\",\"○\",\"\")","v":""},{"$f":"IF(基本データ!BF429<>\"\",\"○\",\"\")","v":""},{"$f":"IF(基本データ!BG429<>\"\",\"○\",\"\")","v":""},{"$f":"基本データ!BN429","v":0},{"$f":"IF(基本データ!BH429<>\"\",\"○\",\"\")","v":""},{"$f":"IF(基本データ!BI429<>\"\",\"○\",\"\")","v":""},{"$f":"IF(基本データ!BJ429<>\"\",\"○\",\"\")","v":""},{"$f":"IF(基本データ!BK429<>\"\",\"○\",\"\")","v":""},{"$f":"IF(基本データ!BL429<>\"\",\"○\",\"\")","v":""},{"$f":"IF(基本データ!BM429<>\"\",\"○\",\"\")","v":""}]
[428,{"$f":"基本データ!J430","v":"福岡県"},{"$f":"基本データ!B430","v":2024},{"$f":"基本データ!I430","v":"医療法人　重喜会　南福岡脳神経外科病院"},{"$f":"基本データ!AL430","v":2},{"$f":"IF(基本データ!AM430<>\"\",\"○\",\"\")","v":""},{"$f":"IF(基本データ!AN430<>\"\",\"○\",\"\")","v":""},{"$f":"IF(基本データ!AO430<>\"\",\"○\",\"\")","v":""},{"$f":"IF(基本データ!AP430<>\"\",\"○\",\"\")","v":""},{"$f":"IF(基本データ!AQ430<>\"\",\"○\",\"\")","v":""},{"$f":"IF(基本データ!AR430<>\"\",\"○\",\"\")","v":""},{"$f":"IF(基本データ!AS430<>\"\",\"○\",\"\")","v":""},{"$f":"IF(基本データ!AT430<>\"\",\"○\",\"\")","v":""},{"$f":"IF(基本データ!AU430<>\"\",\"○\",\"\")","v":""},{"$f":"IF(基本データ!AV430<>\"\",\"○\",\"\")","v":""},{"$f":"IF(基本データ!AW430<>\"\",\"○\",\"\")","v":""},{"$f":"IF(基本データ!AX430<>\"\",\"○\",\"\")","v":""},{"$f":"IF(基本データ!AY430<>\"\",\"○\",\"\")","v":""},{"$f":"IF(基本データ!AZ430<>\"\",\"○\",\"\")","v":""},{"$f":"IF(基本データ!BA430<>\"\",\"○\",\"\")","v":"○"},{"$f":"IF(基本データ!BB430<>\"\",\"○\",\"\")","v":""},{"$f":"IF(基本データ!BC430<>\"\",\"○\",\"\")","v":""},{"$f":"IF(基本データ!BD430<>\"\",\"○\",\"\")","v":""},{"$f":"IF(基本データ!BE430<>\"\",\"○\",\"\")","v":""},{"$f":"IF(基本データ!BF430<>\"\",\"○\",\"\")","v":"○"},{"$f":"IF(基本データ!BG430<>\"\",\"○\",\"\")","v":""},{"$f":"基本データ!BN430","v":0},{"$f":"IF(基本データ!BH430<>\"\",\"○\",\"\")","v":""},{"$f":"IF(基本データ!BI430<>\"\",\"○\",\"\")","v":""},{"$f":"IF(基本データ!BJ430<>\"\",\"○\",\"\")","v":""},{"$f":"IF(基本データ!BK430<>\"\",\"○\",\"\")","v":""},{"$f":"IF(基本データ!BL430<>\"\",\"○\",\"\")","v":""},{"$f":"IF(基本データ!BM430<>\"\",\"○\",\"\")","v":""}]
[429,{"$f":"基本データ!J431","v":"北海道"},{"$f":"基本データ!B431","v":2025},{"$f":"基本データ!I431","v":"釧路赤十字病院"},{"$f":"基本データ!AL431","v":2},{"$f":"IF(基本データ!AM431<>\"\",\"○\",\"\")","v":""},{"$f":"IF(基本データ!AN431<>\"\",\"○\",\"\")","v":""},{"$f":"IF(基本データ!AO431<>\"\",\"○\",\"\")","v":""},{"$f":"IF(基本データ!AP431<>\"\",\"○\",\"\")","v":""},{"$f":"IF(基本データ!AQ431<>\"\",\"○\",\"\")","v":""},{"$f":"IF(基本データ!AR431<>\"\",\"○\",\"\")","v":""},{"$f":"IF(基本データ!AS431<>\"\",\"○\",\"\")","v":""},{"$f":"IF(基本データ!AT431<>\"\",\"○\",\"\")","v":""},{"$f":"IF(基本データ!AU431<>\"\",\"○\",\"\")","v":"○"},{"$f":"IF(基本データ!AV431<>\"\",\"○\",\"\")","v":"○"},{"$f":"IF(基本データ!AW431<>\"\",\"○\",\"\")","v":""},{"$f":"IF(基本データ!AX431<>\"\",\"○\",\"\")","v":""},{"$f":"IF(基本データ!AY431<>\"\",\"○\",\"\")","v":""},{"$f":"IF(基本データ!AZ431<>\"\",\"○\",\"\")","v":""},{"$f":"IF(基本データ!BA431<>\"\",\"○\",\"\")","v":""},{"$f":"IF(基本データ!BB431<>\"\",\"○\",\"\")","v":""},{"$f":"IF(基本データ!BC431<>\"\",\"○\",\"\")","v":""},{"$f":"IF(基本データ!BD431<>\"\",\"○\",\"\")","v":""},{"$f":"IF(基本データ!BE431<>\"\",\"○\",\"\")","v":""},{"$f":"IF(基本データ!BF431<>\"\",\"○\",\"\")","v":""},{"$f":"IF(基本データ!BG431<>\"\",\"○\",\"\")","v":""},{"$f":"基本データ!BN431","v":0},{"$f":"IF(基本データ!BH431<>\"\",\"○\",\"\")","v":""},{"$f":"IF(基本データ!BI431<>\"\",\"○\",\"\")","v":""},{"$f":"IF(基本データ!BJ431<>\"\",\"○\",\"\")","v":""},{"$f":"IF(基本データ!BK431<>\"\",\"○\",\"\")","v":""},{"$f":"IF(基本データ!BL431<>\"\",\"○\",\"\")","v":""},{"$f":"IF(基本データ!BM431<>\"\",\"○\",\"\")","v":""}]
[430,{"$f":"基本データ!J432","v":"青森県"},{"$f":"基本データ!B432","v":2025},{"$f":"基本データ!I432","v":"医療法人平成会 八戸平和病院"},{"$f":"基本データ!AL432","v":9},{"$f":"IF(基本データ!AM432<>\"\",\"○\",\"\")","v":"○"},{"$f":"IF(基本データ!AN432<>\"\",\"○\",\"\")","v":"○"},{"$f":"IF(基本データ!AO432<>\"\",\"○\",\"\")","v":"○"},{"$f":"IF(基本データ!AP432<>\"\",\"○\",\"\")","v":""},{"$f":"IF(基本データ!AQ432<>\"\",\"○\",\"\")","v":""},{"$f":"IF(基本データ!AR432<>\"\",\"○\",\"\")","v":""},{"$f":"IF(基本データ!AS432<>\"\",\"○\",\"\")","v":""},{"$f":"IF(基本データ!AT432<>\"\",\"○\",\"\")","v":""},{"$f":"IF(基本データ!AU432<>\"\",\"○\",\"\")","v":"○"},{"$f":"IF(基本データ!AV432<>\"\",\"○\",\"\")","v":""},{"$f":"IF(基本データ!AW432<>\"\",\"○\",\"\")","v":""},{"$f":"IF(基本データ!AX432<>\"\",\"○\",\"\")","v":""},{"$f":"IF(基本データ!AY432<>\"\",\"○\",\"\")","v":"○"},{"$f":"IF(基本データ!AZ432<>\"\",\"○\",\"\")","v":"○"},{"$f":"IF(基本データ!BA432<>\"\",\"○\",\"\")","v":"○"},{"$f":"IF(基本データ!BB432<>\"\",\"○\",\"\")","v":""},{"$f":"IF(基本データ!BC432<>\"\",\"○\",\"\")","v":""},{"$f":"IF(基本データ!BD432<>\"\",\"○\",\"\")","v":"○"},{"$f":"IF(基本データ!BE432<>\"\",\"○\",\"\")","v":"○"},{"$f":"IF(基本データ!BF432<>\"\",\"○\",\"\")","v":""},{"$f":"IF(基本データ!BG432<>\"\",\"○\",\"\")","v":""},{"$f":"基本データ!BN432","v":1},{"$f":"IF(基本データ!BH432<>\"\",\"○\",\"\")","v":""},{"$f":"IF(基本データ!BI432<>\"\",\"○\",\"\")","v":""},{"$f":"IF(基本データ!BJ432<>\"\",\"○\",\"\")","v":"○"},{"$f":"IF(基本データ!BK432<>\"\",\"○\",\"\")","v":""},{"$f":"IF(基本データ!BL432<>\"\",\"○\",\"\")","v":""},{"$f":"IF(基本データ!BM432<>\"\",\"○\",\"\")","v":""}]
[431,{"$f":"基本データ!J433","v":"青森県"},{"$f":"基本データ!B433","v":2025},{"$f":"基本データ!I433","v":"独立行政法人国立病院機構青森病院"},{"$f":"基本データ!AL433","v":4},{"$f":"IF(基本データ!AM433<>\"\",\"○\",\"\")","v":""},{"$f":"IF(基本データ!AN433<>\"\",\"○\",\"\")","v":""},{"$f":"IF(基本データ!AO433<>\"\",\"○\",\"\")","v":"○"},{"$f":"IF(基本データ!AP433<>\"\",\"○\",\"\")","v":""},{"$f":"IF(基本データ!AQ433<>\"\",\"○\",\"\")","v":""},{"$f":"IF(基本データ!AR433<>\"\",\"○\",\"\")","v":""},{"$f":"IF(基本データ!AS433<>\"\",\"○\",\"\")","v":""},{"$f":"IF(基本データ!AT433<>\"\",\"○\",\"\")","v":"○"},{"$f":"IF(基本データ!AU433<>\"\",\"○\",\"\")","v":""},{"$f":"IF(基本データ!AV433<>\"\",\"○\",\"\")","v":""},{"$f":"IF(基本データ!AW433<>\"\",\"○\",\"\")","v":"○"},{"$f":"IF(基本データ!AX433<>\"\",\"○\",\"\")","v":""},{"$f":"IF(基本データ!AY433<>\"\",\"○\",\"\")","v":""},{"$f":"IF(基本データ!AZ433<>\"\",\"○\",\"\")","v":""},{"$f":"IF(基本データ!BA433<>\"\",\"○\",\"\")","v":"○"},{"$f":"IF(基本データ!BB433<>\"\",\"○\",\"\")","v":""},{"$f":"IF(基本データ!BC433<>\"\",\"○\",\"\")","v":""},{"$f":"IF(基本データ!BD433<>\"\",\"○\",\"\")","v":""},{"$f":"IF(基本データ!BE433<>\"\",\"○\",\"\")","v":""},{"$f":"IF(基本データ!BF433<>\"\",\"○\",\"\")","v":""},{"$f":"IF(基本データ!BG433<>\"\",\"○\",\"\")","v":""},{"$f":"基本データ!BN433","v":1},{"$f":"IF(基本データ!BH433<>\"\",\"○\",\"\")","v":"○"},{"$f":"IF(基本データ!BI433<>\"\",\"○\",\"\")","v":""},{"$f":"IF(基本データ!BJ433<>\"\",\"○\",\"\")","v":""},{"$f":"IF(基本データ!BK433<>\"\",\"○\",\"\")","v":""},{"$f":"IF(基本データ!BL433<>\"\",\"○\",\"\")","v":""},{"$f":"IF(基本データ!BM433<>\"\",\"○\",\"\")","v":""}]
[432,{"$f":"基本データ!J434","v":"青森県"},{"$f":"基本データ!B434","v":2025},{"$f":"基本データ!I434","v":"弘前大学医学部附属病院"},{"$f":"基本データ!AL434","v":2},{"$f":"IF(基本データ!AM434<>\"\",\"○\",\"\")","v":""},{"$f":"IF(基本データ!AN434<>\"\",\"○\",\"\")","v":""},{"$f":"IF(基本データ!AO434<>\"\",\"○\",\"\")","v":""},{"$f":"IF(基本データ!AP434<>\"\",\"○\",\"\")","v":""},{"$f":"IF(基本データ!AQ434<>\"\",\"○\",\"\")","v":""},{"$f":"IF(基本データ!AR434<>\"\",\"○\",\"\")","v":""},{"$f":"IF(基本データ!AS434<>\"\",\"○\",\"\")","v":""},{"$f":"IF(基本データ!AT434<>\"\",\"○\",\"\")","v":""},{"$f":"IF(基本データ!AU434<>\"\",\"○\",\"\")","v":"○"},{"$f":"IF(基本データ!AV434<>\"\",\"○\",\"\")","v":"○"},{"$f":"IF(基本データ!AW434<>\"\",\"○\",\"\")","v":""},{"$f":"IF(基本データ!AX434<>\"\",\"○\",\"\")","v":""},{"$f":"IF(基本データ!AY434<>\"\",\"○\",\"\")","v":""},{"$f":"IF(基本データ!AZ434<>\"\",\"○\",\"\")","v":""},{"$f":"IF(基本データ!BA434<>\"\",\"○\",\"\")","v":""},{"$f":"IF(基本データ!BB434<>\"\",\"○\",\"\")","v":""},{"$f":"IF(基本データ!BC434<>\"\",\"○\",\"\")","v":""},{"$f":"IF(基本データ!BD434<>\"\",\"○\",\"\")","v":""},{"$f":"IF(基本データ!BE434<>\"\",\"○\",\"\")","v":""},{"$f":"IF(基本データ!BF434<>\"\",\"○\",\"\")","v":""},{"$f":"IF(基本データ!BG434<>\"\",\"○\",\"\")","v":""},{"$f":"基本データ!BN434","v":0},{"$f":"IF(基本データ!BH434<>\"\",\"○\",\"\")","v":""},{"$f":"IF(基本データ!BI434<>\"\",\"○\",\"\")","v":""},{"$f":"IF(基本データ!BJ434<>\"\",\"○\",\"\")","v":""},{"$f":"IF(基本データ!BK434<>\"\",\"○\",\"\")","v":""},{"$f":"IF(基本データ!BL434<>\"\",\"○\",\"\")","v":""},{"$f":"IF(基本データ!BM434<>\"\",\"○\",\"\")","v":""}]
[433,{"$f":"基本データ!J435","v":"宮城県"},{"$f":"基本データ!B435","v":2025},{"$f":"基本データ!I435","v":"社会福祉法人 陽光福祉会 仙台エコー医療療育センター"},{"$f":"基本データ!AL435","v":4},{"$f":"IF(基本データ!AM435<>\"\",\"○\",\"\")","v":""},{"$f":"IF(基本データ!AN435<>\"\",\"○\",\"\")","v":""},{"$f":"IF(基本データ!AO435<>\"\",\"○\",\"\")","v":"○"},{"$f":"IF(基本データ!AP435<>\"\",\"○\",\"\")","v":""},{"$f":"IF(基本データ!AQ435<>\"\",\"○\",\"\")","v":""},{"$f":"IF(基本データ!AR435<>\"\",\"○\",\"\")","v":""},{"$f":"IF(基本データ!AS435<>\"\",\"○\",\"\")","v":""},{"$f":"IF(基本データ!AT435<>\"\",\"○\",\"\")","v":"○"},{"$f":"IF(基本データ!AU435<>\"\",\"○\",\"\")","v":""},{"$f":"IF(基本データ!AV435<>\"\",\"○\",\"\")","v":""},{"$f":"IF(基本データ!AW435<>\"\",\"○\",\"\")","v":"○"},{"$f":"IF(基本データ!AX435<>\"\",\"○\",\"\")","v":""},{"$f":"IF(基本データ!AY435<>\"\",\"○\",\"\")","v":""},{"$f":"IF(基本データ!AZ435<>\"\",\"○\",\"\")","v":""},{"$f":"IF(基本データ!BA435<>\"\",\"○\",\"\")","v":"○"},{"$f":"IF(基本データ!BB435<>\"\",\"○\",\"\")","v":""},{"$f":"IF(基本データ!BC435<>\"\",\"○\",\"\")","v":""},{"$f":"IF(基本データ!BD435<>\"\",\"○\",\"\")","v":""},{"$f":"IF(基本データ!BE435<>\"\",\"○\",\"\")","v":""},{"$f":"IF(基本データ!BF435<>\"\",\"○\",\"\")","v":""},{"$f":"IF(基本データ!BG435<>\"\",\"○\",\"\")","v":""},{"$f":"基本データ!BN435","v":1},{"$f":"IF(基本データ!BH435<>\"\",\"○\",\"\")","v":"○"},{"$f":"IF(基本データ!BI435<>\"\",\"○\",\"\")","v":""},{"$f":"IF(基本データ!BJ435<>\"\",\"○\",\"\")","v":""},{"$f":"IF(基本データ!BK435<>\"\",\"○\",\"\")","v":""},{"$f":"IF(基本データ!BL435<>\"\",\"○\",\"\")","v":""},{"$f":"IF(基本データ!BM435<>\"\",\"○\",\"\")","v":""}]
[434,{"$f":"基本データ!J436","v":"秋田県"},{"$f":"基本データ!B436","v":2025},{"$f":"基本データ!I436","v":"地方独立行政法人秋田県立病院機構　秋田県立循環器・脳脊髄センター"},{"$f":"基本データ!AL436","v":1},{"$f":"IF(基本データ!AM436<>\"\",\"○\",\"\")","v":""},{"$f":"IF(基本データ!AN436<>\"\",\"○\",\"\")","v":""},{"$f":"IF(基本データ!AO436<>\"\",\"○\",\"\")","v":""},{"$f":"IF(基本データ!AP436<>\"\",\"○\",\"\")","v":""},{"$f":"IF(基本データ!AQ436<>\"\",\"○\",\"\")","v":""},{"$f":"IF(基本データ!AR436<>\"\",\"○\",\"\")","v":""},{"$f":"IF(基本データ!AS436<>\"\",\"○\",\"\")","v":""},{"$f":"IF(基本データ!AT436<>\"\",\"○\",\"\")","v":""},{"$f":"IF(基本データ!AU436<>\"\",\"○\",\"\")","v":""},{"$f":"IF(基本データ!AV436<>\"\",\"○\",\"\")","v":"○"},{"$f":"IF(基本データ!AW436<>\"\",\"○\",\"\")","v":""},{"$f":"IF(基本データ!AX436<>\"\",\"○\",\"\")","v":""},{"$f":"IF(基本データ!AY436<>\"\",\"○\",\"\")","v":""},{"$f":"IF(基本データ!AZ436<>\"\",\"○\",\"\")","v":""},{"$f":"IF(基本データ!BA436<>\"\",\"○\",\"\")","v":""},{"$f":"IF(基本データ!BB436<>\"\",\"○\",\"\")","v":""},{"$f":"IF(基本データ!BC436<>\"\",\"○\",\"\")","v":""},{"$f":"IF(基本データ!BD436<>\"\",\"○\",\"\")","v":""},{"$f":"IF(基本データ!BE436<>\"\",\"○\",\"\")","v":""},{"$f":"IF(基本データ!BF436<>\"\",\"○\",\"\")","v":""},{"$f":"IF(基本データ!BG436<>\"\",\"○\",\"\")","v":""},{"$f":"基本データ!BN436","v":0},{"$f":"IF(基本データ!BH436<>\"\",\"○\",\"\")","v":""},{"$f":"IF(基本データ!BI436<>\"\",\"○\",\"\")","v":""},{"$f":"IF(基本データ!BJ436<>\"\",\"○\",\"\")","v":""},{"$f":"IF(基本データ!BK436<>\"\",\"○\",\"\")","v":""},{"$f":"IF(基本データ!BL436<>\"\",\"○\",\"\")","v":""},{"$f":"IF(基本データ!BM436<>\"\",\"○\",\"\")","v":""}]
[435,{"$f":"基本データ!J437","v":"埼玉県"},{"$f":"基本データ!B437","v":2025},{"$f":"基本データ!I437","v":"さいたま市立病院"},{"$f":"基本データ!AL437","v":4},{"$f":"IF(基本データ!AM437<>\"\",\"○\",\"\")","v":""},{"$f":"IF(基本データ!AN437<>\"\",\"○\",\"\")","v":"○"},{"$f":"IF(基本データ!AO437<>\"\",\"○\",\"\")","v":""},{"$f":"IF(基本データ!AP437<>\"\",\"○\",\"\")","v":""},{"$f":"IF(基本データ!AQ437<>\"\",\"○\",\"\")","v":""},{"$f":"IF(基本データ!AR437<>\"\",\"○\",\"\")","v":""},{"$f":"IF(基本データ!AS437<>\"\",\"○\",\"\")","v":""},{"$f":"IF(基本データ!AT437<>\"\",\"○\",\"\")","v":""},{"$f":"IF(基本データ!AU437<>\"\",\"○\",\"\")","v":""},{"$f":"IF(基本データ!AV437<>\"\",\"○\",\"\")","v":""},{"$f":"IF(基本データ!AW437<>\"\",\"○\",\"\")","v":""},{"$f":"IF(基本データ!AX437<>\"\",\"○\",\"\")","v":""},{"$f":"IF(基本データ!AY437<>\"\",\"○\",\"\")","v":"○"},{"$f":"IF(基本データ!AZ437<>\"\",\"○\",\"\")","v":""},{"$f":"IF(基本データ!BA437<>\"\",\"○\",\"\")","v":"○"},{"$f":"IF(基本データ!BB437<>\"\",\"○\",\"\")","v":""},{"$f":"IF(基本データ!BC437<>\"\",\"○\",\"\")","v":""},{"$f":"IF(基本データ!BD437<>\"\",\"○\",\"\")","v":""},{"$f":"IF(基本データ!BE437<>\"\",\"○\",\"\")","v":"○"},{"$f":"IF(基本データ!BF437<>\"\",\"○\",\"\")","v":""},{"$f":"IF(基本データ!BG437<>\"\",\"○\",\"\")","v":""},{"$f":"基本データ!BN437","v":0},{"$f":"IF(基本データ!BH437<>\"\",\"○\",\"\")","v":""},{"$f":"IF(基本データ!BI437<>\"\",\"○\",\"\")","v":""},{"$f":"IF(基本データ!BJ437<>\"\",\"○\",\"\")","v":""},{"$f":"IF(基本データ!BK437<>\"\",\"○\",\"\")","v":""},{"$f":"IF(基本データ!BL437<>\"\",\"○\",\"\")","v":""},{"$f":"IF(基本データ!BM437<>\"\",\"○\",\"\")","v":""}]
[436,{"$f":"基本データ!J438","v":"千葉県"},{"$f":"基本データ!B438","v":2025},{"$f":"基本データ!I438","v":"東京女子医科大学附属八千代医療センター"},{"$f":"基本データ!AL438","v":13},{"$f":"IF(基本データ!AM438<>\"\",\"○\",\"\")","v":"○"},{"$f":"IF(基本データ!AN438<>\"\",\"○\",\"\")","v":"○"},{"$f":"IF(基本データ!AO438<>\"\",\"○\",\"\")","v":"○"},{"$f":"IF(基本データ!AP438<>\"\",\"○\",\"\")","v":""},{"$f":"IF(基本データ!AQ438<>\"\",\"○\",\"\")","v":""},{"$f":"IF(基本データ!AR438<>\"\",\"○\",\"\")","v":"○"},{"$f":"IF(基本データ!AS438<>\"\",\"○\",\"\")","v":"○"},{"$f":"IF(基本データ!AT438<>\"\",\"○\",\"\")","v":""},{"$f":"IF(基本データ!AU438<>\"\",\"○\",\"\")","v":"○"},{"$f":"IF(基本データ!AV438<>\"\",\"○\",\"\")","v":"○"},{"$f":"IF(基本データ!AW438<>\"\",\"○\",\"\")","v":""},{"$f":"IF(基本データ!AX438<>\"\",\"○\",\"\")","v":"○"},{"$f":"IF(基本データ!AY438<>\"\",\"○\",\"\")","v":"○"},{"$f":"IF(基本データ!AZ438<>\"\",\"○\",\"\")","v":""},{"$f":"IF(基本データ!BA438<>\"\",\"○\",\"\")","v":"○"},{"$f":"IF(基本データ!BB438<>\"\",\"○\",\"\")","v":""},{"$f":"IF(基本データ!BC438<>\"\",\"○\",\"\")","v":""},{"$f":"IF(基本データ!BD438<>\"\",\"○\",\"\")","v":"○"},{"$f":"IF(基本データ!BE438<>\"\",\"○\",\"\")","v":"○"},{"$f":"IF(基本データ!BF438<>\"\",\"○\",\"\")","v":"○"},{"$f":"IF(基本データ!BG438<>\"\",\"○\",\"\")","v":""},{"$f":"基本データ!BN438","v":2},{"$f":"IF(基本データ!BH438<>\"\",\"○\",\"\")","v":""},{"$f":"IF(基本データ!BI438<>\"\",\"○\",\"\")","v":"○"},{"$f":"IF(基本データ!BJ438<>\"\",\"○\",\"\")","v":""},{"$f":"IF(基本データ!BK438<>\"\",\"○\",\"\")","v":"○"},{"$f":"IF(基本データ!BL438<>\"\",\"○\",\"\")","v":""},{"$f":"IF(基本データ!BM438<>\"\",\"○\",\"\")","v":""}]
[437,{"$f":"基本データ!J439","v":"東京都"},{"$f":"基本データ!B439","v":2025},{"$f":"基本データ!I439","v":"医療法人伯鳳会　東京曳舟病院"},{"$f":"基本データ!AL439","v":3},{"$f":"IF(基本データ!AM439<>\"\",\"○\",\"\")","v":""},{"$f":"IF(基本データ!AN439<>\"\",\"○\",\"\")","v":""},{"$f":"IF(基本データ!AO439<>\"\",\"○\",\"\")","v":""},{"$f":"IF(基本データ!AP439<>\"\",\"○\",\"\")","v":""},{"$f":"IF(基本データ!AQ439<>\"\",\"○\",\"\")","v":""},{"$f":"IF(基本データ!AR439<>\"\",\"○\",\"\")","v":""},{"$f":"IF(基本データ!AS439<>\"\",\"○\",\"\")","v":""},{"$f":"IF(基本データ!AT439<>\"\",\"○\",\"\")","v":""},{"$f":"IF(基本データ!AU439<>\"\",\"○\",\"\")","v":"○"},{"$f":"IF(基本データ!AV439<>\"\",\"○\",\"\")","v":"○"},{"$f":"IF(基本データ!AW439<>\"\",\"○\",\"\")","v":""},{"$f":"IF(基本データ!AX439<>\"\",\"○\",\"\")","v":""},{"$f":"IF(基本データ!AY439<>\"\",\"○\",\"\")","v":"○"},{"$f":"IF(基本データ!AZ439<>\"\",\"○\",\"\")","v":""},{"$f":"IF(基本データ!BA439<>\"\",\"○\",\"\")","v":""},{"$f":"IF(基本データ!BB439<>\"\",\"○\",\"\")","v":""},{"$f":"IF(基本データ!BC439<>\"\",\"○\",\"\")","v":""},{"$f":"IF(基本データ!BD439<>\"\",\"○\",\"\")","v":""},{"$f":"IF(基本データ!BE439<>\"\",\"○\",\"\")","v":""},{"$f":"IF(基本データ!BF439<>\"\",\"○\",\"\")","v":""},{"$f":"IF(基本データ!BG439<>\"\",\"○\",\"\")","v":""},{"$f":"基本データ!BN439","v":0},{"$f":"IF(基本データ!BH439<>\"\",\"○\",\"\")","v":""},{"$f":"IF(基本データ!BI439<>\"\",\"○\",\"\")","v":""},{"$f":"IF(基本データ!BJ439<>\"\",\"○\",\"\")","v":""},{"$f":"IF(基本データ!BK439<>\"\",\"○\",\"\")","v":""},{"$f":"IF(基本データ!BL439<>\"\",\"○\",\"\")","v":""},{"$f":"IF(基本データ!BM439<>\"\",\"○\",\"\")","v":""}]
[438,{"$f":"基本データ!J440","v":"東京都"},{"$f":"基本データ!B440","v":2025},{"$f":"基本データ!I440","v":"学校法人帝京大学大学院医療技術学研究科看護学専攻"},{"$f":"基本データ!AL440","v":20},{"$f":"IF(基本データ!AM440<>\"\",\"○\",\"\")","v":"○"},{"$f":"IF(基本データ!AN440<>\"\",\"○\",\"\")","v":"○"},{"$f":"IF(基本データ!AO440<>\"\",\"○\",\"\")","v":"○"},{"$f":"IF(基本データ!AP440<>\"\",\"○\",\"\")","v":"○"},{"$f":"IF(基本データ!AQ440<>\"\",\"○\",\"\")","v":"○"},{"$f":"IF(基本データ!AR440<>\"\",\"○\",\"\")","v":"○"},{"$f":"IF(基本データ!AS440<>\"\",\"○\",\"\")","v":"○"},{"$f":"IF(基本データ!AT440<>\"\",\"○\",\"\")","v":"○"},{"$f":"IF(基本データ!AU440<>\"\",\"○\",\"\")","v":"○"},{"$f":"IF(基本データ!AV440<>\"\",\"○\",\"\")","v":"○"},{"$f":"IF(基本データ!AW440<>\"\",\"○\",\"\")","v":"○"},{"$f":"IF(基本データ!AX440<>\"\",\"○\",\"\")","v":"○"},{"$f":"IF(基本データ!AY440<>\"\",\"○\",\"\")","v":"○"},{"$f":"IF(基本データ!AZ440<>\"\",\"○\",\"\")","v":"○"},{"$f":"IF(基本データ!BA440<>\"\",\"○\",\"\")","v":"○"},{"$f":"IF(基本データ!BB440<>\"\",\"○\",\"\")","v":"○"},{"$f":"IF(基本データ!BC440<>\"\",\"○\",\"\")","v":"○"},{"$f":"IF(基本データ!BD440<>\"\",\"○\",\"\")","v":"○"},{"$f":"IF(基本データ!BE440<>\"\",\"○\",\"\")","v":"○"},{"$f":"IF(基本データ!BF440<>\"\",\"○\",\"\")","v":"○"},{"$f":"IF(基本データ!BG440<>\"\",\"○\",\"\")","v":""},{"$f":"基本データ!BN440","v":0},{"$f":"IF(基本データ!BH440<>\"\",\"○\",\"\")","v":""},{"$f":"IF(基本データ!BI440<>\"\",\"○\",\"\")","v":""},{"$f":"IF(基本データ!BJ440<>\"\",\"○\",\"\")","v":""},{"$f":"IF(基本データ!BK440<>\"\",\"○\",\"\")","v":""},{"$f":"IF(基本データ!BL440<>\"\",\"○\",\"\")","v":""},{"$f":"IF(基本データ!BM440<>\"\",\"○\",\"\")","v":""}]
[439,{"$f":"基本データ!J441","v":"東京都"},{"$f":"基本データ!B441","v":2025},{"$f":"基本データ!I441","v":"学校法人帝京大学　帝京大学医学部附属病院"},{"$f":"基本データ!AL441","v":8},{"$f":"IF(基本データ!AM441<>\"\",\"○\",\"\")","v":""},{"$f":"IF(基本データ!AN441<>\"\",\"○\",\"\")","v":"○"},{"$f":"IF(基本データ!AO441<>\"\",\"○\",\"\")","v":""},{"$f":"IF(基本データ!AP441<>\"\",\"○\",\"\")","v":""},{"$f":"IF(基本データ!AQ441<>\"\",\"○\",\"\")","v":""},{"$f":"IF(基本データ!AR441<>\"\",\"○\",\"\")","v":""},{"$f":"IF(基本データ!AS441<>\"\",\"○\",\"\")","v":""},{"$f":"IF(基本データ!AT441<>\"\",\"○\",\"\")","v":""},{"$f":"IF(基本データ!AU441<>\"\",\"○\",\"\")","v":"○"},{"$f":"IF(基本データ!AV441<>\"\",\"○\",\"\")","v":""},{"$f":"IF(基本データ!AW441<>\"\",\"○\",\"\")","v":""},{"$f":"IF(基本データ!AX441<>\"\",\"○\",\"\")","v":"○"},{"$f":"IF(基本データ!AY441<>\"\",\"○\",\"\")","v":"○"},{"$f":"IF(基本データ!AZ441<>\"\",\"○\",\"\")","v":""},{"$f":"IF(基本データ!BA441<>\"\",\"○\",\"\")","v":"○"},{"$f":"IF(基本データ!BB441<>\"\",\"○\",\"\")","v":""},{"$f":"IF(基本データ!BC441<>\"\",\"○\",\"\")","v":"○"},{"$f":"IF(基本データ!BD441<>\"\",\"○\",\"\")","v":"○"},{"$f":"IF(基本データ!BE441<>\"\",\"○\",\"\")","v":"○"},{"$f":"IF(基本データ!BF441<>\"\",\"○\",\"\")","v":""},{"$f":"IF(基本データ!BG441<>\"\",\"○\",\"\")","v":""},{"$f":"基本データ!BN441","v":0},{"$f":"IF(基本データ!BH441<>\"\",\"○\",\"\")","v":""},{"$f":"IF(基本データ!BI441<>\"\",\"○\",\"\")","v":""},{"$f":"IF(基本データ!BJ441<>\"\",\"○\",\"\")","v":""},{"$f":"IF(基本データ!BK441<>\"\",\"○\",\"\")","v":""},{"$f":"IF(基本データ!BL441<>\"\",\"○\",\"\")","v":""},{"$f":"IF(基本データ!BM441<>\"\",\"○\",\"\")","v":""}]
[440,{"$f":"基本データ!J442","v":"東京都"},{"$f":"基本データ!B442","v":2025},{"$f":"基本データ!I442","v":"学校法人東京医科大学　東京医科大学病院"},{"$f":"基本データ!AL442","v":6},{"$f":"IF(基本データ!AM442<>\"\",\"○\",\"\")","v":"○"},{"$f":"IF(基本データ!AN442<>\"\",\"○\",\"\")","v":"○"},{"$f":"IF(基本データ!AO442<>\"\",\"○\",\"\")","v":""},{"$f":"IF(基本データ!AP442<>\"\",\"○\",\"\")","v":""},{"$f":"IF(基本データ!AQ442<>\"\",\"○\",\"\")","v":""},{"$f":"IF(基本データ!AR442<>\"\",\"○\",\"\")","v":""},{"$f":"IF(基本データ!AS442<>\"\",\"○\",\"\")","v":""},{"$f":"IF(基本データ!AT442<>\"\",\"○\",\"\")","v":""},{"$f":"IF(基本データ!AU442<>\"\",\"○\",\"\")","v":""},{"$f":"IF(基本データ!AV442<>\"\",\"○\",\"\")","v":""},{"$f":"IF(基本データ!AW442<>\"\",\"○\",\"\")","v":""},{"$f":"IF(基本データ!AX442<>\"\",\"○\",\"\")","v":""},{"$f":"IF(基本データ!AY442<>\"\",\"○\",\"\")","v":"○"},{"$f":"IF(基本データ!AZ442<>\"\",\"○\",\"\")","v":""},{"$f":"IF(基本データ!BA442<>\"\",\"○\",\"\")","v":"○"},{"$f":"IF(基本データ!BB442<>\"\",\"○\",\"\")","v":""},{"$f":"IF(基本データ!BC442<>\"\",\"○\",\"\")","v":""},{"$f":"IF(基本データ!BD442<>\"\",\"○\",\"\")","v":"○"},{"$f":"IF(基本データ!BE442<>\"\",\"○\",\"\")","v":"○"},{"$f":"IF(基本データ!BF442<>\"\",\"○\",\"\")","v":""},{"$f":"IF(基本データ!BG442<>\"\",\"○\",\"\")","v":""},{"$f":"基本データ!BN442","v":1},{"$f":"IF(基本データ!BH442<>\"\",\"○\",\"\")","v":""},{"$f":"IF(基本データ!BI442<>\"\",\"○\",\"\")","v":""},{"$f":"IF(基本データ!BJ442<>\"\",\"○\",\"\")","v":"○"},{"$f":"IF(基本データ!BK442<>\"\",\"○\",\"\")","v":""},{"$f":"IF(基本データ!BL442<>\"\",\"○\",\"\")","v":""},{"$f":"IF(基本データ!BM442<>\"\",\"○\",\"\")","v":""}]
[441,{"$f":"基本データ!J443","v":"東京都"},{"$f":"基本データ!B443","v":2025},{"$f":"基本データ!I443","v":"国家公務員共済組合連合会虎の門病院"},{"$f":"基本データ!AL443","v":9},{"$f":"IF(基本データ!AM443<>\"\",\"○\",\"\")","v":"○"},{"$f":"IF(基本データ!AN443<>\"\",\"○\",\"\")","v":"○"},{"$f":"IF(基本データ!AO443<>\"\",\"○\",\"\")","v":""},{"$f":"IF(基本データ!AP443<>\"\",\"○\",\"\")","v":""},{"$f":"IF(基本データ!AQ443<>\"\",\"○\",\"\")","v":""},{"$f":"IF(基本データ!AR443<>\"\",\"○\",\"\")","v":""},{"$f":"IF(基本データ!AS443<>\"\",\"○\",\"\")","v":""},{"$f":"IF(基本データ!AT443<>\"\",\"○\",\"\")","v":""},{"$f":"IF(基本データ!AU443<>\"\",\"○\",\"\")","v":"○"},{"$f":"IF(基本データ!AV443<>\"\",\"○\",\"\")","v":"○"},{"$f":"IF(基本データ!AW443<>\"\",\"○\",\"\")","v":"○"},{"$f":"IF(基本データ!AX443<>\"\",\"○\",\"\")","v":""},{"$f":"IF(基本データ!AY443<>\"\",\"○\",\"\")","v":"○"},{"$f":"IF(基本データ!AZ443<>\"\",\"○\",\"\")","v":""},{"$f":"IF(基本データ!BA443<>\"\",\"○\",\"\")","v":"○"},{"$f":"IF(基本データ!BB443<>\"\",\"○\",\"\")","v":""},{"$f":"IF(基本データ!BC443<>\"\",\"○\",\"\")","v":""},{"$f":"IF(基本データ!BD443<>\"\",\"○\",\"\")","v":"○"},{"$f":"IF(基本データ!BE443<>\"\",\"○\",\"\")","v":"○"},{"$f":"IF(基本データ!BF443<>\"\",\"○\",\"\")","v":""},{"$f":"IF(基本データ!BG443<>\"\",\"○\",\"\")","v":""},{"$f":"基本データ!BN443","v":1},{"$f":"IF(基本データ!BH443<>\"\",\"○\",\"\")","v":""},{"$f":"IF(基本データ!BI443<>\"\",\"○\",\"\")","v":""},{"$f":"IF(基本データ!BJ443<>\"\",\"○\",\"\")","v":"○"},{"$f":"IF(基本データ!BK443<>\"\",\"○\",\"\")","v":""},{"$f":"IF(基本データ!BL443<>\"\",\"○\",\"\")","v":""},{"$f":"IF(基本データ!BM443<>\"\",\"○\",\"\")","v":""}]
[442,{"$f":"基本データ!J444","v":"東京都"},{"$f":"基本データ!B444","v":2025},{"$f":"基本データ!I444","v":"東京女子医科大学病院"},{"$f":"基本データ!AL444","v":14},{"$f":"IF(基本データ!AM444<>\"\",\"○\",\"\")","v":"○"},{"$f":"IF(基本データ!AN444<>\"\",\"○\",\"\")","v":"○"},{"$f":"IF(基本データ!AO444<>\"\",\"○\",\"\")","v":"○"},{"$f":"IF(基本データ!AP444<>\"\",\"○\",\"\")","v":""},{"$f":"IF(基本データ!AQ444<>\"\",\"○\",\"\")","v":""},{"$f":"IF(基本データ!AR444<>\"\",\"○\",\"\")","v":"○"},{"$f":"IF(基本データ!AS444<>\"\",\"○\",\"\")","v":"○"},{"$f":"IF(基本データ!AT444<>\"\",\"○\",\"\")","v":""},{"$f":"IF(基本データ!AU444<>\"\",\"○\",\"\")","v":"○"},{"$f":"IF(基本データ!AV444<>\"\",\"○\",\"\")","v":"○"},{"$f":"IF(基本データ!AW444<>\"\",\"○\",\"\")","v":""},{"$f":"IF(基本データ!AX444<>\"\",\"○\",\"\")","v":"○"},{"$f":"IF(基本データ!AY444<>\"\",\"○\",\"\")","v":"○"},{"$f":"IF(基本データ!AZ444<>\"\",\"○\",\"\")","v":"○"},{"$f":"IF(基本データ!BA444<>\"\",\"○\",\"\")","v":"○"},{"$f":"IF(基本データ!BB444<>\"\",\"○\",\"\")","v":""},{"$f":"IF(基本データ!BC444<>\"\",\"○\",\"\")","v":""},{"$f":"IF(基本データ!BD444<>\"\",\"○\",\"\")","v":"○"},{"$f":"IF(基本データ!BE444<>\"\",\"○\",\"\")","v":"○"},{"$f":"IF(基本データ!BF444<>\"\",\"○\",\"\")","v":"○"},{"$f":"IF(基本データ!BG444<>\"\",\"○\",\"\")","v":""},{"$f":"基本データ!BN444","v":3},{"$f":"IF(基本データ!BH444<>\"\",\"○\",\"\")","v":""},{"$f":"IF(基本データ!BI444<>\"\",\"○\",\"\")","v":"○"},{"$f":"IF(基本データ!BJ444<>\"\",\"○\",\"\")","v":"○"},{"$f":"IF(基本データ!BK444<>\"\",\"○\",\"\")","v":"○"},{"$f":"IF(基本データ!BL444<>\"\",\"○\",\"\")","v":""},{"$f":"IF(基本データ!BM444<>\"\",\"○\",\"\")","v":""}]
[443,{"$f":"基本データ!J445","v":"東京都"},{"$f":"基本データ!B445","v":2025},{"$f":"基本データ!I445","v":"東京女子医科大学附属足立医療センター"},{"$f":"基本データ!AL445","v":13},{"$f":"IF(基本データ!AM445<>\"\",\"○\",\"\")","v":"○"},{"$f":"IF(基本データ!AN445<>\"\",\"○\",\"\")","v":"○"},{"$f":"IF(基本データ!AO445<>\"\",\"○\",\"\")","v":"○"},{"$f":"IF(基本データ!AP445<>\"\",\"○\",\"\")","v":""},{"$f":"IF(基本データ!AQ445<>\"\",\"○\",\"\")","v":""},{"$f":"IF(基本データ!AR445<>\"\",\"○\",\"\")","v":""},{"$f":"IF(基本データ!AS445<>\"\",\"○\",\"\")","v":""},{"$f":"IF(基本データ!AT445<>\"\",\"○\",\"\")","v":"○"},{"$f":"IF(基本データ!AU445<>\"\",\"○\",\"\")","v":"○"},{"$f":"IF(基本データ!AV445<>\"\",\"○\",\"\")","v":"○"},{"$f":"IF(基本データ!AW445<>\"\",\"○\",\"\")","v":"○"},{"$f":"IF(基本データ!AX445<>\"\",\"○\",\"\")","v":""},{"$f":"IF(基本データ!AY445<>\"\",\"○\",\"\")","v":"○"},{"$f":"IF(基本データ!AZ445<>\"\",\"○\",\"\")","v":""},{"$f":"IF(基本データ!BA445<>\"\",\"○\",\"\")","v":"○"},{"$f":"IF(基本データ!BB445<>\"\",\"○\",\"\")","v":""},{"$f":"IF(基本データ!BC445<>\"\",\"○\",\"\")","v":"○"},{"$f":"IF(基本データ!BD445<>\"\",\"○\",\"\")","v":"○"},{"$f":"IF(基本データ!BE445<>\"\",\"○\",\"\")","v":"○"},{"$f":"IF(基本データ!BF445<>\"\",\"○\",\"\")","v":"○"},{"$f":"IF(基本データ!BG445<>\"\",\"○\",\"\")","v":""},{"$f":"基本データ!BN445","v":3},{"$f":"IF(基本データ!BH445<>\"\",\"○\",\"\")","v":"○"},{"$f":"IF(基本データ!BI445<>\"\",\"○\",\"\")","v":""},{"$f":"IF(基本データ!BJ445<>\"\",\"○\",\"\")","v":"○"},{"$f":"IF(基本データ!BK445<>\"\",\"○\",\"\")","v":"○"},{"$f":"IF(基本データ!BL445<>\"\",\"○\",\"\")","v":""},{"$f":"IF(基本データ!BM445<>\"\",\"○\",\"\")","v":""}]
[444,{"$f":"基本データ!J446","v":"神奈川県"},{"$f":"基本データ!B446","v":2025},{"$f":"基本データ!I446","v":"川崎市立看護大学大学院"},{"$f":"基本データ!AL446","v":16},{"$f":"IF(基本データ!AM446<>\"\",\"○\",\"\")","v":"○"},{"$f":"IF(基本データ!AN446<>\"\",\"○\",\"\")","v":"○"},{"$f":"IF(基本データ!AO446<>\"\",\"○\",\"\")","v":"○"},{"$f":"IF(基本データ!AP446<>\"\",\"○\",\"\")","v":""},{"$f":"IF(基本データ!AQ446<>\"\",\"○\",\"\")","v":""},{"$f":"IF(基本データ!AR446<>\"\",\"○\",\"\")","v":"○"},{"$f":"IF(基本データ!AS446<>\"\",\"○\",\"\")","v":"○"},{"$f":"IF(基本データ!AT446<>\"\",\"○\",\"\")","v":"○"},{"$f":"IF(基本データ!AU446<>\"\",\"○\",\"\")","v":"○"},{"$f":"IF(基本データ!AV446<>\"\",\"○\",\"\")","v":"○"},{"$f":"IF(基本データ!AW446<>\"\",\"○\",\"\")","v":"○"},{"$f":"IF(基本データ!AX446<>\"\",\"○\",\"\")","v":"○"},{"$f":"IF(基本データ!AY446<>\"\",\"○\",\"\")","v":"○"},{"$f":"IF(基本データ!AZ446<>\"\",\"○\",\"\")","v":""},{"$f":"IF(基本データ!BA446<>\"\",\"○\",\"\")","v":"○"},{"$f":"IF(基本データ!BB446<>\"\",\"○\",\"\")","v":"○"},{"$f":"IF(基本データ!BC446<>\"\",\"○\",\"\")","v":""},{"$f":"IF(基本データ!BD446<>\"\",\"○\",\"\")","v":"○"},{"$f":"IF(基本データ!BE446<>\"\",\"○\",\"\")","v":"○"},{"$f":"IF(基本データ!BF446<>\"\",\"○\",\"\")","v":"○"},{"$f":"IF(基本データ!BG446<>\"\",\"○\",\"\")","v":""},{"$f":"基本データ!BN446","v":2},{"$f":"IF(基本データ!BH446<>\"\",\"○\",\"\")","v":"○"},{"$f":"IF(基本データ!BI446<>\"\",\"○\",\"\")","v":"○"},{"$f":"IF(基本データ!BJ446<>\"\",\"○\",\"\")","v":""},{"$f":"IF(基本データ!BK446<>\"\",\"○\",\"\")","v":""},{"$f":"IF(基本データ!BL446<>\"\",\"○\",\"\")","v":""},{"$f":"IF(基本データ!BM446<>\"\",\"○\",\"\")","v":""}]
[445,{"$f":"基本データ!J447","v":"神奈川県"},{"$f":"基本データ!B447","v":2025},{"$f":"基本データ!I447","v":"国家公務員共済組合連合会 横浜南共済病院"},{"$f":"基本データ!AL447","v":9},{"$f":"IF(基本データ!AM447<>\"\",\"○\",\"\")","v":"○"},{"$f":"IF(基本データ!AN447<>\"\",\"○\",\"\")","v":"○"},{"$f":"IF(基本データ!AO447<>\"\",\"○\",\"\")","v":""},{"$f":"IF(基本データ!AP447<>\"\",\"○\",\"\")","v":""},{"$f":"IF(基本データ!AQ447<>\"\",\"○\",\"\")","v":""},{"$f":"IF(基本データ!AR447<>\"\",\"○\",\"\")","v":""},{"$f":"IF(基本データ!AS447<>\"\",\"○\",\"\")","v":""},{"$f":"IF(基本データ!AT447<>\"\",\"○\",\"\")","v":""},{"$f":"IF(基本データ!AU447<>\"\",\"○\",\"\")","v":"○"},{"$f":"IF(基本データ!AV447<>\"\",\"○\",\"\")","v":"○"},{"$f":"IF(基本データ!AW447<>\"\",\"○\",\"\")","v":"○"},{"$f":"IF(基本データ!AX447<>\"\",\"○\",\"\")","v":""},{"$f":"IF(基本データ!AY447<>\"\",\"○\",\"\")","v":"○"},{"$f":"IF(基本データ!AZ447<>\"\",\"○\",\"\")","v":""},{"$f":"IF(基本データ!BA447<>\"\",\"○\",\"\")","v":"○"},{"$f":"IF(基本データ!BB447<>\"\",\"○\",\"\")","v":""},{"$f":"IF(基本データ!BC447<>\"\",\"○\",\"\")","v":""},{"$f":"IF(基本データ!BD447<>\"\",\"○\",\"\")","v":"○"},{"$f":"IF(基本データ!BE447<>\"\",\"○\",\"\")","v":"○"},{"$f":"IF(基本データ!BF447<>\"\",\"○\",\"\")","v":""},{"$f":"IF(基本データ!BG447<>\"\",\"○\",\"\")","v":""},{"$f":"基本データ!BN447","v":0},{"$f":"IF(基本データ!BH447<>\"\",\"○\",\"\")","v":""},{"$f":"IF(基本データ!BI447<>\"\",\"○\",\"\")","v":""},{"$f":"IF(基本データ!BJ447<>\"\",\"○\",\"\")","v":""},{"$f":"IF(基本データ!BK447<>\"\",\"○\",\"\")","v":""},{"$f":"IF(基本データ!BL447<>\"\",\"○\",\"\")","v":""},{"$f":"IF(基本データ!BM447<>\"\",\"○\",\"\")","v":""}]
[446,{"$f":"基本データ!J448","v":"神奈川県"},{"$f":"基本データ!B448","v":2025},{"$f":"基本データ!I448","v":"社会医療法人社団三思会　看護職キャリア支援センター"},{"$f":"基本データ!AL448","v":7},{"$f":"IF(基本データ!AM448<>\"\",\"○\",\"\")","v":""},{"$f":"IF(基本データ!AN448<>\"\",\"○\",\"\")","v":""},{"$f":"IF(基本データ!AO448<>\"\",\"○\",\"\")","v":"○"},{"$f":"IF(基本データ!AP448<>\"\",\"○\",\"\")","v":""},{"$f":"IF(基本データ!AQ448<>\"\",\"○\",\"\")","v":""},{"$f":"IF(基本データ!AR448<>\"\",\"○\",\"\")","v":"○"},{"$f":"IF(基本データ!AS448<>\"\",\"○\",\"\")","v":""},{"$f":"IF(基本データ!AT448<>\"\",\"○\",\"\")","v":"○"},{"$f":"IF(基本データ!AU448<>\"\",\"○\",\"\")","v":""},{"$f":"IF(基本データ!AV448<>\"\",\"○\",\"\")","v":""},{"$f":"IF(基本データ!AW448<>\"\",\"○\",\"\")","v":"○"},{"$f":"IF(基本データ!AX448<>\"\",\"○\",\"\")","v":"○"},{"$f":"IF(基本データ!AY448<>\"\",\"○\",\"\")","v":"○"},{"$f":"IF(基本データ!AZ448<>\"\",\"○\",\"\")","v":""},{"$f":"IF(基本データ!BA448<>\"\",\"○\",\"\")","v":"○"},{"$f":"IF(基本データ!BB448<>\"\",\"○\",\"\")","v":""},{"$f":"IF(基本データ!BC448<>\"\",\"○\",\"\")","v":""},{"$f":"IF(基本データ!BD448<>\"\",\"○\",\"\")","v":""},{"$f":"IF(基本データ!BE448<>\"\",\"○\",\"\")","v":""},{"$f":"IF(基本データ!BF448<>\"\",\"○\",\"\")","v":""},{"$f":"IF(基本データ!BG448<>\"\",\"○\",\"\")","v":""},{"$f":"基本データ!BN448","v":0},{"$f":"IF(基本データ!BH448<>\"\",\"○\",\"\")","v":""},{"$f":"IF(基本データ!BI448<>\"\",\"○\",\"\")","v":""},{"$f":"IF(基本データ!BJ448<>\"\",\"○\",\"\")","v":""},{"$f":"IF(基本データ!BK448<>\"\",\"○\",\"\")","v":""},{"$f":"IF(基本データ!BL448<>\"\",\"○\",\"\")","v":""},{"$f":"IF(基本データ!BM448<>\"\",\"○\",\"\")","v":""}]
[447,{"$f":"基本データ!J449","v":"神奈川県"},{"$f":"基本データ!B449","v":2025},{"$f":"基本データ!I449","v":"昭和医科大学横浜市北部病院"},{"$f":"基本データ!AL449","v":12},{"$f":"IF(基本データ!AM449<>\"\",\"○\",\"\")","v":"○"},{"$f":"IF(基本データ!AN449<>\"\",\"○\",\"\")","v":"○"},{"$f":"IF(基本データ!AO449<>\"\",\"○\",\"\")","v":""},{"$f":"IF(基本データ!AP449<>\"\",\"○\",\"\")","v":"○"},{"$f":"IF(基本データ!AQ449<>\"\",\"○\",\"\")","v":""},{"$f":"IF(基本データ!AR449<>\"\",\"○\",\"\")","v":"○"},{"$f":"IF(基本データ!AS449<>\"\",\"○\",\"\")","v":"○"},{"$f":"IF(基本データ!AT449<>\"\",\"○\",\"\")","v":""},{"$f":"IF(基本データ!AU449<>\"\",\"○\",\"\")","v":"○"},{"$f":"IF(基本データ!AV449<>\"\",\"○\",\"\")","v":""},{"$f":"IF(基本データ!AW449<>\"\",\"○\",\"\")","v":"○"},{"$f":"IF(基本データ!AX449<>\"\",\"○\",\"\")","v":"○"},{"$f":"IF(基本データ!AY449<>\"\",\"○\",\"\")","v":"○"},{"$f":"IF(基本データ!AZ449<>\"\",\"○\",\"\")","v":""},{"$f":"IF(基本データ!BA449<>\"\",\"○\",\"\")","v":"○"},{"$f":"IF(基本データ!BB449<>\"\",\"○\",\"\")","v":""},{"$f":"IF(基本データ!BC449<>\"\",\"○\",\"\")","v":""},{"$f":"IF(基本データ!BD449<>\"\",\"○\",\"\")","v":"○"},{"$f":"IF(基本データ!BE449<>\"\",\"○\",\"\")","v":"○"},{"$f":"IF(基本データ!BF449<>\"\",\"○\",\"\")","v":""},{"$f":"IF(基本データ!BG449<>\"\",\"○\",\"\")","v":""},{"$f":"基本データ!BN449","v":2},{"$f":"IF(基本データ!BH449<>\"\",\"○\",\"\")","v":""},{"$f":"IF(基本データ!BI449<>\"\",\"○\",\"\")","v":""},{"$f":"IF(基本データ!BJ449<>\"\",\"○\",\"\")","v":"○"},{"$f":"IF(基本データ!BK449<>\"\",\"○\",\"\")","v":""},{"$f":"IF(基本データ!BL449<>\"\",\"○\",\"\")","v":""},{"$f":"IF(基本データ!BM449<>\"\",\"○\",\"\")","v":"○"}]
[448,{"$f":"基本データ!J450","v":"岐阜県"},{"$f":"基本データ!B450","v":2025},{"$f":"基本データ!I450","v":"岐阜市民病院"},{"$f":"基本データ!AL450","v":7},{"$f":"IF(基本データ!AM450<>\"\",\"○\",\"\")","v":"○"},{"$f":"IF(基本データ!AN450<>\"\",\"○\",\"\")","v":"○"},{"$f":"IF(基本データ!AO450<>\"\",\"○\",\"\")","v":"○"},{"$f":"IF(基本データ!AP450<>\"\",\"○\",\"\")","v":""},{"$f":"IF(基本データ!AQ450<>\"\",\"○\",\"\")","v":""},{"$f":"IF(基本データ!AR450<>\"\",\"○\",\"\")","v":""},{"$f":"IF(基本データ!AS450<>\"\",\"○\",\"\")","v":""},{"$f":"IF(基本データ!AT450<>\"\",\"○\",\"\")","v":""},{"$f":"IF(基本データ!AU450<>\"\",\"○\",\"\")","v":"○"},{"$f":"IF(基本データ!AV450<>\"\",\"○\",\"\")","v":"○"},{"$f":"IF(基本データ!AW450<>\"\",\"○\",\"\")","v":""},{"$f":"IF(基本データ!AX450<>\"\",\"○\",\"\")","v":""},{"$f":"IF(基本データ!AY450<>\"\",\"○\",\"\")","v":"○"},{"$f":"IF(基本データ!AZ450<>\"\",\"○\",\"\")","v":""},{"$f":"IF(基本データ!BA450<>\"\",\"○\",\"\")","v":"○"},{"$f":"IF(基本データ!BB450<>\"\",\"○\",\"\")","v":""},{"$f":"IF(基本データ!BC450<>\"\",\"○\",\"\")","v":""},{"$f":"IF(基本データ!BD450<>\"\",\"○\",\"\")","v":""},{"$f":"IF(基本データ!BE450<>\"\",\"○\",\"\")","v":""},{"$f":"IF(基本データ!BF450<>\"\",\"○\",\"\")","v":""},{"$f":"IF(基本データ!BG450<>\"\",\"○\",\"\")","v":""},{"$f":"基本データ!BN450","v":0},{"$f":"IF(基本データ!BH450<>\"\",\"○\",\"\")","v":""},{"$f":"IF(基本データ!BI450<>\"\",\"○\",\"\")","v":""},{"$f":"IF(基本データ!BJ450<>\"\",\"○\",\"\")","v":""},{"$f":"IF(基本データ!BK450<>\"\",\"○\",\"\")","v":""},{"$f":"IF(基本データ!BL450<>\"\",\"○\",\"\")","v":""},{"$f":"IF(基本データ!BM450<>\"\",\"○\",\"\")","v":""}]
[449,{"$f":"基本データ!J451","v":"岐阜県"},{"$f":"基本データ!B451","v":2025},{"$f":"基本データ!I451","v":"羽島市民病院"},{"$f":"基本データ!AL451","v":5},{"$f":"IF(基本データ!AM451<>\"\",\"○\",\"\")","v":""},{"$f":"IF(基本データ!AN451<>\"\",\"○\",\"\")","v":""},{"$f":"IF(基本データ!AO451<>\"\",\"○\",\"\")","v":""},{"$f":"IF(基本データ!AP451<>\"\",\"○\",\"\")","v":""},{"$f":"IF(基本データ!AQ451<>\"\",\"○\",\"\")","v":""},{"$f":"IF(基本データ!AR451<>\"\",\"○\",\"\")","v":""},{"$f":"IF(基本データ!AS451<>\"\",\"○\",\"\")","v":""},{"$f":"IF(基本データ!AT451<>\"\",\"○\",\"\")","v":""},{"$f":"IF(基本データ!AU451<>\"\",\"○\",\"\")","v":"○"},{"$f":"IF(基本データ!AV451<>\"\",\"○\",\"\")","v":"○"},{"$f":"IF(基本データ!AW451<>\"\",\"○\",\"\")","v":""},{"$f":"IF(基本データ!AX451<>\"\",\"○\",\"\")","v":""},{"$f":"IF(基本データ!AY451<>\"\",\"○\",\"\")","v":"○"},{"$f":"IF(基本データ!AZ451<>\"\",\"○\",\"\")","v":""},{"$f":"IF(基本データ!BA451<>\"\",\"○\",\"\")","v":"○"},{"$f":"IF(基本データ!BB451<>\"\",\"○\",\"\")","v":""},{"$f":"IF(基本データ!BC451<>\"\",\"○\",\"\")","v":""},{"$f":"IF(基本データ!BD451<>\"\",\"○\",\"\")","v":"○"},{"$f":"IF(基本データ!BE451<>\"\",\"○\",\"\")","v":""},{"$f":"IF(基本データ!BF451<>\"\",\"○\",\"\")","v":""},{"$f":"IF(基本データ!BG451<>\"\",\"○\",\"\")","v":""},{"$f":"基本データ!BN451","v":0},{"$f":"IF(基本データ!BH451<>\"\",\"○\",\"\")","v":""},{"$f":"IF(基本データ!BI451<>\"\",\"○\",\"\")","v":""},{"$f":"IF(基本データ!BJ451<>\"\",\"○\",\"\")","v":""},{"$f":"IF(基本データ!BK451<>\"\",\"○\",\"\")","v":""},{"$f":"IF(基本データ!BL451<>\"\",\"○\",\"\")","v":""},{"$f":"IF(基本データ!BM451<>\"\",\"○\",\"\")","v":""}]
[450,{"$f":"基本データ!J452","v":"静岡県"},{"$f":"基本データ!B452","v":2025},{"$f":"基本データ!I452","v":"社会福祉法人恩賜財団済生会支部静岡県済生会 静岡済生会総合病院"},{"$f":"基本データ!AL452","v":3},{"$f":"IF(基本データ!AM452<>\"\",\"○\",\"\")","v":""},{"$f":"IF(基本データ!AN452<>\"\",\"○\",\"\")","v":""},{"$f":"IF(基本データ!AO452<>\"\",\"○\",\"\")","v":""},{"$f":"IF(基本データ!AP452<>\"\",\"○\",\"\")","v":""},{"$f":"IF(基本データ!AQ452<>\"\",\"○\",\"\")","v":""},{"$f":"IF(基本データ!AR452<>\"\",\"○\",\"\")","v":""},{"$f":"IF(基本データ!AS452<>\"\",\"○\",\"\")","v":""},{"$f":"IF(基本データ!AT452<>\"\",\"○\",\"\")","v":""},{"$f":"IF(基本データ!AU452<>\"\",\"○\",\"\")","v":"○"},{"$f":"IF(基本データ!AV452<>\"\",\"○\",\"\")","v":"○"},{"$f":"IF(基本データ!AW452<>\"\",\"○\",\"\")","v":""},{"$f":"IF(基本データ!AX452<>\"\",\"○\",\"\")","v":""},{"$f":"IF(基本データ!AY452<>\"\",\"○\",\"\")","v":""},{"$f":"IF(基本データ!AZ452<>\"\",\"○\",\"\")","v":""},{"$f":"IF(基本データ!BA452<>\"\",\"○\",\"\")","v":"○"},{"$f":"IF(基本データ!BB452<>\"\",\"○\",\"\")","v":""},{"$f":"IF(基本データ!BC452<>\"\",\"○\",\"\")","v":""},{"$f":"IF(基本データ!BD452<>\"\",\"○\",\"\")","v":""},{"$f":"IF(基本データ!BE452<>\"\",\"○\",\"\")","v":""},{"$f":"IF(基本データ!BF452<>\"\",\"○\",\"\")","v":""},{"$f":"IF(基本データ!BG452<>\"\",\"○\",\"\")","v":""},{"$f":"基本データ!BN452","v":0},{"$f":"IF(基本データ!BH452<>\"\",\"○\",\"\")","v":""},{"$f":"IF(基本データ!BI452<>\"\",\"○\",\"\")","v":""},{"$f":"IF(基本データ!BJ452<>\"\",\"○\",\"\")","v":""},{"$f":"IF(基本データ!BK452<>\"\",\"○\",\"\")","v":""},{"$f":"IF(基本データ!BL452<>\"\",\"○\",\"\")","v":""},{"$f":"IF(基本データ!BM452<>\"\",\"○\",\"\")","v":""}]
[451,{"$f":"基本データ!J453","v":"愛知県"},{"$f":"基本データ!B453","v":2025},{"$f":"基本データ!I453","v":"岡崎市民病院"},{"$f":"基本データ!AL453","v":5},{"$f":"IF(基本データ!AM453<>\"\",\"○\",\"\")","v":"○"},{"$f":"IF(基本データ!AN453<>\"\",\"○\",\"\")","v":"○"},{"$f":"IF(基本データ!AO453<>\"\",\"○\",\"\")","v":""},{"$f":"IF(基本データ!AP453<>\"\",\"○\",\"\")","v":""},{"$f":"IF(基本データ!AQ453<>\"\",\"○\",\"\")","v":""},{"$f":"IF(基本データ!AR453<>\"\",\"○\",\"\")","v":""},{"$f":"IF(基本データ!AS453<>\"\",\"○\",\"\")","v":""},{"$f":"IF(基本データ!AT453<>\"\",\"○\",\"\")","v":""},{"$f":"IF(基本データ!AU453<>\"\",\"○\",\"\")","v":""},{"$f":"IF(基本データ!AV453<>\"\",\"○\",\"\")","v":""},{"$f":"IF(基本データ!AW453<>\"\",\"○\",\"\")","v":""},{"$f":"IF(基本データ!AX453<>\"\",\"○\",\"\")","v":""},{"$f":"IF(基本データ!AY453<>\"\",\"○\",\"\")","v":"○"},{"$f":"IF(基本データ!AZ453<>\"\",\"○\",\"\")","v":""},{"$f":"IF(基本データ!BA453<>\"\",\"○\",\"\")","v":"○"},{"$f":"IF(基本データ!BB453<>\"\",\"○\",\"\")","v":""},{"$f":"IF(基本データ!BC453<>\"\",\"○\",\"\")","v":""},{"$f":"IF(基本データ!BD453<>\"\",\"○\",\"\")","v":""},{"$f":"IF(基本データ!BE453<>\"\",\"○\",\"\")","v":"○"},{"$f":"IF(基本データ!BF453<>\"\",\"○\",\"\")","v":""},{"$f":"IF(基本データ!BG453<>\"\",\"○\",\"\")","v":""},{"$f":"基本データ!BN453","v":0},{"$f":"IF(基本データ!BH453<>\"\",\"○\",\"\")","v":""},{"$f":"IF(基本データ!BI453<>\"\",\"○\",\"\")","v":""},{"$f":"IF(基本データ!BJ453<>\"\",\"○\",\"\")","v":""},{"$f":"IF(基本データ!BK453<>\"\",\"○\",\"\")","v":""},{"$f":"IF(基本データ!BL453<>\"\",\"○\",\"\")","v":""},{"$f":"IF(基本データ!BM453<>\"\",\"○\",\"\")","v":""}]
[452,{"$f":"基本データ!J454","v":"三重県"},{"$f":"基本データ!B454","v":2025},{"$f":"基本データ!I454","v":"社会福祉法人恩賜財団済生会支部三重県済生会松阪総合病院"},{"$f":"基本データ!AL454","v":7},{"$f":"IF(基本データ!AM454<>\"\",\"○\",\"\")","v":"○"},{"$f":"IF(基本データ!AN454<>\"\",\"○\",\"\")","v":"○"},{"$f":"IF(基本データ!AO454<>\"\",\"○\",\"\")","v":""},{"$f":"IF(基本データ!AP454<>\"\",\"○\",\"\")","v":""},{"$f":"IF(基本データ!AQ454<>\"\",\"○\",\"\")","v":""},{"$f":"IF(基本データ!AR454<>\"\",\"○\",\"\")","v":""},{"$f":"IF(基本データ!AS454<>\"\",\"○\",\"\")","v":""},{"$f":"IF(基本データ!AT454<>\"\",\"○\",\"\")","v":""},{"$f":"IF(基本データ!AU454<>\"\",\"○\",\"\")","v":""},{"$f":"IF(基本データ!AV454<>\"\",\"○\",\"\")","v":"○"},{"$f":"IF(基本データ!AW454<>\"\",\"○\",\"\")","v":""},{"$f":"IF(基本データ!AX454<>\"\",\"○\",\"\")","v":""},{"$f":"IF(基本データ!AY454<>\"\",\"○\",\"\")","v":"○"},{"$f":"IF(基本データ!AZ454<>\"\",\"○\",\"\")","v":""},{"$f":"IF(基本データ!BA454<>\"\",\"○\",\"\")","v":"○"},{"$f":"IF(基本データ!BB454<>\"\",\"○\",\"\")","v":""},{"$f":"IF(基本データ!BC454<>\"\",\"○\",\"\")","v":""},{"$f":"IF(基本データ!BD454<>\"\",\"○\",\"\")","v":"○"},{"$f":"IF(基本データ!BE454<>\"\",\"○\",\"\")","v":"○"},{"$f":"IF(基本データ!BF454<>\"\",\"○\",\"\")","v":""},{"$f":"IF(基本データ!BG454<>\"\",\"○\",\"\")","v":""},{"$f":"基本データ!BN454","v":1},{"$f":"IF(基本データ!BH454<>\"\",\"○\",\"\")","v":""},{"$f":"IF(基本データ!BI454<>\"\",\"○\",\"\")","v":""},{"$f":"IF(基本データ!BJ454<>\"\",\"○\",\"\")","v":"○"},{"$f":"IF(基本データ!BK454<>\"\",\"○\",\"\")","v":""},{"$f":"IF(基本データ!BL454<>\"\",\"○\",\"\")","v":""},{"$f":"IF(基本データ!BM454<>\"\",\"○\",\"\")","v":""}]
[453,{"$f":"基本データ!J455","v":"大阪府"},{"$f":"基本データ!B455","v":2025},{"$f":"基本データ!I455","v":"和泉市立総合医療センター"},{"$f":"基本データ!AL455","v":2},{"$f":"IF(基本データ!AM455<>\"\",\"○\",\"\")","v":""},{"$f":"IF(基本データ!AN455<>\"\",\"○\",\"\")","v":""},{"$f":"IF(基本データ!AO455<>\"\",\"○\",\"\")","v":""},{"$f":"IF(基本データ!AP455<>\"\",\"○\",\"\")","v":""},{"$f":"IF(基本データ!AQ455<>\"\",\"○\",\"\")","v":""},{"$f":"IF(基本データ!AR455<>\"\",\"○\",\"\")","v":""},{"$f":"IF(基本データ!AS455<>\"\",\"○\",\"\")","v":""},{"$f":"IF(基本データ!AT455<>\"\",\"○\",\"\")","v":""},{"$f":"IF(基本データ!AU455<>\"\",\"○\",\"\")","v":""},{"$f":"IF(基本データ!AV455<>\"\",\"○\",\"\")","v":""},{"$f":"IF(基本データ!AW455<>\"\",\"○\",\"\")","v":"○"},{"$f":"IF(基本データ!AX455<>\"\",\"○\",\"\")","v":""},{"$f":"IF(基本データ!AY455<>\"\",\"○\",\"\")","v":""},{"$f":"IF(基本データ!AZ455<>\"\",\"○\",\"\")","v":""},{"$f":"IF(基本データ!BA455<>\"\",\"○\",\"\")","v":""},{"$f":"IF(基本データ!BB455<>\"\",\"○\",\"\")","v":""},{"$f":"IF(基本データ!BC455<>\"\",\"○\",\"\")","v":"○"},{"$f":"IF(基本データ!BD455<>\"\",\"○\",\"\")","v":""},{"$f":"IF(基本データ!BE455<>\"\",\"○\",\"\")","v":""},{"$f":"IF(基本データ!BF455<>\"\",\"○\",\"\")","v":""},{"$f":"IF(基本データ!BG455<>\"\",\"○\",\"\")","v":""},{"$f":"基本データ!BN455","v":0},{"$f":"IF(基本データ!BH455<>\"\",\"○\",\"\")","v":""},{"$f":"IF(基本データ!BI455<>\"\",\"○\",\"\")","v":""},{"$f":"IF(基本データ!BJ455<>\"\",\"○\",\"\")","v":""},{"$f":"IF(基本データ!BK455<>\"\",\"○\",\"\")","v":""},{"$f":"IF(基本データ!BL455<>\"\",\"○\",\"\")","v":""},{"$f":"IF(基本データ!BM455<>\"\",\"○\",\"\")","v":""}]
[454,{"$f":"基本データ!J456","v":"兵庫県"},{"$f":"基本データ!B456","v":2025},{"$f":"基本データ!I456","v":"医療法人信和会　明和病院"},{"$f":"基本データ!AL456","v":8},{"$f":"IF(基本データ!AM456<>\"\",\"○\",\"\")","v":"○"},{"$f":"IF(基本データ!AN456<>\"\",\"○\",\"\")","v":"○"},{"$f":"IF(基本データ!AO456<>\"\",\"○\",\"\")","v":""},{"$f":"IF(基本データ!AP456<>\"\",\"○\",\"\")","v":""},{"$f":"IF(基本データ!AQ456<>\"\",\"○\",\"\")","v":""},{"$f":"IF(基本データ!AR456<>\"\",\"○\",\"\")","v":""},{"$f":"IF(基本データ!AS456<>\"\",\"○\",\"\")","v":"○"},{"$f":"IF(基本データ!AT456<>\"\",\"○\",\"\")","v":""},{"$f":"IF(基本データ!AU456<>\"\",\"○\",\"\")","v":""},{"$f":"IF(基本データ!AV456<>\"\",\"○\",\"\")","v":"○"},{"$f":"IF(基本データ!AW456<>\"\",\"○\",\"\")","v":"○"},{"$f":"IF(基本データ!AX456<>\"\",\"○\",\"\")","v":"○"},{"$f":"IF(基本データ!AY456<>\"\",\"○\",\"\")","v":"○"},{"$f":"IF(基本データ!AZ456<>\"\",\"○\",\"\")","v":""},{"$f":"IF(基本データ!BA456<>\"\",\"○\",\"\")","v":""},{"$f":"IF(基本データ!BB456<>\"\",\"○\",\"\")","v":""},{"$f":"IF(基本データ!BC456<>\"\",\"○\",\"\")","v":""},{"$f":"IF(基本データ!BD456<>\"\",\"○\",\"\")","v":"○"},{"$f":"IF(基本データ!BE456<>\"\",\"○\",\"\")","v":""},{"$f":"IF(基本データ!BF456<>\"\",\"○\",\"\")","v":""},{"$f":"IF(基本データ!BG456<>\"\",\"○\",\"\")","v":""},{"$f":"基本データ!BN456","v":0},{"$f":"IF(基本データ!BH456<>\"\",\"○\",\"\")","v":""},{"$f":"IF(基本データ!BI456<>\"\",\"○\",\"\")","v":""},{"$f":"IF(基本データ!BJ456<>\"\",\"○\",\"\")","v":""},{"$f":"IF(基本データ!BK456<>\"\",\"○\",\"\")","v":""},{"$f":"IF(基本データ!BL456<>\"\",\"○\",\"\")","v":""},{"$f":"IF(基本データ!BM456<>\"\",\"○\",\"\")","v":""}]
[455,{"$f":"基本データ!J457","v":"兵庫県"},{"$f":"基本データ!B457","v":2025},{"$f":"基本データ!I457","v":"社会医療法人神鋼記念会　神鋼記念病院"},{"$f":"基本データ!AL457","v":7},{"$f":"IF(基本データ!AM457<>\"\",\"○\",\"\")","v":""},{"$f":"IF(基本データ!AN457<>\"\",\"○\",\"\")","v":"○"},{"$f":"IF(基本データ!AO457<>\"\",\"○\",\"\")","v":""},{"$f":"IF(基本データ!AP457<>\"\",\"○\",\"\")","v":""},{"$f":"IF(基本データ!AQ457<>\"\",\"○\",\"\")","v":""},{"$f":"IF(基本データ!AR457<>\"\",\"○\",\"\")","v":""},{"$f":"IF(基本データ!AS457<>\"\",\"○\",\"\")","v":""},{"$f":"IF(基本データ!AT457<>\"\",\"○\",\"\")","v":""},{"$f":"IF(基本データ!AU457<>\"\",\"○\",\"\")","v":"○"},{"$f":"IF(基本データ!AV457<>\"\",\"○\",\"\")","v":""},{"$f":"IF(基本データ!AW457<>\"\",\"○\",\"\")","v":"○"},{"$f":"IF(基本データ!AX457<>\"\",\"○\",\"\")","v":""},{"$f":"IF(基本データ!AY457<>\"\",\"○\",\"\")","v":"○"},{"$f":"IF(基本データ!AZ457<>\"\",\"○\",\"\")","v":""},{"$f":"IF(基本データ!BA457<>\"\",\"○\",\"\")","v":"○"},{"$f":"IF(基本データ!BB457<>\"\",\"○\",\"\")","v":"○"},{"$f":"IF(基本データ!BC457<>\"\",\"○\",\"\")","v":"○"},{"$f":"IF(基本データ!BD457<>\"\",\"○\",\"\")","v":""},{"$f":"IF(基本データ!BE457<>\"\",\"○\",\"\")","v":""},{"$f":"IF(基本データ!BF457<>\"\",\"○\",\"\")","v":""},{"$f":"IF(基本データ!BG457<>\"\",\"○\",\"\")","v":""},{"$f":"基本データ!BN457","v":0},{"$f":"IF(基本データ!BH457<>\"\",\"○\",\"\")","v":""},{"$f":"IF(基本データ!BI457<>\"\",\"○\",\"\")","v":""},{"$f":"IF(基本データ!BJ457<>\"\",\"○\",\"\")","v":""},{"$f":"IF(基本データ!BK457<>\"\",\"○\",\"\")","v":""},{"$f":"IF(基本データ!BL457<>\"\",\"○\",\"\")","v":""},{"$f":"IF(基本データ!BM457<>\"\",\"○\",\"\")","v":""}]
[456,{"$f":"基本データ!J458","v":"山口県"},{"$f":"基本データ!B458","v":2025},{"$f":"基本データ!I458","v":"独立行政法人国立病院機構岩国医療センター"},{"$f":"基本データ!AL458","v":5},{"$f":"IF(基本データ!AM458<>\"\",\"○\",\"\")","v":"○"},{"$f":"IF(基本データ!AN458<>\"\",\"○\",\"\")","v":"○"},{"$f":"IF(基本データ!AO458<>\"\",\"○\",\"\")","v":""},{"$f":"IF(基本データ!AP458<>\"\",\"○\",\"\")","v":""},{"$f":"IF(基本データ!AQ458<>\"\",\"○\",\"\")","v":""},{"$f":"IF(基本データ!AR458<>\"\",\"○\",\"\")","v":""},{"$f":"IF(基本データ!AS458<>\"\",\"○\",\"\")","v":""},{"$f":"IF(基本データ!AT458<>\"\",\"○\",\"\")","v":""},{"$f":"IF(基本データ!AU458<>\"\",\"○\",\"\")","v":""},{"$f":"IF(基本データ!AV458<>\"\",\"○\",\"\")","v":""},{"$f":"IF(基本データ!AW458<>\"\",\"○\",\"\")","v":""},{"$f":"IF(基本データ!AX458<>\"\",\"○\",\"\")","v":""},{"$f":"IF(基本データ!AY458<>\"\",\"○\",\"\")","v":"○"},{"$f":"IF(基本データ!AZ458<>\"\",\"○\",\"\")","v":""},{"$f":"IF(基本データ!BA458<>\"\",\"○\",\"\")","v":"○"},{"$f":"IF(基本データ!BB458<>\"\",\"○\",\"\")","v":""},{"$f":"IF(基本データ!BC458<>\"\",\"○\",\"\")","v":""},{"$f":"IF(基本データ!BD458<>\"\",\"○\",\"\")","v":""},{"$f":"IF(基本データ!BE458<>\"\",\"○\",\"\")","v":""},{"$f":"IF(基本データ!BF458<>\"\",\"○\",\"\")","v":"○"},{"$f":"IF(基本データ!BG458<>\"\",\"○\",\"\")","v":""},{"$f":"基本データ!BN458","v":1},{"$f":"IF(基本データ!BH458<>\"\",\"○\",\"\")","v":""},{"$f":"IF(基本データ!BI458<>\"\",\"○\",\"\")","v":""},{"$f":"IF(基本データ!BJ458<>\"\",\"○\",\"\")","v":""},{"$f":"IF(基本データ!BK458<>\"\",\"○\",\"\")","v":"○"},{"$f":"IF(基本データ!BL458<>\"\",\"○\",\"\")","v":""},{"$f":"IF(基本データ!BM458<>\"\",\"○\",\"\")","v":""}]
[457,{"$f":"基本データ!J459","v":"福岡県"},{"$f":"基本データ!B459","v":2025},{"$f":"基本データ!I459","v":"国家公務員共済組合連合会　浜の町病院"},{"$f":"基本データ!AL459","v":9},{"$f":"IF(基本データ!AM459<>\"\",\"○\",\"\")","v":"○"},{"$f":"IF(基本データ!AN459<>\"\",\"○\",\"\")","v":"○"},{"$f":"IF(基本データ!AO459<>\"\",\"○\",\"\")","v":""},{"$f":"IF(基本データ!AP459<>\"\",\"○\",\"\")","v":""},{"$f":"IF(基本データ!AQ459<>\"\",\"○\",\"\")","v":""},{"$f":"IF(基本データ!AR459<>\"\",\"○\",\"\")","v":""},{"$f":"IF(基本データ!AS459<>\"\",\"○\",\"\")","v":""},{"$f":"IF(基本データ!AT459<>\"\",\"○\",\"\")","v":""},{"$f":"IF(基本データ!AU459<>\"\",\"○\",\"\")","v":""},{"$f":"IF(基本データ!AV459<>\"\",\"○\",\"\")","v":"○"},{"$f":"IF(基本データ!AW459<>\"\",\"○\",\"\")","v":"○"},{"$f":"IF(基本データ!AX459<>\"\",\"○\",\"\")","v":""},{"$f":"IF(基本データ!AY459<>\"\",\"○\",\"\")","v":"○"},{"$f":"IF(基本データ!AZ459<>\"\",\"○\",\"\")","v":"○"},{"$f":"IF(基本データ!BA459<>\"\",\"○\",\"\")","v":"○"},{"$f":"IF(基本データ!BB459<>\"\",\"○\",\"\")","v":""},{"$f":"IF(基本データ!BC459<>\"\",\"○\",\"\")","v":""},{"$f":"IF(基本データ!BD459<>\"\",\"○\",\"\")","v":"○"},{"$f":"IF(基本データ!BE459<>\"\",\"○\",\"\")","v":"○"},{"$f":"IF(基本データ!BF459<>\"\",\"○\",\"\")","v":""},{"$f":"IF(基本データ!BG459<>\"\",\"○\",\"\")","v":""},{"$f":"基本データ!BN459","v":1},{"$f":"IF(基本データ!BH459<>\"\",\"○\",\"\")","v":""},{"$f":"IF(基本データ!BI459<>\"\",\"○\",\"\")","v":""},{"$f":"IF(基本データ!BJ459<>\"\",\"○\",\"\")","v":"○"},{"$f":"IF(基本データ!BK459<>\"\",\"○\",\"\")","v":""},{"$f":"IF(基本データ!BL459<>\"\",\"○\",\"\")","v":""},{"$f":"IF(基本データ!BM459<>\"\",\"○\",\"\")","v":""}]
[458,{"$f":"基本データ!J460","v":"福岡県"},{"$f":"基本データ!B460","v":2025},{"$f":"基本データ!I460","v":"社会医療法人シマダ　嶋田病院"},{"$f":"基本データ!AL460","v":5},{"$f":"IF(基本データ!AM460<>\"\",\"○\",\"\")","v":""},{"$f":"IF(基本データ!AN460<>\"\",\"○\",\"\")","v":""},{"$f":"IF(基本データ!AO460<>\"\",\"○\",\"\")","v":"○"},{"$f":"IF(基本データ!AP460<>\"\",\"○\",\"\")","v":""},{"$f":"IF(基本データ!AQ460<>\"\",\"○\",\"\")","v":""},{"$f":"IF(基本データ!AR460<>\"\",\"○\",\"\")","v":""},{"$f":"IF(基本データ!AS460<>\"\",\"○\",\"\")","v":""},{"$f":"IF(基本データ!AT460<>\"\",\"○\",\"\")","v":"○"},{"$f":"IF(基本データ!AU460<>\"\",\"○\",\"\")","v":""},{"$f":"IF(基本データ!AV460<>\"\",\"○\",\"\")","v":""},{"$f":"IF(基本データ!AW460<>\"\",\"○\",\"\")","v":"○"},{"$f":"IF(基本データ!AX460<>\"\",\"○\",\"\")","v":""},{"$f":"IF(基本データ!AY460<>\"\",\"○\",\"\")","v":"○"},{"$f":"IF(基本データ!AZ460<>\"\",\"○\",\"\")","v":""},{"$f":"IF(基本データ!BA460<>\"\",\"○\",\"\")","v":"○"},{"$f":"IF(基本データ!BB460<>\"\",\"○\",\"\")","v":""},{"$f":"IF(基本データ!BC460<>\"\",\"○\",\"\")","v":""},{"$f":"IF(基本データ!BD460<>\"\",\"○\",\"\")","v":""},{"$f":"IF(基本データ!BE460<>\"\",\"○\",\"\")","v":""},{"$f":"IF(基本データ!BF460<>\"\",\"○\",\"\")","v":""},{"$f":"IF(基本データ!BG460<>\"\",\"○\",\"\")","v":""},{"$f":"基本データ!BN460","v":1},{"$f":"IF(基本データ!BH460<>\"\",\"○\",\"\")","v":"○"},{"$f":"IF(基本データ!BI460<>\"\",\"○\",\"\")","v":""},{"$f":"IF(基本データ!BJ460<>\"\",\"○\",\"\")","v":""},{"$f":"IF(基本データ!BK460<>\"\",\"○\",\"\")","v":""},{"$f":"IF(基本データ!BL460<>\"\",\"○\",\"\")","v":""},{"$f":"IF(基本データ!BM460<>\"\",\"○\",\"\")","v":""}]
[459,{"$f":"基本データ!J461","v":"福岡県"},{"$f":"基本データ!B461","v":2025},{"$f":"基本データ!I461","v":"令和健康科学大学大学院　健康科学研究科　医療系健康科学専攻　看護学分野"},{"$f":"基本データ!AL461","v":20},{"$f":"IF(基本データ!AM461<>\"\",\"○\",\"\")","v":"○"},{"$f":"IF(基本データ!AN461<>\"\",\"○\",\"\")","v":"○"},{"$f":"IF(基本データ!AO461<>\"\",\"○\",\"\")","v":"○"},{"$f":"IF(基本データ!AP461<>\"\",\"○\",\"\")","v":"○"},{"$f":"IF(基本データ!AQ461<>\"\",\"○\",\"\")","v":"○"},{"$f":"IF(基本データ!AR461<>\"\",\"○\",\"\")","v":"○"},{"$f":"IF(基本データ!AS461<>\"\",\"○\",\"\")","v":"○"},{"$f":"IF(基本データ!AT461<>\"\",\"○\",\"\")","v":"○"},{"$f":"IF(基本データ!AU461<>\"\",\"○\",\"\")","v":"○"},{"$f":"IF(基本データ!AV461<>\"\",\"○\",\"\")","v":"○"},{"$f":"IF(基本データ!AW461<>\"\",\"○\",\"\")","v":"○"},{"$f":"IF(基本データ!AX461<>\"\",\"○\",\"\")","v":"○"},{"$f":"IF(基本データ!AY461<>\"\",\"○\",\"\")","v":"○"},{"$f":"IF(基本データ!AZ461<>\"\",\"○\",\"\")","v":"○"},{"$f":"IF(基本データ!BA461<>\"\",\"○\",\"\")","v":"○"},{"$f":"IF(基本データ!BB461<>\"\",\"○\",\"\")","v":"○"},{"$f":"IF(基本データ!BC461<>\"\",\"○\",\"\")","v":"○"},{"$f":"IF(基本データ!BD461<>\"\",\"○\",\"\")","v":"○"},{"$f":"IF(基本データ!BE461<>\"\",\"○\",\"\")","v":"○"},{"$f":"IF(基本データ!BF461<>\"\",\"○\",\"\")","v":"○"},{"$f":"IF(基本データ!BG461<>\"\",\"○\",\"\")","v":""},{"$f":"基本データ!BN461","v":0},{"$f":"IF(基本データ!BH461<>\"\",\"○\",\"\")","v":""},{"$f":"IF(基本データ!BI461<>\"\",\"○\",\"\")","v":""},{"$f":"IF(基本データ!BJ461<>\"\",\"○\",\"\")","v":""},{"$f":"IF(基本データ!BK461<>\"\",\"○\",\"\")","v":""},{"$f":"IF(基本データ!BL461<>\"\",\"○\",\"\")","v":""},{"$f":"IF(基本データ!BM461<>\"\",\"○\",\"\")","v":""}]
[460,{"$f":"基本データ!J462","v":"大分県"},{"$f":"基本データ!B462","v":2025},{"$f":"基本データ!I462","v":"大分県厚生連鶴見病院"},{"$f":"基本データ!AL462","v":5},{"$f":"IF(基本データ!AM462<>\"\",\"○\",\"\")","v":"○"},{"$f":"IF(基本データ!AN462<>\"\",\"○\",\"\")","v":"○"},{"$f":"IF(基本データ!AO462<>\"\",\"○\",\"\")","v":""},{"$f":"IF(基本データ!AP462<>\"\",\"○\",\"\")","v":""},{"$f":"IF(基本データ!AQ462<>\"\",\"○\",\"\")","v":""},{"$f":"IF(基本データ!AR462<>\"\",\"○\",\"\")","v":""},{"$f":"IF(基本データ!AS462<>\"\",\"○\",\"\")","v":""},{"$f":"IF(基本データ!AT462<>\"\",\"○\",\"\")","v":""},{"$f":"IF(基本データ!AU462<>\"\",\"○\",\"\")","v":""},{"$f":"IF(基本データ!AV462<>\"\",\"○\",\"\")","v":""},{"$f":"IF(基本データ!AW462<>\"\",\"○\",\"\")","v":""},{"$f":"IF(基本データ!AX462<>\"\",\"○\",\"\")","v":""},{"$f":"IF(基本データ!AY462<>\"\",\"○\",\"\")","v":"○"},{"$f":"IF(基本データ!AZ462<>\"\",\"○\",\"\")","v":""},{"$f":"IF(基本データ!BA462<>\"\",\"○\",\"\")","v":"○"},{"$f":"IF(基本データ!BB462<>\"\",\"○\",\"\")","v":""},{"$f":"IF(基本データ!BC462<>\"\",\"○\",\"\")","v":""},{"$f":"IF(基本データ!BD462<>\"\",\"○\",\"\")","v":""},{"$f":"IF(基本データ!BE462<>\"\",\"○\",\"\")","v":""},{"$f":"IF(基本データ!BF462<>\"\",\"○\",\"\")","v":"○"},{"$f":"IF(基本データ!BG462<>\"\",\"○\",\"\")","v":""},{"$f":"基本データ!BN462","v":1},{"$f":"IF(基本データ!BH462<>\"\",\"○\",\"\")","v":""},{"$f":"IF(基本データ!BI462<>\"\",\"○\",\"\")","v":""},{"$f":"IF(基本データ!BJ462<>\"\",\"○\",\"\")","v":""},{"$f":"IF(基本データ!BK462<>\"\",\"○\",\"\")","v":"○"},{"$f":"IF(基本データ!BL462<>\"\",\"○\",\"\")","v":""},{"$f":"IF(基本データ!BM462<>\"\",\"○\",\"\")","v":""}]
[461,{"$f":"基本データ!J463","v":"大分県"},{"$f":"基本データ!B463","v":2025},{"$f":"基本データ!I463","v":"独立行政法人国立病院機構　西別府病院"},{"$f":"基本データ!AL463","v":1},{"$f":"IF(基本データ!AM463<>\"\",\"○\",\"\")","v":""},{"$f":"IF(基本データ!AN463<>\"\",\"○\",\"\")","v":""},{"$f":"IF(基本データ!AO463<>\"\",\"○\",\"\")","v":"○"},{"$f":"IF(基本データ!AP463<>\"\",\"○\",\"\")","v":""},{"$f":"IF(基本データ!AQ463<>\"\",\"○\",\"\")","v":""},{"$f":"IF(基本データ!AR463<>\"\",\"○\",\"\")","v":""},{"$f":"IF(基本データ!AS463<>\"\",\"○\",\"\")","v":""},{"$f":"IF(基本データ!AT463<>\"\",\"○\",\"\")","v":""},{"$f":"IF(基本データ!AU463<>\"\",\"○\",\"\")","v":""},{"$f":"IF(基本データ!AV463<>\"\",\"○\",\"\")","v":""},{"$f":"IF(基本データ!AW463<>\"\",\"○\",\"\")","v":""},{"$f":"IF(基本データ!AX463<>\"\",\"○\",\"\")","v":""},{"$f":"IF(基本データ!AY463<>\"\",\"○\",\"\")","v":""},{"$f":"IF(基本データ!AZ463<>\"\",\"○\",\"\")","v":""},{"$f":"IF(基本データ!BA463<>\"\",\"○\",\"\")","v":""},{"$f":"IF(基本データ!BB463<>\"\",\"○\",\"\")","v":""},{"$f":"IF(基本データ!BC463<>\"\",\"○\",\"\")","v":""},{"$f":"IF(基本データ!BD463<>\"\",\"○\",\"\")","v":""},{"$f":"IF(基本データ!BE463<>\"\",\"○\",\"\")","v":""},{"$f":"IF(基本データ!BF463<>\"\",\"○\",\"\")","v":""},{"$f":"IF(基本データ!BG463<>\"\",\"○\",\"\")","v":""},{"$f":"基本データ!BN463","v":0},{"$f":"IF(基本データ!BH463<>\"\",\"○\",\"\")","v":""},{"$f":"IF(基本データ!BI463<>\"\",\"○\",\"\")","v":""},{"$f":"IF(基本データ!BJ463<>\"\",\"○\",\"\")","v":""},{"$f":"IF(基本データ!BK463<>\"\",\"○\",\"\")","v":""},{"$f":"IF(基本データ!BL463<>\"\",\"○\",\"\")","v":""},{"$f":"IF(基本データ!BM463<>\"\",\"○\",\"\")","v":""}]
[462,{"$f":"基本データ!J464","v":"宮崎県"},{"$f":"基本データ!B464","v":2025},{"$f":"基本データ!I464","v":"一般社団法人藤元メディカルシステム 藤元総合病院"},{"$f":"基本データ!AL464","v":7},{"$f":"IF(基本データ!AM464<>\"\",\"○\",\"\")","v":"○"},{"$f":"IF(基本データ!AN464<>\"\",\"○\",\"\")","v":"○"},{"$f":"IF(基本データ!AO464<>\"\",\"○\",\"\")","v":""},{"$f":"IF(基本データ!AP464<>\"\",\"○\",\"\")","v":""},{"$f":"IF(基本データ!AQ464<>\"\",\"○\",\"\")","v":""},{"$f":"IF(基本データ!AR464<>\"\",\"○\",\"\")","v":""},{"$f":"IF(基本データ!AS464<>\"\",\"○\",\"\")","v":""},{"$f":"IF(基本データ!AT464<>\"\",\"○\",\"\")","v":""},{"$f":"IF(基本データ!AU464<>\"\",\"○\",\"\")","v":""},{"$f":"IF(基本データ!AV464<>\"\",\"○\",\"\")","v":"○"},{"$f":"IF(基本データ!AW464<>\"\",\"○\",\"\")","v":""},{"$f":"IF(基本データ!AX464<>\"\",\"○\",\"\")","v":""},{"$f":"IF(基本データ!AY464<>\"\",\"○\",\"\")","v":"○"},{"$f":"IF(基本データ!AZ464<>\"\",\"○\",\"\")","v":""},{"$f":"IF(基本データ!BA464<>\"\",\"○\",\"\")","v":"○"},{"$f":"IF(基本データ!BB464<>\"\",\"○\",\"\")","v":""},{"$f":"IF(基本データ!BC464<>\"\",\"○\",\"\")","v":""},{"$f":"IF(基本データ!BD464<>\"\",\"○\",\"\")","v":"○"},{"$f":"IF(基本データ!BE464<>\"\",\"○\",\"\")","v":"○"},{"$f":"IF(基本データ!BF464<>\"\",\"○\",\"\")","v":""},{"$f":"IF(基本データ!BG464<>\"\",\"○\",\"\")","v":""},{"$f":"基本データ!BN464","v":1},{"$f":"IF(基本データ!BH464<>\"\",\"○\",\"\")","v":""},{"$f":"IF(基本データ!BI464<>\"\",\"○\",\"\")","v":""},{"$f":"IF(基本データ!BJ464<>\"\",\"○\",\"\")","v":"○"},{"$f":"IF(基本データ!BK464<>\"\",\"○\",\"\")","v":""},{"$f":"IF(基本データ!BL464<>\"\",\"○\",\"\")","v":""},{"$f":"IF(基本データ!BM464<>\"\",\"○\",\"\")","v":""}]
[463,{"$f":"基本データ!J465","v":"宮崎県"},{"$f":"基本データ!B465","v":2025},{"$f":"基本データ!I465","v":"医療法人伸和会 延岡共立病院"},{"$f":"基本データ!AL465","v":2},{"$f":"IF(基本データ!AM465<>\"\",\"○\",\"\")","v":""},{"$f":"IF(基本データ!AN465<>\"\",\"○\",\"\")","v":""},{"$f":"IF(基本データ!AO465<>\"\",\"○\",\"\")","v":""},{"$f":"IF(基本データ!AP465<>\"\",\"○\",\"\")","v":""},{"$f":"IF(基本データ!AQ465<>\"\",\"○\",\"\")","v":""},{"$f":"IF(基本データ!AR465<>\"\",\"○\",\"\")","v":""},{"$f":"IF(基本データ!AS465<>\"\",\"○\",\"\")","v":""},{"$f":"IF(基本データ!AT465<>\"\",\"○\",\"\")","v":"○"},{"$f":"IF(基本データ!AU465<>\"\",\"○\",\"\")","v":""},{"$f":"IF(基本データ!AV465<>\"\",\"○\",\"\")","v":""},{"$f":"IF(基本データ!AW465<>\"\",\"○\",\"\")","v":"○"},{"$f":"IF(基本データ!AX465<>\"\",\"○\",\"\")","v":""},{"$f":"IF(基本データ!AY465<>\"\",\"○\",\"\")","v":""},{"$f":"IF(基本データ!AZ465<>\"\",\"○\",\"\")","v":""},{"$f":"IF(基本データ!BA465<>\"\",\"○\",\"\")","v":""},{"$f":"IF(基本データ!BB465<>\"\",\"○\",\"\")","v":""},{"$f":"IF(基本データ!BC465<>\"\",\"○\",\"\")","v":""},{"$f":"IF(基本データ!BD465<>\"\",\"○\",\"\")","v":""},{"$f":"IF(基本データ!BE465<>\"\",\"○\",\"\")","v":""},{"$f":"IF(基本データ!BF465<>\"\",\"○\",\"\")","v":""},{"$f":"IF(基本データ!BG465<>\"\",\"○\",\"\")","v":""},{"$f":"基本データ!BN465","v":0},{"$f":"IF(基本データ!BH465<>\"\",\"○\",\"\")","v":""},{"$f":"IF(基本データ!BI465<>\"\",\"○\",\"\")","v":""},{"$f":"IF(基本データ!BJ465<>\"\",\"○\",\"\")","v":""},{"$f":"IF(基本データ!BK465<>\"\",\"○\",\"\")","v":""},{"$f":"IF(基本データ!BL465<>\"\",\"○\",\"\")","v":""},{"$f":"IF(基本データ!BM465<>\"\",\"○\",\"\")","v":""}]
[464,{"$f":"基本データ!J466","v":"鹿児島県"},{"$f":"基本データ!B466","v":2025},{"$f":"基本データ!I466","v":"川内市医師会立市民病院"},{"$f":"基本データ!AL466","v":3},{"$f":"IF(基本データ!AM466<>\"\",\"○\",\"\")","v":""},{"$f":"IF(基本データ!AN466<>\"\",\"○\",\"\")","v":""},{"$f":"IF(基本データ!AO466<>\"\",\"○\",\"\")","v":""},{"$f":"IF(基本データ!AP466<>\"\",\"○\",\"\")","v":""},{"$f":"IF(基本データ!AQ466<>\"\",\"○\",\"\")","v":""},{"$f":"IF(基本データ!AR466<>\"\",\"○\",\"\")","v":""},{"$f":"IF(基本データ!AS466<>\"\",\"○\",\"\")","v":""},{"$f":"IF(基本データ!AT466<>\"\",\"○\",\"\")","v":""},{"$f":"IF(基本データ!AU466<>\"\",\"○\",\"\")","v":""},{"$f":"IF(基本データ!AV466<>\"\",\"○\",\"\")","v":""},{"$f":"IF(基本データ!AW466<>\"\",\"○\",\"\")","v":"○"},{"$f":"IF(基本データ!AX466<>\"\",\"○\",\"\")","v":""},{"$f":"IF(基本データ!AY466<>\"\",\"○\",\"\")","v":"○"},{"$f":"IF(基本データ!AZ466<>\"\",\"○\",\"\")","v":""},{"$f":"IF(基本データ!BA466<>\"\",\"○\",\"\")","v":""},{"$f":"IF(基本データ!BB466<>\"\",\"○\",\"\")","v":""},{"$f":"IF(基本データ!BC466<>\"\",\"○\",\"\")","v":"○"},{"$f":"IF(基本データ!BD466<>\"\",\"○\",\"\")","v":""},{"$f":"IF(基本データ!BE466<>\"\",\"○\",\"\")","v":""},{"$f":"IF(基本データ!BF466<>\"\",\"○\",\"\")","v":""},{"$f":"IF(基本データ!BG466<>\"\",\"○\",\"\")","v":""},{"$f":"基本データ!BN466","v":0},{"$f":"IF(基本データ!BH466<>\"\",\"○\",\"\")","v":""},{"$f":"IF(基本データ!BI466<>\"\",\"○\",\"\")","v":""},{"$f":"IF(基本データ!BJ466<>\"\",\"○\",\"\")","v":""},{"$f":"IF(基本データ!BK466<>\"\",\"○\",\"\")","v":""},{"$f":"IF(基本データ!BL466<>\"\",\"○\",\"\")","v":""},{"$f":"IF(基本データ!BM466<>\"\",\"○\",\"\")","v":""}]
[465,{"$f":"基本データ!J467","v":"沖縄県"},{"$f":"基本データ!B467","v":2025},{"$f":"基本データ!I467","v":"医療法人おもと会統括本部教育研修センター"},{"$f":"基本データ!AL467","v":2},{"$f":"IF(基本データ!AM467<>\"\",\"○\",\"\")","v":""},{"$f":"IF(基本データ!AN467<>\"\",\"○\",\"\")","v":""},{"$f":"IF(基本データ!AO467<>\"\",\"○\",\"\")","v":"○"},{"$f":"IF(基本データ!AP467<>\"\",\"○\",\"\")","v":""},{"$f":"IF(基本データ!AQ467<>\"\",\"○\",\"\")","v":""},{"$f":"IF(基本データ!AR467<>\"\",\"○\",\"\")","v":""},{"$f":"IF(基本データ!AS467<>\"\",\"○\",\"\")","v":""},{"$f":"IF(基本データ!AT467<>\"\",\"○\",\"\")","v":"○"},{"$f":"IF(基本データ!AU467<>\"\",\"○\",\"\")","v":""},{"$f":"IF(基本データ!AV467<>\"\",\"○\",\"\")","v":""},{"$f":"IF(基本データ!AW467<>\"\",\"○\",\"\")","v":""},{"$f":"IF(基本データ!AX467<>\"\",\"○\",\"\")","v":""},{"$f":"IF(基本データ!AY467<>\"\",\"○\",\"\")","v":""},{"$f":"IF(基本データ!AZ467<>\"\",\"○\",\"\")","v":""},{"$f":"IF(基本データ!BA467<>\"\",\"○\",\"\")","v":""},{"$f":"IF(基本データ!BB467<>\"\",\"○\",\"\")","v":""},{"$f":"IF(基本データ!BC467<>\"\",\"○\",\"\")","v":""},{"$f":"IF(基本データ!BD467<>\"\",\"○\",\"\")","v":""},{"$f":"IF(基本データ!BE467<>\"\",\"○\",\"\")","v":""},{"$f":"IF(基本データ!BF467<>\"\",\"○\",\"\")","v":""},{"$f":"IF(基本データ!BG467<>\"\",\"○\",\"\")","v":""},{"$f":"基本データ!BN467","v":0},{"$f":"IF(基本データ!BH467<>\"\",\"○\",\"\")","v":""},{"$f":"IF(基本データ!BI467<>\"\",\"○\",\"\")","v":""},{"$f":"IF(基本データ!BJ467<>\"\",\"○\",\"\")","v":""},{"$f":"IF(基本データ!BK467<>\"\",\"○\",\"\")","v":""},{"$f":"IF(基本データ!BL467<>\"\",\"○\",\"\")","v":""},{"$f":"IF(基本データ!BM467<>\"\",\"○\",\"\")","v":""}]
[466,{"$f":"基本データ!J468","v":"沖縄県"},{"$f":"基本データ!B468","v":2025},{"$f":"基本データ!I468","v":"公益社団法人　沖縄県看護協会"},{"$f":"基本データ!AL468","v":3},{"$f":"IF(基本データ!AM468<>\"\",\"○\",\"\")","v":""},{"$f":"IF(基本データ!AN468<>\"\",\"○\",\"\")","v":""},{"$f":"IF(基本データ!AO468<>\"\",\"○\",\"\")","v":""},{"$f":"IF(基本データ!AP468<>\"\",\"○\",\"\")","v":""},{"$f":"IF(基本データ!AQ468<>\"\",\"○\",\"\")","v":""},{"$f":"IF(基本データ!AR468<>\"\",\"○\",\"\")","v":""},{"$f":"IF(基本データ!AS468<>\"\",\"○\",\"\")","v":""},{"$f":"IF(基本データ!AT468<>\"\",\"○\",\"\")","v":""},{"$f":"IF(基本データ!AU468<>\"\",\"○\",\"\")","v":""},{"$f":"IF(基本データ!AV468<>\"\",\"○\",\"\")","v":""},{"$f":"IF(基本データ!AW468<>\"\",\"○\",\"\")","v":"○"},{"$f":"IF(基本データ!AX468<>\"\",\"○\",\"\")","v":""},{"$f":"IF(基本データ!AY468<>\"\",\"○\",\"\")","v":""},{"$f":"IF(基本データ!AZ468<>\"\",\"○\",\"\")","v":""},{"$f":"IF(基本データ!BA468<>\"\",\"○\",\"\")","v":"○"},{"$f":"IF(基本データ!BB468<>\"\",\"○\",\"\")","v":"○"},{"$f":"IF(基本データ!BC468<>\"\",\"○\",\"\")","v":""},{"$f":"IF(基本データ!BD468<>\"\",\"○\",\"\")","v":""},{"$f":"IF(基本データ!BE468<>\"\",\"○\",\"\")","v":""},{"$f":"IF(基本データ!BF468<>\"\",\"○\",\"\")","v":""},{"$f":"IF(基本データ!BG468<>\"\",\"○\",\"\")","v":""},{"$f":"基本データ!BN468","v":0},{"$f":"IF(基本データ!BH468<>\"\",\"○\",\"\")","v":""},{"$f":"IF(基本データ!BI468<>\"\",\"○\",\"\")","v":""},{"$f":"IF(基本データ!BJ468<>\"\",\"○\",\"\")","v":""},{"$f":"IF(基本データ!BK468<>\"\",\"○\",\"\")","v":""},{"$f":"IF(基本データ!BL468<>\"\",\"○\",\"\")","v":""},{"$f":"IF(基本データ!BM468<>\"\",\"○\",\"\")","v":""}]
[467,{"$f":"基本データ!J469","v":"沖縄県"},{"$f":"基本データ!B469","v":2025},{"$f":"基本データ!I469","v":"公益社団法人　北部地区医師会　北部地区医師会病院"},{"$f":"基本データ!AL469","v":7},{"$f":"IF(基本データ!AM469<>\"\",\"○\",\"\")","v":""},{"$f":"IF(基本データ!AN469<>\"\",\"○\",\"\")","v":""},{"$f":"IF(基本データ!AO469<>\"\",\"○\",\"\")","v":""},{"$f":"IF(基本データ!AP469<>\"\",\"○\",\"\")","v":""},{"$f":"IF(基本データ!AQ469<>\"\",\"○\",\"\")","v":""},{"$f":"IF(基本データ!AR469<>\"\",\"○\",\"\")","v":""},{"$f":"IF(基本データ!AS469<>\"\",\"○\",\"\")","v":""},{"$f":"IF(基本データ!AT469<>\"\",\"○\",\"\")","v":""},{"$f":"IF(基本データ!AU469<>\"\",\"○\",\"\")","v":"○"},{"$f":"IF(基本データ!AV469<>\"\",\"○\",\"\")","v":""},{"$f":"IF(基本データ!AW469<>\"\",\"○\",\"\")","v":"○"},{"$f":"IF(基本データ!AX469<>\"\",\"○\",\"\")","v":"○"},{"$f":"IF(基本データ!AY469<>\"\",\"○\",\"\")","v":"○"},{"$f":"IF(基本データ!AZ469<>\"\",\"○\",\"\")","v":""},{"$f":"IF(基本データ!BA469<>\"\",\"○\",\"\")","v":"○"},{"$f":"IF(基本データ!BB469<>\"\",\"○\",\"\")","v":"○"},{"$f":"IF(基本データ!BC469<>\"\",\"○\",\"\")","v":""},{"$f":"IF(基本データ!BD469<>\"\",\"○\",\"\")","v":"○"},{"$f":"IF(基本データ!BE469<>\"\",\"○\",\"\")","v":""},{"$f":"IF(基本データ!BF469<>\"\",\"○\",\"\")","v":""},{"$f":"IF(基本データ!BG469<>\"\",\"○\",\"\")","v":""},{"$f":"基本データ!BN469","v":1},{"$f":"IF(基本データ!BH469<>\"\",\"○\",\"\")","v":""},{"$f":"IF(基本データ!BI469<>\"\",\"○\",\"\")","v":""},{"$f":"IF(基本データ!BJ469<>\"\",\"○\",\"\")","v":""},{"$f":"IF(基本データ!BK469<>\"\",\"○\",\"\")","v":""},{"$f":"IF(基本データ!BL469<>\"\",\"○\",\"\")","v":"○"},{"$f":"IF(基本データ!BM469<>\"\",\"○\",\"\")","v":""}]
[468,{"$f":"基本データ!J470","v":"北海道"},{"$f":"基本データ!B470","v":2025},{"$f":"基本データ!I470","v":"市立札幌病院"},{"$f":"基本データ!AL470","v":1},{"$f":"IF(基本データ!AM470<>\"\",\"○\",\"\")","v":""},{"$f":"IF(基本データ!AN470<>\"\",\"○\",\"\")","v":""},{"$f":"IF(基本データ!AO470<>\"\",\"○\",\"\")","v":""},{"$f":"IF(基本データ!AP470<>\"\",\"○\",\"\")","v":""},{"$f":"IF(基本データ!AQ470<>\"\",\"○\",\"\")","v":""},{"$f":"IF(基本データ!AR470<>\"\",\"○\",\"\")","v":""},{"$f":"IF(基本データ!AS470<>\"\",\"○\",\"\")","v":""},{"$f":"IF(基本データ!AT470<>\"\",\"○\",\"\")","v":""},{"$f":"IF(基本データ!AU470<>\"\",\"○\",\"\")","v":""},{"$f":"IF(基本データ!AV470<>\"\",\"○\",\"\")","v":""},{"$f":"IF(基本データ!AW470<>\"\",\"○\",\"\")","v":""},{"$f":"IF(基本データ!AX470<>\"\",\"○\",\"\")","v":""},{"$f":"IF(基本データ!AY470<>\"\",\"○\",\"\")","v":""},{"$f":"IF(基本データ!AZ470<>\"\",\"○\",\"\")","v":""},{"$f":"IF(基本データ!BA470<>\"\",\"○\",\"\")","v":"○"},{"$f":"IF(基本データ!BB470<>\"\",\"○\",\"\")","v":""},{"$f":"IF(基本データ!BC470<>\"\",\"○\",\"\")","v":""},{"$f":"IF(基本データ!BD470<>\"\",\"○\",\"\")","v":""},{"$f":"IF(基本データ!BE470<>\"\",\"○\",\"\")","v":""},{"$f":"IF(基本データ!BF470<>\"\",\"○\",\"\")","v":""},{"$f":"IF(基本データ!BG470<>\"\",\"○\",\"\")","v":""},{"$f":"基本データ!BN470","v":0},{"$f":"IF(基本データ!BH470<>\"\",\"○\",\"\")","v":""},{"$f":"IF(基本データ!BI470<>\"\",\"○\",\"\")","v":""},{"$f":"IF(基本データ!BJ470<>\"\",\"○\",\"\")","v":""},{"$f":"IF(基本データ!BK470<>\"\",\"○\",\"\")","v":""},{"$f":"IF(基本データ!BL470<>\"\",\"○\",\"\")","v":""},{"$f":"IF(基本データ!BM470<>\"\",\"○\",\"\")","v":""}]
[469,{"$f":"基本データ!J471","v":"埼玉県"},{"$f":"基本データ!B471","v":2025},{"$f":"基本データ!I471","v":"社会医療法人社団　埼玉巨樹の会　所沢美原総合病院"},{"$f":"基本データ!AL471","v":14},{"$f":"IF(基本データ!AM471<>\"\",\"○\",\"\")","v":"○"},{"$f":"IF(基本データ!AN471<>\"\",\"○\",\"\")","v":"○"},{"$f":"IF(基本データ!AO471<>\"\",\"○\",\"\")","v":"○"},{"$f":"IF(基本データ!AP471<>\"\",\"○\",\"\")","v":""},{"$f":"IF(基本データ!AQ471<>\"\",\"○\",\"\")","v":""},{"$f":"IF(基本データ!AR471<>\"\",\"○\",\"\")","v":"○"},{"$f":"IF(基本データ!AS471<>\"\",\"○\",\"\")","v":"○"},{"$f":"IF(基本データ!AT471<>\"\",\"○\",\"\")","v":"○"},{"$f":"IF(基本データ!AU471<>\"\",\"○\",\"\")","v":"○"},{"$f":"IF(基本データ!AV471<>\"\",\"○\",\"\")","v":"○"},{"$f":"IF(基本データ!AW471<>\"\",\"○\",\"\")","v":"○"},{"$f":"IF(基本データ!AX471<>\"\",\"○\",\"\")","v":"○"},{"$f":"IF(基本データ!AY471<>\"\",\"○\",\"\")","v":"○"},{"$f":"IF(基本データ!AZ471<>\"\",\"○\",\"\")","v":""},{"$f":"IF(基本データ!BA471<>\"\",\"○\",\"\")","v":"○"},{"$f":"IF(基本データ!BB471<>\"\",\"○\",\"\")","v":""},{"$f":"IF(基本データ!BC471<>\"\",\"○\",\"\")","v":""},{"$f":"IF(基本データ!BD471<>\"\",\"○\",\"\")","v":"○"},{"$f":"IF(基本データ!BE471<>\"\",\"○\",\"\")","v":"○"},{"$f":"IF(基本データ!BF471<>\"\",\"○\",\"\")","v":""},{"$f":"IF(基本データ!BG471<>\"\",\"○\",\"\")","v":""},{"$f":"基本データ!BN471","v":3},{"$f":"IF(基本データ!BH471<>\"\",\"○\",\"\")","v":"○"},{"$f":"IF(基本データ!BI471<>\"\",\"○\",\"\")","v":"○"},{"$f":"IF(基本データ!BJ471<>\"\",\"○\",\"\")","v":"○"},{"$f":"IF(基本データ!BK471<>\"\",\"○\",\"\")","v":""},{"$f":"IF(基本データ!BL471<>\"\",\"○\",\"\")","v":""},{"$f":"IF(基本データ!BM471<>\"\",\"○\",\"\")","v":""}]
[470,{"$f":"基本データ!J472","v":"東京都"},{"$f":"基本データ!B472","v":2025},{"$f":"基本データ!I472","v":"公益財団法人がん研究会　有明病院"},{"$f":"基本データ!AL472","v":10},{"$f":"IF(基本データ!AM472<>\"\",\"○\",\"\")","v":"○"},{"$f":"IF(基本データ!AN472<>\"\",\"○\",\"\")","v":"○"},{"$f":"IF(基本データ!AO472<>\"\",\"○\",\"\")","v":"○"},{"$f":"IF(基本データ!AP472<>\"\",\"○\",\"\")","v":""},{"$f":"IF(基本データ!AQ472<>\"\",\"○\",\"\")","v":""},{"$f":"IF(基本データ!AR472<>\"\",\"○\",\"\")","v":""},{"$f":"IF(基本データ!AS472<>\"\",\"○\",\"\")","v":"○"},{"$f":"IF(基本データ!AT472<>\"\",\"○\",\"\")","v":""},{"$f":"IF(基本データ!AU472<>\"\",\"○\",\"\")","v":"○"},{"$f":"IF(基本データ!AV472<>\"\",\"○\",\"\")","v":"○"},{"$f":"IF(基本データ!AW472<>\"\",\"○\",\"\")","v":""},{"$f":"IF(基本データ!AX472<>\"\",\"○\",\"\")","v":"○"},{"$f":"IF(基本データ!AY472<>\"\",\"○\",\"\")","v":"○"},{"$f":"IF(基本データ!AZ472<>\"\",\"○\",\"\")","v":""},{"$f":"IF(基本データ!BA472<>\"\",\"○\",\"\")","v":"○"},{"$f":"IF(基本データ!BB472<>\"\",\"○\",\"\")","v":""},{"$f":"IF(基本データ!BC472<>\"\",\"○\",\"\")","v":"○"},{"$f":"IF(基本データ!BD472<>\"\",\"○\",\"\")","v":""},{"$f":"IF(基本データ!BE472<>\"\",\"○\",\"\")","v":""},{"$f":"IF(基本データ!BF472<>\"\",\"○\",\"\")","v":""},{"$f":"IF(基本データ!BG472<>\"\",\"○\",\"\")","v":""},{"$f":"基本データ!BN472","v":0},{"$f":"IF(基本データ!BH472<>\"\",\"○\",\"\")","v":""},{"$f":"IF(基本データ!BI472<>\"\",\"○\",\"\")","v":""},{"$f":"IF(基本データ!BJ472<>\"\",\"○\",\"\")","v":""},{"$f":"IF(基本データ!BK472<>\"\",\"○\",\"\")","v":""},{"$f":"IF(基本データ!BL472<>\"\",\"○\",\"\")","v":""},{"$f":"IF(基本データ!BM472<>\"\",\"○\",\"\")","v":""}]
[471,{"$f":"基本データ!J473","v":"東京都"},{"$f":"基本データ!B473","v":2025},{"$f":"基本データ!I473","v":"社会福祉法人日本肢体不自由児協会　心身障害児総合医療療育センター"},{"$f":"基本データ!AL473","v":4},{"$f":"IF(基本データ!AM473<>\"\",\"○\",\"\")","v":""},{"$f":"IF(基本データ!AN473<>\"\",\"○\",\"\")","v":""},{"$f":"IF(基本データ!AO473<>\"\",\"○\",\"\")","v":"○"},{"$f":"IF(基本データ!AP473<>\"\",\"○\",\"\")","v":""},{"$f":"IF(基本データ!AQ473<>\"\",\"○\",\"\")","v":""},{"$f":"IF(基本データ!AR473<>\"\",\"○\",\"\")","v":""},{"$f":"IF(基本データ!AS473<>\"\",\"○\",\"\")","v":""},{"$f":"IF(基本データ!AT473<>\"\",\"○\",\"\")","v":"○"},{"$f":"IF(基本データ!AU473<>\"\",\"○\",\"\")","v":""},{"$f":"IF(基本データ!AV473<>\"\",\"○\",\"\")","v":""},{"$f":"IF(基本データ!AW473<>\"\",\"○\",\"\")","v":"○"},{"$f":"IF(基本データ!AX473<>\"\",\"○\",\"\")","v":""},{"$f":"IF(基本データ!AY473<>\"\",\"○\",\"\")","v":""},{"$f":"IF(基本データ!AZ473<>\"\",\"○\",\"\")","v":""},{"$f":"IF(基本データ!BA473<>\"\",\"○\",\"\")","v":"○"},{"$f":"IF(基本データ!BB473<>\"\",\"○\",\"\")","v":""},{"$f":"IF(基本データ!BC473<>\"\",\"○\",\"\")","v":""},{"$f":"IF(基本データ!BD473<>\"\",\"○\",\"\")","v":""},{"$f":"IF(基本データ!BE473<>\"\",\"○\",\"\")","v":""},{"$f":"IF(基本データ!BF473<>\"\",\"○\",\"\")","v":""},{"$f":"IF(基本データ!BG473<>\"\",\"○\",\"\")","v":""},{"$f":"基本データ!BN473","v":1},{"$f":"IF(基本データ!BH473<>\"\",\"○\",\"\")","v":"○"},{"$f":"IF(基本データ!BI473<>\"\",\"○\",\"\")","v":""},{"$f":"IF(基本データ!BJ473<>\"\",\"○\",\"\")","v":""},{"$f":"IF(基本データ!BK473<>\"\",\"○\",\"\")","v":""},{"$f":"IF(基本データ!BL473<>\"\",\"○\",\"\")","v":""},{"$f":"IF(基本データ!BM473<>\"\",\"○\",\"\")","v":""}]
[472,{"$f":"基本データ!J474","v":"神奈川県"},{"$f":"基本データ!B474","v":2025},{"$f":"基本データ!I474","v":"厚木市立病院"},{"$f":"基本データ!AL474","v":3},{"$f":"IF(基本データ!AM474<>\"\",\"○\",\"\")","v":""},{"$f":"IF(基本データ!AN474<>\"\",\"○\",\"\")","v":""},{"$f":"IF(基本データ!AO474<>\"\",\"○\",\"\")","v":""},{"$f":"IF(基本データ!AP474<>\"\",\"○\",\"\")","v":""},{"$f":"IF(基本データ!AQ474<>\"\",\"○\",\"\")","v":""},{"$f":"IF(基本データ!AR474<>\"\",\"○\",\"\")","v":""},{"$f":"IF(基本データ!AS474<>\"\",\"○\",\"\")","v":""},{"$f":"IF(基本データ!AT474<>\"\",\"○\",\"\")","v":""},{"$f":"IF(基本データ!AU474<>\"\",\"○\",\"\")","v":""},{"$f":"IF(基本データ!AV474<>\"\",\"○\",\"\")","v":""},{"$f":"IF(基本データ!AW474<>\"\",\"○\",\"\")","v":"○"},{"$f":"IF(基本データ!AX474<>\"\",\"○\",\"\")","v":""},{"$f":"IF(基本データ!AY474<>\"\",\"○\",\"\")","v":""},{"$f":"IF(基本データ!AZ474<>\"\",\"○\",\"\")","v":""},{"$f":"IF(基本データ!BA474<>\"\",\"○\",\"\")","v":"○"},{"$f":"IF(基本データ!BB474<>\"\",\"○\",\"\")","v":""},{"$f":"IF(基本データ!BC474<>\"\",\"○\",\"\")","v":"○"},{"$f":"IF(基本データ!BD474<>\"\",\"○\",\"\")","v":""},{"$f":"IF(基本データ!BE474<>\"\",\"○\",\"\")","v":""},{"$f":"IF(基本データ!BF474<>\"\",\"○\",\"\")","v":""},{"$f":"IF(基本データ!BG474<>\"\",\"○\",\"\")","v":""},{"$f":"基本データ!BN474","v":0},{"$f":"IF(基本データ!BH474<>\"\",\"○\",\"\")","v":""},{"$f":"IF(基本データ!BI474<>\"\",\"○\",\"\")","v":""},{"$f":"IF(基本データ!BJ474<>\"\",\"○\",\"\")","v":""},{"$f":"IF(基本データ!BK474<>\"\",\"○\",\"\")","v":""},{"$f":"IF(基本データ!BL474<>\"\",\"○\",\"\")","v":""},{"$f":"IF(基本データ!BM474<>\"\",\"○\",\"\")","v":""}]
[473,{"$f":"基本データ!J475","v":"神奈川県"},{"$f":"基本データ!B475","v":2025},{"$f":"基本データ!I475","v":"学校法人北里研究所　北里大学看護キャリア開発・研究センター"},{"$f":"基本データ!AL475","v":4},{"$f":"IF(基本データ!AM475<>\"\",\"○\",\"\")","v":""},{"$f":"IF(基本データ!AN475<>\"\",\"○\",\"\")","v":"○"},{"$f":"IF(基本データ!AO475<>\"\",\"○\",\"\")","v":""},{"$f":"IF(基本データ!AP475<>\"\",\"○\",\"\")","v":""},{"$f":"IF(基本データ!AQ475<>\"\",\"○\",\"\")","v":""},{"$f":"IF(基本データ!AR475<>\"\",\"○\",\"\")","v":""},{"$f":"IF(基本データ!AS475<>\"\",\"○\",\"\")","v":""},{"$f":"IF(基本データ!AT475<>\"\",\"○\",\"\")","v":""},{"$f":"IF(基本データ!AU475<>\"\",\"○\",\"\")","v":""},{"$f":"IF(基本データ!AV475<>\"\",\"○\",\"\")","v":""},{"$f":"IF(基本データ!AW475<>\"\",\"○\",\"\")","v":""},{"$f":"IF(基本データ!AX475<>\"\",\"○\",\"\")","v":""},{"$f":"IF(基本データ!AY475<>\"\",\"○\",\"\")","v":""},{"$f":"IF(基本データ!AZ475<>\"\",\"○\",\"\")","v":""},{"$f":"IF(基本データ!BA475<>\"\",\"○\",\"\")","v":"○"},{"$f":"IF(基本データ!BB475<>\"\",\"○\",\"\")","v":"○"},{"$f":"IF(基本データ!BC475<>\"\",\"○\",\"\")","v":""},{"$f":"IF(基本データ!BD475<>\"\",\"○\",\"\")","v":""},{"$f":"IF(基本データ!BE475<>\"\",\"○\",\"\")","v":"○"},{"$f":"IF(基本データ!BF475<>\"\",\"○\",\"\")","v":""},{"$f":"IF(基本データ!BG475<>\"\",\"○\",\"\")","v":""},{"$f":"基本データ!BN475","v":0},{"$f":"IF(基本データ!BH475<>\"\",\"○\",\"\")","v":""},{"$f":"IF(基本データ!BI475<>\"\",\"○\",\"\")","v":""},{"$f":"IF(基本データ!BJ475<>\"\",\"○\",\"\")","v":""},{"$f":"IF(基本データ!BK475<>\"\",\"○\",\"\")","v":""},{"$f":"IF(基本データ!BL475<>\"\",\"○\",\"\")","v":""},{"$f":"IF(基本データ!BM475<>\"\",\"○\",\"\")","v":""}]
[474,{"$f":"基本データ!J476","v":"神奈川県"},{"$f":"基本データ!B476","v":2025},{"$f":"基本データ!I476","v":"公立大学法人神奈川県立保健福祉大学　実践教育センター"},{"$f":"基本データ!AL476","v":2},{"$f":"IF(基本データ!AM476<>\"\",\"○\",\"\")","v":""},{"$f":"IF(基本データ!AN476<>\"\",\"○\",\"\")","v":""},{"$f":"IF(基本データ!AO476<>\"\",\"○\",\"\")","v":""},{"$f":"IF(基本データ!AP476<>\"\",\"○\",\"\")","v":""},{"$f":"IF(基本データ!AQ476<>\"\",\"○\",\"\")","v":""},{"$f":"IF(基本データ!AR476<>\"\",\"○\",\"\")","v":""},{"$f":"IF(基本データ!AS476<>\"\",\"○\",\"\")","v":""},{"$f":"IF(基本データ!AT476<>\"\",\"○\",\"\")","v":""},{"$f":"IF(基本データ!AU476<>\"\",\"○\",\"\")","v":""},{"$f":"IF(基本データ!AV476<>\"\",\"○\",\"\")","v":""},{"$f":"IF(基本データ!AW476<>\"\",\"○\",\"\")","v":""},{"$f":"IF(基本データ!AX476<>\"\",\"○\",\"\")","v":""},{"$f":"IF(基本データ!AY476<>\"\",\"○\",\"\")","v":""},{"$f":"IF(基本データ!AZ476<>\"\",\"○\",\"\")","v":""},{"$f":"IF(基本データ!BA476<>\"\",\"○\",\"\")","v":"○"},{"$f":"IF(基本データ!BB476<>\"\",\"○\",\"\")","v":"○"},{"$f":"IF(基本データ!BC476<>\"\",\"○\",\"\")","v":""},{"$f":"IF(基本データ!BD476<>\"\",\"○\",\"\")","v":""},{"$f":"IF(基本データ!BE476<>\"\",\"○\",\"\")","v":""},{"$f":"IF(基本データ!BF476<>\"\",\"○\",\"\")","v":""},{"$f":"IF(基本データ!BG476<>\"\",\"○\",\"\")","v":""},{"$f":"基本データ!BN476","v":0},{"$f":"IF(基本データ!BH476<>\"\",\"○\",\"\")","v":""},{"$f":"IF(基本データ!BI476<>\"\",\"○\",\"\")","v":""},{"$f":"IF(基本データ!BJ476<>\"\",\"○\",\"\")","v":""},{"$f":"IF(基本データ!BK476<>\"\",\"○\",\"\")","v":""},{"$f":"IF(基本データ!BL476<>\"\",\"○\",\"\")","v":""},{"$f":"IF(基本データ!BM476<>\"\",\"○\",\"\")","v":""}]
[475,{"$f":"基本データ!J477","v":"愛知県"},{"$f":"基本データ!B477","v":2025},{"$f":"基本データ!I477","v":"豊川市民病院"},{"$f":"基本データ!AL477","v":5},{"$f":"IF(基本データ!AM477<>\"\",\"○\",\"\")","v":"○"},{"$f":"IF(基本データ!AN477<>\"\",\"○\",\"\")","v":"○"},{"$f":"IF(基本データ!AO477<>\"\",\"○\",\"\")","v":""},{"$f":"IF(基本データ!AP477<>\"\",\"○\",\"\")","v":""},{"$f":"IF(基本データ!AQ477<>\"\",\"○\",\"\")","v":""},{"$f":"IF(基本データ!AR477<>\"\",\"○\",\"\")","v":""},{"$f":"IF(基本データ!AS477<>\"\",\"○\",\"\")","v":""},{"$f":"IF(基本データ!AT477<>\"\",\"○\",\"\")","v":""},{"$f":"IF(基本データ!AU477<>\"\",\"○\",\"\")","v":""},{"$f":"IF(基本データ!AV477<>\"\",\"○\",\"\")","v":"○"},{"$f":"IF(基本データ!AW477<>\"\",\"○\",\"\")","v":""},{"$f":"IF(基本データ!AX477<>\"\",\"○\",\"\")","v":""},{"$f":"IF(基本データ!AY477<>\"\",\"○\",\"\")","v":"○"},{"$f":"IF(基本データ!AZ477<>\"\",\"○\",\"\")","v":""},{"$f":"IF(基本データ!BA477<>\"\",\"○\",\"\")","v":"○"},{"$f":"IF(基本データ!BB477<>\"\",\"○\",\"\")","v":""},{"$f":"IF(基本データ!BC477<>\"\",\"○\",\"\")","v":""},{"$f":"IF(基本データ!BD477<>\"\",\"○\",\"\")","v":""},{"$f":"IF(基本データ!BE477<>\"\",\"○\",\"\")","v":""},{"$f":"IF(基本データ!BF477<>\"\",\"○\",\"\")","v":""},{"$f":"IF(基本データ!BG477<>\"\",\"○\",\"\")","v":""},{"$f":"基本データ!BN477","v":0},{"$f":"IF(基本データ!BH477<>\"\",\"○\",\"\")","v":""},{"$f":"IF(基本データ!BI477<>\"\",\"○\",\"\")","v":""},{"$f":"IF(基本データ!BJ477<>\"\",\"○\",\"\")","v":""},{"$f":"IF(基本データ!BK477<>\"\",\"○\",\"\")","v":""},{"$f":"IF(基本データ!BL477<>\"\",\"○\",\"\")","v":""},{"$f":"IF(基本データ!BM477<>\"\",\"○\",\"\")","v":""}]
[476,{"$f":"基本データ!J478","v":"大阪府"},{"$f":"基本データ!B478","v":2025},{"$f":"基本データ!I478","v":"社会福祉法人恩賜財団大阪府済生会富田林病院"},{"$f":"基本データ!AL478","v":10},{"$f":"IF(基本データ!AM478<>\"\",\"○\",\"\")","v":"○"},{"$f":"IF(基本データ!AN478<>\"\",\"○\",\"\")","v":"○"},{"$f":"IF(基本データ!AO478<>\"\",\"○\",\"\")","v":""},{"$f":"IF(基本データ!AP478<>\"\",\"○\",\"\")","v":""},{"$f":"IF(基本データ!AQ478<>\"\",\"○\",\"\")","v":""},{"$f":"IF(基本データ!AR478<>\"\",\"○\",\"\")","v":""},{"$f":"IF(基本データ!AS478<>\"\",\"○\",\"\")","v":""},{"$f":"IF(基本データ!AT478<>\"\",\"○\",\"\")","v":"○"},{"$f":"IF(基本データ!AU478<>\"\",\"○\",\"\")","v":""},{"$f":"IF(基本データ!AV478<>\"\",\"○\",\"\")","v":"○"},{"$f":"IF(基本データ!AW478<>\"\",\"○\",\"\")","v":"○"},{"$f":"IF(基本データ!AX478<>\"\",\"○\",\"\")","v":"○"},{"$f":"IF(基本データ!AY478<>\"\",\"○\",\"\")","v":"○"},{"$f":"IF(基本データ!AZ478<>\"\",\"○\",\"\")","v":""},{"$f":"IF(基本データ!BA478<>\"\",\"○\",\"\")","v":"○"},{"$f":"IF(基本データ!BB478<>\"\",\"○\",\"\")","v":""},{"$f":"IF(基本データ!BC478<>\"\",\"○\",\"\")","v":""},{"$f":"IF(基本データ!BD478<>\"\",\"○\",\"\")","v":"○"},{"$f":"IF(基本データ!BE478<>\"\",\"○\",\"\")","v":"○"},{"$f":"IF(基本データ!BF478<>\"\",\"○\",\"\")","v":""},{"$f":"IF(基本データ!BG478<>\"\",\"○\",\"\")","v":""},{"$f":"基本データ!BN478","v":1},{"$f":"IF(基本データ!BH478<>\"\",\"○\",\"\")","v":""},{"$f":"IF(基本データ!BI478<>\"\",\"○\",\"\")","v":""},{"$f":"IF(基本データ!BJ478<>\"\",\"○\",\"\")","v":"○"},{"$f":"IF(基本データ!BK478<>\"\",\"○\",\"\")","v":""},{"$f":"IF(基本データ!BL478<>\"\",\"○\",\"\")","v":""},{"$f":"IF(基本データ!BM478<>\"\",\"○\",\"\")","v":""}]
[477,{"$f":"基本データ!J479","v":"山口県"},{"$f":"基本データ!B479","v":2025},{"$f":"基本データ!I479","v":"社会福祉法人恩賜財団済生会支部　山口県済生会下関総合病院"},{"$f":"基本データ!AL479","v":3},{"$f":"IF(基本データ!AM479<>\"\",\"○\",\"\")","v":""},{"$f":"IF(基本データ!AN479<>\"\",\"○\",\"\")","v":"○"},{"$f":"IF(基本データ!AO479<>\"\",\"○\",\"\")","v":""},{"$f":"IF(基本データ!AP479<>\"\",\"○\",\"\")","v":""},{"$f":"IF(基本データ!AQ479<>\"\",\"○\",\"\")","v":""},{"$f":"IF(基本データ!AR479<>\"\",\"○\",\"\")","v":""},{"$f":"IF(基本データ!AS479<>\"\",\"○\",\"\")","v":""},{"$f":"IF(基本データ!AT479<>\"\",\"○\",\"\")","v":""},{"$f":"IF(基本データ!AU479<>\"\",\"○\",\"\")","v":""},{"$f":"IF(基本データ!AV479<>\"\",\"○\",\"\")","v":""},{"$f":"IF(基本データ!AW479<>\"\",\"○\",\"\")","v":""},{"$f":"IF(基本データ!AX479<>\"\",\"○\",\"\")","v":""},{"$f":"IF(基本データ!AY479<>\"\",\"○\",\"\")","v":"○"},{"$f":"IF(基本データ!AZ479<>\"\",\"○\",\"\")","v":""},{"$f":"IF(基本データ!BA479<>\"\",\"○\",\"\")","v":"○"},{"$f":"IF(基本データ!BB479<>\"\",\"○\",\"\")","v":""},{"$f":"IF(基本データ!BC479<>\"\",\"○\",\"\")","v":""},{"$f":"IF(基本データ!BD479<>\"\",\"○\",\"\")","v":""},{"$f":"IF(基本データ!BE479<>\"\",\"○\",\"\")","v":""},{"$f":"IF(基本データ!BF479<>\"\",\"○\",\"\")","v":""},{"$f":"IF(基本データ!BG479<>\"\",\"○\",\"\")","v":""},{"$f":"基本データ!BN479","v":0},{"$f":"IF(基本データ!BH479<>\"\",\"○\",\"\")","v":""},{"$f":"IF(基本データ!BI479<>\"\",\"○\",\"\")","v":""},{"$f":"IF(基本データ!BJ479<>\"\",\"○\",\"\")","v":""},{"$f":"IF(基本データ!BK479<>\"\",\"○\",\"\")","v":""},{"$f":"IF(基本データ!BL479<>\"\",\"○\",\"\")","v":""},{"$f":"IF(基本データ!BM479<>\"\",\"○\",\"\")","v":""}]
[478,{"$f":"基本データ!J480","v":"福岡県"},{"$f":"基本データ!B480","v":2025},{"$f":"基本データ!I480","v":"小倉記念病院"},{"$f":"基本データ!AL480","v":5},{"$f":"IF(基本データ!AM480<>\"\",\"○\",\"\")","v":"○"},{"$f":"IF(基本データ!AN480<>\"\",\"○\",\"\")","v":"○"},{"$f":"IF(基本データ!AO480<>\"\",\"○\",\"\")","v":""},{"$f":"IF(基本データ!AP480<>\"\",\"○\",\"\")","v":""},{"$f":"IF(基本データ!AQ480<>\"\",\"○\",\"\")","v":""},{"$f":"IF(基本データ!AR480<>\"\",\"○\",\"\")","v":""},{"$f":"IF(基本データ!AS480<>\"\",\"○\",\"\")","v":""},{"$f":"IF(基本データ!AT480<>\"\",\"○\",\"\")","v":""},{"$f":"IF(基本データ!AU480<>\"\",\"○\",\"\")","v":""},{"$f":"IF(基本データ!AV480<>\"\",\"○\",\"\")","v":""},{"$f":"IF(基本データ!AW480<>\"\",\"○\",\"\")","v":""},{"$f":"IF(基本データ!AX480<>\"\",\"○\",\"\")","v":""},{"$f":"IF(基本データ!AY480<>\"\",\"○\",\"\")","v":"○"},{"$f":"IF(基本データ!AZ480<>\"\",\"○\",\"\")","v":""},{"$f":"IF(基本データ!BA480<>\"\",\"○\",\"\")","v":"○"},{"$f":"IF(基本データ!BB480<>\"\",\"○\",\"\")","v":""},{"$f":"IF(基本データ!BC480<>\"\",\"○\",\"\")","v":""},{"$f":"IF(基本データ!BD480<>\"\",\"○\",\"\")","v":""},{"$f":"IF(基本データ!BE480<>\"\",\"○\",\"\")","v":""},{"$f":"IF(基本データ!BF480<>\"\",\"○\",\"\")","v":"○"},{"$f":"IF(基本データ!BG480<>\"\",\"○\",\"\")","v":""},{"$f":"基本データ!BN480","v":1},{"$f":"IF(基本データ!BH480<>\"\",\"○\",\"\")","v":""},{"$f":"IF(基本データ!BI480<>\"\",\"○\",\"\")","v":""},{"$f":"IF(基本データ!BJ480<>\"\",\"○\",\"\")","v":""},{"$f":"IF(基本データ!BK480<>\"\",\"○\",\"\")","v":"○"},{"$f":"IF(基本データ!BL480<>\"\",\"○\",\"\")","v":""},{"$f":"IF(基本データ!BM480<>\"\",\"○\",\"\")","v":""}]
[479,{"$f":"基本データ!J481","v":"長崎県"},{"$f":"基本データ!B481","v":2025},{"$f":"基本データ!I481","v":"社会医療法人春回会　長崎北病院"},{"$f":"基本データ!AL481","v":1},{"$f":"IF(基本データ!AM481<>\"\",\"○\",\"\")","v":""},{"$f":"IF(基本データ!AN481<>\"\",\"○\",\"\")","v":""},{"$f":"IF(基本データ!AO481<>\"\",\"○\",\"\")","v":"○"},{"$f":"IF(基本データ!AP481<>\"\",\"○\",\"\")","v":""},{"$f":"IF(基本データ!AQ481<>\"\",\"○\",\"\")","v":""},{"$f":"IF(基本データ!AR481<>\"\",\"○\",\"\")","v":""},{"$f":"IF(基本データ!AS481<>\"\",\"○\",\"\")","v":""},{"$f":"IF(基本データ!AT481<>\"\",\"○\",\"\")","v":""},{"$f":"IF(基本データ!AU481<>\"\",\"○\",\"\")","v":""},{"$f":"IF(基本データ!AV481<>\"\",\"○\",\"\")","v":""},{"$f":"IF(基本データ!AW481<>\"\",\"○\",\"\")","v":""},{"$f":"IF(基本データ!AX481<>\"\",\"○\",\"\")","v":""},{"$f":"IF(基本データ!AY481<>\"\",\"○\",\"\")","v":""},{"$f":"IF(基本データ!AZ481<>\"\",\"○\",\"\")","v":""},{"$f":"IF(基本データ!BA481<>\"\",\"○\",\"\")","v":""},{"$f":"IF(基本データ!BB481<>\"\",\"○\",\"\")","v":""},{"$f":"IF(基本データ!BC481<>\"\",\"○\",\"\")","v":""},{"$f":"IF(基本データ!BD481<>\"\",\"○\",\"\")","v":""},{"$f":"IF(基本データ!BE481<>\"\",\"○\",\"\")","v":""},{"$f":"IF(基本データ!BF481<>\"\",\"○\",\"\")","v":""},{"$f":"IF(基本データ!BG481<>\"\",\"○\",\"\")","v":""},{"$f":"基本データ!BN481","v":0},{"$f":"IF(基本データ!BH481<>\"\",\"○\",\"\")","v":""},{"$f":"IF(基本データ!BI481<>\"\",\"○\",\"\")","v":""},{"$f":"IF(基本データ!BJ481<>\"\",\"○\",\"\")","v":""},{"$f":"IF(基本データ!BK481<>\"\",\"○\",\"\")","v":""},{"$f":"IF(基本データ!BL481<>\"\",\"○\",\"\")","v":""},{"$f":"IF(基本データ!BM481<>\"\",\"○\",\"\")","v":""}]
[480,{"$f":"基本データ!J482","v":"北海道"},{"$f":"基本データ!B482","v":2026},{"$f":"基本データ!I482","v":"市立釧路総合病院"},{"$f":"基本データ!AL482","v":1},{"$f":"IF(基本データ!AM482<>\"\",\"○\",\"\")","v":""},{"$f":"IF(基本データ!AN482<>\"\",\"○\",\"\")","v":""},{"$f":"IF(基本データ!AO482<>\"\",\"○\",\"\")","v":""},{"$f":"IF(基本データ!AP482<>\"\",\"○\",\"\")","v":""},{"$f":"IF(基本データ!AQ482<>\"\",\"○\",\"\")","v":""},{"$f":"IF(基本データ!AR482<>\"\",\"○\",\"\")","v":""},{"$f":"IF(基本データ!AS482<>\"\",\"○\",\"\")","v":""},{"$f":"IF(基本データ!AT482<>\"\",\"○\",\"\")","v":""},{"$f":"IF(基本データ!AU482<>\"\",\"○\",\"\")","v":""},{"$f":"IF(基本データ!AV482<>\"\",\"○\",\"\")","v":""},{"$f":"IF(基本データ!AW482<>\"\",\"○\",\"\")","v":""},{"$f":"IF(基本データ!AX482<>\"\",\"○\",\"\")","v":""},{"$f":"IF(基本データ!AY482<>\"\",\"○\",\"\")","v":"○"},{"$f":"IF(基本データ!AZ482<>\"\",\"○\",\"\")","v":""},{"$f":"IF(基本データ!BA482<>\"\",\"○\",\"\")","v":""},{"$f":"IF(基本データ!BB482<>\"\",\"○\",\"\")","v":""},{"$f":"IF(基本データ!BC482<>\"\",\"○\",\"\")","v":""},{"$f":"IF(基本データ!BD482<>\"\",\"○\",\"\")","v":""},{"$f":"IF(基本データ!BE482<>\"\",\"○\",\"\")","v":""},{"$f":"IF(基本データ!BF482<>\"\",\"○\",\"\")","v":""},{"$f":"IF(基本データ!BG482<>\"\",\"○\",\"\")","v":""},{"$f":"基本データ!BN482","v":0},{"$f":"IF(基本データ!BH482<>\"\",\"○\",\"\")","v":""},{"$f":"IF(基本データ!BI482<>\"\",\"○\",\"\")","v":""},{"$f":"IF(基本データ!BJ482<>\"\",\"○\",\"\")","v":""},{"$f":"IF(基本データ!BK482<>\"\",\"○\",\"\")","v":""},{"$f":"IF(基本データ!BL482<>\"\",\"○\",\"\")","v":""},{"$f":"IF(基本データ!BM482<>\"\",\"○\",\"\")","v":""}]
[481,"北海道",2026,"市立千歳市民病院",4,"○","○",null,null,null,null,null,null,{"$f":"IF(基本データ!AU483<>\"\",\"○\",\"\")","v":"○"},null,null,null,null,null,{"$f":"IF(基本データ!BA483<>\"\",\"○\",\"\")","v":"○"},null,null,null,null,null,null,0]
[482,"宮城県",2026,"独立行政法人国立病院機構宮城病院",4,null,null,"○",null,null,null,null,{"$f":"IF(基本データ!AT484<>\"\",\"○\",\"\")","v":"○"},null,null,{"$f":"IF(基本データ!AW484<>\"\",\"○\",\"\")","v":"○"},null,null,null,{"$f":"IF(基本データ!BA484<>\"\",\"○\",\"\")","v":"○"},null,null,null,null,null,null,1,"○"]
[483,"群馬県",2026,"社会福祉法人恩賜財団済生会支部 群馬県済生会前橋病院",2,null,null,null,null,null,null,null,null,{"$f":"IF(基本データ!AU485<>\"\",\"○\",\"\")","v":"○"},null,null,null,{"$f":"IF(基本データ!AY485<>\"\",\"○\",\"\")","v":"○"},null,null,null,null,null,null,null,null,0]
[484,"千葉県",2026,"順天堂大学医学部附属浦安病院",3,null,"○",null,null,null,null,null,null,null,null,{"$f":"IF(基本データ!AW486<>\"\",\"○\",\"\")","v":"○"},null,{"$f":"IF(基本データ!AY486<>\"\",\"○\",\"\")","v":"○"},null,null,null,null,null,null,null,null,0]
[485,"東京都",2026,"医療法人社団　淳友会　わたクリニック",4,null,null,"○",null,null,null,null,{"$f":"IF(基本データ!AT487<>\"\",\"○\",\"\")","v":"○"},null,null,{"$f":"IF(基本データ!AW487<>\"\",\"○\",\"\")","v":"○"},null,null,null,{"$f":"IF(基本データ!BA487<>\"\",\"○\",\"\")","v":"○"},null,null,null,null,null,null,1,{"$f":"IF(基本データ!BH487<>\"\",\"○\",\"\")","v":"○"}]
[486,"東京都",2026,"医療法人社団　東京医心会　ニューハート・ワタナベ国際病院",9,"○","○",null,"○",null,{"$f":"IF(基本データ!AR488<>\"\",\"○\",\"\")","v":"○"},null,null,{"$f":"IF(基本データ!AU488<>\"\",\"○\",\"\")","v":"○"},"○",null,{"$f":"IF(基本データ!AX488<>\"\",\"○\",\"\")","v":"○"},{"$f":"IF(基本データ!AY488<>\"\",\"○\",\"\")","v":"○"},null,null,null,null,null,{"$f":"IF(基本データ!BE488<>\"\",\"○\",\"\")","v":"○"},null,null,1,null,null,null,null,null,{"$f":"IF(基本データ!BM488<>\"\",\"○\",\"\")","v":"○"}]
[487,"東京都",2026,"株式会社キュアメド",14,"○","○","○","○",null,null,null,{"$f":"IF(基本データ!AT489<>\"\",\"○\",\"\")","v":"○"},{"$f":"IF(基本データ!AU489<>\"\",\"○\",\"\")","v":"○"},null,{"$f":"IF(基本データ!AW489<>\"\",\"○\",\"\")","v":"○"},{"$f":"IF(基本データ!AX489<>\"\",\"○\",\"\")","v":"○"},{"$f":"IF(基本データ!AY489<>\"\",\"○\",\"\")","v":"○"},null,{"$f":"IF(基本データ!BA489<>\"\",\"○\",\"\")","v":"○"},{"$f":"IF(基本データ!BB489<>\"\",\"○\",\"\")","v":"○"},null,{"$f":"IF(基本データ!BD489<>\"\",\"○\",\"\")","v":"○"},{"$f":"IF(基本データ!BE489<>\"\",\"○\",\"\")","v":"○"},{"$f":"IF(基本データ!BF489<>\"\",\"○\",\"\")","v":"○"},null,5,{"$f":"IF(基本データ!BH489<>\"\",\"○\",\"\")","v":"○"},null,{"$f":"IF(基本データ!BJ489<>\"\",\"○\",\"\")","v":"○"},{"$f":"IF(基本データ!BK489<>\"\",\"○\",\"\")","v":"○"},{"$f":"IF(基本データ!BL489<>\"\",\"○\",\"\")","v":"○"},{"$f":"IF(基本データ!BM489<>\"\",\"○\",\"\")","v":"○"}]
[488,"東京都",2026,"慶應義塾大学病院",8,"○","○",null,"○",null,null,null,null,{"$f":"IF(基本データ!AU490<>\"\",\"○\",\"\")","v":"○"},null,null,null,{"$f":"IF(基本データ!AY490<>\"\",\"○\",\"\")","v":"○"},null,{"$f":"IF(基本データ!BA490<>\"\",\"○\",\"\")","v":"○"},null,null,{"$f":"IF(基本データ!BD490<>\"\",\"○\",\"\")","v":"○"},{"$f":"IF(基本データ!BE490<>\"\",\"○\",\"\")","v":"○"},null,null,2,null,null,{"$f":"IF(基本データ!BJ490<>\"\",\"○\",\"\")","v":"○"},null,null,{"$f":"IF(基本データ!BM490<>\"\",\"○\",\"\")","v":"○"}]
[489,"神奈川県",2026,"公益社団法人　地域医療振興協会　横須賀市立総合医療センター",13,"○","○","○","○",null,{"$f":"IF(基本データ!AR491<>\"\",\"○\",\"\")","v":"○"},{"$f":"IF(基本データ!AS491<>\"\",\"○\",\"\")","v":"○"},null,"○",{"$f":"IF(基本データ!AV491<>\"\",\"○\",\"\")","v":"○"},null,{"$f":"IF(基本データ!AX491<>\"\",\"○\",\"\")","v":"○"},{"$f":"IF(基本データ!AY491<>\"\",\"○\",\"\")","v":"○"},null,{"$f":"IF(基本データ!BA491<>\"\",\"○\",\"\")","v":"○"},null,null,{"$f":"IF(基本データ!BD491<>\"\",\"○\",\"\")","v":"○"},{"$f":"IF(基本データ!BE491<>\"\",\"○\",\"\")","v":"○"},null,null,2,null,{"$f":"IF(基本データ!BI491<>\"\",\"○\",\"\")","v":"○"},null,null,null,{"$f":"IF(基本データ!BM491<>\"\",\"○\",\"\")","v":"○"}]
[490,{"$f":"基本データ!J492","v":"新潟県"},{"$f":"基本データ!B492","v":2026},{"$f":"基本データ!I492","v":"新潟県立中央病院"},{"$f":"基本データ!AL492","v":9},{"$f":"IF(基本データ!AM492<>\"\",\"○\",\"\")","v":"○"},{"$f":"IF(基本データ!AN492<>\"\",\"○\",\"\")","v":"○"},{"$f":"IF(基本データ!AO492<>\"\",\"○\",\"\")","v":"○"},{"$f":"IF(基本データ!AP492<>\"\",\"○\",\"\")","v":""},{"$f":"IF(基本データ!AQ492<>\"\",\"○\",\"\")","v":""},{"$f":"IF(基本データ!AR492<>\"\",\"○\",\"\")","v":""},{"$f":"IF(基本データ!AS492<>\"\",\"○\",\"\")","v":""},{"$f":"IF(基本データ!AT492<>\"\",\"○\",\"\")","v":"○"},{"$f":"IF(基本データ!AU492<>\"\",\"○\",\"\")","v":""},{"$f":"IF(基本データ!AV492<>\"\",\"○\",\"\")","v":""},{"$f":"IF(基本データ!AW492<>\"\",\"○\",\"\")","v":"○"},{"$f":"IF(基本データ!AX492<>\"\",\"○\",\"\")","v":""},{"$f":"IF(基本データ!AY492<>\"\",\"○\",\"\")","v":"○"},{"$f":"IF(基本データ!AZ492<>\"\",\"○\",\"\")","v":""},{"$f":"IF(基本データ!BA492<>\"\",\"○\",\"\")","v":"○"},{"$f":"IF(基本データ!BB492<>\"\",\"○\",\"\")","v":""},{"$f":"IF(基本データ!BC492<>\"\",\"○\",\"\")","v":""},{"$f":"IF(基本データ!BD492<>\"\",\"○\",\"\")","v":"○"},{"$f":"IF(基本データ!BE492<>\"\",\"○\",\"\")","v":"○"},{"$f":"IF(基本データ!BF492<>\"\",\"○\",\"\")","v":""},{"$f":"IF(基本データ!BG492<>\"\",\"○\",\"\")","v":""},{"$f":"基本データ!BN492","v":2},{"$f":"IF(基本データ!BH492<>\"\",\"○\",\"\")","v":"○"},{"$f":"IF(基本データ!BI492<>\"\",\"○\",\"\")","v":""},{"$f":"IF(基本データ!BJ492<>\"\",\"○\",\"\")","v":"○"},{"$f":"IF(基本データ!BK492<>\"\",\"○\",\"\")","v":""},{"$f":"IF(基本データ!BL492<>\"\",\"○\",\"\")","v":""},{"$f":"IF(基本データ!BM492<>\"\",\"○\",\"\")","v":""}]
[491,{"$f":"基本データ!J493","v":"富山県"},{"$f":"基本データ!B493","v":2026},{"$f":"基本データ!I493","v":"医療法人社団尽誠会　野村病院"},{"$f":"基本データ!AL493","v":3},{"$f":"IF(基本データ!AM493<>\"\",\"○\",\"\")","v":""},{"$f":"IF(基本データ!AN493<>\"\",\"○\",\"\")","v":""},{"$f":"IF(基本データ!AO493<>\"\",\"○\",\"\")","v":""},{"$f":"IF(基本データ!AP493<>\"\",\"○\",\"\")","v":""},{"$f":"IF(基本データ!AQ493<>\"\",\"○\",\"\")","v":""},{"$f":"IF(基本データ!AR493<>\"\",\"○\",\"\")","v":""},{"$f":"IF(基本データ!AS493<>\"\",\"○\",\"\")","v":""},{"$f":"IF(基本データ!AT493<>\"\",\"○\",\"\")","v":""},{"$f":"IF(基本データ!AU493<>\"\",\"○\",\"\")","v":"○"},{"$f":"IF(基本データ!AV493<>\"\",\"○\",\"\")","v":"○"},{"$f":"IF(基本データ!AW493<>\"\",\"○\",\"\")","v":""},{"$f":"IF(基本データ!AX493<>\"\",\"○\",\"\")","v":""},{"$f":"IF(基本データ!AY493<>\"\",\"○\",\"\")","v":""},{"$f":"IF(基本データ!AZ493<>\"\",\"○\",\"\")","v":""},{"$f":"IF(基本データ!BA493<>\"\",\"○\",\"\")","v":"○"},{"$f":"IF(基本データ!BB493<>\"\",\"○\",\"\")","v":""},{"$f":"IF(基本データ!BC493<>\"\",\"○\",\"\")","v":""},{"$f":"IF(基本データ!BD493<>\"\",\"○\",\"\")","v":""},{"$f":"IF(基本データ!BE493<>\"\",\"○\",\"\")","v":""},{"$f":"IF(基本データ!BF493<>\"\",\"○\",\"\")","v":""},{"$f":"IF(基本データ!BG493<>\"\",\"○\",\"\")","v":""},{"$f":"基本データ!BN493","v":0},{"$f":"IF(基本データ!BH493<>\"\",\"○\",\"\")","v":""},{"$f":"IF(基本データ!BI493<>\"\",\"○\",\"\")","v":""},{"$f":"IF(基本データ!BJ493<>\"\",\"○\",\"\")","v":""},{"$f":"IF(基本データ!BK493<>\"\",\"○\",\"\")","v":""},{"$f":"IF(基本データ!BL493<>\"\",\"○\",\"\")","v":""},{"$f":"IF(基本データ!BM493<>\"\",\"○\",\"\")","v":""}]
[492,{"$f":"基本データ!J494","v":"岐阜県"},{"$f":"基本データ!B494","v":2026},{"$f":"基本データ!I494","v":"大垣市民病院"},{"$f":"基本データ!AL494","v":4},{"$f":"IF(基本データ!AM494<>\"\",\"○\",\"\")","v":""},{"$f":"IF(基本データ!AN494<>\"\",\"○\",\"\")","v":"○"},{"$f":"IF(基本データ!AO494<>\"\",\"○\",\"\")","v":"○"},{"$f":"IF(基本データ!AP494<>\"\",\"○\",\"\")","v":""},{"$f":"IF(基本データ!AQ494<>\"\",\"○\",\"\")","v":""},{"$f":"IF(基本データ!AR494<>\"\",\"○\",\"\")","v":""},{"$f":"IF(基本データ!AS494<>\"\",\"○\",\"\")","v":""},{"$f":"IF(基本データ!AT494<>\"\",\"○\",\"\")","v":""},{"$f":"IF(基本データ!AU494<>\"\",\"○\",\"\")","v":""},{"$f":"IF(基本データ!AV494<>\"\",\"○\",\"\")","v":"○"},{"$f":"IF(基本データ!AW494<>\"\",\"○\",\"\")","v":""},{"$f":"IF(基本データ!AX494<>\"\",\"○\",\"\")","v":""},{"$f":"IF(基本データ!AY494<>\"\",\"○\",\"\")","v":"○"},{"$f":"IF(基本データ!AZ494<>\"\",\"○\",\"\")","v":""},{"$f":"IF(基本データ!BA494<>\"\",\"○\",\"\")","v":""},{"$f":"IF(基本データ!BB494<>\"\",\"○\",\"\")","v":""},{"$f":"IF(基本データ!BC494<>\"\",\"○\",\"\")","v":""},{"$f":"IF(基本データ!BD494<>\"\",\"○\",\"\")","v":""},{"$f":"IF(基本データ!BE494<>\"\",\"○\",\"\")","v":""},{"$f":"IF(基本データ!BF494<>\"\",\"○\",\"\")","v":""},{"$f":"IF(基本データ!BG494<>\"\",\"○\",\"\")","v":""},{"$f":"基本データ!BN494","v":0},{"$f":"IF(基本データ!BH494<>\"\",\"○\",\"\")","v":""},{"$f":"IF(基本データ!BI494<>\"\",\"○\",\"\")","v":""},{"$f":"IF(基本データ!BJ494<>\"\",\"○\",\"\")","v":""},{"$f":"IF(基本データ!BK494<>\"\",\"○\",\"\")","v":""},{"$f":"IF(基本データ!BL494<>\"\",\"○\",\"\")","v":""},{"$f":"IF(基本データ!BM494<>\"\",\"○\",\"\")","v":""}]
[493,{"$f":"基本データ!J495","v":"静岡県"},{"$f":"基本データ!B495","v":2026},{"$f":"基本データ!I495","v":"浜松赤十字病院"},{"$f":"基本データ!AL495","v":8},{"$f":"IF(基本データ!AM495<>\"\",\"○\",\"\")","v":"○"},{"$f":"IF(基本データ!AN495<>\"\",\"○\",\"\")","v":"○"},{"$f":"IF(基本データ!AO495<>\"\",\"○\",\"\")","v":""},{"$f":"IF(基本データ!AP495<>\"\",\"○\",\"\")","v":""},{"$f":"IF(基本データ!AQ495<>\"\",\"○\",\"\")","v":""},{"$f":"IF(基本データ!AR495<>\"\",\"○\",\"\")","v":""},{"$f":"IF(基本データ!AS495<>\"\",\"○\",\"\")","v":""},{"$f":"IF(基本データ!AT495<>\"\",\"○\",\"\")","v":""},{"$f":"IF(基本データ!AU495<>\"\",\"○\",\"\")","v":""},{"$f":"IF(基本データ!AV495<>\"\",\"○\",\"\")","v":"○"},{"$f":"IF(基本データ!AW495<>\"\",\"○\",\"\")","v":"○"},{"$f":"IF(基本データ!AX495<>\"\",\"○\",\"\")","v":""},{"$f":"IF(基本データ!AY495<>\"\",\"○\",\"\")","v":"○"},{"$f":"IF(基本データ!AZ495<>\"\",\"○\",\"\")","v":""},{"$f":"IF(基本データ!BA495<>\"\",\"○\",\"\")","v":"○"},{"$f":"IF(基本データ!BB495<>\"\",\"○\",\"\")","v":""},{"$f":"IF(基本データ!BC495<>\"\",\"○\",\"\")","v":""},{"$f":"IF(基本データ!BD495<>\"\",\"○\",\"\")","v":"○"},{"$f":"IF(基本データ!BE495<>\"\",\"○\",\"\")","v":"○"},{"$f":"IF(基本データ!BF495<>\"\",\"○\",\"\")","v":""},{"$f":"IF(基本データ!BG495<>\"\",\"○\",\"\")","v":""},{"$f":"基本データ!BN495","v":1},{"$f":"IF(基本データ!BH495<>\"\",\"○\",\"\")","v":""},{"$f":"IF(基本データ!BI495<>\"\",\"○\",\"\")","v":""},{"$f":"IF(基本データ!BJ495<>\"\",\"○\",\"\")","v":"○"},{"$f":"IF(基本データ!BK495<>\"\",\"○\",\"\")","v":""},{"$f":"IF(基本データ!BL495<>\"\",\"○\",\"\")","v":""},{"$f":"IF(基本データ!BM495<>\"\",\"○\",\"\")","v":""}]
[494,{"$f":"基本データ!J496","v":"愛知県"},{"$f":"基本データ!B496","v":2026},{"$f":"基本データ!I496","v":"国立研究開発法人国立長寿医療研究センター"},{"$f":"基本データ!AL496","v":3},{"$f":"IF(基本データ!AM496<>\"\",\"○\",\"\")","v":""},{"$f":"IF(基本データ!AN496<>\"\",\"○\",\"\")","v":""},{"$f":"IF(基本データ!AO496<>\"\",\"○\",\"\")","v":""},{"$f":"IF(基本データ!AP496<>\"\",\"○\",\"\")","v":""},{"$f":"IF(基本データ!AQ496<>\"\",\"○\",\"\")","v":""},{"$f":"IF(基本データ!AR496<>\"\",\"○\",\"\")","v":""},{"$f":"IF(基本データ!AS496<>\"\",\"○\",\"\")","v":""},{"$f":"IF(基本データ!AT496<>\"\",\"○\",\"\")","v":""},{"$f":"IF(基本データ!AU496<>\"\",\"○\",\"\")","v":""},{"$f":"IF(基本データ!AV496<>\"\",\"○\",\"\")","v":"○"},{"$f":"IF(基本データ!AW496<>\"\",\"○\",\"\")","v":""},{"$f":"IF(基本データ!AX496<>\"\",\"○\",\"\")","v":""},{"$f":"IF(基本データ!AY496<>\"\",\"○\",\"\")","v":"○"},{"$f":"IF(基本データ!AZ496<>\"\",\"○\",\"\")","v":""},{"$f":"IF(基本データ!BA496<>\"\",\"○\",\"\")","v":"○"},{"$f":"IF(基本データ!BB496<>\"\",\"○\",\"\")","v":""},{"$f":"IF(基本データ!BC496<>\"\",\"○\",\"\")","v":""},{"$f":"IF(基本データ!BD496<>\"\",\"○\",\"\")","v":""},{"$f":"IF(基本データ!BE496<>\"\",\"○\",\"\")","v":""},{"$f":"IF(基本データ!BF496<>\"\",\"○\",\"\")","v":""},{"$f":"IF(基本データ!BG496<>\"\",\"○\",\"\")","v":""},{"$f":"基本データ!BN496","v":0},{"$f":"IF(基本データ!BH496<>\"\",\"○\",\"\")","v":""},{"$f":"IF(基本データ!BI496<>\"\",\"○\",\"\")","v":""},{"$f":"IF(基本データ!BJ496<>\"\",\"○\",\"\")","v":""},{"$f":"IF(基本データ!BK496<>\"\",\"○\",\"\")","v":""},{"$f":"IF(基本データ!BL496<>\"\",\"○\",\"\")","v":""},{"$f":"IF(基本データ!BM496<>\"\",\"○\",\"\")","v":""}]
[495,{"$f":"基本データ!J497","v":"愛知県"},{"$f":"基本データ!B497","v":2026},{"$f":"基本データ!I497","v":"総合病院　南生協病院"},{"$f":"基本データ!AL497","v":4},{"$f":"IF(基本データ!AM497<>\"\",\"○\",\"\")","v":""},{"$f":"IF(基本データ!AN497<>\"\",\"○\",\"\")","v":""},{"$f":"IF(基本データ!AO497<>\"\",\"○\",\"\")","v":""},{"$f":"IF(基本データ!AP497<>\"\",\"○\",\"\")","v":""},{"$f":"IF(基本データ!AQ497<>\"\",\"○\",\"\")","v":""},{"$f":"IF(基本データ!AR497<>\"\",\"○\",\"\")","v":"○"},{"$f":"IF(基本データ!AS497<>\"\",\"○\",\"\")","v":""},{"$f":"IF(基本データ!AT497<>\"\",\"○\",\"\")","v":""},{"$f":"IF(基本データ!AU497<>\"\",\"○\",\"\")","v":"○"},{"$f":"IF(基本データ!AV497<>\"\",\"○\",\"\")","v":"○"},{"$f":"IF(基本データ!AW497<>\"\",\"○\",\"\")","v":""},{"$f":"IF(基本データ!AX497<>\"\",\"○\",\"\")","v":""},{"$f":"IF(基本データ!AY497<>\"\",\"○\",\"\")","v":"○"},{"$f":"IF(基本データ!AZ497<>\"\",\"○\",\"\")","v":""},{"$f":"IF(基本データ!BA497<>\"\",\"○\",\"\")","v":""},{"$f":"IF(基本データ!BB497<>\"\",\"○\",\"\")","v":""},{"$f":"IF(基本データ!BC497<>\"\",\"○\",\"\")","v":""},{"$f":"IF(基本データ!BD497<>\"\",\"○\",\"\")","v":""},{"$f":"IF(基本データ!BE497<>\"\",\"○\",\"\")","v":""},{"$f":"IF(基本データ!BF497<>\"\",\"○\",\"\")","v":""},{"$f":"IF(基本データ!BG497<>\"\",\"○\",\"\")","v":""},{"$f":"基本データ!BN497","v":0},{"$f":"IF(基本データ!BH497<>\"\",\"○\",\"\")","v":""},{"$f":"IF(基本データ!BI497<>\"\",\"○\",\"\")","v":""},{"$f":"IF(基本データ!BJ497<>\"\",\"○\",\"\")","v":""},{"$f":"IF(基本データ!BK497<>\"\",\"○\",\"\")","v":""},{"$f":"IF(基本データ!BL497<>\"\",\"○\",\"\")","v":""},{"$f":"IF(基本データ!BM497<>\"\",\"○\",\"\")","v":""}]
[496,{"$f":"基本データ!J498","v":"滋賀県"},{"$f":"基本データ!B498","v":2026},{"$f":"基本データ!I498","v":"滋賀県立総合病院"},{"$f":"基本データ!AL498","v":9},{"$f":"IF(基本データ!AM498<>\"\",\"○\",\"\")","v":"○"},{"$f":"IF(基本データ!AN498<>\"\",\"○\",\"\")","v":"○"},{"$f":"IF(基本データ!AO498<>\"\",\"○\",\"\")","v":""},{"$f":"IF(基本データ!AP498<>\"\",\"○\",\"\")","v":""},{"$f":"IF(基本データ!AQ498<>\"\",\"○\",\"\")","v":""},{"$f":"IF(基本データ!AR498<>\"\",\"○\",\"\")","v":""},{"$f":"IF(基本データ!AS498<>\"\",\"○\",\"\")","v":""},{"$f":"IF(基本データ!AT498<>\"\",\"○\",\"\")","v":""},{"$f":"IF(基本データ!AU498<>\"\",\"○\",\"\")","v":"○"},{"$f":"IF(基本データ!AV498<>\"\",\"○\",\"\")","v":"○"},{"$f":"IF(基本データ!AW498<>\"\",\"○\",\"\")","v":"○"},{"$f":"IF(基本データ!AX498<>\"\",\"○\",\"\")","v":""},{"$f":"IF(基本データ!AY498<>\"\",\"○\",\"\")","v":"○"},{"$f":"IF(基本データ!AZ498<>\"\",\"○\",\"\")","v":""},{"$f":"IF(基本データ!BA498<>\"\",\"○\",\"\")","v":"○"},{"$f":"IF(基本データ!BB498<>\"\",\"○\",\"\")","v":""},{"$f":"IF(基本データ!BC498<>\"\",\"○\",\"\")","v":""},{"$f":"IF(基本データ!BD498<>\"\",\"○\",\"\")","v":"○"},{"$f":"IF(基本データ!BE498<>\"\",\"○\",\"\")","v":"○"},{"$f":"IF(基本データ!BF498<>\"\",\"○\",\"\")","v":""},{"$f":"IF(基本データ!BG498<>\"\",\"○\",\"\")","v":""},{"$f":"基本データ!BN498","v":1},{"$f":"IF(基本データ!BH498<>\"\",\"○\",\"\")","v":""},{"$f":"IF(基本データ!BI498<>\"\",\"○\",\"\")","v":""},{"$f":"IF(基本データ!BJ498<>\"\",\"○\",\"\")","v":"○"},{"$f":"IF(基本データ!BK498<>\"\",\"○\",\"\")","v":""},{"$f":"IF(基本データ!BL498<>\"\",\"○\",\"\")","v":""},{"$f":"IF(基本データ!BM498<>\"\",\"○\",\"\")","v":""}]
[497,{"$f":"基本データ!J499","v":"京都府"},{"$f":"基本データ!B499","v":2026},{"$f":"基本データ!I499","v":"京都岡本記念病院"},{"$f":"基本データ!AL499","v":5},{"$f":"IF(基本データ!AM499<>\"\",\"○\",\"\")","v":""},{"$f":"IF(基本データ!AN499<>\"\",\"○\",\"\")","v":""},{"$f":"IF(基本データ!AO499<>\"\",\"○\",\"\")","v":""},{"$f":"IF(基本データ!AP499<>\"\",\"○\",\"\")","v":""},{"$f":"IF(基本データ!AQ499<>\"\",\"○\",\"\")","v":""},{"$f":"IF(基本データ!AR499<>\"\",\"○\",\"\")","v":""},{"$f":"IF(基本データ!AS499<>\"\",\"○\",\"\")","v":""},{"$f":"IF(基本データ!AT499<>\"\",\"○\",\"\")","v":"○"},{"$f":"IF(基本データ!AU499<>\"\",\"○\",\"\")","v":"○"},{"$f":"IF(基本データ!AV499<>\"\",\"○\",\"\")","v":"○"},{"$f":"IF(基本データ!AW499<>\"\",\"○\",\"\")","v":"○"},{"$f":"IF(基本データ!AX499<>\"\",\"○\",\"\")","v":""},{"$f":"IF(基本データ!AY499<>\"\",\"○\",\"\")","v":"○"},{"$f":"IF(基本データ!AZ499<>\"\",\"○\",\"\")","v":""},{"$f":"IF(基本データ!BA499<>\"\",\"○\",\"\")","v":""},{"$f":"IF(基本データ!BB499<>\"\",\"○\",\"\")","v":""},{"$f":"IF(基本データ!BC499<>\"\",\"○\",\"\")","v":""},{"$f":"IF(基本データ!BD499<>\"\",\"○\",\"\")","v":""},{"$f":"IF(基本データ!BE499<>\"\",\"○\",\"\")","v":""},{"$f":"IF(基本データ!BF499<>\"\",\"○\",\"\")","v":""},{"$f":"IF(基本データ!BG499<>\"\",\"○\",\"\")","v":""},{"$f":"基本データ!BN499","v":0},{"$f":"IF(基本データ!BH499<>\"\",\"○\",\"\")","v":""},{"$f":"IF(基本データ!BI499<>\"\",\"○\",\"\")","v":""},{"$f":"IF(基本データ!BJ499<>\"\",\"○\",\"\")","v":""},{"$f":"IF(基本データ!BK499<>\"\",\"○\",\"\")","v":""},{"$f":"IF(基本データ!BL499<>\"\",\"○\",\"\")","v":""},{"$f":"IF(基本データ!BM499<>\"\",\"○\",\"\")","v":""}]
[498,{"$f":"基本データ!J500","v":"大阪府"},{"$f":"基本データ!B500","v":2026},{"$f":"基本データ!I500","v":"医療法人育和会　育和会記念病院"},{"$f":"基本データ!AL500","v":5},{"$f":"IF(基本データ!AM500<>\"\",\"○\",\"\")","v":""},{"$f":"IF(基本データ!AN500<>\"\",\"○\",\"\")","v":""},{"$f":"IF(基本データ!AO500<>\"\",\"○\",\"\")","v":""},{"$f":"IF(基本データ!AP500<>\"\",\"○\",\"\")","v":""},{"$f":"IF(基本データ!AQ500<>\"\",\"○\",\"\")","v":""},{"$f":"IF(基本データ!AR500<>\"\",\"○\",\"\")","v":""},{"$f":"IF(基本データ!AS500<>\"\",\"○\",\"\")","v":"○"},{"$f":"IF(基本データ!AT500<>\"\",\"○\",\"\")","v":""},{"$f":"IF(基本データ!AU500<>\"\",\"○\",\"\")","v":"○"},{"$f":"IF(基本データ!AV500<>\"\",\"○\",\"\")","v":"○"},{"$f":"IF(基本データ!AW500<>\"\",\"○\",\"\")","v":""},{"$f":"IF(基本データ!AX500<>\"\",\"○\",\"\")","v":"○"},{"$f":"IF(基本データ!AY500<>\"\",\"○\",\"\")","v":""},{"$f":"IF(基本データ!AZ500<>\"\",\"○\",\"\")","v":""},{"$f":"IF(基本データ!BA500<>\"\",\"○\",\"\")","v":"○"},{"$f":"IF(基本データ!BB500<>\"\",\"○\",\"\")","v":""},{"$f":"IF(基本データ!BC500<>\"\",\"○\",\"\")","v":""},{"$f":"IF(基本データ!BD500<>\"\",\"○\",\"\")","v":""},{"$f":"IF(基本データ!BE500<>\"\",\"○\",\"\")","v":""},{"$f":"IF(基本データ!BF500<>\"\",\"○\",\"\")","v":""},{"$f":"IF(基本データ!BG500<>\"\",\"○\",\"\")","v":""},{"$f":"基本データ!BN500","v":0},{"$f":"IF(基本データ!BH500<>\"\",\"○\",\"\")","v":""},{"$f":"IF(基本データ!BI500<>\"\",\"○\",\"\")","v":""},{"$f":"IF(基本データ!BJ500<>\"\",\"○\",\"\")","v":""},{"$f":"IF(基本データ!BK500<>\"\",\"○\",\"\")","v":""},{"$f":"IF(基本データ!BL500<>\"\",\"○\",\"\")","v":""},{"$f":"IF(基本データ!BM500<>\"\",\"○\",\"\")","v":""}]
[499,{"$f":"基本データ!J501","v":"大阪府"},{"$f":"基本データ!B501","v":2026},{"$f":"基本データ!I501","v":"関西電力病院"},{"$f":"基本データ!AL501","v":10},{"$f":"IF(基本データ!AM501<>\"\",\"○\",\"\")","v":"○"},{"$f":"IF(基本データ!AN501<>\"\",\"○\",\"\")","v":"○"},{"$f":"IF(基本データ!AO501<>\"\",\"○\",\"\")","v":""},{"$f":"IF(基本データ!AP501<>\"\",\"○\",\"\")","v":""},{"$f":"IF(基本データ!AQ501<>\"\",\"○\",\"\")","v":""},{"$f":"IF(基本データ!AR501<>\"\",\"○\",\"\")","v":""},{"$f":"IF(基本データ!AS501<>\"\",\"○\",\"\")","v":""},{"$f":"IF(基本データ!AT501<>\"\",\"○\",\"\")","v":""},{"$f":"IF(基本データ!AU501<>\"\",\"○\",\"\")","v":"○"},{"$f":"IF(基本データ!AV501<>\"\",\"○\",\"\")","v":"○"},{"$f":"IF(基本データ!AW501<>\"\",\"○\",\"\")","v":"○"},{"$f":"IF(基本データ!AX501<>\"\",\"○\",\"\")","v":"○"},{"$f":"IF(基本データ!AY501<>\"\",\"○\",\"\")","v":"○"},{"$f":"IF(基本データ!AZ501<>\"\",\"○\",\"\")","v":""},{"$f":"IF(基本データ!BA501<>\"\",\"○\",\"\")","v":"○"},{"$f":"IF(基本データ!BB501<>\"\",\"○\",\"\")","v":""},{"$f":"IF(基本データ!BC501<>\"\",\"○\",\"\")","v":"○"},{"$f":"IF(基本データ!BD501<>\"\",\"○\",\"\")","v":""},{"$f":"IF(基本データ!BE501<>\"\",\"○\",\"\")","v":"○"},{"$f":"IF(基本データ!BF501<>\"\",\"○\",\"\")","v":""},{"$f":"IF(基本データ!BG501<>\"\",\"○\",\"\")","v":""},{"$f":"基本データ!BN501","v":0},{"$f":"IF(基本データ!BH501<>\"\",\"○\",\"\")","v":""},{"$f":"IF(基本データ!BI501<>\"\",\"○\",\"\")","v":""},{"$f":"IF(基本データ!BJ501<>\"\",\"○\",\"\")","v":""},{"$f":"IF(基本データ!BK501<>\"\",\"○\",\"\")","v":""},{"$f":"IF(基本データ!BL501<>\"\",\"○\",\"\")","v":""},{"$f":"IF(基本データ!BM501<>\"\",\"○\",\"\")","v":""}]
[500,{"$f":"基本データ!J502","v":"大阪府"},{"$f":"基本データ!B502","v":2026},{"$f":"基本データ!I502","v":"国家公務員共済組合連合会枚方公済病院"},{"$f":"基本データ!AL502","v":8},{"$f":"IF(基本データ!AM502<>\"\",\"○\",\"\")","v":"○"},{"$f":"IF(基本データ!AN502<>\"\",\"○\",\"\")","v":"○"},{"$f":"IF(基本データ!AO502<>\"\",\"○\",\"\")","v":""},{"$f":"IF(基本データ!AP502<>\"\",\"○\",\"\")","v":""},{"$f":"IF(基本データ!AQ502<>\"\",\"○\",\"\")","v":""},{"$f":"IF(基本データ!AR502<>\"\",\"○\",\"\")","v":""},{"$f":"IF(基本データ!AS502<>\"\",\"○\",\"\")","v":"○"},{"$f":"IF(基本データ!AT502<>\"\",\"○\",\"\")","v":""},{"$f":"IF(基本データ!AU502<>\"\",\"○\",\"\")","v":"○"},{"$f":"IF(基本データ!AV502<>\"\",\"○\",\"\")","v":"○"},{"$f":"IF(基本データ!AW502<>\"\",\"○\",\"\")","v":""},{"$f":"IF(基本データ!AX502<>\"\",\"○\",\"\")","v":""},{"$f":"IF(基本データ!AY502<>\"\",\"○\",\"\")","v":"○"},{"$f":"IF(基本データ!AZ502<>\"\",\"○\",\"\")","v":""},{"$f":"IF(基本データ!BA502<>\"\",\"○\",\"\")","v":"○"},{"$f":"IF(基本データ!BB502<>\"\",\"○\",\"\")","v":""},{"$f":"IF(基本データ!BC502<>\"\",\"○\",\"\")","v":""},{"$f":"IF(基本データ!BD502<>\"\",\"○\",\"\")","v":""},{"$f":"IF(基本データ!BE502<>\"\",\"○\",\"\")","v":"○"},{"$f":"IF(基本データ!BF502<>\"\",\"○\",\"\")","v":""},{"$f":"IF(基本データ!BG502<>\"\",\"○\",\"\")","v":""},{"$f":"基本データ!BN502","v":0},{"$f":"IF(基本データ!BH502<>\"\",\"○\",\"\")","v":""},{"$f":"IF(基本データ!BI502<>\"\",\"○\",\"\")","v":""},{"$f":"IF(基本データ!BJ502<>\"\",\"○\",\"\")","v":""},{"$f":"IF(基本データ!BK502<>\"\",\"○\",\"\")","v":""},{"$f":"IF(基本データ!BL502<>\"\",\"○\",\"\")","v":""},{"$f":"IF(基本データ!BM502<>\"\",\"○\",\"\")","v":""}]
[501,{"$f":"基本データ!J503","v":"大阪府"},{"$f":"基本データ!B503","v":2026},{"$f":"基本データ!I503","v":"社会医療法人清恵会　清恵会病院"},{"$f":"基本データ!AL503","v":4},{"$f":"IF(基本データ!AM503<>\"\",\"○\",\"\")","v":""},{"$f":"IF(基本データ!AN503<>\"\",\"○\",\"\")","v":""},{"$f":"IF(基本データ!AO503<>\"\",\"○\",\"\")","v":""},{"$f":"IF(基本データ!AP503<>\"\",\"○\",\"\")","v":""},{"$f":"IF(基本データ!AQ503<>\"\",\"○\",\"\")","v":""},{"$f":"IF(基本データ!AR503<>\"\",\"○\",\"\")","v":""},{"$f":"IF(基本データ!AS503<>\"\",\"○\",\"\")","v":""},{"$f":"IF(基本データ!AT503<>\"\",\"○\",\"\")","v":""},{"$f":"IF(基本データ!AU503<>\"\",\"○\",\"\")","v":"○"},{"$f":"IF(基本データ!AV503<>\"\",\"○\",\"\")","v":"○"},{"$f":"IF(基本データ!AW503<>\"\",\"○\",\"\")","v":""},{"$f":"IF(基本データ!AX503<>\"\",\"○\",\"\")","v":""},{"$f":"IF(基本データ!AY503<>\"\",\"○\",\"\")","v":"○"},{"$f":"IF(基本データ!AZ503<>\"\",\"○\",\"\")","v":""},{"$f":"IF(基本データ!BA503<>\"\",\"○\",\"\")","v":"○"},{"$f":"IF(基本データ!BB503<>\"\",\"○\",\"\")","v":""},{"$f":"IF(基本データ!BC503<>\"\",\"○\",\"\")","v":""},{"$f":"IF(基本データ!BD503<>\"\",\"○\",\"\")","v":""},{"$f":"IF(基本データ!BE503<>\"\",\"○\",\"\")","v":""},{"$f":"IF(基本データ!BF503<>\"\",\"○\",\"\")","v":""},{"$f":"IF(基本データ!BG503<>\"\",\"○\",\"\")","v":""},{"$f":"基本データ!BN503","v":0},{"$f":"IF(基本データ!BH503<>\"\",\"○\",\"\")","v":""},{"$f":"IF(基本データ!BI503<>\"\",\"○\",\"\")","v":""},{"$f":"IF(基本データ!BJ503<>\"\",\"○\",\"\")","v":""},{"$f":"IF(基本データ!BK503<>\"\",\"○\",\"\")","v":""},{"$f":"IF(基本データ!BL503<>\"\",\"○\",\"\")","v":""},{"$f":"IF(基本データ!BM503<>\"\",\"○\",\"\")","v":""}]
[502,{"$f":"基本データ!J504","v":"大阪府"},{"$f":"基本データ!B504","v":2026},{"$f":"基本データ!I504","v":"社会医療法人若弘会　若草第一病院"},{"$f":"基本データ!AL504","v":6},{"$f":"IF(基本データ!AM504<>\"\",\"○\",\"\")","v":"○"},{"$f":"IF(基本データ!AN504<>\"\",\"○\",\"\")","v":"○"},{"$f":"IF(基本データ!AO504<>\"\",\"○\",\"\")","v":""},{"$f":"IF(基本データ!AP504<>\"\",\"○\",\"\")","v":"○"},{"$f":"IF(基本データ!AQ504<>\"\",\"○\",\"\")","v":""},{"$f":"IF(基本データ!AR504<>\"\",\"○\",\"\")","v":""},{"$f":"IF(基本データ!AS504<>\"\",\"○\",\"\")","v":""},{"$f":"IF(基本データ!AT504<>\"\",\"○\",\"\")","v":""},{"$f":"IF(基本データ!AU504<>\"\",\"○\",\"\")","v":"○"},{"$f":"IF(基本データ!AV504<>\"\",\"○\",\"\")","v":""},{"$f":"IF(基本データ!AW504<>\"\",\"○\",\"\")","v":""},{"$f":"IF(基本データ!AX504<>\"\",\"○\",\"\")","v":""},{"$f":"IF(基本データ!AY504<>\"\",\"○\",\"\")","v":"○"},{"$f":"IF(基本データ!AZ504<>\"\",\"○\",\"\")","v":""},{"$f":"IF(基本データ!BA504<>\"\",\"○\",\"\")","v":""},{"$f":"IF(基本データ!BB504<>\"\",\"○\",\"\")","v":""},{"$f":"IF(基本データ!BC504<>\"\",\"○\",\"\")","v":""},{"$f":"IF(基本データ!BD504<>\"\",\"○\",\"\")","v":""},{"$f":"IF(基本データ!BE504<>\"\",\"○\",\"\")","v":"○"},{"$f":"IF(基本データ!BF504<>\"\",\"○\",\"\")","v":""},{"$f":"IF(基本データ!BG504<>\"\",\"○\",\"\")","v":""},{"$f":"基本データ!BN504","v":1},{"$f":"IF(基本データ!BH504<>\"\",\"○\",\"\")","v":""},{"$f":"IF(基本データ!BI504<>\"\",\"○\",\"\")","v":""},{"$f":"IF(基本データ!BJ504<>\"\",\"○\",\"\")","v":""},{"$f":"IF(基本データ!BK504<>\"\",\"○\",\"\")","v":""},{"$f":"IF(基本データ!BL504<>\"\",\"○\",\"\")","v":""},{"$f":"IF(基本データ!BM504<>\"\",\"○\",\"\")","v":"○"}]
[503,{"$f":"基本データ!J505","v":"大阪府"},{"$f":"基本データ!B505","v":2026},{"$f":"基本データ!I505","v":"社会福祉法人恩賜財団済生会支部大阪府済生会中津病院"},{"$f":"基本データ!AL505","v":8},{"$f":"IF(基本データ!AM505<>\"\",\"○\",\"\")","v":"○"},{"$f":"IF(基本データ!AN505<>\"\",\"○\",\"\")","v":"○"},{"$f":"IF(基本データ!AO505<>\"\",\"○\",\"\")","v":""},{"$f":"IF(基本データ!AP505<>\"\",\"○\",\"\")","v":"○"},{"$f":"IF(基本データ!AQ505<>\"\",\"○\",\"\")","v":""},{"$f":"IF(基本データ!AR505<>\"\",\"○\",\"\")","v":""},{"$f":"IF(基本データ!AS505<>\"\",\"○\",\"\")","v":""},{"$f":"IF(基本データ!AT505<>\"\",\"○\",\"\")","v":""},{"$f":"IF(基本データ!AU505<>\"\",\"○\",\"\")","v":"○"},{"$f":"IF(基本データ!AV505<>\"\",\"○\",\"\")","v":""},{"$f":"IF(基本データ!AW505<>\"\",\"○\",\"\")","v":""},{"$f":"IF(基本データ!AX505<>\"\",\"○\",\"\")","v":""},{"$f":"IF(基本データ!AY505<>\"\",\"○\",\"\")","v":"○"},{"$f":"IF(基本データ!AZ505<>\"\",\"○\",\"\")","v":""},{"$f":"IF(基本データ!BA505<>\"\",\"○\",\"\")","v":"○"},{"$f":"IF(基本データ!BB505<>\"\",\"○\",\"\")","v":""},{"$f":"IF(基本データ!BC505<>\"\",\"○\",\"\")","v":""},{"$f":"IF(基本データ!BD505<>\"\",\"○\",\"\")","v":"○"},{"$f":"IF(基本データ!BE505<>\"\",\"○\",\"\")","v":"○"},{"$f":"IF(基本データ!BF505<>\"\",\"○\",\"\")","v":""},{"$f":"IF(基本データ!BG505<>\"\",\"○\",\"\")","v":""},{"$f":"基本データ!BN505","v":2},{"$f":"IF(基本データ!BH505<>\"\",\"○\",\"\")","v":""},{"$f":"IF(基本データ!BI505<>\"\",\"○\",\"\")","v":""},{"$f":"IF(基本データ!BJ505<>\"\",\"○\",\"\")","v":"○"},{"$f":"IF(基本データ!BK505<>\"\",\"○\",\"\")","v":""},{"$f":"IF(基本データ!BL505<>\"\",\"○\",\"\")","v":""},{"$f":"IF(基本データ!BM505<>\"\",\"○\",\"\")","v":"○"}]
[504,{"$f":"基本データ!J506","v":"大阪府"},{"$f":"基本データ!B506","v":2026},{"$f":"基本データ!I506","v":"市立豊中病院"},{"$f":"基本データ!AL506","v":2},{"$f":"IF(基本データ!AM506<>\"\",\"○\",\"\")","v":""},{"$f":"IF(基本データ!AN506<>\"\",\"○\",\"\")","v":""},{"$f":"IF(基本データ!AO506<>\"\",\"○\",\"\")","v":""},{"$f":"IF(基本データ!AP506<>\"\",\"○\",\"\")","v":""},{"$f":"IF(基本データ!AQ506<>\"\",\"○\",\"\")","v":""},{"$f":"IF(基本データ!AR506<>\"\",\"○\",\"\")","v":""},{"$f":"IF(基本データ!AS506<>\"\",\"○\",\"\")","v":""},{"$f":"IF(基本データ!AT506<>\"\",\"○\",\"\")","v":""},{"$f":"IF(基本データ!AU506<>\"\",\"○\",\"\")","v":"○"},{"$f":"IF(基本データ!AV506<>\"\",\"○\",\"\")","v":"○"},{"$f":"IF(基本データ!AW506<>\"\",\"○\",\"\")","v":""},{"$f":"IF(基本データ!AX506<>\"\",\"○\",\"\")","v":""},{"$f":"IF(基本データ!AY506<>\"\",\"○\",\"\")","v":""},{"$f":"IF(基本データ!AZ506<>\"\",\"○\",\"\")","v":""},{"$f":"IF(基本データ!BA506<>\"\",\"○\",\"\")","v":""},{"$f":"IF(基本データ!BB506<>\"\",\"○\",\"\")","v":""},{"$f":"IF(基本データ!BC506<>\"\",\"○\",\"\")","v":""},{"$f":"IF(基本データ!BD506<>\"\",\"○\",\"\")","v":""},{"$f":"IF(基本データ!BE506<>\"\",\"○\",\"\")","v":""},{"$f":"IF(基本データ!BF506<>\"\",\"○\",\"\")","v":""},{"$f":"IF(基本データ!BG506<>\"\",\"○\",\"\")","v":""},{"$f":"基本データ!BN506","v":0},{"$f":"IF(基本データ!BH506<>\"\",\"○\",\"\")","v":""},{"$f":"IF(基本データ!BI506<>\"\",\"○\",\"\")","v":""},{"$f":"IF(基本データ!BJ506<>\"\",\"○\",\"\")","v":""},{"$f":"IF(基本データ!BK506<>\"\",\"○\",\"\")","v":""},{"$f":"IF(基本データ!BL506<>\"\",\"○\",\"\")","v":""},{"$f":"IF(基本データ!BM506<>\"\",\"○\",\"\")","v":""}]
[505,{"$f":"基本データ!J507","v":"大阪府"},{"$f":"基本データ!B507","v":2026},{"$f":"基本データ!I507","v":"地方独立行政法人　堺市立病院機構　堺市立総合医療センター"},{"$f":"基本データ!AL507","v":12},{"$f":"IF(基本データ!AM507<>\"\",\"○\",\"\")","v":"○"},{"$f":"IF(基本データ!AN507<>\"\",\"○\",\"\")","v":"○"},{"$f":"IF(基本データ!AO507<>\"\",\"○\",\"\")","v":"○"},{"$f":"IF(基本データ!AP507<>\"\",\"○\",\"\")","v":"○"},{"$f":"IF(基本データ!AQ507<>\"\",\"○\",\"\")","v":""},{"$f":"IF(基本データ!AR507<>\"\",\"○\",\"\")","v":""},{"$f":"IF(基本データ!AS507<>\"\",\"○\",\"\")","v":""},{"$f":"IF(基本データ!AT507<>\"\",\"○\",\"\")","v":""},{"$f":"IF(基本データ!AU507<>\"\",\"○\",\"\")","v":"○"},{"$f":"IF(基本データ!AV507<>\"\",\"○\",\"\")","v":"○"},{"$f":"IF(基本データ!AW507<>\"\",\"○\",\"\")","v":"○"},{"$f":"IF(基本データ!AX507<>\"\",\"○\",\"\")","v":""},{"$f":"IF(基本データ!AY507<>\"\",\"○\",\"\")","v":"○"},{"$f":"IF(基本データ!AZ507<>\"\",\"○\",\"\")","v":"○"},{"$f":"IF(基本データ!BA507<>\"\",\"○\",\"\")","v":"○"},{"$f":"IF(基本データ!BB507<>\"\",\"○\",\"\")","v":""},{"$f":"IF(基本データ!BC507<>\"\",\"○\",\"\")","v":""},{"$f":"IF(基本データ!BD507<>\"\",\"○\",\"\")","v":"○"},{"$f":"IF(基本データ!BE507<>\"\",\"○\",\"\")","v":"○"},{"$f":"IF(基本データ!BF507<>\"\",\"○\",\"\")","v":""},{"$f":"IF(基本データ!BG507<>\"\",\"○\",\"\")","v":""},{"$f":"基本データ!BN507","v":2},{"$f":"IF(基本データ!BH507<>\"\",\"○\",\"\")","v":""},{"$f":"IF(基本データ!BI507<>\"\",\"○\",\"\")","v":""},{"$f":"IF(基本データ!BJ507<>\"\",\"○\",\"\")","v":"○"},{"$f":"IF(基本データ!BK507<>\"\",\"○\",\"\")","v":""},{"$f":"IF(基本データ!BL507<>\"\",\"○\",\"\")","v":""},{"$f":"IF(基本データ!BM507<>\"\",\"○\",\"\")","v":"○"}]
[506,{"$f":"基本データ!J508","v":"福岡県"},{"$f":"基本データ!B508","v":2026},{"$f":"基本データ!I508","v":"福岡大学筑紫病院"},{"$f":"基本データ!AL508","v":9},{"$f":"IF(基本データ!AM508<>\"\",\"○\",\"\")","v":"○"},{"$f":"IF(基本データ!AN508<>\"\",\"○\",\"\")","v":"○"},{"$f":"IF(基本データ!AO508<>\"\",\"○\",\"\")","v":"○"},{"$f":"IF(基本データ!AP508<>\"\",\"○\",\"\")","v":""},{"$f":"IF(基本データ!AQ508<>\"\",\"○\",\"\")","v":""},{"$f":"IF(基本データ!AR508<>\"\",\"○\",\"\")","v":""},{"$f":"IF(基本データ!AS508<>\"\",\"○\",\"\")","v":""},{"$f":"IF(基本データ!AT508<>\"\",\"○\",\"\")","v":""},{"$f":"IF(基本データ!AU508<>\"\",\"○\",\"\")","v":""},{"$f":"IF(基本データ!AV508<>\"\",\"○\",\"\")","v":""},{"$f":"IF(基本データ!AW508<>\"\",\"○\",\"\")","v":"○"},{"$f":"IF(基本データ!AX508<>\"\",\"○\",\"\")","v":""},{"$f":"IF(基本データ!AY508<>\"\",\"○\",\"\")","v":"○"},{"$f":"IF(基本データ!AZ508<>\"\",\"○\",\"\")","v":""},{"$f":"IF(基本データ!BA508<>\"\",\"○\",\"\")","v":"○"},{"$f":"IF(基本データ!BB508<>\"\",\"○\",\"\")","v":""},{"$f":"IF(基本データ!BC508<>\"\",\"○\",\"\")","v":""},{"$f":"IF(基本データ!BD508<>\"\",\"○\",\"\")","v":"○"},{"$f":"IF(基本データ!BE508<>\"\",\"○\",\"\")","v":"○"},{"$f":"IF(基本データ!BF508<>\"\",\"○\",\"\")","v":"○"},{"$f":"IF(基本データ!BG508<>\"\",\"○\",\"\")","v":""},{"$f":"基本データ!BN508","v":0},{"$f":"IF(基本データ!BH508<>\"\",\"○\",\"\")","v":""},{"$f":"IF(基本データ!BI508<>\"\",\"○\",\"\")","v":""},{"$f":"IF(基本データ!BJ508<>\"\",\"○\",\"\")","v":""},{"$f":"IF(基本データ!BK508<>\"\",\"○\",\"\")","v":""},{"$f":"IF(基本データ!BL508<>\"\",\"○\",\"\")","v":""},{"$f":"IF(基本データ!BM508<>\"\",\"○\",\"\")","v":""}]
[507,{"$f":"基本データ!J509","v":"佐賀県"},{"$f":"基本データ!B509","v":2026},{"$f":"基本データ!I509","v":"社会福祉法人恩賜財団済生会唐津病院"},{"$f":"基本データ!AL509","v":3},{"$f":"IF(基本データ!AM509<>\"\",\"○\",\"\")","v":""},{"$f":"IF(基本データ!AN509<>\"\",\"○\",\"\")","v":""},{"$f":"IF(基本データ!AO509<>\"\",\"○\",\"\")","v":""},{"$f":"IF(基本データ!AP509<>\"\",\"○\",\"\")","v":""},{"$f":"IF(基本データ!AQ509<>\"\",\"○\",\"\")","v":""},{"$f":"IF(基本データ!AR509<>\"\",\"○\",\"\")","v":"○"},{"$f":"IF(基本データ!AS509<>\"\",\"○\",\"\")","v":"○"},{"$f":"IF(基本データ!AT509<>\"\",\"○\",\"\")","v":""},{"$f":"IF(基本データ!AU509<>\"\",\"○\",\"\")","v":""},{"$f":"IF(基本データ!AV509<>\"\",\"○\",\"\")","v":""},{"$f":"IF(基本データ!AW509<>\"\",\"○\",\"\")","v":""},{"$f":"IF(基本データ!AX509<>\"\",\"○\",\"\")","v":"○"},{"$f":"IF(基本データ!AY509<>\"\",\"○\",\"\")","v":""},{"$f":"IF(基本データ!AZ509<>\"\",\"○\",\"\")","v":""},{"$f":"IF(基本データ!BA509<>\"\",\"○\",\"\")","v":""},{"$f":"IF(基本データ!BB509<>\"\",\"○\",\"\")","v":""},{"$f":"IF(基本データ!BC509<>\"\",\"○\",\"\")","v":""},{"$f":"IF(基本データ!BD509<>\"\",\"○\",\"\")","v":""},{"$f":"IF(基本データ!BE509<>\"\",\"○\",\"\")","v":""},{"$f":"IF(基本データ!BF509<>\"\",\"○\",\"\")","v":""},{"$f":"IF(基本データ!BG509<>\"\",\"○\",\"\")","v":""},{"$f":"基本データ!BN509","v":0},{"$f":"IF(基本データ!BH509<>\"\",\"○\",\"\")","v":""},{"$f":"IF(基本データ!BI509<>\"\",\"○\",\"\")","v":""},{"$f":"IF(基本データ!BJ509<>\"\",\"○\",\"\")","v":""},{"$f":"IF(基本データ!BK509<>\"\",\"○\",\"\")","v":""},{"$f":"IF(基本データ!BL509<>\"\",\"○\",\"\")","v":""},{"$f":"IF(基本データ!BM509<>\"\",\"○\",\"\")","v":""}]
[508,{"$f":"基本データ!J510","v":"大分県"},{"$f":"基本データ!B510","v":2026},{"$f":"基本データ!I510","v":"社会医療法人関愛会　大東よつば病院"},{"$f":"基本データ!AL510","v":4},{"$f":"IF(基本データ!AM510<>\"\",\"○\",\"\")","v":""},{"$f":"IF(基本データ!AN510<>\"\",\"○\",\"\")","v":""},{"$f":"IF(基本データ!AO510<>\"\",\"○\",\"\")","v":"○"},{"$f":"IF(基本データ!AP510<>\"\",\"○\",\"\")","v":""},{"$f":"IF(基本データ!AQ510<>\"\",\"○\",\"\")","v":""},{"$f":"IF(基本データ!AR510<>\"\",\"○\",\"\")","v":""},{"$f":"IF(基本データ!AS510<>\"\",\"○\",\"\")","v":""},{"$f":"IF(基本データ!AT510<>\"\",\"○\",\"\")","v":"○"},{"$f":"IF(基本データ!AU510<>\"\",\"○\",\"\")","v":""},{"$f":"IF(基本データ!AV510<>\"\",\"○\",\"\")","v":""},{"$f":"IF(基本データ!AW510<>\"\",\"○\",\"\")","v":"○"},{"$f":"IF(基本データ!AX510<>\"\",\"○\",\"\")","v":""},{"$f":"IF(基本データ!AY510<>\"\",\"○\",\"\")","v":""},{"$f":"IF(基本データ!AZ510<>\"\",\"○\",\"\")","v":""},{"$f":"IF(基本データ!BA510<>\"\",\"○\",\"\")","v":"○"},{"$f":"IF(基本データ!BB510<>\"\",\"○\",\"\")","v":""},{"$f":"IF(基本データ!BC510<>\"\",\"○\",\"\")","v":""},{"$f":"IF(基本データ!BD510<>\"\",\"○\",\"\")","v":""},{"$f":"IF(基本データ!BE510<>\"\",\"○\",\"\")","v":""},{"$f":"IF(基本データ!BF510<>\"\",\"○\",\"\")","v":""},{"$f":"IF(基本データ!BG510<>\"\",\"○\",\"\")","v":""},{"$f":"基本データ!BN510","v":1},{"$f":"IF(基本データ!BH510<>\"\",\"○\",\"\")","v":"○"},{"$f":"IF(基本データ!BI510<>\"\",\"○\",\"\")","v":""},{"$f":"IF(基本データ!BJ510<>\"\",\"○\",\"\")","v":""},{"$f":"IF(基本データ!BK510<>\"\",\"○\",\"\")","v":""},{"$f":"IF(基本データ!BL510<>\"\",\"○\",\"\")","v":""},{"$f":"IF(基本データ!BM510<>\"\",\"○\",\"\")","v":""}]
[509,{"$f":"基本データ!J511","v":"大分県"},{"$f":"基本データ!B511","v":2026},{"$f":"基本データ!I511","v":"独立行政法人国立病院機構大分医療センター"},{"$f":"基本データ!AL511","v":1},{"$f":"IF(基本データ!AM511<>\"\",\"○\",\"\")","v":""},{"$f":"IF(基本データ!AN511<>\"\",\"○\",\"\")","v":""},{"$f":"IF(基本データ!AO511<>\"\",\"○\",\"\")","v":""},{"$f":"IF(基本データ!AP511<>\"\",\"○\",\"\")","v":""},{"$f":"IF(基本データ!AQ511<>\"\",\"○\",\"\")","v":""},{"$f":"IF(基本データ!AR511<>\"\",\"○\",\"\")","v":""},{"$f":"IF(基本データ!AS511<>\"\",\"○\",\"\")","v":""},{"$f":"IF(基本データ!AT511<>\"\",\"○\",\"\")","v":""},{"$f":"IF(基本データ!AU511<>\"\",\"○\",\"\")","v":""},{"$f":"IF(基本データ!AV511<>\"\",\"○\",\"\")","v":""},{"$f":"IF(基本データ!AW511<>\"\",\"○\",\"\")","v":""},{"$f":"IF(基本データ!AX511<>\"\",\"○\",\"\")","v":""},{"$f":"IF(基本データ!AY511<>\"\",\"○\",\"\")","v":""},{"$f":"IF(基本データ!AZ511<>\"\",\"○\",\"\")","v":""},{"$f":"IF(基本データ!BA511<>\"\",\"○\",\"\")","v":"○"},{"$f":"IF(基本データ!BB511<>\"\",\"○\",\"\")","v":""},{"$f":"IF(基本データ!BC511<>\"\",\"○\",\"\")","v":""},{"$f":"IF(基本データ!BD511<>\"\",\"○\",\"\")","v":""},{"$f":"IF(基本データ!BE511<>\"\",\"○\",\"\")","v":""},{"$f":"IF(基本データ!BF511<>\"\",\"○\",\"\")","v":""},{"$f":"IF(基本データ!BG511<>\"\",\"○\",\"\")","v":""},{"$f":"基本データ!BN511","v":0},{"$f":"IF(基本データ!BH511<>\"\",\"○\",\"\")","v":""},{"$f":"IF(基本データ!BI511<>\"\",\"○\",\"\")","v":""},{"$f":"IF(基本データ!BJ511<>\"\",\"○\",\"\")","v":""},{"$f":"IF(基本データ!BK511<>\"\",\"○\",\"\")","v":""},{"$f":"IF(基本データ!BL511<>\"\",\"○\",\"\")","v":""},{"$f":"IF(基本データ!BM511<>\"\",\"○\",\"\")","v":""}]
[510,{"$f":"基本データ!J512","v":"大分県"},{"$f":"基本データ!B512","v":2026},{"$f":"基本データ!I512","v":"中津市立中津市民病院"},{"$f":"基本データ!AL512","v":11},{"$f":"IF(基本データ!AM512<>\"\",\"○\",\"\")","v":"○"},{"$f":"IF(基本データ!AN512<>\"\",\"○\",\"\")","v":"○"},{"$f":"IF(基本データ!AO512<>\"\",\"○\",\"\")","v":""},{"$f":"IF(基本データ!AP512<>\"\",\"○\",\"\")","v":""},{"$f":"IF(基本データ!AQ512<>\"\",\"○\",\"\")","v":""},{"$f":"IF(基本データ!AR512<>\"\",\"○\",\"\")","v":"○"},{"$f":"IF(基本データ!AS512<>\"\",\"○\",\"\")","v":""},{"$f":"IF(基本データ!AT512<>\"\",\"○\",\"\")","v":""},{"$f":"IF(基本データ!AU512<>\"\",\"○\",\"\")","v":"○"},{"$f":"IF(基本データ!AV512<>\"\",\"○\",\"\")","v":""},{"$f":"IF(基本データ!AW512<>\"\",\"○\",\"\")","v":"○"},{"$f":"IF(基本データ!AX512<>\"\",\"○\",\"\")","v":"○"},{"$f":"IF(基本データ!AY512<>\"\",\"○\",\"\")","v":"○"},{"$f":"IF(基本データ!AZ512<>\"\",\"○\",\"\")","v":""},{"$f":"IF(基本データ!BA512<>\"\",\"○\",\"\")","v":"○"},{"$f":"IF(基本データ!BB512<>\"\",\"○\",\"\")","v":"○"},{"$f":"IF(基本データ!BC512<>\"\",\"○\",\"\")","v":""},{"$f":"IF(基本データ!BD512<>\"\",\"○\",\"\")","v":"○"},{"$f":"IF(基本データ!BE512<>\"\",\"○\",\"\")","v":"○"},{"$f":"IF(基本データ!BF512<>\"\",\"○\",\"\")","v":""},{"$f":"IF(基本データ!BG512<>\"\",\"○\",\"\")","v":""},{"$f":"基本データ!BN512","v":2},{"$f":"IF(基本データ!BH512<>\"\",\"○\",\"\")","v":""},{"$f":"IF(基本データ!BI512<>\"\",\"○\",\"\")","v":""},{"$f":"IF(基本データ!BJ512<>\"\",\"○\",\"\")","v":"○"},{"$f":"IF(基本データ!BK512<>\"\",\"○\",\"\")","v":""},{"$f":"IF(基本データ!BL512<>\"\",\"○\",\"\")","v":"○"},{"$f":"IF(基本データ!BM512<>\"\",\"○\",\"\")","v":""}]
[511,{"$f":"基本データ!J513","v":"宮崎県"},{"$f":"基本データ!B513","v":2026},{"$f":"基本データ!I513","v":"公立大学法人宮崎県立看護大学　看護研究・研修センター"},{"$f":"基本データ!AL513","v":2},{"$f":"IF(基本データ!AM513<>\"\",\"○\",\"\")","v":""},{"$f":"IF(基本データ!AN513<>\"\",\"○\",\"\")","v":""},{"$f":"IF(基本データ!AO513<>\"\",\"○\",\"\")","v":""},{"$f":"IF(基本データ!AP513<>\"\",\"○\",\"\")","v":""},{"$f":"IF(基本データ!AQ513<>\"\",\"○\",\"\")","v":""},{"$f":"IF(基本データ!AR513<>\"\",\"○\",\"\")","v":""},{"$f":"IF(基本データ!AS513<>\"\",\"○\",\"\")","v":""},{"$f":"IF(基本データ!AT513<>\"\",\"○\",\"\")","v":""},{"$f":"IF(基本データ!AU513<>\"\",\"○\",\"\")","v":""},{"$f":"IF(基本データ!AV513<>\"\",\"○\",\"\")","v":""},{"$f":"IF(基本データ!AW513<>\"\",\"○\",\"\")","v":""},{"$f":"IF(基本データ!AX513<>\"\",\"○\",\"\")","v":""},{"$f":"IF(基本データ!AY513<>\"\",\"○\",\"\")","v":""},{"$f":"IF(基本データ!AZ513<>\"\",\"○\",\"\")","v":""},{"$f":"IF(基本データ!BA513<>\"\",\"○\",\"\")","v":"○"},{"$f":"IF(基本データ!BB513<>\"\",\"○\",\"\")","v":"○"},{"$f":"IF(基本データ!BC513<>\"\",\"○\",\"\")","v":""},{"$f":"IF(基本データ!BD513<>\"\",\"○\",\"\")","v":""},{"$f":"IF(基本データ!BE513<>\"\",\"○\",\"\")","v":""},{"$f":"IF(基本データ!BF513<>\"\",\"○\",\"\")","v":""},{"$f":"IF(基本データ!BG513<>\"\",\"○\",\"\")","v":""},{"$f":"基本データ!BN513","v":0},{"$f":"IF(基本データ!BH513<>\"\",\"○\",\"\")","v":""},{"$f":"IF(基本データ!BI513<>\"\",\"○\",\"\")","v":""},{"$f":"IF(基本データ!BJ513<>\"\",\"○\",\"\")","v":""},{"$f":"IF(基本データ!BK513<>\"\",\"○\",\"\")","v":""},{"$f":"IF(基本データ!BL513<>\"\",\"○\",\"\")","v":""},{"$f":"IF(基本データ!BM513<>\"\",\"○\",\"\")","v":""}]
[512,{"$f":"基本データ!J514","v":"沖縄県"},{"$f":"基本データ!B514","v":2026},{"$f":"基本データ!I514","v":"地方独立行政法人那覇市立病院"},{"$f":"基本データ!AL514","v":6},{"$f":"IF(基本データ!AM514<>\"\",\"○\",\"\")","v":"○"},{"$f":"IF(基本データ!AN514<>\"\",\"○\",\"\")","v":"○"},{"$f":"IF(基本データ!AO514<>\"\",\"○\",\"\")","v":""},{"$f":"IF(基本データ!AP514<>\"\",\"○\",\"\")","v":""},{"$f":"IF(基本データ!AQ514<>\"\",\"○\",\"\")","v":""},{"$f":"IF(基本データ!AR514<>\"\",\"○\",\"\")","v":""},{"$f":"IF(基本データ!AS514<>\"\",\"○\",\"\")","v":""},{"$f":"IF(基本データ!AT514<>\"\",\"○\",\"\")","v":""},{"$f":"IF(基本データ!AU514<>\"\",\"○\",\"\")","v":""},{"$f":"IF(基本データ!AV514<>\"\",\"○\",\"\")","v":"○"},{"$f":"IF(基本データ!AW514<>\"\",\"○\",\"\")","v":""},{"$f":"IF(基本データ!AX514<>\"\",\"○\",\"\")","v":""},{"$f":"IF(基本データ!AY514<>\"\",\"○\",\"\")","v":"○"},{"$f":"IF(基本データ!AZ514<>\"\",\"○\",\"\")","v":""},{"$f":"IF(基本データ!BA514<>\"\",\"○\",\"\")","v":"○"},{"$f":"IF(基本データ!BB514<>\"\",\"○\",\"\")","v":""},{"$f":"IF(基本データ!BC514<>\"\",\"○\",\"\")","v":""},{"$f":"IF(基本データ!BD514<>\"\",\"○\",\"\")","v":""},{"$f":"IF(基本データ!BE514<>\"\",\"○\",\"\")","v":""},{"$f":"IF(基本データ!BF514<>\"\",\"○\",\"\")","v":"○"},{"$f":"IF(基本データ!BG514<>\"\",\"○\",\"\")","v":""},{"$f":"基本データ!BN514","v":1},{"$f":"IF(基本データ!BH514<>\"\",\"○\",\"\")","v":""},{"$f":"IF(基本データ!BI514<>\"\",\"○\",\"\")","v":""},{"$f":"IF(基本データ!BJ514<>\"\",\"○\",\"\")","v":""},{"$f":"IF(基本データ!BK514<>\"\",\"○\",\"\")","v":"○"},{"$f":"IF(基本データ!BL514<>\"\",\"○\",\"\")","v":""},{"$f":"IF(基本データ!BM514<>\"\",\"○\",\"\")","v":""}]
[null,null,null,null,null,{"$f":"IF(基本データ!AM515<>\"\",\"○\",\"\")","v":""},{"$f":"IF(基本データ!AN515<>\"\",\"○\",\"\")","v":""},{"$f":"IF(基本データ!AO515<>\"\",\"○\",\"\")","v":""},{"$f":"IF(基本データ!AP515<>\"\",\"○\",\"\")","v":""},{"$f":"IF(基本データ!AQ515<>\"\",\"○\",\"\")","v":""},{"$f":"IF(基本データ!AR515<>\"\",\"○\",\"\")","v":""},{"$f":"IF(基本データ!AS515<>\"\",\"○\",\"\")","v":""},{"$f":"IF(基本データ!AT515<>\"\",\"○\",\"\")","v":""},{"$f":"IF(基本データ!AU515<>\"\",\"○\",\"\")","v":""},{"$f":"IF(基本データ!AV515<>\"\",\"○\",\"\")","v":""},{"$f":"IF(基本データ!AW515<>\"\",\"○\",\"\")","v":""},{"$f":"IF(基本データ!AX515<>\"\",\"○\",\"\")","v":""},{"$f":"IF(基本データ!AY515<>\"\",\"○\",\"\")","v":""},{"$f":"IF(基本データ!AZ515<>\"\",\"○\",\"\")","v":""},{"$f":"IF(基本データ!BA515<>\"\",\"○\",\"\")","v":""},{"$f":"IF(基本データ!BB515<>\"\",\"○\",\"\")","v":""},{"$f":"IF(基本データ!BC515<>\"\",\"○\",\"\")","v":""},{"$f":"IF(基本データ!BD515<>\"\",\"○\",\"\")","v":""},{"$f":"IF(基本データ!BE515<>\"\",\"○\",\"\")","v":""},{"$f":"IF(基本データ!BF515<>\"\",\"○\",\"\")","v":""},{"$f":"IF(基本データ!BG515<>\"\",\"○\",\"\")","v":""},{"$f":"基本データ!BN515","v":0},{"$f":"IF(基本データ!BH515<>\"\",\"○\",\"\")","v":""},{"$f":"IF(基本データ!BI515<>\"\",\"○\",\"\")","v":""},{"$f":"IF(基本データ!BJ515<>\"\",\"○\",\"\")","v":""},{"$f":"IF(基本データ!BK515<>\"\",\"○\",\"\")","v":""},{"$f":"IF(基本データ!BL515<>\"\",\"○\",\"\")","v":""},{"$f":"IF(基本データ!BM515<>\"\",\"○\",\"\")","v":""}]
[null,null,null,null,null,{"$f":"IF(基本データ!AM516<>\"\",\"○\",\"\")","v":""},{"$f":"IF(基本データ!AN516<>\"\",\"○\",\"\")","v":""},{"$f":"IF(基本データ!AO516<>\"\",\"○\",\"\")","v":""},{"$f":"IF(基本データ!AP516<>\"\",\"○\",\"\")","v":""},{"$f":"IF(基本データ!AQ516<>\"\",\"○\",\"\")","v":""},{"$f":"IF(基本データ!AR516<>\"\",\"○\",\"\")","v":""},{"$f":"IF(基本データ!AS516<>\"\",\"○\",\"\")","v":""},{"$f":"IF(基本データ!AT516<>\"\",\"○\",\"\")","v":""},{"$f":"IF(基本データ!AU516<>\"\",\"○\",\"\")","v":""},{"$f":"IF(基本データ!AV516<>\"\",\"○\",\"\")","v":""},{"$f":"IF(基本データ!AW516<>\"\",\"○\",\"\")","v":""},{"$f":"IF(基本データ!AX516<>\"\",\"○\",\"\")","v":""},{"$f":"IF(基本データ!AY516<>\"\",\"○\",\"\")","v":""},{"$f":"IF(基本データ!AZ516<>\"\",\"○\",\"\")","v":""},{"$f":"IF(基本データ!BA516<>\"\",\"○\",\"\")","v":""},{"$f":"IF(基本データ!BB516<>\"\",\"○\",\"\")","v":""},{"$f":"IF(基本データ!BC516<>\"\",\"○\",\"\")","v":""},{"$f":"IF(基本データ!BD516<>\"\",\"○\",\"\")","v":""},{"$f":"IF(基本データ!BE516<>\"\",\"○\",\"\")","v":""},{"$f":"IF(基本データ!BF516<>\"\",\"○\",\"\")","v":""},{"$f":"IF(基本データ!BG516<>\"\",\"○\",\"\")","v":""},{"$f":"基本データ!BN516","v":0},{"$f":"IF(基本データ!BH516<>\"\",\"○\",\"\")","v":""},{"$f":"IF(基本データ!BI516<>\"\",\"○\",\"\")","v":""},{"$f":"IF(基本データ!BJ516<>\"\",\"○\",\"\")","v":""},{"$f":"IF(基本データ!BK516<>\"\",\"○\",\"\")","v":""},{"$f":"IF(基本データ!BL516<>\"\",\"○\",\"\")","v":""},{"$f":"IF(基本データ!BM516<>\"\",\"○\",\"\")","v":""}]
[null,{"$f":"基本データ!J517","v":0},{"$f":"基本データ!B517","v":0},{"$f":"基本データ!I517","v":0},{"$f":"基本データ!AL517","v":0},{"$f":"IF(基本データ!AM517<>\"\",\"○\",\"\")","v":""},{"$f":"IF(基本データ!AN517<>\"\",\"○\",\"\")","v":""},{"$f":"IF(基本データ!AO517<>\"\",\"○\",\"\")","v":""},{"$f":"IF(基本データ!AP517<>\"\",\"○\",\"\")","v":""},{"$f":"IF(基本データ!AQ517<>\"\",\"○\",\"\")","v":""},{"$f":"IF(基本データ!AR517<>\"\",\"○\",\"\")","v":""},{"$f":"IF(基本データ!AS517<>\"\",\"○\",\"\")","v":""},{"$f":"IF(基本データ!AT517<>\"\",\"○\",\"\")","v":""},{"$f":"IF(基本データ!AU517<>\"\",\"○\",\"\")","v":""},{"$f":"IF(基本データ!AV517<>\"\",\"○\",\"\")","v":""},{"$f":"IF(基本データ!AW517<>\"\",\"○\",\"\")","v":""},{"$f":"IF(基本データ!AX517<>\"\",\"○\",\"\")","v":""},{"$f":"IF(基本データ!AY517<>\"\",\"○\",\"\")","v":""},{"$f":"IF(基本データ!AZ517<>\"\",\"○\",\"\")","v":""},{"$f":"IF(基本データ!BA517<>\"\",\"○\",\"\")","v":""},{"$f":"IF(基本データ!BB517<>\"\",\"○\",\"\")","v":""},{"$f":"IF(基本データ!BC517<>\"\",\"○\",\"\")","v":""},{"$f":"IF(基本データ!BD517<>\"\",\"○\",\"\")","v":""},{"$f":"IF(基本データ!BE517<>\"\",\"○\",\"\")","v":""},{"$f":"IF(基本データ!BF517<>\"\",\"○\",\"\")","v":""},{"$f":"IF(基本データ!BG517<>\"\",\"○\",\"\")","v":""},{"$f":"基本データ!BN517","v":0},{"$f":"IF(基本データ!BH517<>\"\",\"○\",\"\")","v":""},{"$f":"IF(基本データ!BI517<>\"\",\"○\",\"\")","v":""},{"$f":"IF(基本データ!BJ517<>\"\",\"○\",\"\")","v":""},{"$f":"IF(基本データ!BK517<>\"\",\"○\",\"\")","v":""},{"$f":"IF(基本データ!BL517<>\"\",\"○\",\"\")","v":""},{"$f":"IF(基本データ!BM517<>\"\",\"○\",\"\")","v":""}]
[null,{"$f":"基本データ!J518","v":0},{"$f":"基本データ!B518","v":0},{"$f":"基本データ!I518","v":0},{"$f":"基本データ!AL518","v":0},{"$f":"IF(基本データ!AM518<>\"\",\"○\",\"\")","v":""},{"$f":"IF(基本データ!AN518<>\"\",\"○\",\"\")","v":""},{"$f":"IF(基本データ!AO518<>\"\",\"○\",\"\")","v":""},{"$f":"IF(基本データ!AP518<>\"\",\"○\",\"\")","v":""},{"$f":"IF(基本データ!AQ518<>\"\",\"○\",\"\")","v":""},{"$f":"IF(基本データ!AR518<>\"\",\"○\",\"\")","v":""},{"$f":"IF(基本データ!AS518<>\"\",\"○\",\"\")","v":""},{"$f":"IF(基本データ!AT518<>\"\",\"○\",\"\")","v":""},{"$f":"IF(基本データ!AU518<>\"\",\"○\",\"\")","v":""},{"$f":"IF(基本データ!AV518<>\"\",\"○\",\"\")","v":""},{"$f":"IF(基本データ!AW518<>\"\",\"○\",\"\")","v":""},{"$f":"IF(基本データ!AX518<>\"\",\"○\",\"\")","v":""},{"$f":"IF(基本データ!AY518<>\"\",\"○\",\"\")","v":""},{"$f":"IF(基本データ!AZ518<>\"\",\"○\",\"\")","v":""},{"$f":"IF(基本データ!BA518<>\"\",\"○\",\"\")","v":""},{"$f":"IF(基本データ!BB518<>\"\",\"○\",\"\")","v":""},{"$f":"IF(基本データ!BC518<>\"\",\"○\",\"\")","v":""},{"$f":"IF(基本データ!BD518<>\"\",\"○\",\"\")","v":""},{"$f":"IF(基本データ!BE518<>\"\",\"○\",\"\")","v":""},{"$f":"IF(基本データ!BF518<>\"\",\"○\",\"\")","v":""},{"$f":"IF(基本データ!BG518<>\"\",\"○\",\"\")","v":""},{"$f":"基本データ!BN518","v":0},{"$f":"IF(基本データ!BH518<>\"\",\"○\",\"\")","v":""},{"$f":"IF(基本データ!BI518<>\"\",\"○\",\"\")","v":""},{"$f":"IF(基本データ!BJ518<>\"\",\"○\",\"\")","v":""},{"$f":"IF(基本データ!BK518<>\"\",\"○\",\"\")","v":""},{"$f":"IF(基本データ!BL518<>\"\",\"○\",\"\")","v":""},{"$f":"IF(基本データ!BM518<>\"\",\"○\",\"\")","v":""}]
[null,{"$f":"基本データ!J519","v":0},{"$f":"基本データ!B519","v":0},{"$f":"基本データ!I519","v":0},{"$f":"基本データ!AL519","v":0},{"$f":"IF(基本データ!AM519<>\"\",\"○\",\"\")","v":""},{"$f":"IF(基本データ!AN519<>\"\",\"○\",\"\")","v":""},{"$f":"IF(基本データ!AO519<>\"\",\"○\",\"\")","v":""},{"$f":"IF(基本データ!AP519<>\"\",\"○\",\"\")","v":""},{"$f":"IF(基本データ!AQ519<>\"\",\"○\",\"\")","v":""},{"$f":"IF(基本データ!AR519<>\"\",\"○\",\"\")","v":""},{"$f":"IF(基本データ!AS519<>\"\",\"○\",\"\")","v":""},{"$f":"IF(基本データ!AT519<>\"\",\"○\",\"\")","v":""},{"$f":"IF(基本データ!AU519<>\"\",\"○\",\"\")","v":""},{"$f":"IF(基本データ!AV519<>\"\",\"○\",\"\")","v":""},{"$f":"IF(基本データ!AW519<>\"\",\"○\",\"\")","v":""},{"$f":"IF(基本データ!AX519<>\"\",\"○\",\"\")","v":""},{"$f":"IF(基本データ!AY519<>\"\",\"○\",\"\")","v":""},{"$f":"IF(基本データ!AZ519<>\"\",\"○\",\"\")","v":""},{"$f":"IF(基本データ!BA519<>\"\",\"○\",\"\")","v":""},{"$f":"IF(基本データ!BB519<>\"\",\"○\",\"\")","v":""},{"$f":"IF(基本データ!BC519<>\"\",\"○\",\"\")","v":""},{"$f":"IF(基本データ!BD519<>\"\",\"○\",\"\")","v":""},{"$f":"IF(基本データ!BE519<>\"\",\"○\",\"\")","v":""},{"$f":"IF(基本データ!BF519<>\"\",\"○\",\"\")","v":""},{"$f":"IF(基本データ!BG519<>\"\",\"○\",\"\")","v":""},{"$f":"基本データ!BN519","v":0},{"$f":"IF(基本データ!BH519<>\"\",\"○\",\"\")","v":""},{"$f":"IF(基本データ!BI519<>\"\",\"○\",\"\")","v":""},{"$f":"IF(基本データ!BJ519<>\"\",\"○\",\"\")","v":""},{"$f":"IF(基本データ!BK519<>\"\",\"○\",\"\")","v":""},{"$f":"IF(基本データ!BL519<>\"\",\"○\",\"\")","v":""},{"$f":"IF(基本データ!BM519<>\"\",\"○\",\"\")","v":""}]
[null,{"$f":"基本データ!J520","v":0},{"$f":"基本データ!B520","v":0},{"$f":"基本データ!I520","v":0},{"$f":"基本データ!AL520","v":0},{"$f":"IF(基本データ!AM520<>\"\",\"○\",\"\")","v":""},{"$f":"IF(基本データ!AN520<>\"\",\"○\",\"\")","v":""},{"$f":"IF(基本データ!AO520<>\"\",\"○\",\"\")","v":""},{"$f":"IF(基本データ!AP520<>\"\",\"○\",\"\")","v":""},{"$f":"IF(基本データ!AQ520<>\"\",\"○\",\"\")","v":""},{"$f":"IF(基本データ!AR520<>\"\",\"○\",\"\")","v":""},{"$f":"IF(基本データ!AS520<>\"\",\"○\",\"\")","v":""},{"$f":"IF(基本データ!AT520<>\"\",\"○\",\"\")","v":""},{"$f":"IF(基本データ!AU520<>\"\",\"○\",\"\")","v":""},{"$f":"IF(基本データ!AV520<>\"\",\"○\",\"\")","v":""},{"$f":"IF(基本データ!AW520<>\"\",\"○\",\"\")","v":""},{"$f":"IF(基本データ!AX520<>\"\",\"○\",\"\")","v":""},{"$f":"IF(基本データ!AY520<>\"\",\"○\",\"\")","v":""},{"$f":"IF(基本データ!AZ520<>\"\",\"○\",\"\")","v":""},{"$f":"IF(基本データ!BA520<>\"\",\"○\",\"\")","v":""},{"$f":"IF(基本データ!BB520<>\"\",\"○\",\"\")","v":""},{"$f":"IF(基本データ!BC520<>\"\",\"○\",\"\")","v":""},{"$f":"IF(基本データ!BD520<>\"\",\"○\",\"\")","v":""},{"$f":"IF(基本データ!BE520<>\"\",\"○\",\"\")","v":""},{"$f":"IF(基本データ!BF520<>\"\",\"○\",\"\")","v":""},{"$f":"IF(基本データ!BG520<>\"\",\"○\",\"\")","v":""},{"$f":"基本データ!BN520","v":0},{"$f":"IF(基本データ!BH520<>\"\",\"○\",\"\")","v":""},{"$f":"IF(基本データ!BI520<>\"\",\"○\",\"\")","v":""},{"$f":"IF(基本データ!BJ520<>\"\",\"○\",\"\")","v":""},{"$f":"IF(基本データ!BK520<>\"\",\"○\",\"\")","v":""},{"$f":"IF(基本データ!BL520<>\"\",\"○\",\"\")","v":""},{"$f":"IF(基本データ!BM520<>\"\",\"○\",\"\")","v":""}]
[null,{"$f":"基本データ!J521","v":0},{"$f":"基本データ!B521","v":0},{"$f":"基本データ!I521","v":0},{"$f":"基本データ!AL521","v":0},{"$f":"IF(基本データ!AM521<>\"\",\"○\",\"\")","v":""},{"$f":"IF(基本データ!AN521<>\"\",\"○\",\"\")","v":""},{"$f":"IF(基本データ!AO521<>\"\",\"○\",\"\")","v":""},{"$f":"IF(基本データ!AP521<>\"\",\"○\",\"\")","v":""},{"$f":"IF(基本データ!AQ521<>\"\",\"○\",\"\")","v":""},{"$f":"IF(基本データ!AR521<>\"\",\"○\",\"\")","v":""},{"$f":"IF(基本データ!AS521<>\"\",\"○\",\"\")","v":""},{"$f":"IF(基本データ!AT521<>\"\",\"○\",\"\")","v":""},{"$f":"IF(基本データ!AU521<>\"\",\"○\",\"\")","v":""},{"$f":"IF(基本データ!AV521<>\"\",\"○\",\"\")","v":""},{"$f":"IF(基本データ!AW521<>\"\",\"○\",\"\")","v":""},{"$f":"IF(基本データ!AX521<>\"\",\"○\",\"\")","v":""},{"$f":"IF(基本データ!AY521<>\"\",\"○\",\"\")","v":""},{"$f":"IF(基本データ!AZ521<>\"\",\"○\",\"\")","v":""},{"$f":"IF(基本データ!BA521<>\"\",\"○\",\"\")","v":""},{"$f":"IF(基本データ!BB521<>\"\",\"○\",\"\")","v":""},{"$f":"IF(基本データ!BC521<>\"\",\"○\",\"\")","v":""},{"$f":"IF(基本データ!BD521<>\"\",\"○\",\"\")","v":""},{"$f":"IF(基本データ!BE521<>\"\",\"○\",\"\")","v":""},{"$f":"IF(基本データ!BF521<>\"\",\"○\",\"\")","v":""},{"$f":"IF(基本データ!BG521<>\"\",\"○\",\"\")","v":""},{"$f":"基本データ!BN521","v":0},{"$f":"IF(基本データ!BH521<>\"\",\"○\",\"\")","v":""},{"$f":"IF(基本データ!BI521<>\"\",\"○\",\"\")","v":""},{"$f":"IF(基本データ!BJ521<>\"\",\"○\",\"\")","v":""},{"$f":"IF(基本データ!BK521<>\"\",\"○\",\"\")","v":""},{"$f":"IF(基本データ!BL521<>\"\",\"○\",\"\")","v":""},{"$f":"IF(基本データ!BM521<>\"\",\"○\",\"\")","v":""}]
[null,{"$f":"基本データ!J522","v":0},{"$f":"基本データ!B522","v":0},{"$f":"基本データ!I522","v":0},{"$f":"基本データ!AL522","v":0},{"$f":"IF(基本データ!AM522<>\"\",\"○\",\"\")","v":""},{"$f":"IF(基本データ!AN522<>\"\",\"○\",\"\")","v":""},{"$f":"IF(基本データ!AO522<>\"\",\"○\",\"\")","v":""},{"$f":"IF(基本データ!AP522<>\"\",\"○\",\"\")","v":""},{"$f":"IF(基本データ!AQ522<>\"\",\"○\",\"\")","v":""},{"$f":"IF(基本データ!AR522<>\"\",\"○\",\"\")","v":""},{"$f":"IF(基本データ!AS522<>\"\",\"○\",\"\")","v":""},{"$f":"IF(基本データ!AT522<>\"\",\"○\",\"\")","v":""},{"$f":"IF(基本データ!AU522<>\"\",\"○\",\"\")","v":""},{"$f":"IF(基本データ!AV522<>\"\",\"○\",\"\")","v":""},{"$f":"IF(基本データ!AW522<>\"\",\"○\",\"\")","v":""},{"$f":"IF(基本データ!AX522<>\"\",\"○\",\"\")","v":""},{"$f":"IF(基本データ!AY522<>\"\",\"○\",\"\")","v":""},{"$f":"IF(基本データ!AZ522<>\"\",\"○\",\"\")","v":""},{"$f":"IF(基本データ!BA522<>\"\",\"○\",\"\")","v":""},{"$f":"IF(基本データ!BB522<>\"\",\"○\",\"\")","v":""},{"$f":"IF(基本データ!BC522<>\"\",\"○\",\"\")","v":""},{"$f":"IF(基本データ!BD522<>\"\",\"○\",\"\")","v":""},{"$f":"IF(基本データ!BE522<>\"\",\"○\",\"\")","v":""},{"$f":"IF(基本データ!BF522<>\"\",\"○\",\"\")","v":""},{"$f":"IF(基本データ!BG522<>\"\",\"○\",\"\")","v":""},{"$f":"基本データ!BN522","v":0},{"$f":"IF(基本データ!BH522<>\"\",\"○\",\"\")","v":""},{"$f":"IF(基本データ!BI522<>\"\",\"○\",\"\")","v":""},{"$f":"IF(基本データ!BJ522<>\"\",\"○\",\"\")","v":""},{"$f":"IF(基本データ!BK522<>\"\",\"○\",\"\")","v":""},{"$f":"IF(基本データ!BL522<>\"\",\"○\",\"\")","v":""},{"$f":"IF(基本データ!BM522<>\"\",\"○\",\"\")","v":""}]
[null,{"$f":"基本データ!J523","v":0},{"$f":"基本データ!B523","v":0},{"$f":"基本データ!I523","v":0},{"$f":"基本データ!AL523","v":0},{"$f":"IF(基本データ!AM523<>\"\",\"○\",\"\")","v":""},{"$f":"IF(基本データ!AN523<>\"\",\"○\",\"\")","v":""},{"$f":"IF(基本データ!AO523<>\"\",\"○\",\"\")","v":""},{"$f":"IF(基本データ!AP523<>\"\",\"○\",\"\")","v":""},{"$f":"IF(基本データ!AQ523<>\"\",\"○\",\"\")","v":""},{"$f":"IF(基本データ!AR523<>\"\",\"○\",\"\")","v":""},{"$f":"IF(基本データ!AS523<>\"\",\"○\",\"\")","v":""},{"$f":"IF(基本データ!AT523<>\"\",\"○\",\"\")","v":""},{"$f":"IF(基本データ!AU523<>\"\",\"○\",\"\")","v":""},{"$f":"IF(基本データ!AV523<>\"\",\"○\",\"\")","v":""},{"$f":"IF(基本データ!AW523<>\"\",\"○\",\"\")","v":""},{"$f":"IF(基本データ!AX523<>\"\",\"○\",\"\")","v":""},{"$f":"IF(基本データ!AY523<>\"\",\"○\",\"\")","v":""},{"$f":"IF(基本データ!AZ523<>\"\",\"○\",\"\")","v":""},{"$f":"IF(基本データ!BA523<>\"\",\"○\",\"\")","v":""},{"$f":"IF(基本データ!BB523<>\"\",\"○\",\"\")","v":""},{"$f":"IF(基本データ!BC523<>\"\",\"○\",\"\")","v":""},{"$f":"IF(基本データ!BD523<>\"\",\"○\",\"\")","v":""},{"$f":"IF(基本データ!BE523<>\"\",\"○\",\"\")","v":""},{"$f":"IF(基本データ!BF523<>\"\",\"○\",\"\")","v":""},{"$f":"IF(基本データ!BG523<>\"\",\"○\",\"\")","v":""},{"$f":"基本データ!BN523","v":0},{"$f":"IF(基本データ!BH523<>\"\",\"○\",\"\")","v":""},{"$f":"IF(基本データ!BI523<>\"\",\"○\",\"\")","v":""},{"$f":"IF(基本データ!BJ523<>\"\",\"○\",\"\")","v":""},{"$f":"IF(基本データ!BK523<>\"\",\"○\",\"\")","v":""},{"$f":"IF(基本データ!BL523<>\"\",\"○\",\"\")","v":""},{"$f":"IF(基本データ!BM523<>\"\",\"○\",\"\")","v":""}]
[null,{"$f":"基本データ!J524","v":0},{"$f":"基本データ!B524","v":0},{"$f":"基本データ!I524","v":0},{"$f":"基本データ!AL524","v":0},{"$f":"IF(基本データ!AM524<>\"\",\"○\",\"\")","v":""},{"$f":"IF(基本データ!AN524<>\"\",\"○\",\"\")","v":""},{"$f":"IF(基本データ!AO524<>\"\",\"○\",\"\")","v":""},{"$f":"IF(基本データ!AP524<>\"\",\"○\",\"\")","v":""},{"$f":"IF(基本データ!AQ524<>\"\",\"○\",\"\")","v":""},{"$f":"IF(基本データ!AR524<>\"\",\"○\",\"\")","v":""},{"$f":"IF(基本データ!AS524<>\"\",\"○\",\"\")","v":""},{"$f":"IF(基本データ!AT524<>\"\",\"○\",\"\")","v":""},{"$f":"IF(基本データ!AU524<>\"\",\"○\",\"\")","v":""},{"$f":"IF(基本データ!AV524<>\"\",\"○\",\"\")","v":""},{"$f":"IF(基本データ!AW524<>\"\",\"○\",\"\")","v":""},{"$f":"IF(基本データ!AX524<>\"\",\"○\",\"\")","v":""},{"$f":"IF(基本データ!AY524<>\"\",\"○\",\"\")","v":""},{"$f":"IF(基本データ!AZ524<>\"\",\"○\",\"\")","v":""},{"$f":"IF(基本データ!BA524<>\"\",\"○\",\"\")","v":""},{"$f":"IF(基本データ!BB524<>\"\",\"○\",\"\")","v":""},{"$f":"IF(基本データ!BC524<>\"\",\"○\",\"\")","v":""},{"$f":"IF(基本データ!BD524<>\"\",\"○\",\"\")","v":""},{"$f":"IF(基本データ!BE524<>\"\",\"○\",\"\")","v":""},{"$f":"IF(基本データ!BF524<>\"\",\"○\",\"\")","v":""},{"$f":"IF(基本データ!BG524<>\"\",\"○\",\"\")","v":""},{"$f":"基本データ!BN524","v":0},{"$f":"IF(基本データ!BH524<>\"\",\"○\",\"\")","v":""},{"$f":"IF(基本データ!BI524<>\"\",\"○\",\"\")","v":""},{"$f":"IF(基本データ!BJ524<>\"\",\"○\",\"\")","v":""},{"$f":"IF(基本データ!BK524<>\"\",\"○\",\"\")","v":""},{"$f":"IF(基本データ!BL524<>\"\",\"○\",\"\")","v":""},{"$f":"IF(基本データ!BM524<>\"\",\"○\",\"\")","v":""}]
[null,{"$f":"基本データ!J525","v":0},{"$f":"基本データ!B525","v":0},{"$f":"基本データ!I525","v":0},{"$f":"基本データ!AL525","v":0},{"$f":"IF(基本データ!AM525<>\"\",\"○\",\"\")","v":""},{"$f":"IF(基本データ!AN525<>\"\",\"○\",\"\")","v":""},{"$f":"IF(基本データ!AO525<>\"\",\"○\",\"\")","v":""},{"$f":"IF(基本データ!AP525<>\"\",\"○\",\"\")","v":""},{"$f":"IF(基本データ!AQ525<>\"\",\"○\",\"\")","v":""},{"$f":"IF(基本データ!AR525<>\"\",\"○\",\"\")","v":""},{"$f":"IF(基本データ!AS525<>\"\",\"○\",\"\")","v":""},{"$f":"IF(基本データ!AT525<>\"\",\"○\",\"\")","v":""},{"$f":"IF(基本データ!AU525<>\"\",\"○\",\"\")","v":""},{"$f":"IF(基本データ!AV525<>\"\",\"○\",\"\")","v":""},{"$f":"IF(基本データ!AW525<>\"\",\"○\",\"\")","v":""},{"$f":"IF(基本データ!AX525<>\"\",\"○\",\"\")","v":""},{"$f":"IF(基本データ!AY525<>\"\",\"○\",\"\")","v":""},{"$f":"IF(基本データ!AZ525<>\"\",\"○\",\"\")","v":""},{"$f":"IF(基本データ!BA525<>\"\",\"○\",\"\")","v":""},{"$f":"IF(基本データ!BB525<>\"\",\"○\",\"\")","v":""},{"$f":"IF(基本データ!BC525<>\"\",\"○\",\"\")","v":""},{"$f":"IF(基本データ!BD525<>\"\",\"○\",\"\")","v":""},{"$f":"IF(基本データ!BE525<>\"\",\"○\",\"\")","v":""},{"$f":"IF(基本データ!BF525<>\"\",\"○\",\"\")","v":""},{"$f":"IF(基本データ!BG525<>\"\",\"○\",\"\")","v":""},{"$f":"基本データ!BN525","v":0},{"$f":"IF(基本データ!BH525<>\"\",\"○\",\"\")","v":""},{"$f":"IF(基本データ!BI525<>\"\",\"○\",\"\")","v":""},{"$f":"IF(基本データ!BJ525<>\"\",\"○\",\"\")","v":""},{"$f":"IF(基本データ!BK525<>\"\",\"○\",\"\")","v":""},{"$f":"IF(基本データ!BL525<>\"\",\"○\",\"\")","v":""},{"$f":"IF(基本データ!BM525<>\"\",\"○\",\"\")","v":""}]
[null,{"$f":"基本データ!J526","v":0},{"$f":"基本データ!B526","v":0},{"$f":"基本データ!I526","v":0},{"$f":"基本データ!AL526","v":0},{"$f":"IF(基本データ!AM526<>\"\",\"○\",\"\")","v":""},{"$f":"IF(基本データ!AN526<>\"\",\"○\",\"\")","v":""},{"$f":"IF(基本データ!AO526<>\"\",\"○\",\"\")","v":""},{"$f":"IF(基本データ!AP526<>\"\",\"○\",\"\")","v":""},{"$f":"IF(基本データ!AQ526<>\"\",\"○\",\"\")","v":""},{"$f":"IF(基本データ!AR526<>\"\",\"○\",\"\")","v":""},{"$f":"IF(基本データ!AS526<>\"\",\"○\",\"\")","v":""},{"$f":"IF(基本データ!AT526<>\"\",\"○\",\"\")","v":""},{"$f":"IF(基本データ!AU526<>\"\",\"○\",\"\")","v":""},{"$f":"IF(基本データ!AV526<>\"\",\"○\",\"\")","v":""},{"$f":"IF(基本データ!AW526<>\"\",\"○\",\"\")","v":""},{"$f":"IF(基本データ!AX526<>\"\",\"○\",\"\")","v":""},{"$f":"IF(基本データ!AY526<>\"\",\"○\",\"\")","v":""},{"$f":"IF(基本データ!AZ526<>\"\",\"○\",\"\")","v":""},{"$f":"IF(基本データ!BA526<>\"\",\"○\",\"\")","v":""},{"$f":"IF(基本データ!BB526<>\"\",\"○\",\"\")","v":""},{"$f":"IF(基本データ!BC526<>\"\",\"○\",\"\")","v":""},{"$f":"IF(基本データ!BD526<>\"\",\"○\",\"\")","v":""},{"$f":"IF(基本データ!BE526<>\"\",\"○\",\"\")","v":""},{"$f":"IF(基本データ!BF526<>\"\",\"○\",\"\")","v":""},{"$f":"IF(基本データ!BG526<>\"\",\"○\",\"\")","v":""},{"$f":"基本データ!BN526","v":0},{"$f":"IF(基本データ!BH526<>\"\",\"○\",\"\")","v":""},{"$f":"IF(基本データ!BI526<>\"\",\"○\",\"\")","v":""},{"$f":"IF(基本データ!BJ526<>\"\",\"○\",\"\")","v":""},{"$f":"IF(基本データ!BK526<>\"\",\"○\",\"\")","v":""},{"$f":"IF(基本データ!BL526<>\"\",\"○\",\"\")","v":""},{"$f":"IF(基本データ!BM526<>\"\",\"○\",\"\")","v":""}]
[null,{"$f":"基本データ!J527","v":0},{"$f":"基本データ!B527","v":0},{"$f":"基本データ!I527","v":0},{"$f":"基本データ!AL527","v":0},{"$f":"IF(基本データ!AM527<>\"\",\"○\",\"\")","v":""},{"$f":"IF(基本データ!AN527<>\"\",\"○\",\"\")","v":""},{"$f":"IF(基本データ!AO527<>\"\",\"○\",\"\")","v":""},{"$f":"IF(基本データ!AP527<>\"\",\"○\",\"\")","v":""},{"$f":"IF(基本データ!AQ527<>\"\",\"○\",\"\")","v":""},{"$f":"IF(基本データ!AR527<>\"\",\"○\",\"\")","v":""},{"$f":"IF(基本データ!AS527<>\"\",\"○\",\"\")","v":""},{"$f":"IF(基本データ!AT527<>\"\",\"○\",\"\")","v":""},{"$f":"IF(基本データ!AU527<>\"\",\"○\",\"\")","v":""},{"$f":"IF(基本データ!AV527<>\"\",\"○\",\"\")","v":""},{"$f":"IF(基本データ!AW527<>\"\",\"○\",\"\")","v":""},{"$f":"IF(基本データ!AX527<>\"\",\"○\",\"\")","v":""},{"$f":"IF(基本データ!AY527<>\"\",\"○\",\"\")","v":""},{"$f":"IF(基本データ!AZ527<>\"\",\"○\",\"\")","v":""},{"$f":"IF(基本データ!BA527<>\"\",\"○\",\"\")","v":""},{"$f":"IF(基本データ!BB527<>\"\",\"○\",\"\")","v":""},{"$f":"IF(基本データ!BC527<>\"\",\"○\",\"\")","v":""},{"$f":"IF(基本データ!BD527<>\"\",\"○\",\"\")","v":""},{"$f":"IF(基本データ!BE527<>\"\",\"○\",\"\")","v":""},{"$f":"IF(基本データ!BF527<>\"\",\"○\",\"\")","v":""},{"$f":"IF(基本データ!BG527<>\"\",\"○\",\"\")","v":""},{"$f":"基本データ!BN527","v":0},{"$f":"IF(基本データ!BH527<>\"\",\"○\",\"\")","v":""},{"$f":"IF(基本データ!BI527<>\"\",\"○\",\"\")","v":""},{"$f":"IF(基本データ!BJ527<>\"\",\"○\",\"\")","v":""},{"$f":"IF(基本データ!BK527<>\"\",\"○\",\"\")","v":""},{"$f":"IF(基本データ!BL527<>\"\",\"○\",\"\")","v":""},{"$f":"IF(基本データ!BM527<>\"\",\"○\",\"\")","v":""}]
[null,{"$f":"基本データ!J528","v":0},{"$f":"基本データ!B528","v":0},{"$f":"基本データ!I528","v":0},{"$f":"基本データ!AL528","v":0},{"$f":"IF(基本データ!AM528<>\"\",\"○\",\"\")","v":""},{"$f":"IF(基本データ!AN528<>\"\",\"○\",\"\")","v":""},{"$f":"IF(基本データ!AO528<>\"\",\"○\",\"\")","v":""},{"$f":"IF(基本データ!AP528<>\"\",\"○\",\"\")","v":""},{"$f":"IF(基本データ!AQ528<>\"\",\"○\",\"\")","v":""},{"$f":"IF(基本データ!AR528<>\"\",\"○\",\"\")","v":""},{"$f":"IF(基本データ!AS528<>\"\",\"○\",\"\")","v":""},{"$f":"IF(基本データ!AT528<>\"\",\"○\",\"\")","v":""},{"$f":"IF(基本データ!AU528<>\"\",\"○\",\"\")","v":""},{"$f":"IF(基本データ!AV528<>\"\",\"○\",\"\")","v":""},{"$f":"IF(基本データ!AW528<>\"\",\"○\",\"\")","v":""},{"$f":"IF(基本データ!AX528<>\"\",\"○\",\"\")","v":""},{"$f":"IF(基本データ!AY528<>\"\",\"○\",\"\")","v":""},{"$f":"IF(基本データ!AZ528<>\"\",\"○\",\"\")","v":""},{"$f":"IF(基本データ!BA528<>\"\",\"○\",\"\")","v":""},{"$f":"IF(基本データ!BB528<>\"\",\"○\",\"\")","v":""},{"$f":"IF(基本データ!BC528<>\"\",\"○\",\"\")","v":""},{"$f":"IF(基本データ!BD528<>\"\",\"○\",\"\")","v":""},{"$f":"IF(基本データ!BE528<>\"\",\"○\",\"\")","v":""},{"$f":"IF(基本データ!BF528<>\"\",\"○\",\"\")","v":""},{"$f":"IF(基本データ!BG528<>\"\",\"○\",\"\")","v":""},{"$f":"基本データ!BN528","v":0},{"$f":"IF(基本データ!BH528<>\"\",\"○\",\"\")","v":""},{"$f":"IF(基本データ!BI528<>\"\",\"○\",\"\")","v":""},{"$f":"IF(基本データ!BJ528<>\"\",\"○\",\"\")","v":""},{"$f":"IF(基本データ!BK528<>\"\",\"○\",\"\")","v":""},{"$f":"IF(基本データ!BL528<>\"\",\"○\",\"\")","v":""},{"$f":"IF(基本データ!BM528<>\"\",\"○\",\"\")","v":""}]
[null,{"$f":"基本データ!J529","v":0},{"$f":"基本データ!B529","v":0},{"$f":"基本データ!I529","v":0},{"$f":"基本データ!AL529","v":0},{"$f":"IF(基本データ!AM529<>\"\",\"○\",\"\")","v":""},{"$f":"IF(基本データ!AN529<>\"\",\"○\",\"\")","v":""},{"$f":"IF(基本データ!AO529<>\"\",\"○\",\"\")","v":""},{"$f":"IF(基本データ!AP529<>\"\",\"○\",\"\")","v":""},{"$f":"IF(基本データ!AQ529<>\"\",\"○\",\"\")","v":""},{"$f":"IF(基本データ!AR529<>\"\",\"○\",\"\")","v":""},{"$f":"IF(基本データ!AS529<>\"\",\"○\",\"\")","v":""},{"$f":"IF(基本データ!AT529<>\"\",\"○\",\"\")","v":""},{"$f":"IF(基本データ!AU529<>\"\",\"○\",\"\")","v":""},{"$f":"IF(基本データ!AV529<>\"\",\"○\",\"\")","v":""},{"$f":"IF(基本データ!AW529<>\"\",\"○\",\"\")","v":""},{"$f":"IF(基本データ!AX529<>\"\",\"○\",\"\")","v":""},{"$f":"IF(基本データ!AY529<>\"\",\"○\",\"\")","v":""},{"$f":"IF(基本データ!AZ529<>\"\",\"○\",\"\")","v":""},{"$f":"IF(基本データ!BA529<>\"\",\"○\",\"\")","v":""},{"$f":"IF(基本データ!BB529<>\"\",\"○\",\"\")","v":""},{"$f":"IF(基本データ!BC529<>\"\",\"○\",\"\")","v":""},{"$f":"IF(基本データ!BD529<>\"\",\"○\",\"\")","v":""},{"$f":"IF(基本データ!BE529<>\"\",\"○\",\"\")","v":""},{"$f":"IF(基本データ!BF529<>\"\",\"○\",\"\")","v":""},{"$f":"IF(基本データ!BG529<>\"\",\"○\",\"\")","v":""},{"$f":"基本データ!BN529","v":0},{"$f":"IF(基本データ!BH529<>\"\",\"○\",\"\")","v":""},{"$f":"IF(基本データ!BI529<>\"\",\"○\",\"\")","v":""},{"$f":"IF(基本データ!BJ529<>\"\",\"○\",\"\")","v":""},{"$f":"IF(基本データ!BK529<>\"\",\"○\",\"\")","v":""},{"$f":"IF(基本データ!BL529<>\"\",\"○\",\"\")","v":""},{"$f":"IF(基本データ!BM529<>\"\",\"○\",\"\")","v":""}]
[null,{"$f":"基本データ!J530","v":0},{"$f":"基本データ!B530","v":0},{"$f":"基本データ!I530","v":0},{"$f":"基本データ!AL530","v":0},{"$f":"IF(基本データ!AM530<>\"\",\"○\",\"\")","v":""},{"$f":"IF(基本データ!AN530<>\"\",\"○\",\"\")","v":""},{"$f":"IF(基本データ!AO530<>\"\",\"○\",\"\")","v":""},{"$f":"IF(基本データ!AP530<>\"\",\"○\",\"\")","v":""},{"$f":"IF(基本データ!AQ530<>\"\",\"○\",\"\")","v":""},{"$f":"IF(基本データ!AR530<>\"\",\"○\",\"\")","v":""},{"$f":"IF(基本データ!AS530<>\"\",\"○\",\"\")","v":""},{"$f":"IF(基本データ!AT530<>\"\",\"○\",\"\")","v":""},{"$f":"IF(基本データ!AU530<>\"\",\"○\",\"\")","v":""},{"$f":"IF(基本データ!AV530<>\"\",\"○\",\"\")","v":""},{"$f":"IF(基本データ!AW530<>\"\",\"○\",\"\")","v":""},{"$f":"IF(基本データ!AX530<>\"\",\"○\",\"\")","v":""},{"$f":"IF(基本データ!AY530<>\"\",\"○\",\"\")","v":""},{"$f":"IF(基本データ!AZ530<>\"\",\"○\",\"\")","v":""},{"$f":"IF(基本データ!BA530<>\"\",\"○\",\"\")","v":""},{"$f":"IF(基本データ!BB530<>\"\",\"○\",\"\")","v":""},{"$f":"IF(基本データ!BC530<>\"\",\"○\",\"\")","v":""},{"$f":"IF(基本データ!BD530<>\"\",\"○\",\"\")","v":""},{"$f":"IF(基本データ!BE530<>\"\",\"○\",\"\")","v":""},{"$f":"IF(基本データ!BF530<>\"\",\"○\",\"\")","v":""},{"$f":"IF(基本データ!BG530<>\"\",\"○\",\"\")","v":""},{"$f":"基本データ!BN530","v":0},{"$f":"IF(基本データ!BH530<>\"\",\"○\",\"\")","v":""},{"$f":"IF(基本データ!BI530<>\"\",\"○\",\"\")","v":""},{"$f":"IF(基本データ!BJ530<>\"\",\"○\",\"\")","v":""},{"$f":"IF(基本データ!BK530<>\"\",\"○\",\"\")","v":""},{"$f":"IF(基本データ!BL530<>\"\",\"○\",\"\")","v":""},{"$f":"IF(基本データ!BM530<>\"\",\"○\",\"\")","v":""}]
[null,{"$f":"基本データ!J531","v":0},{"$f":"基本データ!B531","v":0},{"$f":"基本データ!I531","v":0},{"$f":"基本データ!AL531","v":0},{"$f":"IF(基本データ!AM531<>\"\",\"○\",\"\")","v":""},{"$f":"IF(基本データ!AN531<>\"\",\"○\",\"\")","v":""},{"$f":"IF(基本データ!AO531<>\"\",\"○\",\"\")","v":""},{"$f":"IF(基本データ!AP531<>\"\",\"○\",\"\")","v":""},{"$f":"IF(基本データ!AQ531<>\"\",\"○\",\"\")","v":""},{"$f":"IF(基本データ!AR531<>\"\",\"○\",\"\")","v":""},{"$f":"IF(基本データ!AS531<>\"\",\"○\",\"\")","v":""},{"$f":"IF(基本データ!AT531<>\"\",\"○\",\"\")","v":""},{"$f":"IF(基本データ!AU531<>\"\",\"○\",\"\")","v":""},{"$f":"IF(基本データ!AV531<>\"\",\"○\",\"\")","v":""},{"$f":"IF(基本データ!AW531<>\"\",\"○\",\"\")","v":""},{"$f":"IF(基本データ!AX531<>\"\",\"○\",\"\")","v":""},{"$f":"IF(基本データ!AY531<>\"\",\"○\",\"\")","v":""},{"$f":"IF(基本データ!AZ531<>\"\",\"○\",\"\")","v":""},{"$f":"IF(基本データ!BA531<>\"\",\"○\",\"\")","v":""},{"$f":"IF(基本データ!BB531<>\"\",\"○\",\"\")","v":""},{"$f":"IF(基本データ!BC531<>\"\",\"○\",\"\")","v":""},{"$f":"IF(基本データ!BD531<>\"\",\"○\",\"\")","v":""},{"$f":"IF(基本データ!BE531<>\"\",\"○\",\"\")","v":""},{"$f":"IF(基本データ!BF531<>\"\",\"○\",\"\")","v":""},{"$f":"IF(基本データ!BG531<>\"\",\"○\",\"\")","v":""},{"$f":"基本データ!BN531","v":0},{"$f":"IF(基本データ!BH531<>\"\",\"○\",\"\")","v":""},{"$f":"IF(基本データ!BI531<>\"\",\"○\",\"\")","v":""},{"$f":"IF(基本データ!BJ531<>\"\",\"○\",\"\")","v":""},{"$f":"IF(基本データ!BK531<>\"\",\"○\",\"\")","v":""},{"$f":"IF(基本データ!BL531<>\"\",\"○\",\"\")","v":""},{"$f":"IF(基本データ!BM531<>\"\",\"○\",\"\")","v":""}]
[null,{"$f":"基本データ!J532","v":0},{"$f":"基本データ!B532","v":0},{"$f":"基本データ!I532","v":0},{"$f":"基本データ!AL532","v":0},{"$f":"IF(基本データ!AM532<>\"\",\"○\",\"\")","v":""},{"$f":"IF(基本データ!AN532<>\"\",\"○\",\"\")","v":""},{"$f":"IF(基本データ!AO532<>\"\",\"○\",\"\")","v":""},{"$f":"IF(基本データ!AP532<>\"\",\"○\",\"\")","v":""},{"$f":"IF(基本データ!AQ532<>\"\",\"○\",\"\")","v":""},{"$f":"IF(基本データ!AR532<>\"\",\"○\",\"\")","v":""},{"$f":"IF(基本データ!AS532<>\"\",\"○\",\"\")","v":""},{"$f":"IF(基本データ!AT532<>\"\",\"○\",\"\")","v":""},{"$f":"IF(基本データ!AU532<>\"\",\"○\",\"\")","v":""},{"$f":"IF(基本データ!AV532<>\"\",\"○\",\"\")","v":""},{"$f":"IF(基本データ!AW532<>\"\",\"○\",\"\")","v":""},{"$f":"IF(基本データ!AX532<>\"\",\"○\",\"\")","v":""},{"$f":"IF(基本データ!AY532<>\"\",\"○\",\"\")","v":""},{"$f":"IF(基本データ!AZ532<>\"\",\"○\",\"\")","v":""},{"$f":"IF(基本データ!BA532<>\"\",\"○\",\"\")","v":""},{"$f":"IF(基本データ!BB532<>\"\",\"○\",\"\")","v":""},{"$f":"IF(基本データ!BC532<>\"\",\"○\",\"\")","v":""},{"$f":"IF(基本データ!BD532<>\"\",\"○\",\"\")","v":""},{"$f":"IF(基本データ!BE532<>\"\",\"○\",\"\")","v":""},{"$f":"IF(基本データ!BF532<>\"\",\"○\",\"\")","v":""},{"$f":"IF(基本データ!BG532<>\"\",\"○\",\"\")","v":""},{"$f":"基本データ!BN532","v":0},{"$f":"IF(基本データ!BH532<>\"\",\"○\",\"\")","v":""},{"$f":"IF(基本データ!BI532<>\"\",\"○\",\"\")","v":""},{"$f":"IF(基本データ!BJ532<>\"\",\"○\",\"\")","v":""},{"$f":"IF(基本データ!BK532<>\"\",\"○\",\"\")","v":""},{"$f":"IF(基本データ!BL532<>\"\",\"○\",\"\")","v":""},{"$f":"IF(基本データ!BM532<>\"\",\"○\",\"\")","v":""}]
[null,{"$f":"基本データ!J533","v":0},{"$f":"基本データ!B533","v":0},{"$f":"基本データ!I533","v":0},{"$f":"基本データ!AL533","v":0},{"$f":"IF(基本データ!AM533<>\"\",\"○\",\"\")","v":""},{"$f":"IF(基本データ!AN533<>\"\",\"○\",\"\")","v":""},{"$f":"IF(基本データ!AO533<>\"\",\"○\",\"\")","v":""},{"$f":"IF(基本データ!AP533<>\"\",\"○\",\"\")","v":""},{"$f":"IF(基本データ!AQ533<>\"\",\"○\",\"\")","v":""},{"$f":"IF(基本データ!AR533<>\"\",\"○\",\"\")","v":""},{"$f":"IF(基本データ!AS533<>\"\",\"○\",\"\")","v":""},{"$f":"IF(基本データ!AT533<>\"\",\"○\",\"\")","v":""},{"$f":"IF(基本データ!AU533<>\"\",\"○\",\"\")","v":""},{"$f":"IF(基本データ!AV533<>\"\",\"○\",\"\")","v":""},{"$f":"IF(基本データ!AW533<>\"\",\"○\",\"\")","v":""},{"$f":"IF(基本データ!AX533<>\"\",\"○\",\"\")","v":""},{"$f":"IF(基本データ!AY533<>\"\",\"○\",\"\")","v":""},{"$f":"IF(基本データ!AZ533<>\"\",\"○\",\"\")","v":""},{"$f":"IF(基本データ!BA533<>\"\",\"○\",\"\")","v":""},{"$f":"IF(基本データ!BB533<>\"\",\"○\",\"\")","v":""},{"$f":"IF(基本データ!BC533<>\"\",\"○\",\"\")","v":""},{"$f":"IF(基本データ!BD533<>\"\",\"○\",\"\")","v":""},{"$f":"IF(基本データ!BE533<>\"\",\"○\",\"\")","v":""},{"$f":"IF(基本データ!BF533<>\"\",\"○\",\"\")","v":""},{"$f":"IF(基本データ!BG533<>\"\",\"○\",\"\")","v":""},{"$f":"基本データ!BN533","v":0},{"$f":"IF(基本データ!BH533<>\"\",\"○\",\"\")","v":""},{"$f":"IF(基本データ!BI533<>\"\",\"○\",\"\")","v":""},{"$f":"IF(基本データ!BJ533<>\"\",\"○\",\"\")","v":""},{"$f":"IF(基本データ!BK533<>\"\",\"○\",\"\")","v":""},{"$f":"IF(基本データ!BL533<>\"\",\"○\",\"\")","v":""},{"$f":"IF(基本データ!BM533<>\"\",\"○\",\"\")","v":""}]
[null,{"$f":"基本データ!J534","v":0},{"$f":"基本データ!B534","v":0},{"$f":"基本データ!I534","v":0},{"$f":"基本データ!AL534","v":0},{"$f":"IF(基本データ!AM534<>\"\",\"○\",\"\")","v":""},{"$f":"IF(基本データ!AN534<>\"\",\"○\",\"\")","v":""},{"$f":"IF(基本データ!AO534<>\"\",\"○\",\"\")","v":""},{"$f":"IF(基本データ!AP534<>\"\",\"○\",\"\")","v":""},{"$f":"IF(基本データ!AQ534<>\"\",\"○\",\"\")","v":""},{"$f":"IF(基本データ!AR534<>\"\",\"○\",\"\")","v":""},{"$f":"IF(基本データ!AS534<>\"\",\"○\",\"\")","v":""},{"$f":"IF(基本データ!AT534<>\"\",\"○\",\"\")","v":""},{"$f":"IF(基本データ!AU534<>\"\",\"○\",\"\")","v":""},{"$f":"IF(基本データ!AV534<>\"\",\"○\",\"\")","v":""},{"$f":"IF(基本データ!AW534<>\"\",\"○\",\"\")","v":""},{"$f":"IF(基本データ!AX534<>\"\",\"○\",\"\")","v":""},{"$f":"IF(基本データ!AY534<>\"\",\"○\",\"\")","v":""},{"$f":"IF(基本データ!AZ534<>\"\",\"○\",\"\")","v":""},{"$f":"IF(基本データ!BA534<>\"\",\"○\",\"\")","v":""},{"$f":"IF(基本データ!BB534<>\"\",\"○\",\"\")","v":""},{"$f":"IF(基本データ!BC534<>\"\",\"○\",\"\")","v":""},{"$f":"IF(基本データ!BD534<>\"\",\"○\",\"\")","v":""},{"$f":"IF(基本データ!BE534<>\"\",\"○\",\"\")","v":""},{"$f":"IF(基本データ!BF534<>\"\",\"○\",\"\")","v":""},{"$f":"IF(基本データ!BG534<>\"\",\"○\",\"\")","v":""},{"$f":"基本データ!BN534","v":0},{"$f":"IF(基本データ!BH534<>\"\",\"○\",\"\")","v":""},{"$f":"IF(基本データ!BI534<>\"\",\"○\",\"\")","v":""},{"$f":"IF(基本データ!BJ534<>\"\",\"○\",\"\")","v":""},{"$f":"IF(基本データ!BK534<>\"\",\"○\",\"\")","v":""},{"$f":"IF(基本データ!BL534<>\"\",\"○\",\"\")","v":""},{"$f":"IF(基本データ!BM534<>\"\",\"○\",\"\")","v":""}]
[null,{"$f":"基本データ!J535","v":0},{"$f":"基本データ!B535","v":0},{"$f":"基本データ!I535","v":0},{"$f":"基本データ!AL535","v":0},{"$f":"IF(基本データ!AM535<>\"\",\"○\",\"\")","v":""},{"$f":"IF(基本データ!AN535<>\"\",\"○\",\"\")","v":""},{"$f":"IF(基本データ!AO535<>\"\",\"○\",\"\")","v":""},{"$f":"IF(基本データ!AP535<>\"\",\"○\",\"\")","v":""},{"$f":"IF(基本データ!AQ535<>\"\",\"○\",\"\")","v":""},{"$f":"IF(基本データ!AR535<>\"\",\"○\",\"\")","v":""},{"$f":"IF(基本データ!AS535<>\"\",\"○\",\"\")","v":""},{"$f":"IF(基本データ!AT535<>\"\",\"○\",\"\")","v":""},{"$f":"IF(基本データ!AU535<>\"\",\"○\",\"\")","v":""},{"$f":"IF(基本データ!AV535<>\"\",\"○\",\"\")","v":""},{"$f":"IF(基本データ!AW535<>\"\",\"○\",\"\")","v":""},{"$f":"IF(基本データ!AX535<>\"\",\"○\",\"\")","v":""},{"$f":"IF(基本データ!AY535<>\"\",\"○\",\"\")","v":""},{"$f":"IF(基本データ!AZ535<>\"\",\"○\",\"\")","v":""},{"$f":"IF(基本データ!BA535<>\"\",\"○\",\"\")","v":""},{"$f":"IF(基本データ!BB535<>\"\",\"○\",\"\")","v":""},{"$f":"IF(基本データ!BC535<>\"\",\"○\",\"\")","v":""},{"$f":"IF(基本データ!BD535<>\"\",\"○\",\"\")","v":""},{"$f":"IF(基本データ!BE535<>\"\",\"○\",\"\")","v":""},{"$f":"IF(基本データ!BF535<>\"\",\"○\",\"\")","v":""},{"$f":"IF(基本データ!BG535<>\"\",\"○\",\"\")","v":""},{"$f":"基本データ!BN535","v":0},{"$f":"IF(基本データ!BH535<>\"\",\"○\",\"\")","v":""},{"$f":"IF(基本データ!BI535<>\"\",\"○\",\"\")","v":""},{"$f":"IF(基本データ!BJ535<>\"\",\"○\",\"\")","v":""},{"$f":"IF(基本データ!BK535<>\"\",\"○\",\"\")","v":""},{"$f":"IF(基本データ!BL535<>\"\",\"○\",\"\")","v":""},{"$f":"IF(基本データ!BM535<>\"\",\"○\",\"\")","v":""}]
[null,{"$f":"基本データ!J536","v":0},{"$f":"基本データ!B536","v":0},{"$f":"基本データ!I536","v":0},{"$f":"基本データ!AL536","v":0},{"$f":"IF(基本データ!AM536<>\"\",\"○\",\"\")","v":""},{"$f":"IF(基本データ!AN536<>\"\",\"○\",\"\")","v":""},{"$f":"IF(基本データ!AO536<>\"\",\"○\",\"\")","v":""},{"$f":"IF(基本データ!AP536<>\"\",\"○\",\"\")","v":""},{"$f":"IF(基本データ!AQ536<>\"\",\"○\",\"\")","v":""},{"$f":"IF(基本データ!AR536<>\"\",\"○\",\"\")","v":""},{"$f":"IF(基本データ!AS536<>\"\",\"○\",\"\")","v":""},{"$f":"IF(基本データ!AT536<>\"\",\"○\",\"\")","v":""},{"$f":"IF(基本データ!AU536<>\"\",\"○\",\"\")","v":""},{"$f":"IF(基本データ!AV536<>\"\",\"○\",\"\")","v":""},{"$f":"IF(基本データ!AW536<>\"\",\"○\",\"\")","v":""},{"$f":"IF(基本データ!AX536<>\"\",\"○\",\"\")","v":""},{"$f":"IF(基本データ!AY536<>\"\",\"○\",\"\")","v":""},{"$f":"IF(基本データ!AZ536<>\"\",\"○\",\"\")","v":""},{"$f":"IF(基本データ!BA536<>\"\",\"○\",\"\")","v":""},{"$f":"IF(基本データ!BB536<>\"\",\"○\",\"\")","v":""},{"$f":"IF(基本データ!BC536<>\"\",\"○\",\"\")","v":""},{"$f":"IF(基本データ!BD536<>\"\",\"○\",\"\")","v":""},{"$f":"IF(基本データ!BE536<>\"\",\"○\",\"\")","v":""},{"$f":"IF(基本データ!BF536<>\"\",\"○\",\"\")","v":""},{"$f":"IF(基本データ!BG536<>\"\",\"○\",\"\")","v":""},{"$f":"基本データ!BN536","v":0},{"$f":"IF(基本データ!BH536<>\"\",\"○\",\"\")","v":""},{"$f":"IF(基本データ!BI536<>\"\",\"○\",\"\")","v":""},{"$f":"IF(基本データ!BJ536<>\"\",\"○\",\"\")","v":""},{"$f":"IF(基本データ!BK536<>\"\",\"○\",\"\")","v":""},{"$f":"IF(基本データ!BL536<>\"\",\"○\",\"\")","v":""},{"$f":"IF(基本データ!BM536<>\"\",\"○\",\"\")","v":""}]
[null,{"$f":"基本データ!J537","v":0},{"$f":"基本データ!B537","v":0},{"$f":"基本データ!I537","v":0},{"$f":"基本データ!AL537","v":0},{"$f":"IF(基本データ!AM537<>\"\",\"○\",\"\")","v":""},{"$f":"IF(基本データ!AN537<>\"\",\"○\",\"\")","v":""},{"$f":"IF(基本データ!AO537<>\"\",\"○\",\"\")","v":""},{"$f":"IF(基本データ!AP537<>\"\",\"○\",\"\")","v":""},{"$f":"IF(基本データ!AQ537<>\"\",\"○\",\"\")","v":""},{"$f":"IF(基本データ!AR537<>\"\",\"○\",\"\")","v":""},{"$f":"IF(基本データ!AS537<>\"\",\"○\",\"\")","v":""},{"$f":"IF(基本データ!AT537<>\"\",\"○\",\"\")","v":""},{"$f":"IF(基本データ!AU537<>\"\",\"○\",\"\")","v":""},{"$f":"IF(基本データ!AV537<>\"\",\"○\",\"\")","v":""},{"$f":"IF(基本データ!AW537<>\"\",\"○\",\"\")","v":""},{"$f":"IF(基本データ!AX537<>\"\",\"○\",\"\")","v":""},{"$f":"IF(基本データ!AY537<>\"\",\"○\",\"\")","v":""},{"$f":"IF(基本データ!AZ537<>\"\",\"○\",\"\")","v":""},{"$f":"IF(基本データ!BA537<>\"\",\"○\",\"\")","v":""},{"$f":"IF(基本データ!BB537<>\"\",\"○\",\"\")","v":""},{"$f":"IF(基本データ!BC537<>\"\",\"○\",\"\")","v":""},{"$f":"IF(基本データ!BD537<>\"\",\"○\",\"\")","v":""},{"$f":"IF(基本データ!BE537<>\"\",\"○\",\"\")","v":""},{"$f":"IF(基本データ!BF537<>\"\",\"○\",\"\")","v":""},{"$f":"IF(基本データ!BG537<>\"\",\"○\",\"\")","v":""},{"$f":"基本データ!BN537","v":0},{"$f":"IF(基本データ!BH537<>\"\",\"○\",\"\")","v":""},{"$f":"IF(基本データ!BI537<>\"\",\"○\",\"\")","v":""},{"$f":"IF(基本データ!BJ537<>\"\",\"○\",\"\")","v":""},{"$f":"IF(基本データ!BK537<>\"\",\"○\",\"\")","v":""},{"$f":"IF(基本データ!BL537<>\"\",\"○\",\"\")","v":""},{"$f":"IF(基本データ!BM537<>\"\",\"○\",\"\")","v":""}]
[null,{"$f":"基本データ!J538","v":0},{"$f":"基本データ!B538","v":0},{"$f":"基本データ!I538","v":0},{"$f":"基本データ!AL538","v":0},{"$f":"IF(基本データ!AM538<>\"\",\"○\",\"\")","v":""},{"$f":"IF(基本データ!AN538<>\"\",\"○\",\"\")","v":""},{"$f":"IF(基本データ!AO538<>\"\",\"○\",\"\")","v":""},{"$f":"IF(基本データ!AP538<>\"\",\"○\",\"\")","v":""},{"$f":"IF(基本データ!AQ538<>\"\",\"○\",\"\")","v":""},{"$f":"IF(基本データ!AR538<>\"\",\"○\",\"\")","v":""},{"$f":"IF(基本データ!AS538<>\"\",\"○\",\"\")","v":""},{"$f":"IF(基本データ!AT538<>\"\",\"○\",\"\")","v":""},{"$f":"IF(基本データ!AU538<>\"\",\"○\",\"\")","v":""},{"$f":"IF(基本データ!AV538<>\"\",\"○\",\"\")","v":""},{"$f":"IF(基本データ!AW538<>\"\",\"○\",\"\")","v":""},{"$f":"IF(基本データ!AX538<>\"\",\"○\",\"\")","v":""},{"$f":"IF(基本データ!AY538<>\"\",\"○\",\"\")","v":""},{"$f":"IF(基本データ!AZ538<>\"\",\"○\",\"\")","v":""},{"$f":"IF(基本データ!BA538<>\"\",\"○\",\"\")","v":""},{"$f":"IF(基本データ!BB538<>\"\",\"○\",\"\")","v":""},{"$f":"IF(基本データ!BC538<>\"\",\"○\",\"\")","v":""},{"$f":"IF(基本データ!BD538<>\"\",\"○\",\"\")","v":""},{"$f":"IF(基本データ!BE538<>\"\",\"○\",\"\")","v":""},{"$f":"IF(基本データ!BF538<>\"\",\"○\",\"\")","v":""},{"$f":"IF(基本データ!BG538<>\"\",\"○\",\"\")","v":""},{"$f":"基本データ!BN538","v":0},{"$f":"IF(基本データ!BH538<>\"\",\"○\",\"\")","v":""},{"$f":"IF(基本データ!BI538<>\"\",\"○\",\"\")","v":""},{"$f":"IF(基本データ!BJ538<>\"\",\"○\",\"\")","v":""},{"$f":"IF(基本データ!BK538<>\"\",\"○\",\"\")","v":""},{"$f":"IF(基本データ!BL538<>\"\",\"○\",\"\")","v":""},{"$f":"IF(基本データ!BM538<>\"\",\"○\",\"\")","v":""}]
[null,{"$f":"基本データ!J539","v":0},{"$f":"基本データ!B539","v":0},{"$f":"基本データ!I539","v":0},{"$f":"基本データ!AL539","v":0},{"$f":"IF(基本データ!AM539<>\"\",\"○\",\"\")","v":""},{"$f":"IF(基本データ!AN539<>\"\",\"○\",\"\")","v":""},{"$f":"IF(基本データ!AO539<>\"\",\"○\",\"\")","v":""},{"$f":"IF(基本データ!AP539<>\"\",\"○\",\"\")","v":""},{"$f":"IF(基本データ!AQ539<>\"\",\"○\",\"\")","v":""},{"$f":"IF(基本データ!AR539<>\"\",\"○\",\"\")","v":""},{"$f":"IF(基本データ!AS539<>\"\",\"○\",\"\")","v":""},{"$f":"IF(基本データ!AT539<>\"\",\"○\",\"\")","v":""},{"$f":"IF(基本データ!AU539<>\"\",\"○\",\"\")","v":""},{"$f":"IF(基本データ!AV539<>\"\",\"○\",\"\")","v":""},{"$f":"IF(基本データ!AW539<>\"\",\"○\",\"\")","v":""},{"$f":"IF(基本データ!AX539<>\"\",\"○\",\"\")","v":""},{"$f":"IF(基本データ!AY539<>\"\",\"○\",\"\")","v":""},{"$f":"IF(基本データ!AZ539<>\"\",\"○\",\"\")","v":""},{"$f":"IF(基本データ!BA539<>\"\",\"○\",\"\")","v":""},{"$f":"IF(基本データ!BB539<>\"\",\"○\",\"\")","v":""},{"$f":"IF(基本データ!BC539<>\"\",\"○\",\"\")","v":""},{"$f":"IF(基本データ!BD539<>\"\",\"○\",\"\")","v":""},{"$f":"IF(基本データ!BE539<>\"\",\"○\",\"\")","v":""},{"$f":"IF(基本データ!BF539<>\"\",\"○\",\"\")","v":""},{"$f":"IF(基本データ!BG539<>\"\",\"○\",\"\")","v":""},{"$f":"基本データ!BN539","v":0},{"$f":"IF(基本データ!BH539<>\"\",\"○\",\"\")","v":""},{"$f":"IF(基本データ!BI539<>\"\",\"○\",\"\")","v":""},{"$f":"IF(基本データ!BJ539<>\"\",\"○\",\"\")","v":""},{"$f":"IF(基本データ!BK539<>\"\",\"○\",\"\")","v":""},{"$f":"IF(基本データ!BL539<>\"\",\"○\",\"\")","v":""},{"$f":"IF(基本データ!BM539<>\"\",\"○\",\"\")","v":""}]
[null,{"$f":"基本データ!J540","v":0},{"$f":"基本データ!B540","v":0},{"$f":"基本データ!I540","v":0},{"$f":"基本データ!AL540","v":0},{"$f":"IF(基本データ!AM540<>\"\",\"○\",\"\")","v":""},{"$f":"IF(基本データ!AN540<>\"\",\"○\",\"\")","v":""},{"$f":"IF(基本データ!AO540<>\"\",\"○\",\"\")","v":""},{"$f":"IF(基本データ!AP540<>\"\",\"○\",\"\")","v":""},{"$f":"IF(基本データ!AQ540<>\"\",\"○\",\"\")","v":""},{"$f":"IF(基本データ!AR540<>\"\",\"○\",\"\")","v":""},{"$f":"IF(基本データ!AS540<>\"\",\"○\",\"\")","v":""},{"$f":"IF(基本データ!AT540<>\"\",\"○\",\"\")","v":""},{"$f":"IF(基本データ!AU540<>\"\",\"○\",\"\")","v":""},{"$f":"IF(基本データ!AV540<>\"\",\"○\",\"\")","v":""},{"$f":"IF(基本データ!AW540<>\"\",\"○\",\"\")","v":""},{"$f":"IF(基本データ!AX540<>\"\",\"○\",\"\")","v":""},{"$f":"IF(基本データ!AY540<>\"\",\"○\",\"\")","v":""},{"$f":"IF(基本データ!AZ540<>\"\",\"○\",\"\")","v":""},{"$f":"IF(基本データ!BA540<>\"\",\"○\",\"\")","v":""},{"$f":"IF(基本データ!BB540<>\"\",\"○\",\"\")","v":""},{"$f":"IF(基本データ!BC540<>\"\",\"○\",\"\")","v":""},{"$f":"IF(基本データ!BD540<>\"\",\"○\",\"\")","v":""},{"$f":"IF(基本データ!BE540<>\"\",\"○\",\"\")","v":""},{"$f":"IF(基本データ!BF540<>\"\",\"○\",\"\")","v":""},{"$f":"IF(基本データ!BG540<>\"\",\"○\",\"\")","v":""},{"$f":"基本データ!BN540","v":0},{"$f":"IF(基本データ!BH540<>\"\",\"○\",\"\")","v":""},{"$f":"IF(基本データ!BI540<>\"\",\"○\",\"\")","v":""},{"$f":"IF(基本データ!BJ540<>\"\",\"○\",\"\")","v":""},{"$f":"IF(基本データ!BK540<>\"\",\"○\",\"\")","v":""},{"$f":"IF(基本データ!BL540<>\"\",\"○\",\"\")","v":""},{"$f":"IF(基本データ!BM540<>\"\",\"○\",\"\")","v":""}]
[null,{"$f":"基本データ!J541","v":0},{"$f":"基本データ!B541","v":0},{"$f":"基本データ!I541","v":0},{"$f":"基本データ!AL541","v":0},{"$f":"IF(基本データ!AM541<>\"\",\"○\",\"\")","v":""},{"$f":"IF(基本データ!AN541<>\"\",\"○\",\"\")","v":""},{"$f":"IF(基本データ!AO541<>\"\",\"○\",\"\")","v":""},{"$f":"IF(基本データ!AP541<>\"\",\"○\",\"\")","v":""},{"$f":"IF(基本データ!AQ541<>\"\",\"○\",\"\")","v":""},{"$f":"IF(基本データ!AR541<>\"\",\"○\",\"\")","v":""},{"$f":"IF(基本データ!AS541<>\"\",\"○\",\"\")","v":""},{"$f":"IF(基本データ!AT541<>\"\",\"○\",\"\")","v":""},{"$f":"IF(基本データ!AU541<>\"\",\"○\",\"\")","v":""},{"$f":"IF(基本データ!AV541<>\"\",\"○\",\"\")","v":""},{"$f":"IF(基本データ!AW541<>\"\",\"○\",\"\")","v":""},{"$f":"IF(基本データ!AX541<>\"\",\"○\",\"\")","v":""},{"$f":"IF(基本データ!AY541<>\"\",\"○\",\"\")","v":""},{"$f":"IF(基本データ!AZ541<>\"\",\"○\",\"\")","v":""},{"$f":"IF(基本データ!BA541<>\"\",\"○\",\"\")","v":""},{"$f":"IF(基本データ!BB541<>\"\",\"○\",\"\")","v":""},{"$f":"IF(基本データ!BC541<>\"\",\"○\",\"\")","v":""},{"$f":"IF(基本データ!BD541<>\"\",\"○\",\"\")","v":""},{"$f":"IF(基本データ!BE541<>\"\",\"○\",\"\")","v":""},{"$f":"IF(基本データ!BF541<>\"\",\"○\",\"\")","v":""},{"$f":"IF(基本データ!BG541<>\"\",\"○\",\"\")","v":""},{"$f":"基本データ!BN541","v":0},{"$f":"IF(基本データ!BH541<>\"\",\"○\",\"\")","v":""},{"$f":"IF(基本データ!BI541<>\"\",\"○\",\"\")","v":""},{"$f":"IF(基本データ!BJ541<>\"\",\"○\",\"\")","v":""},{"$f":"IF(基本データ!BK541<>\"\",\"○\",\"\")","v":""},{"$f":"IF(基本データ!BL541<>\"\",\"○\",\"\")","v":""},{"$f":"IF(基本データ!BM541<>\"\",\"○\",\"\")","v":""}]
[null,{"$f":"基本データ!J542","v":0},{"$f":"基本データ!B542","v":0},{"$f":"基本データ!I542","v":0},{"$f":"基本データ!AL542","v":0},{"$f":"IF(基本データ!AM542<>\"\",\"○\",\"\")","v":""},{"$f":"IF(基本データ!AN542<>\"\",\"○\",\"\")","v":""},{"$f":"IF(基本データ!AO542<>\"\",\"○\",\"\")","v":""},{"$f":"IF(基本データ!AP542<>\"\",\"○\",\"\")","v":""},{"$f":"IF(基本データ!AQ542<>\"\",\"○\",\"\")","v":""},{"$f":"IF(基本データ!AR542<>\"\",\"○\",\"\")","v":""},{"$f":"IF(基本データ!AS542<>\"\",\"○\",\"\")","v":""},{"$f":"IF(基本データ!AT542<>\"\",\"○\",\"\")","v":""},{"$f":"IF(基本データ!AU542<>\"\",\"○\",\"\")","v":""},{"$f":"IF(基本データ!AV542<>\"\",\"○\",\"\")","v":""},{"$f":"IF(基本データ!AW542<>\"\",\"○\",\"\")","v":""},{"$f":"IF(基本データ!AX542<>\"\",\"○\",\"\")","v":""},{"$f":"IF(基本データ!AY542<>\"\",\"○\",\"\")","v":""},{"$f":"IF(基本データ!AZ542<>\"\",\"○\",\"\")","v":""},{"$f":"IF(基本データ!BA542<>\"\",\"○\",\"\")","v":""},{"$f":"IF(基本データ!BB542<>\"\",\"○\",\"\")","v":""},{"$f":"IF(基本データ!BC542<>\"\",\"○\",\"\")","v":""},{"$f":"IF(基本データ!BD542<>\"\",\"○\",\"\")","v":""},{"$f":"IF(基本データ!BE542<>\"\",\"○\",\"\")","v":""},{"$f":"IF(基本データ!BF542<>\"\",\"○\",\"\")","v":""},{"$f":"IF(基本データ!BG542<>\"\",\"○\",\"\")","v":""},{"$f":"基本データ!BN542","v":0},{"$f":"IF(基本データ!BH542<>\"\",\"○\",\"\")","v":""},{"$f":"IF(基本データ!BI542<>\"\",\"○\",\"\")","v":""},{"$f":"IF(基本データ!BJ542<>\"\",\"○\",\"\")","v":""},{"$f":"IF(基本データ!BK542<>\"\",\"○\",\"\")","v":""},{"$f":"IF(基本データ!BL542<>\"\",\"○\",\"\")","v":""},{"$f":"IF(基本データ!BM542<>\"\",\"○\",\"\")","v":""}]
[null,{"$f":"基本データ!J543","v":0},{"$f":"基本データ!B543","v":0},{"$f":"基本データ!I543","v":0},{"$f":"基本データ!AL543","v":0},{"$f":"IF(基本データ!AM543<>\"\",\"○\",\"\")","v":""},{"$f":"IF(基本データ!AN543<>\"\",\"○\",\"\")","v":""},{"$f":"IF(基本データ!AO543<>\"\",\"○\",\"\")","v":""},{"$f":"IF(基本データ!AP543<>\"\",\"○\",\"\")","v":""},{"$f":"IF(基本データ!AQ543<>\"\",\"○\",\"\")","v":""},{"$f":"IF(基本データ!AR543<>\"\",\"○\",\"\")","v":""},{"$f":"IF(基本データ!AS543<>\"\",\"○\",\"\")","v":""},{"$f":"IF(基本データ!AT543<>\"\",\"○\",\"\")","v":""},{"$f":"IF(基本データ!AU543<>\"\",\"○\",\"\")","v":""},{"$f":"IF(基本データ!AV543<>\"\",\"○\",\"\")","v":""},{"$f":"IF(基本データ!AW543<>\"\",\"○\",\"\")","v":""},{"$f":"IF(基本データ!AX543<>\"\",\"○\",\"\")","v":""},{"$f":"IF(基本データ!AY543<>\"\",\"○\",\"\")","v":""},{"$f":"IF(基本データ!AZ543<>\"\",\"○\",\"\")","v":""},{"$f":"IF(基本データ!BA543<>\"\",\"○\",\"\")","v":""},{"$f":"IF(基本データ!BB543<>\"\",\"○\",\"\")","v":""},{"$f":"IF(基本データ!BC543<>\"\",\"○\",\"\")","v":""},{"$f":"IF(基本データ!BD543<>\"\",\"○\",\"\")","v":""},{"$f":"IF(基本データ!BE543<>\"\",\"○\",\"\")","v":""},{"$f":"IF(基本データ!BF543<>\"\",\"○\",\"\")","v":""},{"$f":"IF(基本データ!BG543<>\"\",\"○\",\"\")","v":""},{"$f":"基本データ!BN543","v":0},{"$f":"IF(基本データ!BH543<>\"\",\"○\",\"\")","v":""},{"$f":"IF(基本データ!BI543<>\"\",\"○\",\"\")","v":""},{"$f":"IF(基本データ!BJ543<>\"\",\"○\",\"\")","v":""},{"$f":"IF(基本データ!BK543<>\"\",\"○\",\"\")","v":""},{"$f":"IF(基本データ!BL543<>\"\",\"○\",\"\")","v":""},{"$f":"IF(基本データ!BM543<>\"\",\"○\",\"\")","v":""}]
[null,{"$f":"基本データ!J544","v":0},{"$f":"基本データ!B544","v":0},{"$f":"基本データ!I544","v":0},{"$f":"基本データ!AL544","v":0},{"$f":"IF(基本データ!AM544<>\"\",\"○\",\"\")","v":""},{"$f":"IF(基本データ!AN544<>\"\",\"○\",\"\")","v":""},{"$f":"IF(基本データ!AO544<>\"\",\"○\",\"\")","v":""},{"$f":"IF(基本データ!AP544<>\"\",\"○\",\"\")","v":""},{"$f":"IF(基本データ!AQ544<>\"\",\"○\",\"\")","v":""},{"$f":"IF(基本データ!AR544<>\"\",\"○\",\"\")","v":""},{"$f":"IF(基本データ!AS544<>\"\",\"○\",\"\")","v":""},{"$f":"IF(基本データ!AT544<>\"\",\"○\",\"\")","v":""},{"$f":"IF(基本データ!AU544<>\"\",\"○\",\"\")","v":""},{"$f":"IF(基本データ!AV544<>\"\",\"○\",\"\")","v":""},{"$f":"IF(基本データ!AW544<>\"\",\"○\",\"\")","v":""},{"$f":"IF(基本データ!AX544<>\"\",\"○\",\"\")","v":""},{"$f":"IF(基本データ!AY544<>\"\",\"○\",\"\")","v":""},{"$f":"IF(基本データ!AZ544<>\"\",\"○\",\"\")","v":""},{"$f":"IF(基本データ!BA544<>\"\",\"○\",\"\")","v":""},{"$f":"IF(基本データ!BB544<>\"\",\"○\",\"\")","v":""},{"$f":"IF(基本データ!BC544<>\"\",\"○\",\"\")","v":""},{"$f":"IF(基本データ!BD544<>\"\",\"○\",\"\")","v":""},{"$f":"IF(基本データ!BE544<>\"\",\"○\",\"\")","v":""},{"$f":"IF(基本データ!BF544<>\"\",\"○\",\"\")","v":""},{"$f":"IF(基本データ!BG544<>\"\",\"○\",\"\")","v":""},{"$f":"基本データ!BN544","v":0},{"$f":"IF(基本データ!BH544<>\"\",\"○\",\"\")","v":""},{"$f":"IF(基本データ!BI544<>\"\",\"○\",\"\")","v":""},{"$f":"IF(基本データ!BJ544<>\"\",\"○\",\"\")","v":""},{"$f":"IF(基本データ!BK544<>\"\",\"○\",\"\")","v":""},{"$f":"IF(基本データ!BL544<>\"\",\"○\",\"\")","v":""},{"$f":"IF(基本データ!BM544<>\"\",\"○\",\"\")","v":""}]
[null,{"$f":"基本データ!J545","v":0},{"$f":"基本データ!B545","v":0},{"$f":"基本データ!I545","v":0},{"$f":"基本データ!AL545","v":0},{"$f":"IF(基本データ!AM545<>\"\",\"○\",\"\")","v":""},{"$f":"IF(基本データ!AN545<>\"\",\"○\",\"\")","v":""},{"$f":"IF(基本データ!AO545<>\"\",\"○\",\"\")","v":""},{"$f":"IF(基本データ!AP545<>\"\",\"○\",\"\")","v":""},{"$f":"IF(基本データ!AQ545<>\"\",\"○\",\"\")","v":""},{"$f":"IF(基本データ!AR545<>\"\",\"○\",\"\")","v":""},{"$f":"IF(基本データ!AS545<>\"\",\"○\",\"\")","v":""},{"$f":"IF(基本データ!AT545<>\"\",\"○\",\"\")","v":""},{"$f":"IF(基本データ!AU545<>\"\",\"○\",\"\")","v":""},{"$f":"IF(基本データ!AV545<>\"\",\"○\",\"\")","v":""},{"$f":"IF(基本データ!AW545<>\"\",\"○\",\"\")","v":""},{"$f":"IF(基本データ!AX545<>\"\",\"○\",\"\")","v":""},{"$f":"IF(基本データ!AY545<>\"\",\"○\",\"\")","v":""},{"$f":"IF(基本データ!AZ545<>\"\",\"○\",\"\")","v":""},{"$f":"IF(基本データ!BA545<>\"\",\"○\",\"\")","v":""},{"$f":"IF(基本データ!BB545<>\"\",\"○\",\"\")","v":""},{"$f":"IF(基本データ!BC545<>\"\",\"○\",\"\")","v":""},{"$f":"IF(基本データ!BD545<>\"\",\"○\",\"\")","v":""},{"$f":"IF(基本データ!BE545<>\"\",\"○\",\"\")","v":""},{"$f":"IF(基本データ!BF545<>\"\",\"○\",\"\")","v":""},{"$f":"IF(基本データ!BG545<>\"\",\"○\",\"\")","v":""},{"$f":"基本データ!BN545","v":0},{"$f":"IF(基本データ!BH545<>\"\",\"○\",\"\")","v":""},{"$f":"IF(基本データ!BI545<>\"\",\"○\",\"\")","v":""},{"$f":"IF(基本データ!BJ545<>\"\",\"○\",\"\")","v":""},{"$f":"IF(基本データ!BK545<>\"\",\"○\",\"\")","v":""},{"$f":"IF(基本データ!BL545<>\"\",\"○\",\"\")","v":""},{"$f":"IF(基本データ!BM545<>\"\",\"○\",\"\")","v":""}]
[null,{"$f":"基本データ!J546","v":0},{"$f":"基本データ!B546","v":0},{"$f":"基本データ!I546","v":0},{"$f":"基本データ!AL546","v":0},{"$f":"IF(基本データ!AM546<>\"\",\"○\",\"\")","v":""},{"$f":"IF(基本データ!AN546<>\"\",\"○\",\"\")","v":""},{"$f":"IF(基本データ!AO546<>\"\",\"○\",\"\")","v":""},{"$f":"IF(基本データ!AP546<>\"\",\"○\",\"\")","v":""},{"$f":"IF(基本データ!AQ546<>\"\",\"○\",\"\")","v":""},{"$f":"IF(基本データ!AR546<>\"\",\"○\",\"\")","v":""},{"$f":"IF(基本データ!AS546<>\"\",\"○\",\"\")","v":""},{"$f":"IF(基本データ!AT546<>\"\",\"○\",\"\")","v":""},{"$f":"IF(基本データ!AU546<>\"\",\"○\",\"\")","v":""},{"$f":"IF(基本データ!AV546<>\"\",\"○\",\"\")","v":""},{"$f":"IF(基本データ!AW546<>\"\",\"○\",\"\")","v":""},{"$f":"IF(基本データ!AX546<>\"\",\"○\",\"\")","v":""},{"$f":"IF(基本データ!AY546<>\"\",\"○\",\"\")","v":""},{"$f":"IF(基本データ!AZ546<>\"\",\"○\",\"\")","v":""},{"$f":"IF(基本データ!BA546<>\"\",\"○\",\"\")","v":""},{"$f":"IF(基本データ!BB546<>\"\",\"○\",\"\")","v":""},{"$f":"IF(基本データ!BC546<>\"\",\"○\",\"\")","v":""},{"$f":"IF(基本データ!BD546<>\"\",\"○\",\"\")","v":""},{"$f":"IF(基本データ!BE546<>\"\",\"○\",\"\")","v":""},{"$f":"IF(基本データ!BF546<>\"\",\"○\",\"\")","v":""},{"$f":"IF(基本データ!BG546<>\"\",\"○\",\"\")","v":""},{"$f":"基本データ!BN546","v":0},{"$f":"IF(基本データ!BH546<>\"\",\"○\",\"\")","v":""},{"$f":"IF(基本データ!BI546<>\"\",\"○\",\"\")","v":""},{"$f":"IF(基本データ!BJ546<>\"\",\"○\",\"\")","v":""},{"$f":"IF(基本データ!BK546<>\"\",\"○\",\"\")","v":""},{"$f":"IF(基本データ!BL546<>\"\",\"○\",\"\")","v":""},{"$f":"IF(基本データ!BM546<>\"\",\"○\",\"\")","v":""}]
[null,{"$f":"基本データ!J547","v":0},{"$f":"基本データ!B547","v":0},{"$f":"基本データ!I547","v":0},{"$f":"基本データ!AL547","v":0},{"$f":"IF(基本データ!AM547<>\"\",\"○\",\"\")","v":""},{"$f":"IF(基本データ!AN547<>\"\",\"○\",\"\")","v":""},{"$f":"IF(基本データ!AO547<>\"\",\"○\",\"\")","v":""},{"$f":"IF(基本データ!AP547<>\"\",\"○\",\"\")","v":""},{"$f":"IF(基本データ!AQ547<>\"\",\"○\",\"\")","v":""},{"$f":"IF(基本データ!AR547<>\"\",\"○\",\"\")","v":""},{"$f":"IF(基本データ!AS547<>\"\",\"○\",\"\")","v":""},{"$f":"IF(基本データ!AT547<>\"\",\"○\",\"\")","v":""},{"$f":"IF(基本データ!AU547<>\"\",\"○\",\"\")","v":""},{"$f":"IF(基本データ!AV547<>\"\",\"○\",\"\")","v":""},{"$f":"IF(基本データ!AW547<>\"\",\"○\",\"\")","v":""},{"$f":"IF(基本データ!AX547<>\"\",\"○\",\"\")","v":""},{"$f":"IF(基本データ!AY547<>\"\",\"○\",\"\")","v":""},{"$f":"IF(基本データ!AZ547<>\"\",\"○\",\"\")","v":""},{"$f":"IF(基本データ!BA547<>\"\",\"○\",\"\")","v":""},{"$f":"IF(基本データ!BB547<>\"\",\"○\",\"\")","v":""},{"$f":"IF(基本データ!BC547<>\"\",\"○\",\"\")","v":""},{"$f":"IF(基本データ!BD547<>\"\",\"○\",\"\")","v":""},{"$f":"IF(基本データ!BE547<>\"\",\"○\",\"\")","v":""},{"$f":"IF(基本データ!BF547<>\"\",\"○\",\"\")","v":""},{"$f":"IF(基本データ!BG547<>\"\",\"○\",\"\")","v":""},{"$f":"基本データ!BN547","v":0},{"$f":"IF(基本データ!BH547<>\"\",\"○\",\"\")","v":""},{"$f":"IF(基本データ!BI547<>\"\",\"○\",\"\")","v":""},{"$f":"IF(基本データ!BJ547<>\"\",\"○\",\"\")","v":""},{"$f":"IF(基本データ!BK547<>\"\",\"○\",\"\")","v":""},{"$f":"IF(基本データ!BL547<>\"\",\"○\",\"\")","v":""},{"$f":"IF(基本データ!BM547<>\"\",\"○\",\"\")","v":""}]
[null,{"$f":"基本データ!J548","v":0},{"$f":"基本データ!B548","v":0},{"$f":"基本データ!I548","v":0},{"$f":"基本データ!AL548","v":0},{"$f":"IF(基本データ!AM548<>\"\",\"○\",\"\")","v":""},{"$f":"IF(基本データ!AN548<>\"\",\"○\",\"\")","v":""},{"$f":"IF(基本データ!AO548<>\"\",\"○\",\"\")","v":""},{"$f":"IF(基本データ!AP548<>\"\",\"○\",\"\")","v":""},{"$f":"IF(基本データ!AQ548<>\"\",\"○\",\"\")","v":""},{"$f":"IF(基本データ!AR548<>\"\",\"○\",\"\")","v":""},{"$f":"IF(基本データ!AS548<>\"\",\"○\",\"\")","v":""},{"$f":"IF(基本データ!AT548<>\"\",\"○\",\"\")","v":""},{"$f":"IF(基本データ!AU548<>\"\",\"○\",\"\")","v":""},{"$f":"IF(基本データ!AV548<>\"\",\"○\",\"\")","v":""},{"$f":"IF(基本データ!AW548<>\"\",\"○\",\"\")","v":""},{"$f":"IF(基本データ!AX548<>\"\",\"○\",\"\")","v":""},{"$f":"IF(基本データ!AY548<>\"\",\"○\",\"\")","v":""},{"$f":"IF(基本データ!AZ548<>\"\",\"○\",\"\")","v":""},{"$f":"IF(基本データ!BA548<>\"\",\"○\",\"\")","v":""},{"$f":"IF(基本データ!BB548<>\"\",\"○\",\"\")","v":""},{"$f":"IF(基本データ!BC548<>\"\",\"○\",\"\")","v":""},{"$f":"IF(基本データ!BD548<>\"\",\"○\",\"\")","v":""},{"$f":"IF(基本データ!BE548<>\"\",\"○\",\"\")","v":""},{"$f":"IF(基本データ!BF548<>\"\",\"○\",\"\")","v":""},{"$f":"IF(基本データ!BG548<>\"\",\"○\",\"\")","v":""},{"$f":"基本データ!BN548","v":0},{"$f":"IF(基本データ!BH548<>\"\",\"○\",\"\")","v":""},{"$f":"IF(基本データ!BI548<>\"\",\"○\",\"\")","v":""},{"$f":"IF(基本データ!BJ548<>\"\",\"○\",\"\")","v":""},{"$f":"IF(基本データ!BK548<>\"\",\"○\",\"\")","v":""},{"$f":"IF(基本データ!BL548<>\"\",\"○\",\"\")","v":""},{"$f":"IF(基本データ!BM548<>\"\",\"○\",\"\")","v":""}]
[null,{"$f":"基本データ!J549","v":0},{"$f":"基本データ!B549","v":0},{"$f":"基本データ!I549","v":0},{"$f":"基本データ!AL549","v":0},{"$f":"IF(基本データ!AM549<>\"\",\"○\",\"\")","v":""},{"$f":"IF(基本データ!AN549<>\"\",\"○\",\"\")","v":""},{"$f":"IF(基本データ!AO549<>\"\",\"○\",\"\")","v":""},{"$f":"IF(基本データ!AP549<>\"\",\"○\",\"\")","v":""},{"$f":"IF(基本データ!AQ549<>\"\",\"○\",\"\")","v":""},{"$f":"IF(基本データ!AR549<>\"\",\"○\",\"\")","v":""},{"$f":"IF(基本データ!AS549<>\"\",\"○\",\"\")","v":""},{"$f":"IF(基本データ!AT549<>\"\",\"○\",\"\")","v":""},{"$f":"IF(基本データ!AU549<>\"\",\"○\",\"\")","v":""},{"$f":"IF(基本データ!AV549<>\"\",\"○\",\"\")","v":""},{"$f":"IF(基本データ!AW549<>\"\",\"○\",\"\")","v":""},{"$f":"IF(基本データ!AX549<>\"\",\"○\",\"\")","v":""},{"$f":"IF(基本データ!AY549<>\"\",\"○\",\"\")","v":""},{"$f":"IF(基本データ!AZ549<>\"\",\"○\",\"\")","v":""},{"$f":"IF(基本データ!BA549<>\"\",\"○\",\"\")","v":""},{"$f":"IF(基本データ!BB549<>\"\",\"○\",\"\")","v":""},{"$f":"IF(基本データ!BC549<>\"\",\"○\",\"\")","v":""},{"$f":"IF(基本データ!BD549<>\"\",\"○\",\"\")","v":""},{"$f":"IF(基本データ!BE549<>\"\",\"○\",\"\")","v":""},{"$f":"IF(基本データ!BF549<>\"\",\"○\",\"\")","v":""},{"$f":"IF(基本データ!BG549<>\"\",\"○\",\"\")","v":""},{"$f":"基本データ!BN549","v":0},{"$f":"IF(基本データ!BH549<>\"\",\"○\",\"\")","v":""},{"$f":"IF(基本データ!BI549<>\"\",\"○\",\"\")","v":""},{"$f":"IF(基本データ!BJ549<>\"\",\"○\",\"\")","v":""},{"$f":"IF(基本データ!BK549<>\"\",\"○\",\"\")","v":""},{"$f":"IF(基本データ!BL549<>\"\",\"○\",\"\")","v":""},{"$f":"IF(基本データ!BM549<>\"\",\"○\",\"\")","v":""}]
[null,{"$f":"基本データ!J550","v":0},{"$f":"基本データ!B550","v":0},{"$f":"基本データ!I550","v":0},{"$f":"基本データ!AL550","v":0},{"$f":"IF(基本データ!AM550<>\"\",\"○\",\"\")","v":""},{"$f":"IF(基本データ!AN550<>\"\",\"○\",\"\")","v":""},{"$f":"IF(基本データ!AO550<>\"\",\"○\",\"\")","v":""},{"$f":"IF(基本データ!AP550<>\"\",\"○\",\"\")","v":""},{"$f":"IF(基本データ!AQ550<>\"\",\"○\",\"\")","v":""},{"$f":"IF(基本データ!AR550<>\"\",\"○\",\"\")","v":""},{"$f":"IF(基本データ!AS550<>\"\",\"○\",\"\")","v":""},{"$f":"IF(基本データ!AT550<>\"\",\"○\",\"\")","v":""},{"$f":"IF(基本データ!AU550<>\"\",\"○\",\"\")","v":""},{"$f":"IF(基本データ!AV550<>\"\",\"○\",\"\")","v":""},{"$f":"IF(基本データ!AW550<>\"\",\"○\",\"\")","v":""},{"$f":"IF(基本データ!AX550<>\"\",\"○\",\"\")","v":""},{"$f":"IF(基本データ!AY550<>\"\",\"○\",\"\")","v":""},{"$f":"IF(基本データ!AZ550<>\"\",\"○\",\"\")","v":""},{"$f":"IF(基本データ!BA550<>\"\",\"○\",\"\")","v":""},{"$f":"IF(基本データ!BB550<>\"\",\"○\",\"\")","v":""},{"$f":"IF(基本データ!BC550<>\"\",\"○\",\"\")","v":""},{"$f":"IF(基本データ!BD550<>\"\",\"○\",\"\")","v":""},{"$f":"IF(基本データ!BE550<>\"\",\"○\",\"\")","v":""},{"$f":"IF(基本データ!BF550<>\"\",\"○\",\"\")","v":""},{"$f":"IF(基本データ!BG550<>\"\",\"○\",\"\")","v":""},{"$f":"基本データ!BN550","v":0},{"$f":"IF(基本データ!BH550<>\"\",\"○\",\"\")","v":""},{"$f":"IF(基本データ!BI550<>\"\",\"○\",\"\")","v":""},{"$f":"IF(基本データ!BJ550<>\"\",\"○\",\"\")","v":""},{"$f":"IF(基本データ!BK550<>\"\",\"○\",\"\")","v":""},{"$f":"IF(基本データ!BL550<>\"\",\"○\",\"\")","v":""},{"$f":"IF(基本データ!BM550<>\"\",\"○\",\"\")","v":""}]
[null,{"$f":"基本データ!J551","v":0},{"$f":"基本データ!B551","v":0},{"$f":"基本データ!I551","v":0},{"$f":"基本データ!AL551","v":0},{"$f":"IF(基本データ!AM551<>\"\",\"○\",\"\")","v":""},{"$f":"IF(基本データ!AN551<>\"\",\"○\",\"\")","v":""},{"$f":"IF(基本データ!AO551<>\"\",\"○\",\"\")","v":""},{"$f":"IF(基本データ!AP551<>\"\",\"○\",\"\")","v":""},{"$f":"IF(基本データ!AQ551<>\"\",\"○\",\"\")","v":""},{"$f":"IF(基本データ!AR551<>\"\",\"○\",\"\")","v":""},{"$f":"IF(基本データ!AS551<>\"\",\"○\",\"\")","v":""},{"$f":"IF(基本データ!AT551<>\"\",\"○\",\"\")","v":""},{"$f":"IF(基本データ!AU551<>\"\",\"○\",\"\")","v":""},{"$f":"IF(基本データ!AV551<>\"\",\"○\",\"\")","v":""},{"$f":"IF(基本データ!AW551<>\"\",\"○\",\"\")","v":""},{"$f":"IF(基本データ!AX551<>\"\",\"○\",\"\")","v":""},{"$f":"IF(基本データ!AY551<>\"\",\"○\",\"\")","v":""},{"$f":"IF(基本データ!AZ551<>\"\",\"○\",\"\")","v":""},{"$f":"IF(基本データ!BA551<>\"\",\"○\",\"\")","v":""},{"$f":"IF(基本データ!BB551<>\"\",\"○\",\"\")","v":""},{"$f":"IF(基本データ!BC551<>\"\",\"○\",\"\")","v":""},{"$f":"IF(基本データ!BD551<>\"\",\"○\",\"\")","v":""},{"$f":"IF(基本データ!BE551<>\"\",\"○\",\"\")","v":""},{"$f":"IF(基本データ!BF551<>\"\",\"○\",\"\")","v":""},{"$f":"IF(基本データ!BG551<>\"\",\"○\",\"\")","v":""},{"$f":"基本データ!BN551","v":0},{"$f":"IF(基本データ!BH551<>\"\",\"○\",\"\")","v":""},{"$f":"IF(基本データ!BI551<>\"\",\"○\",\"\")","v":""},{"$f":"IF(基本データ!BJ551<>\"\",\"○\",\"\")","v":""},{"$f":"IF(基本データ!BK551<>\"\",\"○\",\"\")","v":""},{"$f":"IF(基本データ!BL551<>\"\",\"○\",\"\")","v":""},{"$f":"IF(基本データ!BM551<>\"\",\"○\",\"\")","v":""}]
[null,{"$f":"基本データ!J552","v":0},{"$f":"基本データ!B552","v":0},{"$f":"基本データ!I552","v":0},{"$f":"基本データ!AL552","v":0},{"$f":"IF(基本データ!AM552<>\"\",\"○\",\"\")","v":""},{"$f":"IF(基本データ!AN552<>\"\",\"○\",\"\")","v":""},{"$f":"IF(基本データ!AO552<>\"\",\"○\",\"\")","v":""},{"$f":"IF(基本データ!AP552<>\"\",\"○\",\"\")","v":""},{"$f":"IF(基本データ!AQ552<>\"\",\"○\",\"\")","v":""},{"$f":"IF(基本データ!AR552<>\"\",\"○\",\"\")","v":""},{"$f":"IF(基本データ!AS552<>\"\",\"○\",\"\")","v":""},{"$f":"IF(基本データ!AT552<>\"\",\"○\",\"\")","v":""},{"$f":"IF(基本データ!AU552<>\"\",\"○\",\"\")","v":""},{"$f":"IF(基本データ!AV552<>\"\",\"○\",\"\")","v":""},{"$f":"IF(基本データ!AW552<>\"\",\"○\",\"\")","v":""},{"$f":"IF(基本データ!AX552<>\"\",\"○\",\"\")","v":""},{"$f":"IF(基本データ!AY552<>\"\",\"○\",\"\")","v":""},{"$f":"IF(基本データ!AZ552<>\"\",\"○\",\"\")","v":""},{"$f":"IF(基本データ!BA552<>\"\",\"○\",\"\")","v":""},{"$f":"IF(基本データ!BB552<>\"\",\"○\",\"\")","v":""},{"$f":"IF(基本データ!BC552<>\"\",\"○\",\"\")","v":""},{"$f":"IF(基本データ!BD552<>\"\",\"○\",\"\")","v":""},{"$f":"IF(基本データ!BE552<>\"\",\"○\",\"\")","v":""},{"$f":"IF(基本データ!BF552<>\"\",\"○\",\"\")","v":""},{"$f":"IF(基本データ!BG552<>\"\",\"○\",\"\")","v":""},{"$f":"基本データ!BN552","v":0},{"$f":"IF(基本データ!BH552<>\"\",\"○\",\"\")","v":""},{"$f":"IF(基本データ!BI552<>\"\",\"○\",\"\")","v":""},{"$f":"IF(基本データ!BJ552<>\"\",\"○\",\"\")","v":""},{"$f":"IF(基本データ!BK552<>\"\",\"○\",\"\")","v":""},{"$f":"IF(基本データ!BL552<>\"\",\"○\",\"\")","v":""},{"$f":"IF(基本データ!BM552<>\"\",\"○\",\"\")","v":""}]
[null,{"$f":"基本データ!J553","v":0},{"$f":"基本データ!B553","v":0},{"$f":"基本データ!I553","v":0},{"$f":"基本データ!AL553","v":0},{"$f":"IF(基本データ!AM553<>\"\",\"○\",\"\")","v":""},{"$f":"IF(基本データ!AN553<>\"\",\"○\",\"\")","v":""},{"$f":"IF(基本データ!AO553<>\"\",\"○\",\"\")","v":""},{"$f":"IF(基本データ!AP553<>\"\",\"○\",\"\")","v":""},{"$f":"IF(基本データ!AQ553<>\"\",\"○\",\"\")","v":""},{"$f":"IF(基本データ!AR553<>\"\",\"○\",\"\")","v":""},{"$f":"IF(基本データ!AS553<>\"\",\"○\",\"\")","v":""},{"$f":"IF(基本データ!AT553<>\"\",\"○\",\"\")","v":""},{"$f":"IF(基本データ!AU553<>\"\",\"○\",\"\")","v":""},{"$f":"IF(基本データ!AV553<>\"\",\"○\",\"\")","v":""},{"$f":"IF(基本データ!AW553<>\"\",\"○\",\"\")","v":""},{"$f":"IF(基本データ!AX553<>\"\",\"○\",\"\")","v":""},{"$f":"IF(基本データ!AY553<>\"\",\"○\",\"\")","v":""},{"$f":"IF(基本データ!AZ553<>\"\",\"○\",\"\")","v":""},{"$f":"IF(基本データ!BA553<>\"\",\"○\",\"\")","v":""},{"$f":"IF(基本データ!BB553<>\"\",\"○\",\"\")","v":""},{"$f":"IF(基本データ!BC553<>\"\",\"○\",\"\")","v":""},{"$f":"IF(基本データ!BD553<>\"\",\"○\",\"\")","v":""},{"$f":"IF(基本データ!BE553<>\"\",\"○\",\"\")","v":""},{"$f":"IF(基本データ!BF553<>\"\",\"○\",\"\")","v":""},{"$f":"IF(基本データ!BG553<>\"\",\"○\",\"\")","v":""},{"$f":"基本データ!BN553","v":0},{"$f":"IF(基本データ!BH553<>\"\",\"○\",\"\")","v":""},{"$f":"IF(基本データ!BI553<>\"\",\"○\",\"\")","v":""},{"$f":"IF(基本データ!BJ553<>\"\",\"○\",\"\")","v":""},{"$f":"IF(基本データ!BK553<>\"\",\"○\",\"\")","v":""},{"$f":"IF(基本データ!BL553<>\"\",\"○\",\"\")","v":""},{"$f":"IF(基本データ!BM553<>\"\",\"○\",\"\")","v":""}]
[null,{"$f":"基本データ!J554","v":0},{"$f":"基本データ!B554","v":0},{"$f":"基本データ!I554","v":0},{"$f":"基本データ!AL554","v":0},{"$f":"IF(基本データ!AM554<>\"\",\"○\",\"\")","v":""},{"$f":"IF(基本データ!AN554<>\"\",\"○\",\"\")","v":""},{"$f":"IF(基本データ!AO554<>\"\",\"○\",\"\")","v":""},{"$f":"IF(基本データ!AP554<>\"\",\"○\",\"\")","v":""},{"$f":"IF(基本データ!AQ554<>\"\",\"○\",\"\")","v":""},{"$f":"IF(基本データ!AR554<>\"\",\"○\",\"\")","v":""},{"$f":"IF(基本データ!AS554<>\"\",\"○\",\"\")","v":""},{"$f":"IF(基本データ!AT554<>\"\",\"○\",\"\")","v":""},{"$f":"IF(基本データ!AU554<>\"\",\"○\",\"\")","v":""},{"$f":"IF(基本データ!AV554<>\"\",\"○\",\"\")","v":""},{"$f":"IF(基本データ!AW554<>\"\",\"○\",\"\")","v":""},{"$f":"IF(基本データ!AX554<>\"\",\"○\",\"\")","v":""},{"$f":"IF(基本データ!AY554<>\"\",\"○\",\"\")","v":""},{"$f":"IF(基本データ!AZ554<>\"\",\"○\",\"\")","v":""},{"$f":"IF(基本データ!BA554<>\"\",\"○\",\"\")","v":""},{"$f":"IF(基本データ!BB554<>\"\",\"○\",\"\")","v":""},{"$f":"IF(基本データ!BC554<>\"\",\"○\",\"\")","v":""},{"$f":"IF(基本データ!BD554<>\"\",\"○\",\"\")","v":""},{"$f":"IF(基本データ!BE554<>\"\",\"○\",\"\")","v":""},{"$f":"IF(基本データ!BF554<>\"\",\"○\",\"\")","v":""},{"$f":"IF(基本データ!BG554<>\"\",\"○\",\"\")","v":""},{"$f":"基本データ!BN554","v":0},{"$f":"IF(基本データ!BH554<>\"\",\"○\",\"\")","v":""},{"$f":"IF(基本データ!BI554<>\"\",\"○\",\"\")","v":""},{"$f":"IF(基本データ!BJ554<>\"\",\"○\",\"\")","v":""},{"$f":"IF(基本データ!BK554<>\"\",\"○\",\"\")","v":""},{"$f":"IF(基本データ!BL554<>\"\",\"○\",\"\")","v":""},{"$f":"IF(基本データ!BM554<>\"\",\"○\",\"\")","v":""}]
[null,{"$f":"基本データ!J555","v":0},{"$f":"基本データ!B555","v":0},{"$f":"基本データ!I555","v":0},{"$f":"基本データ!AL555","v":0},{"$f":"IF(基本データ!AM555<>\"\",\"○\",\"\")","v":""},{"$f":"IF(基本データ!AN555<>\"\",\"○\",\"\")","v":""},{"$f":"IF(基本データ!AO555<>\"\",\"○\",\"\")","v":""},{"$f":"IF(基本データ!AP555<>\"\",\"○\",\"\")","v":""},{"$f":"IF(基本データ!AQ555<>\"\",\"○\",\"\")","v":""},{"$f":"IF(基本データ!AR555<>\"\",\"○\",\"\")","v":""},{"$f":"IF(基本データ!AS555<>\"\",\"○\",\"\")","v":""},{"$f":"IF(基本データ!AT555<>\"\",\"○\",\"\")","v":""},{"$f":"IF(基本データ!AU555<>\"\",\"○\",\"\")","v":""},{"$f":"IF(基本データ!AV555<>\"\",\"○\",\"\")","v":""},{"$f":"IF(基本データ!AW555<>\"\",\"○\",\"\")","v":""},{"$f":"IF(基本データ!AX555<>\"\",\"○\",\"\")","v":""},{"$f":"IF(基本データ!AY555<>\"\",\"○\",\"\")","v":""},{"$f":"IF(基本データ!AZ555<>\"\",\"○\",\"\")","v":""},{"$f":"IF(基本データ!BA555<>\"\",\"○\",\"\")","v":""},{"$f":"IF(基本データ!BB555<>\"\",\"○\",\"\")","v":""},{"$f":"IF(基本データ!BC555<>\"\",\"○\",\"\")","v":""},{"$f":"IF(基本データ!BD555<>\"\",\"○\",\"\")","v":""},{"$f":"IF(基本データ!BE555<>\"\",\"○\",\"\")","v":""},{"$f":"IF(基本データ!BF555<>\"\",\"○\",\"\")","v":""},{"$f":"IF(基本データ!BG555<>\"\",\"○\",\"\")","v":""},{"$f":"基本データ!BN555","v":0},{"$f":"IF(基本データ!BH555<>\"\",\"○\",\"\")","v":""},{"$f":"IF(基本データ!BI555<>\"\",\"○\",\"\")","v":""},{"$f":"IF(基本データ!BJ555<>\"\",\"○\",\"\")","v":""},{"$f":"IF(基本データ!BK555<>\"\",\"○\",\"\")","v":""},{"$f":"IF(基本データ!BL555<>\"\",\"○\",\"\")","v":""},{"$f":"IF(基本データ!BM555<>\"\",\"○\",\"\")","v":""}]
[null,{"$f":"基本データ!J556","v":0},{"$f":"基本データ!B556","v":0},{"$f":"基本データ!I556","v":0},{"$f":"基本データ!AL556","v":0},{"$f":"IF(基本データ!AM556<>\"\",\"○\",\"\")","v":""},{"$f":"IF(基本データ!AN556<>\"\",\"○\",\"\")","v":""},{"$f":"IF(基本データ!AO556<>\"\",\"○\",\"\")","v":""},{"$f":"IF(基本データ!AP556<>\"\",\"○\",\"\")","v":""},{"$f":"IF(基本データ!AQ556<>\"\",\"○\",\"\")","v":""},{"$f":"IF(基本データ!AR556<>\"\",\"○\",\"\")","v":""},{"$f":"IF(基本データ!AS556<>\"\",\"○\",\"\")","v":""},{"$f":"IF(基本データ!AT556<>\"\",\"○\",\"\")","v":""},{"$f":"IF(基本データ!AU556<>\"\",\"○\",\"\")","v":""},{"$f":"IF(基本データ!AV556<>\"\",\"○\",\"\")","v":""},{"$f":"IF(基本データ!AW556<>\"\",\"○\",\"\")","v":""},{"$f":"IF(基本データ!AX556<>\"\",\"○\",\"\")","v":""},{"$f":"IF(基本データ!AY556<>\"\",\"○\",\"\")","v":""},{"$f":"IF(基本データ!AZ556<>\"\",\"○\",\"\")","v":""},{"$f":"IF(基本データ!BA556<>\"\",\"○\",\"\")","v":""},{"$f":"IF(基本データ!BB556<>\"\",\"○\",\"\")","v":""},{"$f":"IF(基本データ!BC556<>\"\",\"○\",\"\")","v":""},{"$f":"IF(基本データ!BD556<>\"\",\"○\",\"\")","v":""},{"$f":"IF(基本データ!BE556<>\"\",\"○\",\"\")","v":""},{"$f":"IF(基本データ!BF556<>\"\",\"○\",\"\")","v":""},{"$f":"IF(基本データ!BG556<>\"\",\"○\",\"\")","v":""},{"$f":"基本データ!BN556","v":0},{"$f":"IF(基本データ!BH556<>\"\",\"○\",\"\")","v":""},{"$f":"IF(基本データ!BI556<>\"\",\"○\",\"\")","v":""},{"$f":"IF(基本データ!BJ556<>\"\",\"○\",\"\")","v":""},{"$f":"IF(基本データ!BK556<>\"\",\"○\",\"\")","v":""},{"$f":"IF(基本データ!BL556<>\"\",\"○\",\"\")","v":""},{"$f":"IF(基本データ!BM556<>\"\",\"○\",\"\")","v":""}]
[null,{"$f":"基本データ!J557","v":0},{"$f":"基本データ!B557","v":0},{"$f":"基本データ!I557","v":0},{"$f":"基本データ!AL557","v":0},{"$f":"IF(基本データ!AM557<>\"\",\"○\",\"\")","v":""},{"$f":"IF(基本データ!AN557<>\"\",\"○\",\"\")","v":""},{"$f":"IF(基本データ!AO557<>\"\",\"○\",\"\")","v":""},{"$f":"IF(基本データ!AP557<>\"\",\"○\",\"\")","v":""},{"$f":"IF(基本データ!AQ557<>\"\",\"○\",\"\")","v":""},{"$f":"IF(基本データ!AR557<>\"\",\"○\",\"\")","v":""},{"$f":"IF(基本データ!AS557<>\"\",\"○\",\"\")","v":""},{"$f":"IF(基本データ!AT557<>\"\",\"○\",\"\")","v":""},{"$f":"IF(基本データ!AU557<>\"\",\"○\",\"\")","v":""},{"$f":"IF(基本データ!AV557<>\"\",\"○\",\"\")","v":""},{"$f":"IF(基本データ!AW557<>\"\",\"○\",\"\")","v":""},{"$f":"IF(基本データ!AX557<>\"\",\"○\",\"\")","v":""},{"$f":"IF(基本データ!AY557<>\"\",\"○\",\"\")","v":""},{"$f":"IF(基本データ!AZ557<>\"\",\"○\",\"\")","v":""},{"$f":"IF(基本データ!BA557<>\"\",\"○\",\"\")","v":""},{"$f":"IF(基本データ!BB557<>\"\",\"○\",\"\")","v":""},{"$f":"IF(基本データ!BC557<>\"\",\"○\",\"\")","v":""},{"$f":"IF(基本データ!BD557<>\"\",\"○\",\"\")","v":""},{"$f":"IF(基本データ!BE557<>\"\",\"○\",\"\")","v":""},{"$f":"IF(基本データ!BF557<>\"\",\"○\",\"\")","v":""},{"$f":"IF(基本データ!BG557<>\"\",\"○\",\"\")","v":""},{"$f":"基本データ!BN557","v":0},{"$f":"IF(基本データ!BH557<>\"\",\"○\",\"\")","v":""},{"$f":"IF(基本データ!BI557<>\"\",\"○\",\"\")","v":""},{"$f":"IF(基本データ!BJ557<>\"\",\"○\",\"\")","v":""},{"$f":"IF(基本データ!BK557<>\"\",\"○\",\"\")","v":""},{"$f":"IF(基本データ!BL557<>\"\",\"○\",\"\")","v":""},{"$f":"IF(基本データ!BM557<>\"\",\"○\",\"\")","v":""}]
[null,{"$f":"基本データ!J558","v":0},{"$f":"基本データ!B558","v":0},{"$f":"基本データ!I558","v":0},{"$f":"基本データ!AL558","v":0},{"$f":"IF(基本データ!AM558<>\"\",\"○\",\"\")","v":""},{"$f":"IF(基本データ!AN558<>\"\",\"○\",\"\")","v":""},{"$f":"IF(基本データ!AO558<>\"\",\"○\",\"\")","v":""},{"$f":"IF(基本データ!AP558<>\"\",\"○\",\"\")","v":""},{"$f":"IF(基本データ!AQ558<>\"\",\"○\",\"\")","v":""},{"$f":"IF(基本データ!AR558<>\"\",\"○\",\"\")","v":""},{"$f":"IF(基本データ!AS558<>\"\",\"○\",\"\")","v":""},{"$f":"IF(基本データ!AT558<>\"\",\"○\",\"\")","v":""},{"$f":"IF(基本データ!AU558<>\"\",\"○\",\"\")","v":""},{"$f":"IF(基本データ!AV558<>\"\",\"○\",\"\")","v":""},{"$f":"IF(基本データ!AW558<>\"\",\"○\",\"\")","v":""},{"$f":"IF(基本データ!AX558<>\"\",\"○\",\"\")","v":""},{"$f":"IF(基本データ!AY558<>\"\",\"○\",\"\")","v":""},{"$f":"IF(基本データ!AZ558<>\"\",\"○\",\"\")","v":""},{"$f":"IF(基本データ!BA558<>\"\",\"○\",\"\")","v":""},{"$f":"IF(基本データ!BB558<>\"\",\"○\",\"\")","v":""},{"$f":"IF(基本データ!BC558<>\"\",\"○\",\"\")","v":""},{"$f":"IF(基本データ!BD558<>\"\",\"○\",\"\")","v":""},{"$f":"IF(基本データ!BE558<>\"\",\"○\",\"\")","v":""},{"$f":"IF(基本データ!BF558<>\"\",\"○\",\"\")","v":""},{"$f":"IF(基本データ!BG558<>\"\",\"○\",\"\")","v":""},{"$f":"基本データ!BN558","v":0},{"$f":"IF(基本データ!BH558<>\"\",\"○\",\"\")","v":""},{"$f":"IF(基本データ!BI558<>\"\",\"○\",\"\")","v":""},{"$f":"IF(基本データ!BJ558<>\"\",\"○\",\"\")","v":""},{"$f":"IF(基本データ!BK558<>\"\",\"○\",\"\")","v":""},{"$f":"IF(基本データ!BL558<>\"\",\"○\",\"\")","v":""},{"$f":"IF(基本データ!BM558<>\"\",\"○\",\"\")","v":""}]
[null,{"$f":"基本データ!J559","v":0},{"$f":"基本データ!B559","v":0},{"$f":"基本データ!I559","v":0},{"$f":"基本データ!AL559","v":0},{"$f":"IF(基本データ!AM559<>\"\",\"○\",\"\")","v":""},{"$f":"IF(基本データ!AN559<>\"\",\"○\",\"\")","v":""},{"$f":"IF(基本データ!AO559<>\"\",\"○\",\"\")","v":""},{"$f":"IF(基本データ!AP559<>\"\",\"○\",\"\")","v":""},{"$f":"IF(基本データ!AQ559<>\"\",\"○\",\"\")","v":""},{"$f":"IF(基本データ!AR559<>\"\",\"○\",\"\")","v":""},{"$f":"IF(基本データ!AS559<>\"\",\"○\",\"\")","v":""},{"$f":"IF(基本データ!AT559<>\"\",\"○\",\"\")","v":""},{"$f":"IF(基本データ!AU559<>\"\",\"○\",\"\")","v":""},{"$f":"IF(基本データ!AV559<>\"\",\"○\",\"\")","v":""},{"$f":"IF(基本データ!AW559<>\"\",\"○\",\"\")","v":""},{"$f":"IF(基本データ!AX559<>\"\",\"○\",\"\")","v":""},{"$f":"IF(基本データ!AY559<>\"\",\"○\",\"\")","v":""},{"$f":"IF(基本データ!AZ559<>\"\",\"○\",\"\")","v":""},{"$f":"IF(基本データ!BA559<>\"\",\"○\",\"\")","v":""},{"$f":"IF(基本データ!BB559<>\"\",\"○\",\"\")","v":""},{"$f":"IF(基本データ!BC559<>\"\",\"○\",\"\")","v":""},{"$f":"IF(基本データ!BD559<>\"\",\"○\",\"\")","v":""},{"$f":"IF(基本データ!BE559<>\"\",\"○\",\"\")","v":""},{"$f":"IF(基本データ!BF559<>\"\",\"○\",\"\")","v":""},{"$f":"IF(基本データ!BG559<>\"\",\"○\",\"\")","v":""},{"$f":"基本データ!BN559","v":0},{"$f":"IF(基本データ!BH559<>\"\",\"○\",\"\")","v":""},{"$f":"IF(基本データ!BI559<>\"\",\"○\",\"\")","v":""},{"$f":"IF(基本データ!BJ559<>\"\",\"○\",\"\")","v":""},{"$f":"IF(基本データ!BK559<>\"\",\"○\",\"\")","v":""},{"$f":"IF(基本データ!BL559<>\"\",\"○\",\"\")","v":""},{"$f":"IF(基本データ!BM559<>\"\",\"○\",\"\")","v":""}]
[null,{"$f":"基本データ!J560","v":0},{"$f":"基本データ!B560","v":0},{"$f":"基本データ!I560","v":0},{"$f":"基本データ!AL560","v":0},{"$f":"IF(基本データ!AM560<>\"\",\"○\",\"\")","v":""},{"$f":"IF(基本データ!AN560<>\"\",\"○\",\"\")","v":""},{"$f":"IF(基本データ!AO560<>\"\",\"○\",\"\")","v":""},{"$f":"IF(基本データ!AP560<>\"\",\"○\",\"\")","v":""},{"$f":"IF(基本データ!AQ560<>\"\",\"○\",\"\")","v":""},{"$f":"IF(基本データ!AR560<>\"\",\"○\",\"\")","v":""},{"$f":"IF(基本データ!AS560<>\"\",\"○\",\"\")","v":""},{"$f":"IF(基本データ!AT560<>\"\",\"○\",\"\")","v":""},{"$f":"IF(基本データ!AU560<>\"\",\"○\",\"\")","v":""},{"$f":"IF(基本データ!AV560<>\"\",\"○\",\"\")","v":""},{"$f":"IF(基本データ!AW560<>\"\",\"○\",\"\")","v":""},{"$f":"IF(基本データ!AX560<>\"\",\"○\",\"\")","v":""},{"$f":"IF(基本データ!AY560<>\"\",\"○\",\"\")","v":""},{"$f":"IF(基本データ!AZ560<>\"\",\"○\",\"\")","v":""},{"$f":"IF(基本データ!BA560<>\"\",\"○\",\"\")","v":""},{"$f":"IF(基本データ!BB560<>\"\",\"○\",\"\")","v":""},{"$f":"IF(基本データ!BC560<>\"\",\"○\",\"\")","v":""},{"$f":"IF(基本データ!BD560<>\"\",\"○\",\"\")","v":""},{"$f":"IF(基本データ!BE560<>\"\",\"○\",\"\")","v":""},{"$f":"IF(基本データ!BF560<>\"\",\"○\",\"\")","v":""},{"$f":"IF(基本データ!BG560<>\"\",\"○\",\"\")","v":""},{"$f":"基本データ!BN560","v":0},{"$f":"IF(基本データ!BH560<>\"\",\"○\",\"\")","v":""},{"$f":"IF(基本データ!BI560<>\"\",\"○\",\"\")","v":""},{"$f":"IF(基本データ!BJ560<>\"\",\"○\",\"\")","v":""},{"$f":"IF(基本データ!BK560<>\"\",\"○\",\"\")","v":""},{"$f":"IF(基本データ!BL560<>\"\",\"○\",\"\")","v":""},{"$f":"IF(基本データ!BM560<>\"\",\"○\",\"\")","v":""}]
[null,{"$f":"基本データ!J561","v":0},{"$f":"基本データ!B561","v":0},{"$f":"基本データ!I561","v":0},{"$f":"基本データ!AL561","v":0},{"$f":"IF(基本データ!AM561<>\"\",\"○\",\"\")","v":""},{"$f":"IF(基本データ!AN561<>\"\",\"○\",\"\")","v":""},{"$f":"IF(基本データ!AO561<>\"\",\"○\",\"\")","v":""},{"$f":"IF(基本データ!AP561<>\"\",\"○\",\"\")","v":""},{"$f":"IF(基本データ!AQ561<>\"\",\"○\",\"\")","v":""},{"$f":"IF(基本データ!AR561<>\"\",\"○\",\"\")","v":""},{"$f":"IF(基本データ!AS561<>\"\",\"○\",\"\")","v":""},{"$f":"IF(基本データ!AT561<>\"\",\"○\",\"\")","v":""},{"$f":"IF(基本データ!AU561<>\"\",\"○\",\"\")","v":""},{"$f":"IF(基本データ!AV561<>\"\",\"○\",\"\")","v":""},{"$f":"IF(基本データ!AW561<>\"\",\"○\",\"\")","v":""},{"$f":"IF(基本データ!AX561<>\"\",\"○\",\"\")","v":""},{"$f":"IF(基本データ!AY561<>\"\",\"○\",\"\")","v":""},{"$f":"IF(基本データ!AZ561<>\"\",\"○\",\"\")","v":""},{"$f":"IF(基本データ!BA561<>\"\",\"○\",\"\")","v":""},{"$f":"IF(基本データ!BB561<>\"\",\"○\",\"\")","v":""},{"$f":"IF(基本データ!BC561<>\"\",\"○\",\"\")","v":""},{"$f":"IF(基本データ!BD561<>\"\",\"○\",\"\")","v":""},{"$f":"IF(基本データ!BE561<>\"\",\"○\",\"\")","v":""},{"$f":"IF(基本データ!BF561<>\"\",\"○\",\"\")","v":""},{"$f":"IF(基本データ!BG561<>\"\",\"○\",\"\")","v":""},{"$f":"基本データ!BN561","v":0},{"$f":"IF(基本データ!BH561<>\"\",\"○\",\"\")","v":""},{"$f":"IF(基本データ!BI561<>\"\",\"○\",\"\")","v":""},{"$f":"IF(基本データ!BJ561<>\"\",\"○\",\"\")","v":""},{"$f":"IF(基本データ!BK561<>\"\",\"○\",\"\")","v":""},{"$f":"IF(基本データ!BL561<>\"\",\"○\",\"\")","v":""},{"$f":"IF(基本データ!BM561<>\"\",\"○\",\"\")","v":""}]
[null,{"$f":"基本データ!J562","v":0},{"$f":"基本データ!B562","v":0},{"$f":"基本データ!I562","v":0},{"$f":"基本データ!AL562","v":0},{"$f":"IF(基本データ!AM562<>\"\",\"○\",\"\")","v":""},{"$f":"IF(基本データ!AN562<>\"\",\"○\",\"\")","v":""},{"$f":"IF(基本データ!AO562<>\"\",\"○\",\"\")","v":""},{"$f":"IF(基本データ!AP562<>\"\",\"○\",\"\")","v":""},{"$f":"IF(基本データ!AQ562<>\"\",\"○\",\"\")","v":""},{"$f":"IF(基本データ!AR562<>\"\",\"○\",\"\")","v":""},{"$f":"IF(基本データ!AS562<>\"\",\"○\",\"\")","v":""},{"$f":"IF(基本データ!AT562<>\"\",\"○\",\"\")","v":""},{"$f":"IF(基本データ!AU562<>\"\",\"○\",\"\")","v":""},{"$f":"IF(基本データ!AV562<>\"\",\"○\",\"\")","v":""},{"$f":"IF(基本データ!AW562<>\"\",\"○\",\"\")","v":""},{"$f":"IF(基本データ!AX562<>\"\",\"○\",\"\")","v":""},{"$f":"IF(基本データ!AY562<>\"\",\"○\",\"\")","v":""},{"$f":"IF(基本データ!AZ562<>\"\",\"○\",\"\")","v":""},{"$f":"IF(基本データ!BA562<>\"\",\"○\",\"\")","v":""},{"$f":"IF(基本データ!BB562<>\"\",\"○\",\"\")","v":""},{"$f":"IF(基本データ!BC562<>\"\",\"○\",\"\")","v":""},{"$f":"IF(基本データ!BD562<>\"\",\"○\",\"\")","v":""},{"$f":"IF(基本データ!BE562<>\"\",\"○\",\"\")","v":""},{"$f":"IF(基本データ!BF562<>\"\",\"○\",\"\")","v":""},{"$f":"IF(基本データ!BG562<>\"\",\"○\",\"\")","v":""},{"$f":"基本データ!BN562","v":0},{"$f":"IF(基本データ!BH562<>\"\",\"○\",\"\")","v":""},{"$f":"IF(基本データ!BI562<>\"\",\"○\",\"\")","v":""},{"$f":"IF(基本データ!BJ562<>\"\",\"○\",\"\")","v":""},{"$f":"IF(基本データ!BK562<>\"\",\"○\",\"\")","v":""},{"$f":"IF(基本データ!BL562<>\"\",\"○\",\"\")","v":""},{"$f":"IF(基本データ!BM562<>\"\",\"○\",\"\")","v":""}]
[null,{"$f":"基本データ!J563","v":0},{"$f":"基本データ!B563","v":0},{"$f":"基本データ!I563","v":0},{"$f":"基本データ!AL563","v":0},{"$f":"IF(基本データ!AM563<>\"\",\"○\",\"\")","v":""},{"$f":"IF(基本データ!AN563<>\"\",\"○\",\"\")","v":""},{"$f":"IF(基本データ!AO563<>\"\",\"○\",\"\")","v":""},{"$f":"IF(基本データ!AP563<>\"\",\"○\",\"\")","v":""},{"$f":"IF(基本データ!AQ563<>\"\",\"○\",\"\")","v":""},{"$f":"IF(基本データ!AR563<>\"\",\"○\",\"\")","v":""},{"$f":"IF(基本データ!AS563<>\"\",\"○\",\"\")","v":""},{"$f":"IF(基本データ!AT563<>\"\",\"○\",\"\")","v":""},{"$f":"IF(基本データ!AU563<>\"\",\"○\",\"\")","v":""},{"$f":"IF(基本データ!AV563<>\"\",\"○\",\"\")","v":""},{"$f":"IF(基本データ!AW563<>\"\",\"○\",\"\")","v":""},{"$f":"IF(基本データ!AX563<>\"\",\"○\",\"\")","v":""},{"$f":"IF(基本データ!AY563<>\"\",\"○\",\"\")","v":""},{"$f":"IF(基本データ!AZ563<>\"\",\"○\",\"\")","v":""},{"$f":"IF(基本データ!BA563<>\"\",\"○\",\"\")","v":""},{"$f":"IF(基本データ!BB563<>\"\",\"○\",\"\")","v":""},{"$f":"IF(基本データ!BC563<>\"\",\"○\",\"\")","v":""},{"$f":"IF(基本データ!BD563<>\"\",\"○\",\"\")","v":""},{"$f":"IF(基本データ!BE563<>\"\",\"○\",\"\")","v":""},{"$f":"IF(基本データ!BF563<>\"\",\"○\",\"\")","v":""},{"$f":"IF(基本データ!BG563<>\"\",\"○\",\"\")","v":""},{"$f":"基本データ!BN563","v":0},{"$f":"IF(基本データ!BH563<>\"\",\"○\",\"\")","v":""},{"$f":"IF(基本データ!BI563<>\"\",\"○\",\"\")","v":""},{"$f":"IF(基本データ!BJ563<>\"\",\"○\",\"\")","v":""},{"$f":"IF(基本データ!BK563<>\"\",\"○\",\"\")","v":""},{"$f":"IF(基本データ!BL563<>\"\",\"○\",\"\")","v":""},{"$f":"IF(基本データ!BM563<>\"\",\"○\",\"\")","v":""}]
[null,{"$f":"基本データ!J564","v":0},{"$f":"基本データ!B564","v":0},{"$f":"基本データ!I564","v":0},{"$f":"基本データ!AL564","v":0},{"$f":"IF(基本データ!AM564<>\"\",\"○\",\"\")","v":""},{"$f":"IF(基本データ!AN564<>\"\",\"○\",\"\")","v":""},{"$f":"IF(基本データ!AO564<>\"\",\"○\",\"\")","v":""},{"$f":"IF(基本データ!AP564<>\"\",\"○\",\"\")","v":""},{"$f":"IF(基本データ!AQ564<>\"\",\"○\",\"\")","v":""},{"$f":"IF(基本データ!AR564<>\"\",\"○\",\"\")","v":""},{"$f":"IF(基本データ!AS564<>\"\",\"○\",\"\")","v":""},{"$f":"IF(基本データ!AT564<>\"\",\"○\",\"\")","v":""},{"$f":"IF(基本データ!AU564<>\"\",\"○\",\"\")","v":""},{"$f":"IF(基本データ!AV564<>\"\",\"○\",\"\")","v":""},{"$f":"IF(基本データ!AW564<>\"\",\"○\",\"\")","v":""},{"$f":"IF(基本データ!AX564<>\"\",\"○\",\"\")","v":""},{"$f":"IF(基本データ!AY564<>\"\",\"○\",\"\")","v":""},{"$f":"IF(基本データ!AZ564<>\"\",\"○\",\"\")","v":""},{"$f":"IF(基本データ!BA564<>\"\",\"○\",\"\")","v":""},{"$f":"IF(基本データ!BB564<>\"\",\"○\",\"\")","v":""},{"$f":"IF(基本データ!BC564<>\"\",\"○\",\"\")","v":""},{"$f":"IF(基本データ!BD564<>\"\",\"○\",\"\")","v":""},{"$f":"IF(基本データ!BE564<>\"\",\"○\",\"\")","v":""},{"$f":"IF(基本データ!BF564<>\"\",\"○\",\"\")","v":""},{"$f":"IF(基本データ!BG564<>\"\",\"○\",\"\")","v":""},{"$f":"基本データ!BN564","v":0},{"$f":"IF(基本データ!BH564<>\"\",\"○\",\"\")","v":""},{"$f":"IF(基本データ!BI564<>\"\",\"○\",\"\")","v":""},{"$f":"IF(基本データ!BJ564<>\"\",\"○\",\"\")","v":""},{"$f":"IF(基本データ!BK564<>\"\",\"○\",\"\")","v":""},{"$f":"IF(基本データ!BL564<>\"\",\"○\",\"\")","v":""},{"$f":"IF(基本データ!BM564<>\"\",\"○\",\"\")","v":""}]
[null,{"$f":"基本データ!J565","v":0},{"$f":"基本データ!B565","v":0},{"$f":"基本データ!I565","v":0},{"$f":"基本データ!AL565","v":0},{"$f":"IF(基本データ!AM565<>\"\",\"○\",\"\")","v":""},{"$f":"IF(基本データ!AN565<>\"\",\"○\",\"\")","v":""},{"$f":"IF(基本データ!AO565<>\"\",\"○\",\"\")","v":""},{"$f":"IF(基本データ!AP565<>\"\",\"○\",\"\")","v":""},{"$f":"IF(基本データ!AQ565<>\"\",\"○\",\"\")","v":""},{"$f":"IF(基本データ!AR565<>\"\",\"○\",\"\")","v":""},{"$f":"IF(基本データ!AS565<>\"\",\"○\",\"\")","v":""},{"$f":"IF(基本データ!AT565<>\"\",\"○\",\"\")","v":""},{"$f":"IF(基本データ!AU565<>\"\",\"○\",\"\")","v":""},{"$f":"IF(基本データ!AV565<>\"\",\"○\",\"\")","v":""},{"$f":"IF(基本データ!AW565<>\"\",\"○\",\"\")","v":""},{"$f":"IF(基本データ!AX565<>\"\",\"○\",\"\")","v":""},{"$f":"IF(基本データ!AY565<>\"\",\"○\",\"\")","v":""},{"$f":"IF(基本データ!AZ565<>\"\",\"○\",\"\")","v":""},{"$f":"IF(基本データ!BA565<>\"\",\"○\",\"\")","v":""},{"$f":"IF(基本データ!BB565<>\"\",\"○\",\"\")","v":""},{"$f":"IF(基本データ!BC565<>\"\",\"○\",\"\")","v":""},{"$f":"IF(基本データ!BD565<>\"\",\"○\",\"\")","v":""},{"$f":"IF(基本データ!BE565<>\"\",\"○\",\"\")","v":""},{"$f":"IF(基本データ!BF565<>\"\",\"○\",\"\")","v":""},{"$f":"IF(基本データ!BG565<>\"\",\"○\",\"\")","v":""},{"$f":"基本データ!BN565","v":0},{"$f":"IF(基本データ!BH565<>\"\",\"○\",\"\")","v":""},{"$f":"IF(基本データ!BI565<>\"\",\"○\",\"\")","v":""},{"$f":"IF(基本データ!BJ565<>\"\",\"○\",\"\")","v":""},{"$f":"IF(基本データ!BK565<>\"\",\"○\",\"\")","v":""},{"$f":"IF(基本データ!BL565<>\"\",\"○\",\"\")","v":""},{"$f":"IF(基本データ!BM565<>\"\",\"○\",\"\")","v":""}]
[null,{"$f":"基本データ!J566","v":0},{"$f":"基本データ!B566","v":0},{"$f":"基本データ!I566","v":0},{"$f":"基本データ!AL566","v":0},{"$f":"IF(基本データ!AM566<>\"\",\"○\",\"\")","v":""},{"$f":"IF(基本データ!AN566<>\"\",\"○\",\"\")","v":""},{"$f":"IF(基本データ!AO566<>\"\",\"○\",\"\")","v":""},{"$f":"IF(基本データ!AP566<>\"\",\"○\",\"\")","v":""},{"$f":"IF(基本データ!AQ566<>\"\",\"○\",\"\")","v":""},{"$f":"IF(基本データ!AR566<>\"\",\"○\",\"\")","v":""},{"$f":"IF(基本データ!AS566<>\"\",\"○\",\"\")","v":""},{"$f":"IF(基本データ!AT566<>\"\",\"○\",\"\")","v":""},{"$f":"IF(基本データ!AU566<>\"\",\"○\",\"\")","v":""},{"$f":"IF(基本データ!AV566<>\"\",\"○\",\"\")","v":""},{"$f":"IF(基本データ!AW566<>\"\",\"○\",\"\")","v":""},{"$f":"IF(基本データ!AX566<>\"\",\"○\",\"\")","v":""},{"$f":"IF(基本データ!AY566<>\"\",\"○\",\"\")","v":""},{"$f":"IF(基本データ!AZ566<>\"\",\"○\",\"\")","v":""},{"$f":"IF(基本データ!BA566<>\"\",\"○\",\"\")","v":""},{"$f":"IF(基本データ!BB566<>\"\",\"○\",\"\")","v":""},{"$f":"IF(基本データ!BC566<>\"\",\"○\",\"\")","v":""},{"$f":"IF(基本データ!BD566<>\"\",\"○\",\"\")","v":""},{"$f":"IF(基本データ!BE566<>\"\",\"○\",\"\")","v":""},{"$f":"IF(基本データ!BF566<>\"\",\"○\",\"\")","v":""},{"$f":"IF(基本データ!BG566<>\"\",\"○\",\"\")","v":""},{"$f":"基本データ!BN566","v":0},{"$f":"IF(基本データ!BH566<>\"\",\"○\",\"\")","v":""},{"$f":"IF(基本データ!BI566<>\"\",\"○\",\"\")","v":""},{"$f":"IF(基本データ!BJ566<>\"\",\"○\",\"\")","v":""},{"$f":"IF(基本データ!BK566<>\"\",\"○\",\"\")","v":""},{"$f":"IF(基本データ!BL566<>\"\",\"○\",\"\")","v":""},{"$f":"IF(基本データ!BM566<>\"\",\"○\",\"\")","v":""}]
[null,{"$f":"基本データ!J567","v":0},{"$f":"基本データ!B567","v":0},{"$f":"基本データ!I567","v":0},{"$f":"基本データ!AL567","v":0},{"$f":"IF(基本データ!AM567<>\"\",\"○\",\"\")","v":""},{"$f":"IF(基本データ!AN567<>\"\",\"○\",\"\")","v":""},{"$f":"IF(基本データ!AO567<>\"\",\"○\",\"\")","v":""},{"$f":"IF(基本データ!AP567<>\"\",\"○\",\"\")","v":""},{"$f":"IF(基本データ!AQ567<>\"\",\"○\",\"\")","v":""},{"$f":"IF(基本データ!AR567<>\"\",\"○\",\"\")","v":""},{"$f":"IF(基本データ!AS567<>\"\",\"○\",\"\")","v":""},{"$f":"IF(基本データ!AT567<>\"\",\"○\",\"\")","v":""},{"$f":"IF(基本データ!AU567<>\"\",\"○\",\"\")","v":""},{"$f":"IF(基本データ!AV567<>\"\",\"○\",\"\")","v":""},{"$f":"IF(基本データ!AW567<>\"\",\"○\",\"\")","v":""},{"$f":"IF(基本データ!AX567<>\"\",\"○\",\"\")","v":""},{"$f":"IF(基本データ!AY567<>\"\",\"○\",\"\")","v":""},{"$f":"IF(基本データ!AZ567<>\"\",\"○\",\"\")","v":""},{"$f":"IF(基本データ!BA567<>\"\",\"○\",\"\")","v":""},{"$f":"IF(基本データ!BB567<>\"\",\"○\",\"\")","v":""},{"$f":"IF(基本データ!BC567<>\"\",\"○\",\"\")","v":""},{"$f":"IF(基本データ!BD567<>\"\",\"○\",\"\")","v":""},{"$f":"IF(基本データ!BE567<>\"\",\"○\",\"\")","v":""},{"$f":"IF(基本データ!BF567<>\"\",\"○\",\"\")","v":""},{"$f":"IF(基本データ!BG567<>\"\",\"○\",\"\")","v":""},{"$f":"基本データ!BN567","v":0},{"$f":"IF(基本データ!BH567<>\"\",\"○\",\"\")","v":""},{"$f":"IF(基本データ!BI567<>\"\",\"○\",\"\")","v":""},{"$f":"IF(基本データ!BJ567<>\"\",\"○\",\"\")","v":""},{"$f":"IF(基本データ!BK567<>\"\",\"○\",\"\")","v":""},{"$f":"IF(基本データ!BL567<>\"\",\"○\",\"\")","v":""},{"$f":"IF(基本データ!BM567<>\"\",\"○\",\"\")","v":""}]
[null,{"$f":"基本データ!J568","v":0},{"$f":"基本データ!B568","v":0},{"$f":"基本データ!I568","v":0},{"$f":"基本データ!AL568","v":0},{"$f":"IF(基本データ!AM568<>\"\",\"○\",\"\")","v":""},{"$f":"IF(基本データ!AN568<>\"\",\"○\",\"\")","v":""},{"$f":"IF(基本データ!AO568<>\"\",\"○\",\"\")","v":""},{"$f":"IF(基本データ!AP568<>\"\",\"○\",\"\")","v":""},{"$f":"IF(基本データ!AQ568<>\"\",\"○\",\"\")","v":""},{"$f":"IF(基本データ!AR568<>\"\",\"○\",\"\")","v":""},{"$f":"IF(基本データ!AS568<>\"\",\"○\",\"\")","v":""},{"$f":"IF(基本データ!AT568<>\"\",\"○\",\"\")","v":""},{"$f":"IF(基本データ!AU568<>\"\",\"○\",\"\")","v":""},{"$f":"IF(基本データ!AV568<>\"\",\"○\",\"\")","v":""},{"$f":"IF(基本データ!AW568<>\"\",\"○\",\"\")","v":""},{"$f":"IF(基本データ!AX568<>\"\",\"○\",\"\")","v":""},{"$f":"IF(基本データ!AY568<>\"\",\"○\",\"\")","v":""},{"$f":"IF(基本データ!AZ568<>\"\",\"○\",\"\")","v":""},{"$f":"IF(基本データ!BA568<>\"\",\"○\",\"\")","v":""},{"$f":"IF(基本データ!BB568<>\"\",\"○\",\"\")","v":""},{"$f":"IF(基本データ!BC568<>\"\",\"○\",\"\")","v":""},{"$f":"IF(基本データ!BD568<>\"\",\"○\",\"\")","v":""},{"$f":"IF(基本データ!BE568<>\"\",\"○\",\"\")","v":""},{"$f":"IF(基本データ!BF568<>\"\",\"○\",\"\")","v":""},{"$f":"IF(基本データ!BG568<>\"\",\"○\",\"\")","v":""},{"$f":"基本データ!BN568","v":0},{"$f":"IF(基本データ!BH568<>\"\",\"○\",\"\")","v":""},{"$f":"IF(基本データ!BI568<>\"\",\"○\",\"\")","v":""},{"$f":"IF(基本データ!BJ568<>\"\",\"○\",\"\")","v":""},{"$f":"IF(基本データ!BK568<>\"\",\"○\",\"\")","v":""},{"$f":"IF(基本データ!BL568<>\"\",\"○\",\"\")","v":""},{"$f":"IF(基本データ!BM568<>\"\",\"○\",\"\")","v":""}]
[null,{"$f":"基本データ!J569","v":0},{"$f":"基本データ!B569","v":0},{"$f":"基本データ!I569","v":0},{"$f":"基本データ!AL569","v":0},{"$f":"IF(基本データ!AM569<>\"\",\"○\",\"\")","v":""},{"$f":"IF(基本データ!AN569<>\"\",\"○\",\"\")","v":""},{"$f":"IF(基本データ!AO569<>\"\",\"○\",\"\")","v":""},{"$f":"IF(基本データ!AP569<>\"\",\"○\",\"\")","v":""},{"$f":"IF(基本データ!AQ569<>\"\",\"○\",\"\")","v":""},{"$f":"IF(基本データ!AR569<>\"\",\"○\",\"\")","v":""},{"$f":"IF(基本データ!AS569<>\"\",\"○\",\"\")","v":""},{"$f":"IF(基本データ!AT569<>\"\",\"○\",\"\")","v":""},{"$f":"IF(基本データ!AU569<>\"\",\"○\",\"\")","v":""},{"$f":"IF(基本データ!AV569<>\"\",\"○\",\"\")","v":""},{"$f":"IF(基本データ!AW569<>\"\",\"○\",\"\")","v":""},{"$f":"IF(基本データ!AX569<>\"\",\"○\",\"\")","v":""},{"$f":"IF(基本データ!AY569<>\"\",\"○\",\"\")","v":""},{"$f":"IF(基本データ!AZ569<>\"\",\"○\",\"\")","v":""},{"$f":"IF(基本データ!BA569<>\"\",\"○\",\"\")","v":""},{"$f":"IF(基本データ!BB569<>\"\",\"○\",\"\")","v":""},{"$f":"IF(基本データ!BC569<>\"\",\"○\",\"\")","v":""},{"$f":"IF(基本データ!BD569<>\"\",\"○\",\"\")","v":""},{"$f":"IF(基本データ!BE569<>\"\",\"○\",\"\")","v":""},{"$f":"IF(基本データ!BF569<>\"\",\"○\",\"\")","v":""},{"$f":"IF(基本データ!BG569<>\"\",\"○\",\"\")","v":""},{"$f":"基本データ!BN569","v":0},{"$f":"IF(基本データ!BH569<>\"\",\"○\",\"\")","v":""},{"$f":"IF(基本データ!BI569<>\"\",\"○\",\"\")","v":""},{"$f":"IF(基本データ!BJ569<>\"\",\"○\",\"\")","v":""},{"$f":"IF(基本データ!BK569<>\"\",\"○\",\"\")","v":""},{"$f":"IF(基本データ!BL569<>\"\",\"○\",\"\")","v":""},{"$f":"IF(基本データ!BM569<>\"\",\"○\",\"\")","v":""}]
[null,{"$f":"基本データ!J570","v":0},{"$f":"基本データ!B570","v":0},{"$f":"基本データ!I570","v":0},{"$f":"基本データ!AL570","v":0},{"$f":"IF(基本データ!AM570<>\"\",\"○\",\"\")","v":""},{"$f":"IF(基本データ!AN570<>\"\",\"○\",\"\")","v":""},{"$f":"IF(基本データ!AO570<>\"\",\"○\",\"\")","v":""},{"$f":"IF(基本データ!AP570<>\"\",\"○\",\"\")","v":""},{"$f":"IF(基本データ!AQ570<>\"\",\"○\",\"\")","v":""},{"$f":"IF(基本データ!AR570<>\"\",\"○\",\"\")","v":""},{"$f":"IF(基本データ!AS570<>\"\",\"○\",\"\")","v":""},{"$f":"IF(基本データ!AT570<>\"\",\"○\",\"\")","v":""},{"$f":"IF(基本データ!AU570<>\"\",\"○\",\"\")","v":""},{"$f":"IF(基本データ!AV570<>\"\",\"○\",\"\")","v":""},{"$f":"IF(基本データ!AW570<>\"\",\"○\",\"\")","v":""},{"$f":"IF(基本データ!AX570<>\"\",\"○\",\"\")","v":""},{"$f":"IF(基本データ!AY570<>\"\",\"○\",\"\")","v":""},{"$f":"IF(基本データ!AZ570<>\"\",\"○\",\"\")","v":""},{"$f":"IF(基本データ!BA570<>\"\",\"○\",\"\")","v":""},{"$f":"IF(基本データ!BB570<>\"\",\"○\",\"\")","v":""},{"$f":"IF(基本データ!BC570<>\"\",\"○\",\"\")","v":""},{"$f":"IF(基本データ!BD570<>\"\",\"○\",\"\")","v":""},{"$f":"IF(基本データ!BE570<>\"\",\"○\",\"\")","v":""},{"$f":"IF(基本データ!BF570<>\"\",\"○\",\"\")","v":""},{"$f":"IF(基本データ!BG570<>\"\",\"○\",\"\")","v":""},{"$f":"基本データ!BN570","v":0},{"$f":"IF(基本データ!BH570<>\"\",\"○\",\"\")","v":""},{"$f":"IF(基本データ!BI570<>\"\",\"○\",\"\")","v":""},{"$f":"IF(基本データ!BJ570<>\"\",\"○\",\"\")","v":""},{"$f":"IF(基本データ!BK570<>\"\",\"○\",\"\")","v":""},{"$f":"IF(基本データ!BL570<>\"\",\"○\",\"\")","v":""},{"$f":"IF(基本データ!BM570<>\"\",\"○\",\"\")","v":""}]
[null,{"$f":"基本データ!J571","v":0},{"$f":"基本データ!B571","v":0},{"$f":"基本データ!I571","v":0},{"$f":"基本データ!AL571","v":0},{"$f":"IF(基本データ!AM571<>\"\",\"○\",\"\")","v":""},{"$f":"IF(基本データ!AN571<>\"\",\"○\",\"\")","v":""},{"$f":"IF(基本データ!AO571<>\"\",\"○\",\"\")","v":""},{"$f":"IF(基本データ!AP571<>\"\",\"○\",\"\")","v":""},{"$f":"IF(基本データ!AQ571<>\"\",\"○\",\"\")","v":""},{"$f":"IF(基本データ!AR571<>\"\",\"○\",\"\")","v":""},{"$f":"IF(基本データ!AS571<>\"\",\"○\",\"\")","v":""},{"$f":"IF(基本データ!AT571<>\"\",\"○\",\"\")","v":""},{"$f":"IF(基本データ!AU571<>\"\",\"○\",\"\")","v":""},{"$f":"IF(基本データ!AV571<>\"\",\"○\",\"\")","v":""},{"$f":"IF(基本データ!AW571<>\"\",\"○\",\"\")","v":""},{"$f":"IF(基本データ!AX571<>\"\",\"○\",\"\")","v":""},{"$f":"IF(基本データ!AY571<>\"\",\"○\",\"\")","v":""},{"$f":"IF(基本データ!AZ571<>\"\",\"○\",\"\")","v":""},{"$f":"IF(基本データ!BA571<>\"\",\"○\",\"\")","v":""},{"$f":"IF(基本データ!BB571<>\"\",\"○\",\"\")","v":""},{"$f":"IF(基本データ!BC571<>\"\",\"○\",\"\")","v":""},{"$f":"IF(基本データ!BD571<>\"\",\"○\",\"\")","v":""},{"$f":"IF(基本データ!BE571<>\"\",\"○\",\"\")","v":""},{"$f":"IF(基本データ!BF571<>\"\",\"○\",\"\")","v":""},{"$f":"IF(基本データ!BG571<>\"\",\"○\",\"\")","v":""},{"$f":"基本データ!BN571","v":0},{"$f":"IF(基本データ!BH571<>\"\",\"○\",\"\")","v":""},{"$f":"IF(基本データ!BI571<>\"\",\"○\",\"\")","v":""},{"$f":"IF(基本データ!BJ571<>\"\",\"○\",\"\")","v":""},{"$f":"IF(基本データ!BK571<>\"\",\"○\",\"\")","v":""},{"$f":"IF(基本データ!BL571<>\"\",\"○\",\"\")","v":""},{"$f":"IF(基本データ!BM571<>\"\",\"○\",\"\")","v":""}]
[null,{"$f":"基本データ!J572","v":0},{"$f":"基本データ!B572","v":0},{"$f":"基本データ!I572","v":0},{"$f":"基本データ!AL572","v":0},{"$f":"IF(基本データ!AM572<>\"\",\"○\",\"\")","v":""},{"$f":"IF(基本データ!AN572<>\"\",\"○\",\"\")","v":""},{"$f":"IF(基本データ!AO572<>\"\",\"○\",\"\")","v":""},{"$f":"IF(基本データ!AP572<>\"\",\"○\",\"\")","v":""},{"$f":"IF(基本データ!AQ572<>\"\",\"○\",\"\")","v":""},{"$f":"IF(基本データ!AR572<>\"\",\"○\",\"\")","v":""},{"$f":"IF(基本データ!AS572<>\"\",\"○\",\"\")","v":""},{"$f":"IF(基本データ!AT572<>\"\",\"○\",\"\")","v":""},{"$f":"IF(基本データ!AU572<>\"\",\"○\",\"\")","v":""},{"$f":"IF(基本データ!AV572<>\"\",\"○\",\"\")","v":""},{"$f":"IF(基本データ!AW572<>\"\",\"○\",\"\")","v":""},{"$f":"IF(基本データ!AX572<>\"\",\"○\",\"\")","v":""},{"$f":"IF(基本データ!AY572<>\"\",\"○\",\"\")","v":""},{"$f":"IF(基本データ!AZ572<>\"\",\"○\",\"\")","v":""},{"$f":"IF(基本データ!BA572<>\"\",\"○\",\"\")","v":""},{"$f":"IF(基本データ!BB572<>\"\",\"○\",\"\")","v":""},{"$f":"IF(基本データ!BC572<>\"\",\"○\",\"\")","v":""},{"$f":"IF(基本データ!BD572<>\"\",\"○\",\"\")","v":""},{"$f":"IF(基本データ!BE572<>\"\",\"○\",\"\")","v":""},{"$f":"IF(基本データ!BF572<>\"\",\"○\",\"\")","v":""},{"$f":"IF(基本データ!BG572<>\"\",\"○\",\"\")","v":""},{"$f":"基本データ!BN572","v":0},{"$f":"IF(基本データ!BH572<>\"\",\"○\",\"\")","v":""},{"$f":"IF(基本データ!BI572<>\"\",\"○\",\"\")","v":""},{"$f":"IF(基本データ!BJ572<>\"\",\"○\",\"\")","v":""},{"$f":"IF(基本データ!BK572<>\"\",\"○\",\"\")","v":""},{"$f":"IF(基本データ!BL572<>\"\",\"○\",\"\")","v":""},{"$f":"IF(基本データ!BM572<>\"\",\"○\",\"\")","v":""}]
[null,{"$f":"基本データ!J573","v":0},{"$f":"基本データ!B573","v":0},{"$f":"基本データ!I573","v":0},{"$f":"基本データ!AL573","v":0},{"$f":"IF(基本データ!AM573<>\"\",\"○\",\"\")","v":""},{"$f":"IF(基本データ!AN573<>\"\",\"○\",\"\")","v":""},{"$f":"IF(基本データ!AO573<>\"\",\"○\",\"\")","v":""},{"$f":"IF(基本データ!AP573<>\"\",\"○\",\"\")","v":""},{"$f":"IF(基本データ!AQ573<>\"\",\"○\",\"\")","v":""},{"$f":"IF(基本データ!AR573<>\"\",\"○\",\"\")","v":""},{"$f":"IF(基本データ!AS573<>\"\",\"○\",\"\")","v":""},{"$f":"IF(基本データ!AT573<>\"\",\"○\",\"\")","v":""},{"$f":"IF(基本データ!AU573<>\"\",\"○\",\"\")","v":""},{"$f":"IF(基本データ!AV573<>\"\",\"○\",\"\")","v":""},{"$f":"IF(基本データ!AW573<>\"\",\"○\",\"\")","v":""},{"$f":"IF(基本データ!AX573<>\"\",\"○\",\"\")","v":""},{"$f":"IF(基本データ!AY573<>\"\",\"○\",\"\")","v":""},{"$f":"IF(基本データ!AZ573<>\"\",\"○\",\"\")","v":""},{"$f":"IF(基本データ!BA573<>\"\",\"○\",\"\")","v":""},{"$f":"IF(基本データ!BB573<>\"\",\"○\",\"\")","v":""},{"$f":"IF(基本データ!BC573<>\"\",\"○\",\"\")","v":""},{"$f":"IF(基本データ!BD573<>\"\",\"○\",\"\")","v":""},{"$f":"IF(基本データ!BE573<>\"\",\"○\",\"\")","v":""},{"$f":"IF(基本データ!BF573<>\"\",\"○\",\"\")","v":""},{"$f":"IF(基本データ!BG573<>\"\",\"○\",\"\")","v":""},{"$f":"基本データ!BN573","v":0},{"$f":"IF(基本データ!BH573<>\"\",\"○\",\"\")","v":""},{"$f":"IF(基本データ!BI573<>\"\",\"○\",\"\")","v":""},{"$f":"IF(基本データ!BJ573<>\"\",\"○\",\"\")","v":""},{"$f":"IF(基本データ!BK573<>\"\",\"○\",\"\")","v":""},{"$f":"IF(基本データ!BL573<>\"\",\"○\",\"\")","v":""},{"$f":"IF(基本データ!BM573<>\"\",\"○\",\"\")","v":""}]
[null,{"$f":"基本データ!J574","v":0},{"$f":"基本データ!B574","v":0},{"$f":"基本データ!I574","v":0},{"$f":"基本データ!AL574","v":0},{"$f":"IF(基本データ!AM574<>\"\",\"○\",\"\")","v":""},{"$f":"IF(基本データ!AN574<>\"\",\"○\",\"\")","v":""},{"$f":"IF(基本データ!AO574<>\"\",\"○\",\"\")","v":""},{"$f":"IF(基本データ!AP574<>\"\",\"○\",\"\")","v":""},{"$f":"IF(基本データ!AQ574<>\"\",\"○\",\"\")","v":""},{"$f":"IF(基本データ!AR574<>\"\",\"○\",\"\")","v":""},{"$f":"IF(基本データ!AS574<>\"\",\"○\",\"\")","v":""},{"$f":"IF(基本データ!AT574<>\"\",\"○\",\"\")","v":""},{"$f":"IF(基本データ!AU574<>\"\",\"○\",\"\")","v":""},{"$f":"IF(基本データ!AV574<>\"\",\"○\",\"\")","v":""},{"$f":"IF(基本データ!AW574<>\"\",\"○\",\"\")","v":""},{"$f":"IF(基本データ!AX574<>\"\",\"○\",\"\")","v":""},{"$f":"IF(基本データ!AY574<>\"\",\"○\",\"\")","v":""},{"$f":"IF(基本データ!AZ574<>\"\",\"○\",\"\")","v":""},{"$f":"IF(基本データ!BA574<>\"\",\"○\",\"\")","v":""},{"$f":"IF(基本データ!BB574<>\"\",\"○\",\"\")","v":""},{"$f":"IF(基本データ!BC574<>\"\",\"○\",\"\")","v":""},{"$f":"IF(基本データ!BD574<>\"\",\"○\",\"\")","v":""},{"$f":"IF(基本データ!BE574<>\"\",\"○\",\"\")","v":""},{"$f":"IF(基本データ!BF574<>\"\",\"○\",\"\")","v":""},{"$f":"IF(基本データ!BG574<>\"\",\"○\",\"\")","v":""},{"$f":"基本データ!BN574","v":0},{"$f":"IF(基本データ!BH574<>\"\",\"○\",\"\")","v":""},{"$f":"IF(基本データ!BI574<>\"\",\"○\",\"\")","v":""},{"$f":"IF(基本データ!BJ574<>\"\",\"○\",\"\")","v":""},{"$f":"IF(基本データ!BK574<>\"\",\"○\",\"\")","v":""},{"$f":"IF(基本データ!BL574<>\"\",\"○\",\"\")","v":""},{"$f":"IF(基本データ!BM574<>\"\",\"○\",\"\")","v":""}]
[null,{"$f":"基本データ!J575","v":0},{"$f":"基本データ!B575","v":0},{"$f":"基本データ!I575","v":0},{"$f":"基本データ!AL575","v":0},{"$f":"IF(基本データ!AM575<>\"\",\"○\",\"\")","v":""},{"$f":"IF(基本データ!AN575<>\"\",\"○\",\"\")","v":""},{"$f":"IF(基本データ!AO575<>\"\",\"○\",\"\")","v":""},{"$f":"IF(基本データ!AP575<>\"\",\"○\",\"\")","v":""},{"$f":"IF(基本データ!AQ575<>\"\",\"○\",\"\")","v":""},{"$f":"IF(基本データ!AR575<>\"\",\"○\",\"\")","v":""},{"$f":"IF(基本データ!AS575<>\"\",\"○\",\"\")","v":""},{"$f":"IF(基本データ!AT575<>\"\",\"○\",\"\")","v":""},{"$f":"IF(基本データ!AU575<>\"\",\"○\",\"\")","v":""},{"$f":"IF(基本データ!AV575<>\"\",\"○\",\"\")","v":""},{"$f":"IF(基本データ!AW575<>\"\",\"○\",\"\")","v":""},{"$f":"IF(基本データ!AX575<>\"\",\"○\",\"\")","v":""},{"$f":"IF(基本データ!AY575<>\"\",\"○\",\"\")","v":""},{"$f":"IF(基本データ!AZ575<>\"\",\"○\",\"\")","v":""},{"$f":"IF(基本データ!BA575<>\"\",\"○\",\"\")","v":""},{"$f":"IF(基本データ!BB575<>\"\",\"○\",\"\")","v":""},{"$f":"IF(基本データ!BC575<>\"\",\"○\",\"\")","v":""},{"$f":"IF(基本データ!BD575<>\"\",\"○\",\"\")","v":""},{"$f":"IF(基本データ!BE575<>\"\",\"○\",\"\")","v":""},{"$f":"IF(基本データ!BF575<>\"\",\"○\",\"\")","v":""},{"$f":"IF(基本データ!BG575<>\"\",\"○\",\"\")","v":""},{"$f":"基本データ!BN575","v":0},{"$f":"IF(基本データ!BH575<>\"\",\"○\",\"\")","v":""},{"$f":"IF(基本データ!BI575<>\"\",\"○\",\"\")","v":""},{"$f":"IF(基本データ!BJ575<>\"\",\"○\",\"\")","v":""},{"$f":"IF(基本データ!BK575<>\"\",\"○\",\"\")","v":""},{"$f":"IF(基本データ!BL575<>\"\",\"○\",\"\")","v":""},{"$f":"IF(基本データ!BM575<>\"\",\"○\",\"\")","v":""}]
[null,{"$f":"基本データ!J576","v":0},{"$f":"基本データ!B576","v":0},{"$f":"基本データ!I576","v":0},{"$f":"基本データ!AL576","v":0},{"$f":"IF(基本データ!AM576<>\"\",\"○\",\"\")","v":""},{"$f":"IF(基本データ!AN576<>\"\",\"○\",\"\")","v":""},{"$f":"IF(基本データ!AO576<>\"\",\"○\",\"\")","v":""},{"$f":"IF(基本データ!AP576<>\"\",\"○\",\"\")","v":""},{"$f":"IF(基本データ!AQ576<>\"\",\"○\",\"\")","v":""},{"$f":"IF(基本データ!AR576<>\"\",\"○\",\"\")","v":""},{"$f":"IF(基本データ!AS576<>\"\",\"○\",\"\")","v":""},{"$f":"IF(基本データ!AT576<>\"\",\"○\",\"\")","v":""},{"$f":"IF(基本データ!AU576<>\"\",\"○\",\"\")","v":""},{"$f":"IF(基本データ!AV576<>\"\",\"○\",\"\")","v":""},{"$f":"IF(基本データ!AW576<>\"\",\"○\",\"\")","v":""},{"$f":"IF(基本データ!AX576<>\"\",\"○\",\"\")","v":""},{"$f":"IF(基本データ!AY576<>\"\",\"○\",\"\")","v":""},{"$f":"IF(基本データ!AZ576<>\"\",\"○\",\"\")","v":""},{"$f":"IF(基本データ!BA576<>\"\",\"○\",\"\")","v":""},{"$f":"IF(基本データ!BB576<>\"\",\"○\",\"\")","v":""},{"$f":"IF(基本データ!BC576<>\"\",\"○\",\"\")","v":""},{"$f":"IF(基本データ!BD576<>\"\",\"○\",\"\")","v":""},{"$f":"IF(基本データ!BE576<>\"\",\"○\",\"\")","v":""},{"$f":"IF(基本データ!BF576<>\"\",\"○\",\"\")","v":""},{"$f":"IF(基本データ!BG576<>\"\",\"○\",\"\")","v":""},{"$f":"基本データ!BN576","v":0},{"$f":"IF(基本データ!BH576<>\"\",\"○\",\"\")","v":""},{"$f":"IF(基本データ!BI576<>\"\",\"○\",\"\")","v":""},{"$f":"IF(基本データ!BJ576<>\"\",\"○\",\"\")","v":""},{"$f":"IF(基本データ!BK576<>\"\",\"○\",\"\")","v":""},{"$f":"IF(基本データ!BL576<>\"\",\"○\",\"\")","v":""},{"$f":"IF(基本データ!BM576<>\"\",\"○\",\"\")","v":""}]
[null,{"$f":"基本データ!J577","v":0},{"$f":"基本データ!B577","v":0},{"$f":"基本データ!I577","v":0},{"$f":"基本データ!AL577","v":0},{"$f":"IF(基本データ!AM577<>\"\",\"○\",\"\")","v":""},{"$f":"IF(基本データ!AN577<>\"\",\"○\",\"\")","v":""},{"$f":"IF(基本データ!AO577<>\"\",\"○\",\"\")","v":""},{"$f":"IF(基本データ!AP577<>\"\",\"○\",\"\")","v":""},{"$f":"IF(基本データ!AQ577<>\"\",\"○\",\"\")","v":""},{"$f":"IF(基本データ!AR577<>\"\",\"○\",\"\")","v":""},{"$f":"IF(基本データ!AS577<>\"\",\"○\",\"\")","v":""},{"$f":"IF(基本データ!AT577<>\"\",\"○\",\"\")","v":""},{"$f":"IF(基本データ!AU577<>\"\",\"○\",\"\")","v":""},{"$f":"IF(基本データ!AV577<>\"\",\"○\",\"\")","v":""},{"$f":"IF(基本データ!AW577<>\"\",\"○\",\"\")","v":""},{"$f":"IF(基本データ!AX577<>\"\",\"○\",\"\")","v":""},{"$f":"IF(基本データ!AY577<>\"\",\"○\",\"\")","v":""},{"$f":"IF(基本データ!AZ577<>\"\",\"○\",\"\")","v":""},{"$f":"IF(基本データ!BA577<>\"\",\"○\",\"\")","v":""},{"$f":"IF(基本データ!BB577<>\"\",\"○\",\"\")","v":""},{"$f":"IF(基本データ!BC577<>\"\",\"○\",\"\")","v":""},{"$f":"IF(基本データ!BD577<>\"\",\"○\",\"\")","v":""},{"$f":"IF(基本データ!BE577<>\"\",\"○\",\"\")","v":""},{"$f":"IF(基本データ!BF577<>\"\",\"○\",\"\")","v":""},{"$f":"IF(基本データ!BG577<>\"\",\"○\",\"\")","v":""},{"$f":"基本データ!BN577","v":0},{"$f":"IF(基本データ!BH577<>\"\",\"○\",\"\")","v":""},{"$f":"IF(基本データ!BI577<>\"\",\"○\",\"\")","v":""},{"$f":"IF(基本データ!BJ577<>\"\",\"○\",\"\")","v":""},{"$f":"IF(基本データ!BK577<>\"\",\"○\",\"\")","v":""},{"$f":"IF(基本データ!BL577<>\"\",\"○\",\"\")","v":""},{"$f":"IF(基本データ!BM577<>\"\",\"○\",\"\")","v":""}]
[null,{"$f":"基本データ!J578","v":0},{"$f":"基本データ!B578","v":0},{"$f":"基本データ!I578","v":0},{"$f":"基本データ!AL578","v":0},{"$f":"IF(基本データ!AM578<>\"\",\"○\",\"\")","v":""},{"$f":"IF(基本データ!AN578<>\"\",\"○\",\"\")","v":""},{"$f":"IF(基本データ!AO578<>\"\",\"○\",\"\")","v":""},{"$f":"IF(基本データ!AP578<>\"\",\"○\",\"\")","v":""},{"$f":"IF(基本データ!AQ578<>\"\",\"○\",\"\")","v":""},{"$f":"IF(基本データ!AR578<>\"\",\"○\",\"\")","v":""},{"$f":"IF(基本データ!AS578<>\"\",\"○\",\"\")","v":""},{"$f":"IF(基本データ!AT578<>\"\",\"○\",\"\")","v":""},{"$f":"IF(基本データ!AU578<>\"\",\"○\",\"\")","v":""},{"$f":"IF(基本データ!AV578<>\"\",\"○\",\"\")","v":""},{"$f":"IF(基本データ!AW578<>\"\",\"○\",\"\")","v":""},{"$f":"IF(基本データ!AX578<>\"\",\"○\",\"\")","v":""},{"$f":"IF(基本データ!AY578<>\"\",\"○\",\"\")","v":""},{"$f":"IF(基本データ!AZ578<>\"\",\"○\",\"\")","v":""},{"$f":"IF(基本データ!BA578<>\"\",\"○\",\"\")","v":""},{"$f":"IF(基本データ!BB578<>\"\",\"○\",\"\")","v":""},{"$f":"IF(基本データ!BC578<>\"\",\"○\",\"\")","v":""},{"$f":"IF(基本データ!BD578<>\"\",\"○\",\"\")","v":""},{"$f":"IF(基本データ!BE578<>\"\",\"○\",\"\")","v":""},{"$f":"IF(基本データ!BF578<>\"\",\"○\",\"\")","v":""},{"$f":"IF(基本データ!BG578<>\"\",\"○\",\"\")","v":""},{"$f":"基本データ!BN578","v":0},{"$f":"IF(基本データ!BH578<>\"\",\"○\",\"\")","v":""},{"$f":"IF(基本データ!BI578<>\"\",\"○\",\"\")","v":""},{"$f":"IF(基本データ!BJ578<>\"\",\"○\",\"\")","v":""},{"$f":"IF(基本データ!BK578<>\"\",\"○\",\"\")","v":""},{"$f":"IF(基本データ!BL578<>\"\",\"○\",\"\")","v":""},{"$f":"IF(基本データ!BM578<>\"\",\"○\",\"\")","v":""}]
[null,{"$f":"基本データ!J579","v":0},{"$f":"基本データ!B579","v":0},{"$f":"基本データ!I579","v":0},{"$f":"基本データ!AL579","v":0},{"$f":"IF(基本データ!AM579<>\"\",\"○\",\"\")","v":""},{"$f":"IF(基本データ!AN579<>\"\",\"○\",\"\")","v":""},{"$f":"IF(基本データ!AO579<>\"\",\"○\",\"\")","v":""},{"$f":"IF(基本データ!AP579<>\"\",\"○\",\"\")","v":""},{"$f":"IF(基本データ!AQ579<>\"\",\"○\",\"\")","v":""},{"$f":"IF(基本データ!AR579<>\"\",\"○\",\"\")","v":""},{"$f":"IF(基本データ!AS579<>\"\",\"○\",\"\")","v":""},{"$f":"IF(基本データ!AT579<>\"\",\"○\",\"\")","v":""},{"$f":"IF(基本データ!AU579<>\"\",\"○\",\"\")","v":""},{"$f":"IF(基本データ!AV579<>\"\",\"○\",\"\")","v":""},{"$f":"IF(基本データ!AW579<>\"\",\"○\",\"\")","v":""},{"$f":"IF(基本データ!AX579<>\"\",\"○\",\"\")","v":""},{"$f":"IF(基本データ!AY579<>\"\",\"○\",\"\")","v":""},{"$f":"IF(基本データ!AZ579<>\"\",\"○\",\"\")","v":""},{"$f":"IF(基本データ!BA579<>\"\",\"○\",\"\")","v":""},{"$f":"IF(基本データ!BB579<>\"\",\"○\",\"\")","v":""},{"$f":"IF(基本データ!BC579<>\"\",\"○\",\"\")","v":""},{"$f":"IF(基本データ!BD579<>\"\",\"○\",\"\")","v":""},{"$f":"IF(基本データ!BE579<>\"\",\"○\",\"\")","v":""},{"$f":"IF(基本データ!BF579<>\"\",\"○\",\"\")","v":""},{"$f":"IF(基本データ!BG579<>\"\",\"○\",\"\")","v":""},{"$f":"基本データ!BN579","v":0},{"$f":"IF(基本データ!BH579<>\"\",\"○\",\"\")","v":""},{"$f":"IF(基本データ!BI579<>\"\",\"○\",\"\")","v":""},{"$f":"IF(基本データ!BJ579<>\"\",\"○\",\"\")","v":""},{"$f":"IF(基本データ!BK579<>\"\",\"○\",\"\")","v":""},{"$f":"IF(基本データ!BL579<>\"\",\"○\",\"\")","v":""},{"$f":"IF(基本データ!BM579<>\"\",\"○\",\"\")","v":""}]
[null,{"$f":"基本データ!J580","v":0},{"$f":"基本データ!B580","v":0},{"$f":"基本データ!I580","v":0},{"$f":"基本データ!AL580","v":0},{"$f":"IF(基本データ!AM580<>\"\",\"○\",\"\")","v":""},{"$f":"IF(基本データ!AN580<>\"\",\"○\",\"\")","v":""},{"$f":"IF(基本データ!AO580<>\"\",\"○\",\"\")","v":""},{"$f":"IF(基本データ!AP580<>\"\",\"○\",\"\")","v":""},{"$f":"IF(基本データ!AQ580<>\"\",\"○\",\"\")","v":""},{"$f":"IF(基本データ!AR580<>\"\",\"○\",\"\")","v":""},{"$f":"IF(基本データ!AS580<>\"\",\"○\",\"\")","v":""},{"$f":"IF(基本データ!AT580<>\"\",\"○\",\"\")","v":""},{"$f":"IF(基本データ!AU580<>\"\",\"○\",\"\")","v":""},{"$f":"IF(基本データ!AV580<>\"\",\"○\",\"\")","v":""},{"$f":"IF(基本データ!AW580<>\"\",\"○\",\"\")","v":""},{"$f":"IF(基本データ!AX580<>\"\",\"○\",\"\")","v":""},{"$f":"IF(基本データ!AY580<>\"\",\"○\",\"\")","v":""},{"$f":"IF(基本データ!AZ580<>\"\",\"○\",\"\")","v":""},{"$f":"IF(基本データ!BA580<>\"\",\"○\",\"\")","v":""},{"$f":"IF(基本データ!BB580<>\"\",\"○\",\"\")","v":""},{"$f":"IF(基本データ!BC580<>\"\",\"○\",\"\")","v":""},{"$f":"IF(基本データ!BD580<>\"\",\"○\",\"\")","v":""},{"$f":"IF(基本データ!BE580<>\"\",\"○\",\"\")","v":""},{"$f":"IF(基本データ!BF580<>\"\",\"○\",\"\")","v":""},{"$f":"IF(基本データ!BG580<>\"\",\"○\",\"\")","v":""},{"$f":"基本データ!BN580","v":0},{"$f":"IF(基本データ!BH580<>\"\",\"○\",\"\")","v":""},{"$f":"IF(基本データ!BI580<>\"\",\"○\",\"\")","v":""},{"$f":"IF(基本データ!BJ580<>\"\",\"○\",\"\")","v":""},{"$f":"IF(基本データ!BK580<>\"\",\"○\",\"\")","v":""},{"$f":"IF(基本データ!BL580<>\"\",\"○\",\"\")","v":""},{"$f":"IF(基本データ!BM580<>\"\",\"○\",\"\")","v":""}]
[null,{"$f":"基本データ!J581","v":0},{"$f":"基本データ!B581","v":0},{"$f":"基本データ!I581","v":0},{"$f":"基本データ!AL581","v":0},{"$f":"IF(基本データ!AM581<>\"\",\"○\",\"\")","v":""},{"$f":"IF(基本データ!AN581<>\"\",\"○\",\"\")","v":""},{"$f":"IF(基本データ!AO581<>\"\",\"○\",\"\")","v":""},{"$f":"IF(基本データ!AP581<>\"\",\"○\",\"\")","v":""},{"$f":"IF(基本データ!AQ581<>\"\",\"○\",\"\")","v":""},{"$f":"IF(基本データ!AR581<>\"\",\"○\",\"\")","v":""},{"$f":"IF(基本データ!AS581<>\"\",\"○\",\"\")","v":""},{"$f":"IF(基本データ!AT581<>\"\",\"○\",\"\")","v":""},{"$f":"IF(基本データ!AU581<>\"\",\"○\",\"\")","v":""},{"$f":"IF(基本データ!AV581<>\"\",\"○\",\"\")","v":""},{"$f":"IF(基本データ!AW581<>\"\",\"○\",\"\")","v":""},{"$f":"IF(基本データ!AX581<>\"\",\"○\",\"\")","v":""},{"$f":"IF(基本データ!AY581<>\"\",\"○\",\"\")","v":""},{"$f":"IF(基本データ!AZ581<>\"\",\"○\",\"\")","v":""},{"$f":"IF(基本データ!BA581<>\"\",\"○\",\"\")","v":""},{"$f":"IF(基本データ!BB581<>\"\",\"○\",\"\")","v":""},{"$f":"IF(基本データ!BC581<>\"\",\"○\",\"\")","v":""},{"$f":"IF(基本データ!BD581<>\"\",\"○\",\"\")","v":""},{"$f":"IF(基本データ!BE581<>\"\",\"○\",\"\")","v":""},{"$f":"IF(基本データ!BF581<>\"\",\"○\",\"\")","v":""},{"$f":"IF(基本データ!BG581<>\"\",\"○\",\"\")","v":""},{"$f":"基本データ!BN581","v":0},{"$f":"IF(基本データ!BH581<>\"\",\"○\",\"\")","v":""},{"$f":"IF(基本データ!BI581<>\"\",\"○\",\"\")","v":""},{"$f":"IF(基本データ!BJ581<>\"\",\"○\",\"\")","v":""},{"$f":"IF(基本データ!BK581<>\"\",\"○\",\"\")","v":""},{"$f":"IF(基本データ!BL581<>\"\",\"○\",\"\")","v":""},{"$f":"IF(基本データ!BM581<>\"\",\"○\",\"\")","v":""}]
[null,{"$f":"基本データ!J582","v":0},{"$f":"基本データ!B582","v":0},{"$f":"基本データ!I582","v":0},{"$f":"基本データ!AL582","v":0},{"$f":"IF(基本データ!AM582<>\"\",\"○\",\"\")","v":""},{"$f":"IF(基本データ!AN582<>\"\",\"○\",\"\")","v":""},{"$f":"IF(基本データ!AO582<>\"\",\"○\",\"\")","v":""},{"$f":"IF(基本データ!AP582<>\"\",\"○\",\"\")","v":""},{"$f":"IF(基本データ!AQ582<>\"\",\"○\",\"\")","v":""},{"$f":"IF(基本データ!AR582<>\"\",\"○\",\"\")","v":""},{"$f":"IF(基本データ!AS582<>\"\",\"○\",\"\")","v":""},{"$f":"IF(基本データ!AT582<>\"\",\"○\",\"\")","v":""},{"$f":"IF(基本データ!AU582<>\"\",\"○\",\"\")","v":""},{"$f":"IF(基本データ!AV582<>\"\",\"○\",\"\")","v":""},{"$f":"IF(基本データ!AW582<>\"\",\"○\",\"\")","v":""},{"$f":"IF(基本データ!AX582<>\"\",\"○\",\"\")","v":""},{"$f":"IF(基本データ!AY582<>\"\",\"○\",\"\")","v":""},{"$f":"IF(基本データ!AZ582<>\"\",\"○\",\"\")","v":""},{"$f":"IF(基本データ!BA582<>\"\",\"○\",\"\")","v":""},{"$f":"IF(基本データ!BB582<>\"\",\"○\",\"\")","v":""},{"$f":"IF(基本データ!BC582<>\"\",\"○\",\"\")","v":""},{"$f":"IF(基本データ!BD582<>\"\",\"○\",\"\")","v":""},{"$f":"IF(基本データ!BE582<>\"\",\"○\",\"\")","v":""},{"$f":"IF(基本データ!BF582<>\"\",\"○\",\"\")","v":""},{"$f":"IF(基本データ!BG582<>\"\",\"○\",\"\")","v":""},{"$f":"基本データ!BN582","v":0},{"$f":"IF(基本データ!BH582<>\"\",\"○\",\"\")","v":""},{"$f":"IF(基本データ!BI582<>\"\",\"○\",\"\")","v":""},{"$f":"IF(基本データ!BJ582<>\"\",\"○\",\"\")","v":""},{"$f":"IF(基本データ!BK582<>\"\",\"○\",\"\")","v":""},{"$f":"IF(基本データ!BL582<>\"\",\"○\",\"\")","v":""},{"$f":"IF(基本データ!BM582<>\"\",\"○\",\"\")","v":""}]
[null,{"$f":"基本データ!J583","v":0},{"$f":"基本データ!B583","v":0},{"$f":"基本データ!I583","v":0},{"$f":"基本データ!AL583","v":0},{"$f":"IF(基本データ!AM583<>\"\",\"○\",\"\")","v":""},{"$f":"IF(基本データ!AN583<>\"\",\"○\",\"\")","v":""},{"$f":"IF(基本データ!AO583<>\"\",\"○\",\"\")","v":""},{"$f":"IF(基本データ!AP583<>\"\",\"○\",\"\")","v":""},{"$f":"IF(基本データ!AQ583<>\"\",\"○\",\"\")","v":""},{"$f":"IF(基本データ!AR583<>\"\",\"○\",\"\")","v":""},{"$f":"IF(基本データ!AS583<>\"\",\"○\",\"\")","v":""},{"$f":"IF(基本データ!AT583<>\"\",\"○\",\"\")","v":""},{"$f":"IF(基本データ!AU583<>\"\",\"○\",\"\")","v":""},{"$f":"IF(基本データ!AV583<>\"\",\"○\",\"\")","v":""},{"$f":"IF(基本データ!AW583<>\"\",\"○\",\"\")","v":""},{"$f":"IF(基本データ!AX583<>\"\",\"○\",\"\")","v":""},{"$f":"IF(基本データ!AY583<>\"\",\"○\",\"\")","v":""},{"$f":"IF(基本データ!AZ583<>\"\",\"○\",\"\")","v":""},{"$f":"IF(基本データ!BA583<>\"\",\"○\",\"\")","v":""},{"$f":"IF(基本データ!BB583<>\"\",\"○\",\"\")","v":""},{"$f":"IF(基本データ!BC583<>\"\",\"○\",\"\")","v":""},{"$f":"IF(基本データ!BD583<>\"\",\"○\",\"\")","v":""},{"$f":"IF(基本データ!BE583<>\"\",\"○\",\"\")","v":""},{"$f":"IF(基本データ!BF583<>\"\",\"○\",\"\")","v":""},{"$f":"IF(基本データ!BG583<>\"\",\"○\",\"\")","v":""},{"$f":"基本データ!BN583","v":0},{"$f":"IF(基本データ!BH583<>\"\",\"○\",\"\")","v":""},{"$f":"IF(基本データ!BI583<>\"\",\"○\",\"\")","v":""},{"$f":"IF(基本データ!BJ583<>\"\",\"○\",\"\")","v":""},{"$f":"IF(基本データ!BK583<>\"\",\"○\",\"\")","v":""},{"$f":"IF(基本データ!BL583<>\"\",\"○\",\"\")","v":""},{"$f":"IF(基本データ!BM583<>\"\",\"○\",\"\")","v":""}]
[null,{"$f":"基本データ!J584","v":0},{"$f":"基本データ!B584","v":0},{"$f":"基本データ!I584","v":0},{"$f":"基本データ!AL584","v":0},{"$f":"IF(基本データ!AM584<>\"\",\"○\",\"\")","v":""},{"$f":"IF(基本データ!AN584<>\"\",\"○\",\"\")","v":""},{"$f":"IF(基本データ!AO584<>\"\",\"○\",\"\")","v":""},{"$f":"IF(基本データ!AP584<>\"\",\"○\",\"\")","v":""},{"$f":"IF(基本データ!AQ584<>\"\",\"○\",\"\")","v":""},{"$f":"IF(基本データ!AR584<>\"\",\"○\",\"\")","v":""},{"$f":"IF(基本データ!AS584<>\"\",\"○\",\"\")","v":""},{"$f":"IF(基本データ!AT584<>\"\",\"○\",\"\")","v":""},{"$f":"IF(基本データ!AU584<>\"\",\"○\",\"\")","v":""},{"$f":"IF(基本データ!AV584<>\"\",\"○\",\"\")","v":""},{"$f":"IF(基本データ!AW584<>\"\",\"○\",\"\")","v":""},{"$f":"IF(基本データ!AX584<>\"\",\"○\",\"\")","v":""},{"$f":"IF(基本データ!AY584<>\"\",\"○\",\"\")","v":""},{"$f":"IF(基本データ!AZ584<>\"\",\"○\",\"\")","v":""},{"$f":"IF(基本データ!BA584<>\"\",\"○\",\"\")","v":""},{"$f":"IF(基本データ!BB584<>\"\",\"○\",\"\")","v":""},{"$f":"IF(基本データ!BC584<>\"\",\"○\",\"\")","v":""},{"$f":"IF(基本データ!BD584<>\"\",\"○\",\"\")","v":""},{"$f":"IF(基本データ!BE584<>\"\",\"○\",\"\")","v":""},{"$f":"IF(基本データ!BF584<>\"\",\"○\",\"\")","v":""},{"$f":"IF(基本データ!BG584<>\"\",\"○\",\"\")","v":""},{"$f":"基本データ!BN584","v":0},{"$f":"IF(基本データ!BH584<>\"\",\"○\",\"\")","v":""},{"$f":"IF(基本データ!BI584<>\"\",\"○\",\"\")","v":""},{"$f":"IF(基本データ!BJ584<>\"\",\"○\",\"\")","v":""},{"$f":"IF(基本データ!BK584<>\"\",\"○\",\"\")","v":""},{"$f":"IF(基本データ!BL584<>\"\",\"○\",\"\")","v":""},{"$f":"IF(基本データ!BM584<>\"\",\"○\",\"\")","v":""}]
[null,{"$f":"基本データ!J585","v":0},{"$f":"基本データ!B585","v":0},{"$f":"基本データ!I585","v":0},{"$f":"基本データ!AL585","v":0},{"$f":"IF(基本データ!AM585<>\"\",\"○\",\"\")","v":""},{"$f":"IF(基本データ!AN585<>\"\",\"○\",\"\")","v":""},{"$f":"IF(基本データ!AO585<>\"\",\"○\",\"\")","v":""},{"$f":"IF(基本データ!AP585<>\"\",\"○\",\"\")","v":""},{"$f":"IF(基本データ!AQ585<>\"\",\"○\",\"\")","v":""},{"$f":"IF(基本データ!AR585<>\"\",\"○\",\"\")","v":""},{"$f":"IF(基本データ!AS585<>\"\",\"○\",\"\")","v":""},{"$f":"IF(基本データ!AT585<>\"\",\"○\",\"\")","v":""},{"$f":"IF(基本データ!AU585<>\"\",\"○\",\"\")","v":""},{"$f":"IF(基本データ!AV585<>\"\",\"○\",\"\")","v":""},{"$f":"IF(基本データ!AW585<>\"\",\"○\",\"\")","v":""},{"$f":"IF(基本データ!AX585<>\"\",\"○\",\"\")","v":""},{"$f":"IF(基本データ!AY585<>\"\",\"○\",\"\")","v":""},{"$f":"IF(基本データ!AZ585<>\"\",\"○\",\"\")","v":""},{"$f":"IF(基本データ!BA585<>\"\",\"○\",\"\")","v":""},{"$f":"IF(基本データ!BB585<>\"\",\"○\",\"\")","v":""},{"$f":"IF(基本データ!BC585<>\"\",\"○\",\"\")","v":""},{"$f":"IF(基本データ!BD585<>\"\",\"○\",\"\")","v":""},{"$f":"IF(基本データ!BE585<>\"\",\"○\",\"\")","v":""},{"$f":"IF(基本データ!BF585<>\"\",\"○\",\"\")","v":""},{"$f":"IF(基本データ!BG585<>\"\",\"○\",\"\")","v":""},{"$f":"基本データ!BN585","v":0},{"$f":"IF(基本データ!BH585<>\"\",\"○\",\"\")","v":""},{"$f":"IF(基本データ!BI585<>\"\",\"○\",\"\")","v":""},{"$f":"IF(基本データ!BJ585<>\"\",\"○\",\"\")","v":""},{"$f":"IF(基本データ!BK585<>\"\",\"○\",\"\")","v":""},{"$f":"IF(基本データ!BL585<>\"\",\"○\",\"\")","v":""},{"$f":"IF(基本データ!BM585<>\"\",\"○\",\"\")","v":""}]
[null,{"$f":"基本データ!J586","v":0},{"$f":"基本データ!B586","v":0},{"$f":"基本データ!I586","v":0},{"$f":"基本データ!AL586","v":0},{"$f":"IF(基本データ!AM586<>\"\",\"○\",\"\")","v":""},{"$f":"IF(基本データ!AN586<>\"\",\"○\",\"\")","v":""},{"$f":"IF(基本データ!AO586<>\"\",\"○\",\"\")","v":""},{"$f":"IF(基本データ!AP586<>\"\",\"○\",\"\")","v":""},{"$f":"IF(基本データ!AQ586<>\"\",\"○\",\"\")","v":""},{"$f":"IF(基本データ!AR586<>\"\",\"○\",\"\")","v":""},{"$f":"IF(基本データ!AS586<>\"\",\"○\",\"\")","v":""},{"$f":"IF(基本データ!AT586<>\"\",\"○\",\"\")","v":""},{"$f":"IF(基本データ!AU586<>\"\",\"○\",\"\")","v":""},{"$f":"IF(基本データ!AV586<>\"\",\"○\",\"\")","v":""},{"$f":"IF(基本データ!AW586<>\"\",\"○\",\"\")","v":""},{"$f":"IF(基本データ!AX586<>\"\",\"○\",\"\")","v":""},{"$f":"IF(基本データ!AY586<>\"\",\"○\",\"\")","v":""},{"$f":"IF(基本データ!AZ586<>\"\",\"○\",\"\")","v":""},{"$f":"IF(基本データ!BA586<>\"\",\"○\",\"\")","v":""},{"$f":"IF(基本データ!BB586<>\"\",\"○\",\"\")","v":""},{"$f":"IF(基本データ!BC586<>\"\",\"○\",\"\")","v":""},{"$f":"IF(基本データ!BD586<>\"\",\"○\",\"\")","v":""},{"$f":"IF(基本データ!BE586<>\"\",\"○\",\"\")","v":""},{"$f":"IF(基本データ!BF586<>\"\",\"○\",\"\")","v":""},{"$f":"IF(基本データ!BG586<>\"\",\"○\",\"\")","v":""},{"$f":"基本データ!BN586","v":0},{"$f":"IF(基本データ!BH586<>\"\",\"○\",\"\")","v":""},{"$f":"IF(基本データ!BI586<>\"\",\"○\",\"\")","v":""},{"$f":"IF(基本データ!BJ586<>\"\",\"○\",\"\")","v":""},{"$f":"IF(基本データ!BK586<>\"\",\"○\",\"\")","v":""},{"$f":"IF(基本データ!BL586<>\"\",\"○\",\"\")","v":""},{"$f":"IF(基本データ!BM586<>\"\",\"○\",\"\")","v":""}]
[null,{"$f":"基本データ!J587","v":0},{"$f":"基本データ!B587","v":0},{"$f":"基本データ!I587","v":0},{"$f":"基本データ!AL587","v":0},{"$f":"IF(基本データ!AM587<>\"\",\"○\",\"\")","v":""},{"$f":"IF(基本データ!AN587<>\"\",\"○\",\"\")","v":""},{"$f":"IF(基本データ!AO587<>\"\",\"○\",\"\")","v":""},{"$f":"IF(基本データ!AP587<>\"\",\"○\",\"\")","v":""},{"$f":"IF(基本データ!AQ587<>\"\",\"○\",\"\")","v":""},{"$f":"IF(基本データ!AR587<>\"\",\"○\",\"\")","v":""},{"$f":"IF(基本データ!AS587<>\"\",\"○\",\"\")","v":""},{"$f":"IF(基本データ!AT587<>\"\",\"○\",\"\")","v":""},{"$f":"IF(基本データ!AU587<>\"\",\"○\",\"\")","v":""},{"$f":"IF(基本データ!AV587<>\"\",\"○\",\"\")","v":""},{"$f":"IF(基本データ!AW587<>\"\",\"○\",\"\")","v":""},{"$f":"IF(基本データ!AX587<>\"\",\"○\",\"\")","v":""},{"$f":"IF(基本データ!AY587<>\"\",\"○\",\"\")","v":""},{"$f":"IF(基本データ!AZ587<>\"\",\"○\",\"\")","v":""},{"$f":"IF(基本データ!BA587<>\"\",\"○\",\"\")","v":""},{"$f":"IF(基本データ!BB587<>\"\",\"○\",\"\")","v":""},{"$f":"IF(基本データ!BC587<>\"\",\"○\",\"\")","v":""},{"$f":"IF(基本データ!BD587<>\"\",\"○\",\"\")","v":""},{"$f":"IF(基本データ!BE587<>\"\",\"○\",\"\")","v":""},{"$f":"IF(基本データ!BF587<>\"\",\"○\",\"\")","v":""},{"$f":"IF(基本データ!BG587<>\"\",\"○\",\"\")","v":""},{"$f":"基本データ!BN587","v":0},{"$f":"IF(基本データ!BH587<>\"\",\"○\",\"\")","v":""},{"$f":"IF(基本データ!BI587<>\"\",\"○\",\"\")","v":""},{"$f":"IF(基本データ!BJ587<>\"\",\"○\",\"\")","v":""},{"$f":"IF(基本データ!BK587<>\"\",\"○\",\"\")","v":""},{"$f":"IF(基本データ!BL587<>\"\",\"○\",\"\")","v":""},{"$f":"IF(基本データ!BM587<>\"\",\"○\",\"\")","v":""}]
[null,{"$f":"基本データ!J588","v":0},{"$f":"基本データ!B588","v":0},{"$f":"基本データ!I588","v":0},{"$f":"基本データ!AL588","v":0},{"$f":"IF(基本データ!AM588<>\"\",\"○\",\"\")","v":""},{"$f":"IF(基本データ!AN588<>\"\",\"○\",\"\")","v":""},{"$f":"IF(基本データ!AO588<>\"\",\"○\",\"\")","v":""},{"$f":"IF(基本データ!AP588<>\"\",\"○\",\"\")","v":""},{"$f":"IF(基本データ!AQ588<>\"\",\"○\",\"\")","v":""},{"$f":"IF(基本データ!AR588<>\"\",\"○\",\"\")","v":""},{"$f":"IF(基本データ!AS588<>\"\",\"○\",\"\")","v":""},{"$f":"IF(基本データ!AT588<>\"\",\"○\",\"\")","v":""},{"$f":"IF(基本データ!AU588<>\"\",\"○\",\"\")","v":""},{"$f":"IF(基本データ!AV588<>\"\",\"○\",\"\")","v":""},{"$f":"IF(基本データ!AW588<>\"\",\"○\",\"\")","v":""},{"$f":"IF(基本データ!AX588<>\"\",\"○\",\"\")","v":""},{"$f":"IF(基本データ!AY588<>\"\",\"○\",\"\")","v":""},{"$f":"IF(基本データ!AZ588<>\"\",\"○\",\"\")","v":""},{"$f":"IF(基本データ!BA588<>\"\",\"○\",\"\")","v":""},{"$f":"IF(基本データ!BB588<>\"\",\"○\",\"\")","v":""},{"$f":"IF(基本データ!BC588<>\"\",\"○\",\"\")","v":""},{"$f":"IF(基本データ!BD588<>\"\",\"○\",\"\")","v":""},{"$f":"IF(基本データ!BE588<>\"\",\"○\",\"\")","v":""},{"$f":"IF(基本データ!BF588<>\"\",\"○\",\"\")","v":""},{"$f":"IF(基本データ!BG588<>\"\",\"○\",\"\")","v":""},{"$f":"基本データ!BN588","v":0},{"$f":"IF(基本データ!BH588<>\"\",\"○\",\"\")","v":""},{"$f":"IF(基本データ!BI588<>\"\",\"○\",\"\")","v":""},{"$f":"IF(基本データ!BJ588<>\"\",\"○\",\"\")","v":""},{"$f":"IF(基本データ!BK588<>\"\",\"○\",\"\")","v":""},{"$f":"IF(基本データ!BL588<>\"\",\"○\",\"\")","v":""},{"$f":"IF(基本データ!BM588<>\"\",\"○\",\"\")","v":""}]
[null,{"$f":"基本データ!J589","v":0},{"$f":"基本データ!B589","v":0},{"$f":"基本データ!I589","v":0},{"$f":"基本データ!AL589","v":0},{"$f":"IF(基本データ!AM589<>\"\",\"○\",\"\")","v":""},{"$f":"IF(基本データ!AN589<>\"\",\"○\",\"\")","v":""},{"$f":"IF(基本データ!AO589<>\"\",\"○\",\"\")","v":""},{"$f":"IF(基本データ!AP589<>\"\",\"○\",\"\")","v":""},{"$f":"IF(基本データ!AQ589<>\"\",\"○\",\"\")","v":""},{"$f":"IF(基本データ!AR589<>\"\",\"○\",\"\")","v":""},{"$f":"IF(基本データ!AS589<>\"\",\"○\",\"\")","v":""},{"$f":"IF(基本データ!AT589<>\"\",\"○\",\"\")","v":""},{"$f":"IF(基本データ!AU589<>\"\",\"○\",\"\")","v":""},{"$f":"IF(基本データ!AV589<>\"\",\"○\",\"\")","v":""},{"$f":"IF(基本データ!AW589<>\"\",\"○\",\"\")","v":""},{"$f":"IF(基本データ!AX589<>\"\",\"○\",\"\")","v":""},{"$f":"IF(基本データ!AY589<>\"\",\"○\",\"\")","v":""},{"$f":"IF(基本データ!AZ589<>\"\",\"○\",\"\")","v":""},{"$f":"IF(基本データ!BA589<>\"\",\"○\",\"\")","v":""},{"$f":"IF(基本データ!BB589<>\"\",\"○\",\"\")","v":""},{"$f":"IF(基本データ!BC589<>\"\",\"○\",\"\")","v":""},{"$f":"IF(基本データ!BD589<>\"\",\"○\",\"\")","v":""},{"$f":"IF(基本データ!BE589<>\"\",\"○\",\"\")","v":""},{"$f":"IF(基本データ!BF589<>\"\",\"○\",\"\")","v":""},{"$f":"IF(基本データ!BG589<>\"\",\"○\",\"\")","v":""},{"$f":"基本データ!BN589","v":0},{"$f":"IF(基本データ!BH589<>\"\",\"○\",\"\")","v":""},{"$f":"IF(基本データ!BI589<>\"\",\"○\",\"\")","v":""},{"$f":"IF(基本データ!BJ589<>\"\",\"○\",\"\")","v":""},{"$f":"IF(基本データ!BK589<>\"\",\"○\",\"\")","v":""},{"$f":"IF(基本データ!BL589<>\"\",\"○\",\"\")","v":""},{"$f":"IF(基本データ!BM589<>\"\",\"○\",\"\")","v":""}]
[null,{"$f":"基本データ!J590","v":0},{"$f":"基本データ!B590","v":0},{"$f":"基本データ!I590","v":0},{"$f":"基本データ!AL590","v":0},{"$f":"IF(基本データ!AM590<>\"\",\"○\",\"\")","v":""},{"$f":"IF(基本データ!AN590<>\"\",\"○\",\"\")","v":""},{"$f":"IF(基本データ!AO590<>\"\",\"○\",\"\")","v":""},{"$f":"IF(基本データ!AP590<>\"\",\"○\",\"\")","v":""},{"$f":"IF(基本データ!AQ590<>\"\",\"○\",\"\")","v":""},{"$f":"IF(基本データ!AR590<>\"\",\"○\",\"\")","v":""},{"$f":"IF(基本データ!AS590<>\"\",\"○\",\"\")","v":""},{"$f":"IF(基本データ!AT590<>\"\",\"○\",\"\")","v":""},{"$f":"IF(基本データ!AU590<>\"\",\"○\",\"\")","v":""},{"$f":"IF(基本データ!AV590<>\"\",\"○\",\"\")","v":""},{"$f":"IF(基本データ!AW590<>\"\",\"○\",\"\")","v":""},{"$f":"IF(基本データ!AX590<>\"\",\"○\",\"\")","v":""},{"$f":"IF(基本データ!AY590<>\"\",\"○\",\"\")","v":""},{"$f":"IF(基本データ!AZ590<>\"\",\"○\",\"\")","v":""},{"$f":"IF(基本データ!BA590<>\"\",\"○\",\"\")","v":""},{"$f":"IF(基本データ!BB590<>\"\",\"○\",\"\")","v":""},{"$f":"IF(基本データ!BC590<>\"\",\"○\",\"\")","v":""},{"$f":"IF(基本データ!BD590<>\"\",\"○\",\"\")","v":""},{"$f":"IF(基本データ!BE590<>\"\",\"○\",\"\")","v":""},{"$f":"IF(基本データ!BF590<>\"\",\"○\",\"\")","v":""},{"$f":"IF(基本データ!BG590<>\"\",\"○\",\"\")","v":""},{"$f":"基本データ!BN590","v":0},{"$f":"IF(基本データ!BH590<>\"\",\"○\",\"\")","v":""},{"$f":"IF(基本データ!BI590<>\"\",\"○\",\"\")","v":""},{"$f":"IF(基本データ!BJ590<>\"\",\"○\",\"\")","v":""},{"$f":"IF(基本データ!BK590<>\"\",\"○\",\"\")","v":""},{"$f":"IF(基本データ!BL590<>\"\",\"○\",\"\")","v":""},{"$f":"IF(基本データ!BM590<>\"\",\"○\",\"\")","v":""}]
[null,{"$f":"基本データ!J591","v":0},{"$f":"基本データ!B591","v":0},{"$f":"基本データ!I591","v":0},{"$f":"基本データ!AL591","v":0},{"$f":"IF(基本データ!AM591<>\"\",\"○\",\"\")","v":""},{"$f":"IF(基本データ!AN591<>\"\",\"○\",\"\")","v":""},{"$f":"IF(基本データ!AO591<>\"\",\"○\",\"\")","v":""},{"$f":"IF(基本データ!AP591<>\"\",\"○\",\"\")","v":""},{"$f":"IF(基本データ!AQ591<>\"\",\"○\",\"\")","v":""},{"$f":"IF(基本データ!AR591<>\"\",\"○\",\"\")","v":""},{"$f":"IF(基本データ!AS591<>\"\",\"○\",\"\")","v":""},{"$f":"IF(基本データ!AT591<>\"\",\"○\",\"\")","v":""},{"$f":"IF(基本データ!AU591<>\"\",\"○\",\"\")","v":""},{"$f":"IF(基本データ!AV591<>\"\",\"○\",\"\")","v":""},{"$f":"IF(基本データ!AW591<>\"\",\"○\",\"\")","v":""},{"$f":"IF(基本データ!AX591<>\"\",\"○\",\"\")","v":""},{"$f":"IF(基本データ!AY591<>\"\",\"○\",\"\")","v":""},{"$f":"IF(基本データ!AZ591<>\"\",\"○\",\"\")","v":""},{"$f":"IF(基本データ!BA591<>\"\",\"○\",\"\")","v":""},{"$f":"IF(基本データ!BB591<>\"\",\"○\",\"\")","v":""},{"$f":"IF(基本データ!BC591<>\"\",\"○\",\"\")","v":""},{"$f":"IF(基本データ!BD591<>\"\",\"○\",\"\")","v":""},{"$f":"IF(基本データ!BE591<>\"\",\"○\",\"\")","v":""},{"$f":"IF(基本データ!BF591<>\"\",\"○\",\"\")","v":""},{"$f":"IF(基本データ!BG591<>\"\",\"○\",\"\")","v":""},{"$f":"基本データ!BN591","v":0},{"$f":"IF(基本データ!BH591<>\"\",\"○\",\"\")","v":""},{"$f":"IF(基本データ!BI591<>\"\",\"○\",\"\")","v":""},{"$f":"IF(基本データ!BJ591<>\"\",\"○\",\"\")","v":""},{"$f":"IF(基本データ!BK591<>\"\",\"○\",\"\")","v":""},{"$f":"IF(基本データ!BL591<>\"\",\"○\",\"\")","v":""},{"$f":"IF(基本データ!BM591<>\"\",\"○\",\"\")","v":""}]
[null,{"$f":"基本データ!J592","v":0},{"$f":"基本データ!B592","v":0},{"$f":"基本データ!I592","v":0},{"$f":"基本データ!AL592","v":0},{"$f":"IF(基本データ!AM592<>\"\",\"○\",\"\")","v":""},{"$f":"IF(基本データ!AN592<>\"\",\"○\",\"\")","v":""},{"$f":"IF(基本データ!AO592<>\"\",\"○\",\"\")","v":""},{"$f":"IF(基本データ!AP592<>\"\",\"○\",\"\")","v":""},{"$f":"IF(基本データ!AQ592<>\"\",\"○\",\"\")","v":""},{"$f":"IF(基本データ!AR592<>\"\",\"○\",\"\")","v":""},{"$f":"IF(基本データ!AS592<>\"\",\"○\",\"\")","v":""},{"$f":"IF(基本データ!AT592<>\"\",\"○\",\"\")","v":""},{"$f":"IF(基本データ!AU592<>\"\",\"○\",\"\")","v":""},{"$f":"IF(基本データ!AV592<>\"\",\"○\",\"\")","v":""},{"$f":"IF(基本データ!AW592<>\"\",\"○\",\"\")","v":""},{"$f":"IF(基本データ!AX592<>\"\",\"○\",\"\")","v":""},{"$f":"IF(基本データ!AY592<>\"\",\"○\",\"\")","v":""},{"$f":"IF(基本データ!AZ592<>\"\",\"○\",\"\")","v":""},{"$f":"IF(基本データ!BA592<>\"\",\"○\",\"\")","v":""},{"$f":"IF(基本データ!BB592<>\"\",\"○\",\"\")","v":""},{"$f":"IF(基本データ!BC592<>\"\",\"○\",\"\")","v":""},{"$f":"IF(基本データ!BD592<>\"\",\"○\",\"\")","v":""},{"$f":"IF(基本データ!BE592<>\"\",\"○\",\"\")","v":""},{"$f":"IF(基本データ!BF592<>\"\",\"○\",\"\")","v":""},{"$f":"IF(基本データ!BG592<>\"\",\"○\",\"\")","v":""},{"$f":"基本データ!BN592","v":0},{"$f":"IF(基本データ!BH592<>\"\",\"○\",\"\")","v":""},{"$f":"IF(基本データ!BI592<>\"\",\"○\",\"\")","v":""},{"$f":"IF(基本データ!BJ592<>\"\",\"○\",\"\")","v":""},{"$f":"IF(基本データ!BK592<>\"\",\"○\",\"\")","v":""},{"$f":"IF(基本データ!BL592<>\"\",\"○\",\"\")","v":""},{"$f":"IF(基本データ!BM592<>\"\",\"○\",\"\")","v":""}]
[null,{"$f":"基本データ!J593","v":0},{"$f":"基本データ!B593","v":0},{"$f":"基本データ!I593","v":0},{"$f":"基本データ!AL593","v":0},{"$f":"IF(基本データ!AM593<>\"\",\"○\",\"\")","v":""},{"$f":"IF(基本データ!AN593<>\"\",\"○\",\"\")","v":""},{"$f":"IF(基本データ!AO593<>\"\",\"○\",\"\")","v":""},{"$f":"IF(基本データ!AP593<>\"\",\"○\",\"\")","v":""},{"$f":"IF(基本データ!AQ593<>\"\",\"○\",\"\")","v":""},{"$f":"IF(基本データ!AR593<>\"\",\"○\",\"\")","v":""},{"$f":"IF(基本データ!AS593<>\"\",\"○\",\"\")","v":""},{"$f":"IF(基本データ!AT593<>\"\",\"○\",\"\")","v":""},{"$f":"IF(基本データ!AU593<>\"\",\"○\",\"\")","v":""},{"$f":"IF(基本データ!AV593<>\"\",\"○\",\"\")","v":""},{"$f":"IF(基本データ!AW593<>\"\",\"○\",\"\")","v":""},{"$f":"IF(基本データ!AX593<>\"\",\"○\",\"\")","v":""},{"$f":"IF(基本データ!AY593<>\"\",\"○\",\"\")","v":""},{"$f":"IF(基本データ!AZ593<>\"\",\"○\",\"\")","v":""},{"$f":"IF(基本データ!BA593<>\"\",\"○\",\"\")","v":""},{"$f":"IF(基本データ!BB593<>\"\",\"○\",\"\")","v":""},{"$f":"IF(基本データ!BC593<>\"\",\"○\",\"\")","v":""},{"$f":"IF(基本データ!BD593<>\"\",\"○\",\"\")","v":""},{"$f":"IF(基本データ!BE593<>\"\",\"○\",\"\")","v":""},{"$f":"IF(基本データ!BF593<>\"\",\"○\",\"\")","v":""},{"$f":"IF(基本データ!BG593<>\"\",\"○\",\"\")","v":""},{"$f":"基本データ!BN593","v":0},{"$f":"IF(基本データ!BH593<>\"\",\"○\",\"\")","v":""},{"$f":"IF(基本データ!BI593<>\"\",\"○\",\"\")","v":""},{"$f":"IF(基本データ!BJ593<>\"\",\"○\",\"\")","v":""},{"$f":"IF(基本データ!BK593<>\"\",\"○\",\"\")","v":""},{"$f":"IF(基本データ!BL593<>\"\",\"○\",\"\")","v":""},{"$f":"IF(基本データ!BM593<>\"\",\"○\",\"\")","v":""}]
[null,{"$f":"基本データ!J594","v":0},{"$f":"基本データ!B594","v":0},{"$f":"基本データ!I594","v":0},{"$f":"基本データ!AL594","v":0},{"$f":"IF(基本データ!AM594<>\"\",\"○\",\"\")","v":""},{"$f":"IF(基本データ!AN594<>\"\",\"○\",\"\")","v":""},{"$f":"IF(基本データ!AO594<>\"\",\"○\",\"\")","v":""},{"$f":"IF(基本データ!AP594<>\"\",\"○\",\"\")","v":""},{"$f":"IF(基本データ!AQ594<>\"\",\"○\",\"\")","v":""},{"$f":"IF(基本データ!AR594<>\"\",\"○\",\"\")","v":""},{"$f":"IF(基本データ!AS594<>\"\",\"○\",\"\")","v":""},{"$f":"IF(基本データ!AT594<>\"\",\"○\",\"\")","v":""},{"$f":"IF(基本データ!AU594<>\"\",\"○\",\"\")","v":""},{"$f":"IF(基本データ!AV594<>\"\",\"○\",\"\")","v":""},{"$f":"IF(基本データ!AW594<>\"\",\"○\",\"\")","v":""},{"$f":"IF(基本データ!AX594<>\"\",\"○\",\"\")","v":""},{"$f":"IF(基本データ!AY594<>\"\",\"○\",\"\")","v":""},{"$f":"IF(基本データ!AZ594<>\"\",\"○\",\"\")","v":""},{"$f":"IF(基本データ!BA594<>\"\",\"○\",\"\")","v":""},{"$f":"IF(基本データ!BB594<>\"\",\"○\",\"\")","v":""},{"$f":"IF(基本データ!BC594<>\"\",\"○\",\"\")","v":""},{"$f":"IF(基本データ!BD594<>\"\",\"○\",\"\")","v":""},{"$f":"IF(基本データ!BE594<>\"\",\"○\",\"\")","v":""},{"$f":"IF(基本データ!BF594<>\"\",\"○\",\"\")","v":""},{"$f":"IF(基本データ!BG594<>\"\",\"○\",\"\")","v":""},{"$f":"基本データ!BN594","v":0},{"$f":"IF(基本データ!BH594<>\"\",\"○\",\"\")","v":""},{"$f":"IF(基本データ!BI594<>\"\",\"○\",\"\")","v":""},{"$f":"IF(基本データ!BJ594<>\"\",\"○\",\"\")","v":""},{"$f":"IF(基本データ!BK594<>\"\",\"○\",\"\")","v":""},{"$f":"IF(基本データ!BL594<>\"\",\"○\",\"\")","v":""},{"$f":"IF(基本データ!BM594<>\"\",\"○\",\"\")","v":""}]
[null,{"$f":"基本データ!J595","v":0},{"$f":"基本データ!B595","v":0},{"$f":"基本データ!I595","v":0},{"$f":"基本データ!AL595","v":0},{"$f":"IF(基本データ!AM595<>\"\",\"○\",\"\")","v":""},{"$f":"IF(基本データ!AN595<>\"\",\"○\",\"\")","v":""},{"$f":"IF(基本データ!AO595<>\"\",\"○\",\"\")","v":""},{"$f":"IF(基本データ!AP595<>\"\",\"○\",\"\")","v":""},{"$f":"IF(基本データ!AQ595<>\"\",\"○\",\"\")","v":""},{"$f":"IF(基本データ!AR595<>\"\",\"○\",\"\")","v":""},{"$f":"IF(基本データ!AS595<>\"\",\"○\",\"\")","v":""},{"$f":"IF(基本データ!AT595<>\"\",\"○\",\"\")","v":""},{"$f":"IF(基本データ!AU595<>\"\",\"○\",\"\")","v":""},{"$f":"IF(基本データ!AV595<>\"\",\"○\",\"\")","v":""},{"$f":"IF(基本データ!AW595<>\"\",\"○\",\"\")","v":""},{"$f":"IF(基本データ!AX595<>\"\",\"○\",\"\")","v":""},{"$f":"IF(基本データ!AY595<>\"\",\"○\",\"\")","v":""},{"$f":"IF(基本データ!AZ595<>\"\",\"○\",\"\")","v":""},{"$f":"IF(基本データ!BA595<>\"\",\"○\",\"\")","v":""},{"$f":"IF(基本データ!BB595<>\"\",\"○\",\"\")","v":""},{"$f":"IF(基本データ!BC595<>\"\",\"○\",\"\")","v":""},{"$f":"IF(基本データ!BD595<>\"\",\"○\",\"\")","v":""},{"$f":"IF(基本データ!BE595<>\"\",\"○\",\"\")","v":""},{"$f":"IF(基本データ!BF595<>\"\",\"○\",\"\")","v":""},{"$f":"IF(基本データ!BG595<>\"\",\"○\",\"\")","v":""},{"$f":"基本データ!BN595","v":0},{"$f":"IF(基本データ!BH595<>\"\",\"○\",\"\")","v":""},{"$f":"IF(基本データ!BI595<>\"\",\"○\",\"\")","v":""},{"$f":"IF(基本データ!BJ595<>\"\",\"○\",\"\")","v":""},{"$f":"IF(基本データ!BK595<>\"\",\"○\",\"\")","v":""},{"$f":"IF(基本データ!BL595<>\"\",\"○\",\"\")","v":""},{"$f":"IF(基本データ!BM595<>\"\",\"○\",\"\")","v":""}]
[null,{"$f":"基本データ!J596","v":0},{"$f":"基本データ!B596","v":0},{"$f":"基本データ!I596","v":0},{"$f":"基本データ!AL596","v":0},{"$f":"IF(基本データ!AM596<>\"\",\"○\",\"\")","v":""},{"$f":"IF(基本データ!AN596<>\"\",\"○\",\"\")","v":""},{"$f":"IF(基本データ!AO596<>\"\",\"○\",\"\")","v":""},{"$f":"IF(基本データ!AP596<>\"\",\"○\",\"\")","v":""},{"$f":"IF(基本データ!AQ596<>\"\",\"○\",\"\")","v":""},{"$f":"IF(基本データ!AR596<>\"\",\"○\",\"\")","v":""},{"$f":"IF(基本データ!AS596<>\"\",\"○\",\"\")","v":""},{"$f":"IF(基本データ!AT596<>\"\",\"○\",\"\")","v":""},{"$f":"IF(基本データ!AU596<>\"\",\"○\",\"\")","v":""},{"$f":"IF(基本データ!AV596<>\"\",\"○\",\"\")","v":""},{"$f":"IF(基本データ!AW596<>\"\",\"○\",\"\")","v":""},{"$f":"IF(基本データ!AX596<>\"\",\"○\",\"\")","v":""},{"$f":"IF(基本データ!AY596<>\"\",\"○\",\"\")","v":""},{"$f":"IF(基本データ!AZ596<>\"\",\"○\",\"\")","v":""},{"$f":"IF(基本データ!BA596<>\"\",\"○\",\"\")","v":""},{"$f":"IF(基本データ!BB596<>\"\",\"○\",\"\")","v":""},{"$f":"IF(基本データ!BC596<>\"\",\"○\",\"\")","v":""},{"$f":"IF(基本データ!BD596<>\"\",\"○\",\"\")","v":""},{"$f":"IF(基本データ!BE596<>\"\",\"○\",\"\")","v":""},{"$f":"IF(基本データ!BF596<>\"\",\"○\",\"\")","v":""},{"$f":"IF(基本データ!BG596<>\"\",\"○\",\"\")","v":""},{"$f":"基本データ!BN596","v":0},{"$f":"IF(基本データ!BH596<>\"\",\"○\",\"\")","v":""},{"$f":"IF(基本データ!BI596<>\"\",\"○\",\"\")","v":""},{"$f":"IF(基本データ!BJ596<>\"\",\"○\",\"\")","v":""},{"$f":"IF(基本データ!BK596<>\"\",\"○\",\"\")","v":""},{"$f":"IF(基本データ!BL596<>\"\",\"○\",\"\")","v":""},{"$f":"IF(基本データ!BM596<>\"\",\"○\",\"\")","v":""}]
[null,{"$f":"基本データ!J597","v":0},{"$f":"基本データ!B597","v":0},{"$f":"基本データ!I597","v":0},{"$f":"基本データ!AL597","v":0},{"$f":"IF(基本データ!AM597<>\"\",\"○\",\"\")","v":""},{"$f":"IF(基本データ!AN597<>\"\",\"○\",\"\")","v":""},{"$f":"IF(基本データ!AO597<>\"\",\"○\",\"\")","v":""},{"$f":"IF(基本データ!AP597<>\"\",\"○\",\"\")","v":""},{"$f":"IF(基本データ!AQ597<>\"\",\"○\",\"\")","v":""},{"$f":"IF(基本データ!AR597<>\"\",\"○\",\"\")","v":""},{"$f":"IF(基本データ!AS597<>\"\",\"○\",\"\")","v":""},{"$f":"IF(基本データ!AT597<>\"\",\"○\",\"\")","v":""},{"$f":"IF(基本データ!AU597<>\"\",\"○\",\"\")","v":""},{"$f":"IF(基本データ!AV597<>\"\",\"○\",\"\")","v":""},{"$f":"IF(基本データ!AW597<>\"\",\"○\",\"\")","v":""},{"$f":"IF(基本データ!AX597<>\"\",\"○\",\"\")","v":""},{"$f":"IF(基本データ!AY597<>\"\",\"○\",\"\")","v":""},{"$f":"IF(基本データ!AZ597<>\"\",\"○\",\"\")","v":""},{"$f":"IF(基本データ!BA597<>\"\",\"○\",\"\")","v":""},{"$f":"IF(基本データ!BB597<>\"\",\"○\",\"\")","v":""},{"$f":"IF(基本データ!BC597<>\"\",\"○\",\"\")","v":""},{"$f":"IF(基本データ!BD597<>\"\",\"○\",\"\")","v":""},{"$f":"IF(基本データ!BE597<>\"\",\"○\",\"\")","v":""},{"$f":"IF(基本データ!BF597<>\"\",\"○\",\"\")","v":""},{"$f":"IF(基本データ!BG597<>\"\",\"○\",\"\")","v":""},{"$f":"基本データ!BN597","v":0},{"$f":"IF(基本データ!BH597<>\"\",\"○\",\"\")","v":""},{"$f":"IF(基本データ!BI597<>\"\",\"○\",\"\")","v":""},{"$f":"IF(基本データ!BJ597<>\"\",\"○\",\"\")","v":""},{"$f":"IF(基本データ!BK597<>\"\",\"○\",\"\")","v":""},{"$f":"IF(基本データ!BL597<>\"\",\"○\",\"\")","v":""},{"$f":"IF(基本データ!BM597<>\"\",\"○\",\"\")","v":""}]
[null,{"$f":"基本データ!J598","v":0},{"$f":"基本データ!B598","v":0},{"$f":"基本データ!I598","v":0},{"$f":"基本データ!AL598","v":0},{"$f":"IF(基本データ!AM598<>\"\",\"○\",\"\")","v":""},{"$f":"IF(基本データ!AN598<>\"\",\"○\",\"\")","v":""},{"$f":"IF(基本データ!AO598<>\"\",\"○\",\"\")","v":""},{"$f":"IF(基本データ!AP598<>\"\",\"○\",\"\")","v":""},{"$f":"IF(基本データ!AQ598<>\"\",\"○\",\"\")","v":""},{"$f":"IF(基本データ!AR598<>\"\",\"○\",\"\")","v":""},{"$f":"IF(基本データ!AS598<>\"\",\"○\",\"\")","v":""},{"$f":"IF(基本データ!AT598<>\"\",\"○\",\"\")","v":""},{"$f":"IF(基本データ!AU598<>\"\",\"○\",\"\")","v":""},{"$f":"IF(基本データ!AV598<>\"\",\"○\",\"\")","v":""},{"$f":"IF(基本データ!AW598<>\"\",\"○\",\"\")","v":""},{"$f":"IF(基本データ!AX598<>\"\",\"○\",\"\")","v":""},{"$f":"IF(基本データ!AY598<>\"\",\"○\",\"\")","v":""},{"$f":"IF(基本データ!AZ598<>\"\",\"○\",\"\")","v":""},{"$f":"IF(基本データ!BA598<>\"\",\"○\",\"\")","v":""},{"$f":"IF(基本データ!BB598<>\"\",\"○\",\"\")","v":""},{"$f":"IF(基本データ!BC598<>\"\",\"○\",\"\")","v":""},{"$f":"IF(基本データ!BD598<>\"\",\"○\",\"\")","v":""},{"$f":"IF(基本データ!BE598<>\"\",\"○\",\"\")","v":""},{"$f":"IF(基本データ!BF598<>\"\",\"○\",\"\")","v":""},{"$f":"IF(基本データ!BG598<>\"\",\"○\",\"\")","v":""},{"$f":"基本データ!BN598","v":0},{"$f":"IF(基本データ!BH598<>\"\",\"○\",\"\")","v":""},{"$f":"IF(基本データ!BI598<>\"\",\"○\",\"\")","v":""},{"$f":"IF(基本データ!BJ598<>\"\",\"○\",\"\")","v":""},{"$f":"IF(基本データ!BK598<>\"\",\"○\",\"\")","v":""},{"$f":"IF(基本データ!BL598<>\"\",\"○\",\"\")","v":""},{"$f":"IF(基本データ!BM598<>\"\",\"○\",\"\")","v":""}]
[null,{"$f":"基本データ!J599","v":0},{"$f":"基本データ!B599","v":0},{"$f":"基本データ!I599","v":0},{"$f":"基本データ!AL599","v":0},{"$f":"IF(基本データ!AM599<>\"\",\"○\",\"\")","v":""},{"$f":"IF(基本データ!AN599<>\"\",\"○\",\"\")","v":""},{"$f":"IF(基本データ!AO599<>\"\",\"○\",\"\")","v":""},{"$f":"IF(基本データ!AP599<>\"\",\"○\",\"\")","v":""},{"$f":"IF(基本データ!AQ599<>\"\",\"○\",\"\")","v":""},{"$f":"IF(基本データ!AR599<>\"\",\"○\",\"\")","v":""},{"$f":"IF(基本データ!AS599<>\"\",\"○\",\"\")","v":""},{"$f":"IF(基本データ!AT599<>\"\",\"○\",\"\")","v":""},{"$f":"IF(基本データ!AU599<>\"\",\"○\",\"\")","v":""},{"$f":"IF(基本データ!AV599<>\"\",\"○\",\"\")","v":""},{"$f":"IF(基本データ!AW599<>\"\",\"○\",\"\")","v":""},{"$f":"IF(基本データ!AX599<>\"\",\"○\",\"\")","v":""},{"$f":"IF(基本データ!AY599<>\"\",\"○\",\"\")","v":""},{"$f":"IF(基本データ!AZ599<>\"\",\"○\",\"\")","v":""},{"$f":"IF(基本データ!BA599<>\"\",\"○\",\"\")","v":""},{"$f":"IF(基本データ!BB599<>\"\",\"○\",\"\")","v":""},{"$f":"IF(基本データ!BC599<>\"\",\"○\",\"\")","v":""},{"$f":"IF(基本データ!BD599<>\"\",\"○\",\"\")","v":""},{"$f":"IF(基本データ!BE599<>\"\",\"○\",\"\")","v":""},{"$f":"IF(基本データ!BF599<>\"\",\"○\",\"\")","v":""},{"$f":"IF(基本データ!BG599<>\"\",\"○\",\"\")","v":""},{"$f":"基本データ!BN599","v":0},{"$f":"IF(基本データ!BH599<>\"\",\"○\",\"\")","v":""},{"$f":"IF(基本データ!BI599<>\"\",\"○\",\"\")","v":""},{"$f":"IF(基本データ!BJ599<>\"\",\"○\",\"\")","v":""},{"$f":"IF(基本データ!BK599<>\"\",\"○\",\"\")","v":""},{"$f":"IF(基本データ!BL599<>\"\",\"○\",\"\")","v":""},{"$f":"IF(基本データ!BM599<>\"\",\"○\",\"\")","v":""}]
[null,{"$f":"基本データ!J600","v":0},{"$f":"基本データ!B600","v":0},{"$f":"基本データ!I600","v":0},{"$f":"基本データ!AL600","v":0},{"$f":"IF(基本データ!AM600<>\"\",\"○\",\"\")","v":""},{"$f":"IF(基本データ!AN600<>\"\",\"○\",\"\")","v":""},{"$f":"IF(基本データ!AO600<>\"\",\"○\",\"\")","v":""},{"$f":"IF(基本データ!AP600<>\"\",\"○\",\"\")","v":""},{"$f":"IF(基本データ!AQ600<>\"\",\"○\",\"\")","v":""},{"$f":"IF(基本データ!AR600<>\"\",\"○\",\"\")","v":""},{"$f":"IF(基本データ!AS600<>\"\",\"○\",\"\")","v":""},{"$f":"IF(基本データ!AT600<>\"\",\"○\",\"\")","v":""},{"$f":"IF(基本データ!AU600<>\"\",\"○\",\"\")","v":""},{"$f":"IF(基本データ!AV600<>\"\",\"○\",\"\")","v":""},{"$f":"IF(基本データ!AW600<>\"\",\"○\",\"\")","v":""},{"$f":"IF(基本データ!AX600<>\"\",\"○\",\"\")","v":""},{"$f":"IF(基本データ!AY600<>\"\",\"○\",\"\")","v":""},{"$f":"IF(基本データ!AZ600<>\"\",\"○\",\"\")","v":""},{"$f":"IF(基本データ!BA600<>\"\",\"○\",\"\")","v":""},{"$f":"IF(基本データ!BB600<>\"\",\"○\",\"\")","v":""},{"$f":"IF(基本データ!BC600<>\"\",\"○\",\"\")","v":""},{"$f":"IF(基本データ!BD600<>\"\",\"○\",\"\")","v":""},{"$f":"IF(基本データ!BE600<>\"\",\"○\",\"\")","v":""},{"$f":"IF(基本データ!BF600<>\"\",\"○\",\"\")","v":""},{"$f":"IF(基本データ!BG600<>\"\",\"○\",\"\")","v":""},{"$f":"基本データ!BN600","v":0},{"$f":"IF(基本データ!BH600<>\"\",\"○\",\"\")","v":""},{"$f":"IF(基本データ!BI600<>\"\",\"○\",\"\")","v":""},{"$f":"IF(基本データ!BJ600<>\"\",\"○\",\"\")","v":""},{"$f":"IF(基本データ!BK600<>\"\",\"○\",\"\")","v":""},{"$f":"IF(基本データ!BL600<>\"\",\"○\",\"\")","v":""},{"$f":"IF(基本データ!BM600<>\"\",\"○\",\"\")","v":""}]
[null,{"$f":"基本データ!J601","v":0},{"$f":"基本データ!B601","v":0},{"$f":"基本データ!I601","v":0},{"$f":"基本データ!AL601","v":0},{"$f":"IF(基本データ!AM601<>\"\",\"○\",\"\")","v":""},{"$f":"IF(基本データ!AN601<>\"\",\"○\",\"\")","v":""},{"$f":"IF(基本データ!AO601<>\"\",\"○\",\"\")","v":""},{"$f":"IF(基本データ!AP601<>\"\",\"○\",\"\")","v":""},{"$f":"IF(基本データ!AQ601<>\"\",\"○\",\"\")","v":""},{"$f":"IF(基本データ!AR601<>\"\",\"○\",\"\")","v":""},{"$f":"IF(基本データ!AS601<>\"\",\"○\",\"\")","v":""},{"$f":"IF(基本データ!AT601<>\"\",\"○\",\"\")","v":""},{"$f":"IF(基本データ!AU601<>\"\",\"○\",\"\")","v":""},{"$f":"IF(基本データ!AV601<>\"\",\"○\",\"\")","v":""},{"$f":"IF(基本データ!AW601<>\"\",\"○\",\"\")","v":""},{"$f":"IF(基本データ!AX601<>\"\",\"○\",\"\")","v":""},{"$f":"IF(基本データ!AY601<>\"\",\"○\",\"\")","v":""},{"$f":"IF(基本データ!AZ601<>\"\",\"○\",\"\")","v":""},{"$f":"IF(基本データ!BA601<>\"\",\"○\",\"\")","v":""},{"$f":"IF(基本データ!BB601<>\"\",\"○\",\"\")","v":""},{"$f":"IF(基本データ!BC601<>\"\",\"○\",\"\")","v":""},{"$f":"IF(基本データ!BD601<>\"\",\"○\",\"\")","v":""},{"$f":"IF(基本データ!BE601<>\"\",\"○\",\"\")","v":""},{"$f":"IF(基本データ!BF601<>\"\",\"○\",\"\")","v":""},{"$f":"IF(基本データ!BG601<>\"\",\"○\",\"\")","v":""},{"$f":"基本データ!BN601","v":0},{"$f":"IF(基本データ!BH601<>\"\",\"○\",\"\")","v":""},{"$f":"IF(基本データ!BI601<>\"\",\"○\",\"\")","v":""},{"$f":"IF(基本データ!BJ601<>\"\",\"○\",\"\")","v":""},{"$f":"IF(基本データ!BK601<>\"\",\"○\",\"\")","v":""},{"$f":"IF(基本データ!BL601<>\"\",\"○\",\"\")","v":""},{"$f":"IF(基本データ!BM601<>\"\",\"○\",\"\")","v":""}]
[null,{"$f":"基本データ!J602","v":0},{"$f":"基本データ!B602","v":0},{"$f":"基本データ!I602","v":0},{"$f":"基本データ!AL602","v":0},{"$f":"IF(基本データ!AM602<>\"\",\"○\",\"\")","v":""},{"$f":"IF(基本データ!AN602<>\"\",\"○\",\"\")","v":""},{"$f":"IF(基本データ!AO602<>\"\",\"○\",\"\")","v":""},{"$f":"IF(基本データ!AP602<>\"\",\"○\",\"\")","v":""},{"$f":"IF(基本データ!AQ602<>\"\",\"○\",\"\")","v":""},{"$f":"IF(基本データ!AR602<>\"\",\"○\",\"\")","v":""},{"$f":"IF(基本データ!AS602<>\"\",\"○\",\"\")","v":""},{"$f":"IF(基本データ!AT602<>\"\",\"○\",\"\")","v":""},{"$f":"IF(基本データ!AU602<>\"\",\"○\",\"\")","v":""},{"$f":"IF(基本データ!AV602<>\"\",\"○\",\"\")","v":""},{"$f":"IF(基本データ!AW602<>\"\",\"○\",\"\")","v":""},{"$f":"IF(基本データ!AX602<>\"\",\"○\",\"\")","v":""},{"$f":"IF(基本データ!AY602<>\"\",\"○\",\"\")","v":""},{"$f":"IF(基本データ!AZ602<>\"\",\"○\",\"\")","v":""},{"$f":"IF(基本データ!BA602<>\"\",\"○\",\"\")","v":""},{"$f":"IF(基本データ!BB602<>\"\",\"○\",\"\")","v":""},{"$f":"IF(基本データ!BC602<>\"\",\"○\",\"\")","v":""},{"$f":"IF(基本データ!BD602<>\"\",\"○\",\"\")","v":""},{"$f":"IF(基本データ!BE602<>\"\",\"○\",\"\")","v":""},{"$f":"IF(基本データ!BF602<>\"\",\"○\",\"\")","v":""},{"$f":"IF(基本データ!BG602<>\"\",\"○\",\"\")","v":""},{"$f":"基本データ!BN602","v":0},{"$f":"IF(基本データ!BH602<>\"\",\"○\",\"\")","v":""},{"$f":"IF(基本データ!BI602<>\"\",\"○\",\"\")","v":""},{"$f":"IF(基本データ!BJ602<>\"\",\"○\",\"\")","v":""},{"$f":"IF(基本データ!BK602<>\"\",\"○\",\"\")","v":""},{"$f":"IF(基本データ!BL602<>\"\",\"○\",\"\")","v":""},{"$f":"IF(基本データ!BM602<>\"\",\"○\",\"\")","v":""}]
[null,{"$f":"基本データ!J603","v":0},{"$f":"基本データ!B603","v":0},{"$f":"基本データ!I603","v":0},{"$f":"基本データ!AL603","v":0},{"$f":"IF(基本データ!AM603<>\"\",\"○\",\"\")","v":""},{"$f":"IF(基本データ!AN603<>\"\",\"○\",\"\")","v":""},{"$f":"IF(基本データ!AO603<>\"\",\"○\",\"\")","v":""},{"$f":"IF(基本データ!AP603<>\"\",\"○\",\"\")","v":""},{"$f":"IF(基本データ!AQ603<>\"\",\"○\",\"\")","v":""},{"$f":"IF(基本データ!AR603<>\"\",\"○\",\"\")","v":""},{"$f":"IF(基本データ!AS603<>\"\",\"○\",\"\")","v":""},{"$f":"IF(基本データ!AT603<>\"\",\"○\",\"\")","v":""},{"$f":"IF(基本データ!AU603<>\"\",\"○\",\"\")","v":""},{"$f":"IF(基本データ!AV603<>\"\",\"○\",\"\")","v":""},{"$f":"IF(基本データ!AW603<>\"\",\"○\",\"\")","v":""},{"$f":"IF(基本データ!AX603<>\"\",\"○\",\"\")","v":""},{"$f":"IF(基本データ!AY603<>\"\",\"○\",\"\")","v":""},{"$f":"IF(基本データ!AZ603<>\"\",\"○\",\"\")","v":""},{"$f":"IF(基本データ!BA603<>\"\",\"○\",\"\")","v":""},{"$f":"IF(基本データ!BB603<>\"\",\"○\",\"\")","v":""},{"$f":"IF(基本データ!BC603<>\"\",\"○\",\"\")","v":""},{"$f":"IF(基本データ!BD603<>\"\",\"○\",\"\")","v":""},{"$f":"IF(基本データ!BE603<>\"\",\"○\",\"\")","v":""},{"$f":"IF(基本データ!BF603<>\"\",\"○\",\"\")","v":""},{"$f":"IF(基本データ!BG603<>\"\",\"○\",\"\")","v":""},{"$f":"基本データ!BN603","v":0},{"$f":"IF(基本データ!BH603<>\"\",\"○\",\"\")","v":""},{"$f":"IF(基本データ!BI603<>\"\",\"○\",\"\")","v":""},{"$f":"IF(基本データ!BJ603<>\"\",\"○\",\"\")","v":""},{"$f":"IF(基本データ!BK603<>\"\",\"○\",\"\")","v":""},{"$f":"IF(基本データ!BL603<>\"\",\"○\",\"\")","v":""},{"$f":"IF(基本データ!BM603<>\"\",\"○\",\"\")","v":""}]
[null,{"$f":"基本データ!J604","v":0},{"$f":"基本データ!B604","v":0},{"$f":"基本データ!I604","v":0},{"$f":"基本データ!AL604","v":0},{"$f":"IF(基本データ!AM604<>\"\",\"○\",\"\")","v":""},{"$f":"IF(基本データ!AN604<>\"\",\"○\",\"\")","v":""},{"$f":"IF(基本データ!AO604<>\"\",\"○\",\"\")","v":""},{"$f":"IF(基本データ!AP604<>\"\",\"○\",\"\")","v":""},{"$f":"IF(基本データ!AQ604<>\"\",\"○\",\"\")","v":""},{"$f":"IF(基本データ!AR604<>\"\",\"○\",\"\")","v":""},{"$f":"IF(基本データ!AS604<>\"\",\"○\",\"\")","v":""},{"$f":"IF(基本データ!AT604<>\"\",\"○\",\"\")","v":""},{"$f":"IF(基本データ!AU604<>\"\",\"○\",\"\")","v":""},{"$f":"IF(基本データ!AV604<>\"\",\"○\",\"\")","v":""},{"$f":"IF(基本データ!AW604<>\"\",\"○\",\"\")","v":""},{"$f":"IF(基本データ!AX604<>\"\",\"○\",\"\")","v":""},{"$f":"IF(基本データ!AY604<>\"\",\"○\",\"\")","v":""},{"$f":"IF(基本データ!AZ604<>\"\",\"○\",\"\")","v":""},{"$f":"IF(基本データ!BA604<>\"\",\"○\",\"\")","v":""},{"$f":"IF(基本データ!BB604<>\"\",\"○\",\"\")","v":""},{"$f":"IF(基本データ!BC604<>\"\",\"○\",\"\")","v":""},{"$f":"IF(基本データ!BD604<>\"\",\"○\",\"\")","v":""},{"$f":"IF(基本データ!BE604<>\"\",\"○\",\"\")","v":""},{"$f":"IF(基本データ!BF604<>\"\",\"○\",\"\")","v":""},{"$f":"IF(基本データ!BG604<>\"\",\"○\",\"\")","v":""},{"$f":"基本データ!BN604","v":0},{"$f":"IF(基本データ!BH604<>\"\",\"○\",\"\")","v":""},{"$f":"IF(基本データ!BI604<>\"\",\"○\",\"\")","v":""},{"$f":"IF(基本データ!BJ604<>\"\",\"○\",\"\")","v":""},{"$f":"IF(基本データ!BK604<>\"\",\"○\",\"\")","v":""},{"$f":"IF(基本データ!BL604<>\"\",\"○\",\"\")","v":""},{"$f":"IF(基本データ!BM604<>\"\",\"○\",\"\")","v":""}]
[null,{"$f":"基本データ!J605","v":0},{"$f":"基本データ!B605","v":0},{"$f":"基本データ!I605","v":0},{"$f":"基本データ!AL605","v":0},{"$f":"IF(基本データ!AM605<>\"\",\"○\",\"\")","v":""},{"$f":"IF(基本データ!AN605<>\"\",\"○\",\"\")","v":""},{"$f":"IF(基本データ!AO605<>\"\",\"○\",\"\")","v":""},{"$f":"IF(基本データ!AP605<>\"\",\"○\",\"\")","v":""},{"$f":"IF(基本データ!AQ605<>\"\",\"○\",\"\")","v":""},{"$f":"IF(基本データ!AR605<>\"\",\"○\",\"\")","v":""},{"$f":"IF(基本データ!AS605<>\"\",\"○\",\"\")","v":""},{"$f":"IF(基本データ!AT605<>\"\",\"○\",\"\")","v":""},{"$f":"IF(基本データ!AU605<>\"\",\"○\",\"\")","v":""},{"$f":"IF(基本データ!AV605<>\"\",\"○\",\"\")","v":""},{"$f":"IF(基本データ!AW605<>\"\",\"○\",\"\")","v":""},{"$f":"IF(基本データ!AX605<>\"\",\"○\",\"\")","v":""},{"$f":"IF(基本データ!AY605<>\"\",\"○\",\"\")","v":""},{"$f":"IF(基本データ!AZ605<>\"\",\"○\",\"\")","v":""},{"$f":"IF(基本データ!BA605<>\"\",\"○\",\"\")","v":""},{"$f":"IF(基本データ!BB605<>\"\",\"○\",\"\")","v":""},{"$f":"IF(基本データ!BC605<>\"\",\"○\",\"\")","v":""},{"$f":"IF(基本データ!BD605<>\"\",\"○\",\"\")","v":""},{"$f":"IF(基本データ!BE605<>\"\",\"○\",\"\")","v":""},{"$f":"IF(基本データ!BF605<>\"\",\"○\",\"\")","v":""},{"$f":"IF(基本データ!BG605<>\"\",\"○\",\"\")","v":""},{"$f":"基本データ!BN605","v":0},{"$f":"IF(基本データ!BH605<>\"\",\"○\",\"\")","v":""},{"$f":"IF(基本データ!BI605<>\"\",\"○\",\"\")","v":""},{"$f":"IF(基本データ!BJ605<>\"\",\"○\",\"\")","v":""},{"$f":"IF(基本データ!BK605<>\"\",\"○\",\"\")","v":""},{"$f":"IF(基本データ!BL605<>\"\",\"○\",\"\")","v":""},{"$f":"IF(基本データ!BM605<>\"\",\"○\",\"\")","v":""}]
[null,{"$f":"基本データ!J606","v":0},{"$f":"基本データ!B606","v":0},{"$f":"基本データ!I606","v":0},{"$f":"基本データ!AL606","v":0},{"$f":"IF(基本データ!AM606<>\"\",\"○\",\"\")","v":""},{"$f":"IF(基本データ!AN606<>\"\",\"○\",\"\")","v":""},{"$f":"IF(基本データ!AO606<>\"\",\"○\",\"\")","v":""},{"$f":"IF(基本データ!AP606<>\"\",\"○\",\"\")","v":""},{"$f":"IF(基本データ!AQ606<>\"\",\"○\",\"\")","v":""},{"$f":"IF(基本データ!AR606<>\"\",\"○\",\"\")","v":""},{"$f":"IF(基本データ!AS606<>\"\",\"○\",\"\")","v":""},{"$f":"IF(基本データ!AT606<>\"\",\"○\",\"\")","v":""},{"$f":"IF(基本データ!AU606<>\"\",\"○\",\"\")","v":""},{"$f":"IF(基本データ!AV606<>\"\",\"○\",\"\")","v":""},{"$f":"IF(基本データ!AW606<>\"\",\"○\",\"\")","v":""},{"$f":"IF(基本データ!AX606<>\"\",\"○\",\"\")","v":""},{"$f":"IF(基本データ!AY606<>\"\",\"○\",\"\")","v":""},{"$f":"IF(基本データ!AZ606<>\"\",\"○\",\"\")","v":""},{"$f":"IF(基本データ!BA606<>\"\",\"○\",\"\")","v":""},{"$f":"IF(基本データ!BB606<>\"\",\"○\",\"\")","v":""},{"$f":"IF(基本データ!BC606<>\"\",\"○\",\"\")","v":""},{"$f":"IF(基本データ!BD606<>\"\",\"○\",\"\")","v":""},{"$f":"IF(基本データ!BE606<>\"\",\"○\",\"\")","v":""},{"$f":"IF(基本データ!BF606<>\"\",\"○\",\"\")","v":""},{"$f":"IF(基本データ!BG606<>\"\",\"○\",\"\")","v":""},{"$f":"基本データ!BN606","v":0},{"$f":"IF(基本データ!BH606<>\"\",\"○\",\"\")","v":""},{"$f":"IF(基本データ!BI606<>\"\",\"○\",\"\")","v":""},{"$f":"IF(基本データ!BJ606<>\"\",\"○\",\"\")","v":""},{"$f":"IF(基本データ!BK606<>\"\",\"○\",\"\")","v":""},{"$f":"IF(基本データ!BL606<>\"\",\"○\",\"\")","v":""},{"$f":"IF(基本データ!BM606<>\"\",\"○\",\"\")","v":""}]
[null,{"$f":"基本データ!J607","v":0},{"$f":"基本データ!B607","v":0},{"$f":"基本データ!I607","v":0},{"$f":"基本データ!AL607","v":0},{"$f":"IF(基本データ!AM607<>\"\",\"○\",\"\")","v":""},{"$f":"IF(基本データ!AN607<>\"\",\"○\",\"\")","v":""},{"$f":"IF(基本データ!AO607<>\"\",\"○\",\"\")","v":""},{"$f":"IF(基本データ!AP607<>\"\",\"○\",\"\")","v":""},{"$f":"IF(基本データ!AQ607<>\"\",\"○\",\"\")","v":""},{"$f":"IF(基本データ!AR607<>\"\",\"○\",\"\")","v":""},{"$f":"IF(基本データ!AS607<>\"\",\"○\",\"\")","v":""},{"$f":"IF(基本データ!AT607<>\"\",\"○\",\"\")","v":""},{"$f":"IF(基本データ!AU607<>\"\",\"○\",\"\")","v":""},{"$f":"IF(基本データ!AV607<>\"\",\"○\",\"\")","v":""},{"$f":"IF(基本データ!AW607<>\"\",\"○\",\"\")","v":""},{"$f":"IF(基本データ!AX607<>\"\",\"○\",\"\")","v":""},{"$f":"IF(基本データ!AY607<>\"\",\"○\",\"\")","v":""},{"$f":"IF(基本データ!AZ607<>\"\",\"○\",\"\")","v":""},{"$f":"IF(基本データ!BA607<>\"\",\"○\",\"\")","v":""},{"$f":"IF(基本データ!BB607<>\"\",\"○\",\"\")","v":""},{"$f":"IF(基本データ!BC607<>\"\",\"○\",\"\")","v":""},{"$f":"IF(基本データ!BD607<>\"\",\"○\",\"\")","v":""},{"$f":"IF(基本データ!BE607<>\"\",\"○\",\"\")","v":""},{"$f":"IF(基本データ!BF607<>\"\",\"○\",\"\")","v":""},{"$f":"IF(基本データ!BG607<>\"\",\"○\",\"\")","v":""},{"$f":"基本データ!BN607","v":0},{"$f":"IF(基本データ!BH607<>\"\",\"○\",\"\")","v":""},{"$f":"IF(基本データ!BI607<>\"\",\"○\",\"\")","v":""},{"$f":"IF(基本データ!BJ607<>\"\",\"○\",\"\")","v":""},{"$f":"IF(基本データ!BK607<>\"\",\"○\",\"\")","v":""},{"$f":"IF(基本データ!BL607<>\"\",\"○\",\"\")","v":""},{"$f":"IF(基本データ!BM607<>\"\",\"○\",\"\")","v":""}]
[null,{"$f":"基本データ!J608","v":0},{"$f":"基本データ!B608","v":0},{"$f":"基本データ!I608","v":0},{"$f":"基本データ!AL608","v":0},{"$f":"IF(基本データ!AM608<>\"\",\"○\",\"\")","v":""},{"$f":"IF(基本データ!AN608<>\"\",\"○\",\"\")","v":""},{"$f":"IF(基本データ!AO608<>\"\",\"○\",\"\")","v":""},{"$f":"IF(基本データ!AP608<>\"\",\"○\",\"\")","v":""},{"$f":"IF(基本データ!AQ608<>\"\",\"○\",\"\")","v":""},{"$f":"IF(基本データ!AR608<>\"\",\"○\",\"\")","v":""},{"$f":"IF(基本データ!AS608<>\"\",\"○\",\"\")","v":""},{"$f":"IF(基本データ!AT608<>\"\",\"○\",\"\")","v":""},{"$f":"IF(基本データ!AU608<>\"\",\"○\",\"\")","v":""},{"$f":"IF(基本データ!AV608<>\"\",\"○\",\"\")","v":""},{"$f":"IF(基本データ!AW608<>\"\",\"○\",\"\")","v":""},{"$f":"IF(基本データ!AX608<>\"\",\"○\",\"\")","v":""},{"$f":"IF(基本データ!AY608<>\"\",\"○\",\"\")","v":""},{"$f":"IF(基本データ!AZ608<>\"\",\"○\",\"\")","v":""},{"$f":"IF(基本データ!BA608<>\"\",\"○\",\"\")","v":""},{"$f":"IF(基本データ!BB608<>\"\",\"○\",\"\")","v":""},{"$f":"IF(基本データ!BC608<>\"\",\"○\",\"\")","v":""},{"$f":"IF(基本データ!BD608<>\"\",\"○\",\"\")","v":""},{"$f":"IF(基本データ!BE608<>\"\",\"○\",\"\")","v":""},{"$f":"IF(基本データ!BF608<>\"\",\"○\",\"\")","v":""},{"$f":"IF(基本データ!BG608<>\"\",\"○\",\"\")","v":""},{"$f":"基本データ!BN608","v":0},{"$f":"IF(基本データ!BH608<>\"\",\"○\",\"\")","v":""},{"$f":"IF(基本データ!BI608<>\"\",\"○\",\"\")","v":""},{"$f":"IF(基本データ!BJ608<>\"\",\"○\",\"\")","v":""},{"$f":"IF(基本データ!BK608<>\"\",\"○\",\"\")","v":""},{"$f":"IF(基本データ!BL608<>\"\",\"○\",\"\")","v":""},{"$f":"IF(基本データ!BM608<>\"\",\"○\",\"\")","v":""}]
[null,{"$f":"基本データ!J609","v":0},{"$f":"基本データ!B609","v":0},{"$f":"基本データ!I609","v":0},{"$f":"基本データ!AL609","v":0},{"$f":"IF(基本データ!AM609<>\"\",\"○\",\"\")","v":""},{"$f":"IF(基本データ!AN609<>\"\",\"○\",\"\")","v":""},{"$f":"IF(基本データ!AO609<>\"\",\"○\",\"\")","v":""},{"$f":"IF(基本データ!AP609<>\"\",\"○\",\"\")","v":""},{"$f":"IF(基本データ!AQ609<>\"\",\"○\",\"\")","v":""},{"$f":"IF(基本データ!AR609<>\"\",\"○\",\"\")","v":""},{"$f":"IF(基本データ!AS609<>\"\",\"○\",\"\")","v":""},{"$f":"IF(基本データ!AT609<>\"\",\"○\",\"\")","v":""},{"$f":"IF(基本データ!AU609<>\"\",\"○\",\"\")","v":""},{"$f":"IF(基本データ!AV609<>\"\",\"○\",\"\")","v":""},{"$f":"IF(基本データ!AW609<>\"\",\"○\",\"\")","v":""},{"$f":"IF(基本データ!AX609<>\"\",\"○\",\"\")","v":""},{"$f":"IF(基本データ!AY609<>\"\",\"○\",\"\")","v":""},{"$f":"IF(基本データ!AZ609<>\"\",\"○\",\"\")","v":""},{"$f":"IF(基本データ!BA609<>\"\",\"○\",\"\")","v":""},{"$f":"IF(基本データ!BB609<>\"\",\"○\",\"\")","v":""},{"$f":"IF(基本データ!BC609<>\"\",\"○\",\"\")","v":""},{"$f":"IF(基本データ!BD609<>\"\",\"○\",\"\")","v":""},{"$f":"IF(基本データ!BE609<>\"\",\"○\",\"\")","v":""},{"$f":"IF(基本データ!BF609<>\"\",\"○\",\"\")","v":""},{"$f":"IF(基本データ!BG609<>\"\",\"○\",\"\")","v":""},{"$f":"基本データ!BN609","v":0},{"$f":"IF(基本データ!BH609<>\"\",\"○\",\"\")","v":""},{"$f":"IF(基本データ!BI609<>\"\",\"○\",\"\")","v":""},{"$f":"IF(基本データ!BJ609<>\"\",\"○\",\"\")","v":""},{"$f":"IF(基本データ!BK609<>\"\",\"○\",\"\")","v":""},{"$f":"IF(基本データ!BL609<>\"\",\"○\",\"\")","v":""},{"$f":"IF(基本データ!BM609<>\"\",\"○\",\"\")","v":""}]
[null,{"$f":"基本データ!J610","v":0},{"$f":"基本データ!B610","v":0},{"$f":"基本データ!I610","v":0},{"$f":"基本データ!AL610","v":0},{"$f":"IF(基本データ!AM610<>\"\",\"○\",\"\")","v":""},{"$f":"IF(基本データ!AN610<>\"\",\"○\",\"\")","v":""},{"$f":"IF(基本データ!AO610<>\"\",\"○\",\"\")","v":""},{"$f":"IF(基本データ!AP610<>\"\",\"○\",\"\")","v":""},{"$f":"IF(基本データ!AQ610<>\"\",\"○\",\"\")","v":""},{"$f":"IF(基本データ!AR610<>\"\",\"○\",\"\")","v":""},{"$f":"IF(基本データ!AS610<>\"\",\"○\",\"\")","v":""},{"$f":"IF(基本データ!AT610<>\"\",\"○\",\"\")","v":""},{"$f":"IF(基本データ!AU610<>\"\",\"○\",\"\")","v":""},{"$f":"IF(基本データ!AV610<>\"\",\"○\",\"\")","v":""},{"$f":"IF(基本データ!AW610<>\"\",\"○\",\"\")","v":""},{"$f":"IF(基本データ!AX610<>\"\",\"○\",\"\")","v":""},{"$f":"IF(基本データ!AY610<>\"\",\"○\",\"\")","v":""},{"$f":"IF(基本データ!AZ610<>\"\",\"○\",\"\")","v":""},{"$f":"IF(基本データ!BA610<>\"\",\"○\",\"\")","v":""},{"$f":"IF(基本データ!BB610<>\"\",\"○\",\"\")","v":""},{"$f":"IF(基本データ!BC610<>\"\",\"○\",\"\")","v":""},{"$f":"IF(基本データ!BD610<>\"\",\"○\",\"\")","v":""},{"$f":"IF(基本データ!BE610<>\"\",\"○\",\"\")","v":""},{"$f":"IF(基本データ!BF610<>\"\",\"○\",\"\")","v":""},{"$f":"IF(基本データ!BG610<>\"\",\"○\",\"\")","v":""},{"$f":"基本データ!BN610","v":0},{"$f":"IF(基本データ!BH610<>\"\",\"○\",\"\")","v":""},{"$f":"IF(基本データ!BI610<>\"\",\"○\",\"\")","v":""},{"$f":"IF(基本データ!BJ610<>\"\",\"○\",\"\")","v":""},{"$f":"IF(基本データ!BK610<>\"\",\"○\",\"\")","v":""},{"$f":"IF(基本データ!BL610<>\"\",\"○\",\"\")","v":""},{"$f":"IF(基本データ!BM610<>\"\",\"○\",\"\")","v":""}]
[null,{"$f":"基本データ!J611","v":0},{"$f":"基本データ!B611","v":0},{"$f":"基本データ!I611","v":0},{"$f":"基本データ!AL611","v":0},{"$f":"IF(基本データ!AM611<>\"\",\"○\",\"\")","v":""},{"$f":"IF(基本データ!AN611<>\"\",\"○\",\"\")","v":""},{"$f":"IF(基本データ!AO611<>\"\",\"○\",\"\")","v":""},{"$f":"IF(基本データ!AP611<>\"\",\"○\",\"\")","v":""},{"$f":"IF(基本データ!AQ611<>\"\",\"○\",\"\")","v":""},{"$f":"IF(基本データ!AR611<>\"\",\"○\",\"\")","v":""},{"$f":"IF(基本データ!AS611<>\"\",\"○\",\"\")","v":""},{"$f":"IF(基本データ!AT611<>\"\",\"○\",\"\")","v":""},{"$f":"IF(基本データ!AU611<>\"\",\"○\",\"\")","v":""},{"$f":"IF(基本データ!AV611<>\"\",\"○\",\"\")","v":""},{"$f":"IF(基本データ!AW611<>\"\",\"○\",\"\")","v":""},{"$f":"IF(基本データ!AX611<>\"\",\"○\",\"\")","v":""},{"$f":"IF(基本データ!AY611<>\"\",\"○\",\"\")","v":""},{"$f":"IF(基本データ!AZ611<>\"\",\"○\",\"\")","v":""},{"$f":"IF(基本データ!BA611<>\"\",\"○\",\"\")","v":""},{"$f":"IF(基本データ!BB611<>\"\",\"○\",\"\")","v":""},{"$f":"IF(基本データ!BC611<>\"\",\"○\",\"\")","v":""},{"$f":"IF(基本データ!BD611<>\"\",\"○\",\"\")","v":""},{"$f":"IF(基本データ!BE611<>\"\",\"○\",\"\")","v":""},{"$f":"IF(基本データ!BF611<>\"\",\"○\",\"\")","v":""},{"$f":"IF(基本データ!BG611<>\"\",\"○\",\"\")","v":""},{"$f":"基本データ!BN611","v":0},{"$f":"IF(基本データ!BH611<>\"\",\"○\",\"\")","v":""},{"$f":"IF(基本データ!BI611<>\"\",\"○\",\"\")","v":""},{"$f":"IF(基本データ!BJ611<>\"\",\"○\",\"\")","v":""},{"$f":"IF(基本データ!BK611<>\"\",\"○\",\"\")","v":""},{"$f":"IF(基本データ!BL611<>\"\",\"○\",\"\")","v":""},{"$f":"IF(基本データ!BM611<>\"\",\"○\",\"\")","v":""}]
[null,{"$f":"基本データ!J612","v":0},{"$f":"基本データ!B612","v":0},{"$f":"基本データ!I612","v":0},{"$f":"基本データ!AL612","v":0},{"$f":"IF(基本データ!AM612<>\"\",\"○\",\"\")","v":""},{"$f":"IF(基本データ!AN612<>\"\",\"○\",\"\")","v":""},{"$f":"IF(基本データ!AO612<>\"\",\"○\",\"\")","v":""},{"$f":"IF(基本データ!AP612<>\"\",\"○\",\"\")","v":""},{"$f":"IF(基本データ!AQ612<>\"\",\"○\",\"\")","v":""},{"$f":"IF(基本データ!AR612<>\"\",\"○\",\"\")","v":""},{"$f":"IF(基本データ!AS612<>\"\",\"○\",\"\")","v":""},{"$f":"IF(基本データ!AT612<>\"\",\"○\",\"\")","v":""},{"$f":"IF(基本データ!AU612<>\"\",\"○\",\"\")","v":""},{"$f":"IF(基本データ!AV612<>\"\",\"○\",\"\")","v":""},{"$f":"IF(基本データ!AW612<>\"\",\"○\",\"\")","v":""},{"$f":"IF(基本データ!AX612<>\"\",\"○\",\"\")","v":""},{"$f":"IF(基本データ!AY612<>\"\",\"○\",\"\")","v":""},{"$f":"IF(基本データ!AZ612<>\"\",\"○\",\"\")","v":""},{"$f":"IF(基本データ!BA612<>\"\",\"○\",\"\")","v":""},{"$f":"IF(基本データ!BB612<>\"\",\"○\",\"\")","v":""},{"$f":"IF(基本データ!BC612<>\"\",\"○\",\"\")","v":""},{"$f":"IF(基本データ!BD612<>\"\",\"○\",\"\")","v":""},{"$f":"IF(基本データ!BE612<>\"\",\"○\",\"\")","v":""},{"$f":"IF(基本データ!BF612<>\"\",\"○\",\"\")","v":""},{"$f":"IF(基本データ!BG612<>\"\",\"○\",\"\")","v":""},{"$f":"基本データ!BN612","v":0},{"$f":"IF(基本データ!BH612<>\"\",\"○\",\"\")","v":""},{"$f":"IF(基本データ!BI612<>\"\",\"○\",\"\")","v":""},{"$f":"IF(基本データ!BJ612<>\"\",\"○\",\"\")","v":""},{"$f":"IF(基本データ!BK612<>\"\",\"○\",\"\")","v":""},{"$f":"IF(基本データ!BL612<>\"\",\"○\",\"\")","v":""},{"$f":"IF(基本データ!BM612<>\"\",\"○\",\"\")","v":""}]
[null,{"$f":"基本データ!J613","v":0},{"$f":"基本データ!B613","v":0},{"$f":"基本データ!I613","v":0},{"$f":"基本データ!AL613","v":0},{"$f":"IF(基本データ!AM613<>\"\",\"○\",\"\")","v":""},{"$f":"IF(基本データ!AN613<>\"\",\"○\",\"\")","v":""},{"$f":"IF(基本データ!AO613<>\"\",\"○\",\"\")","v":""},{"$f":"IF(基本データ!AP613<>\"\",\"○\",\"\")","v":""},{"$f":"IF(基本データ!AQ613<>\"\",\"○\",\"\")","v":""},{"$f":"IF(基本データ!AR613<>\"\",\"○\",\"\")","v":""},{"$f":"IF(基本データ!AS613<>\"\",\"○\",\"\")","v":""},{"$f":"IF(基本データ!AT613<>\"\",\"○\",\"\")","v":""},{"$f":"IF(基本データ!AU613<>\"\",\"○\",\"\")","v":""},{"$f":"IF(基本データ!AV613<>\"\",\"○\",\"\")","v":""},{"$f":"IF(基本データ!AW613<>\"\",\"○\",\"\")","v":""},{"$f":"IF(基本データ!AX613<>\"\",\"○\",\"\")","v":""},{"$f":"IF(基本データ!AY613<>\"\",\"○\",\"\")","v":""},{"$f":"IF(基本データ!AZ613<>\"\",\"○\",\"\")","v":""},{"$f":"IF(基本データ!BA613<>\"\",\"○\",\"\")","v":""},{"$f":"IF(基本データ!BB613<>\"\",\"○\",\"\")","v":""},{"$f":"IF(基本データ!BC613<>\"\",\"○\",\"\")","v":""},{"$f":"IF(基本データ!BD613<>\"\",\"○\",\"\")","v":""},{"$f":"IF(基本データ!BE613<>\"\",\"○\",\"\")","v":""},{"$f":"IF(基本データ!BF613<>\"\",\"○\",\"\")","v":""},{"$f":"IF(基本データ!BG613<>\"\",\"○\",\"\")","v":""},{"$f":"基本データ!BN613","v":0},{"$f":"IF(基本データ!BH613<>\"\",\"○\",\"\")","v":""},{"$f":"IF(基本データ!BI613<>\"\",\"○\",\"\")","v":""},{"$f":"IF(基本データ!BJ613<>\"\",\"○\",\"\")","v":""},{"$f":"IF(基本データ!BK613<>\"\",\"○\",\"\")","v":""},{"$f":"IF(基本データ!BL613<>\"\",\"○\",\"\")","v":""},{"$f":"IF(基本データ!BM613<>\"\",\"○\",\"\")","v":""}]
[null,{"$f":"基本データ!J614","v":0},{"$f":"基本データ!B614","v":0},{"$f":"基本データ!I614","v":0},{"$f":"基本データ!AL614","v":0},{"$f":"IF(基本データ!AM614<>\"\",\"○\",\"\")","v":""},{"$f":"IF(基本データ!AN614<>\"\",\"○\",\"\")","v":""},{"$f":"IF(基本データ!AO614<>\"\",\"○\",\"\")","v":""},{"$f":"IF(基本データ!AP614<>\"\",\"○\",\"\")","v":""},{"$f":"IF(基本データ!AQ614<>\"\",\"○\",\"\")","v":""},{"$f":"IF(基本データ!AR614<>\"\",\"○\",\"\")","v":""},{"$f":"IF(基本データ!AS614<>\"\",\"○\",\"\")","v":""},{"$f":"IF(基本データ!AT614<>\"\",\"○\",\"\")","v":""},{"$f":"IF(基本データ!AU614<>\"\",\"○\",\"\")","v":""},{"$f":"IF(基本データ!AV614<>\"\",\"○\",\"\")","v":""},{"$f":"IF(基本データ!AW614<>\"\",\"○\",\"\")","v":""},{"$f":"IF(基本データ!AX614<>\"\",\"○\",\"\")","v":""},{"$f":"IF(基本データ!AY614<>\"\",\"○\",\"\")","v":""},{"$f":"IF(基本データ!AZ614<>\"\",\"○\",\"\")","v":""},{"$f":"IF(基本データ!BA614<>\"\",\"○\",\"\")","v":""},{"$f":"IF(基本データ!BB614<>\"\",\"○\",\"\")","v":""},{"$f":"IF(基本データ!BC614<>\"\",\"○\",\"\")","v":""},{"$f":"IF(基本データ!BD614<>\"\",\"○\",\"\")","v":""},{"$f":"IF(基本データ!BE614<>\"\",\"○\",\"\")","v":""},{"$f":"IF(基本データ!BF614<>\"\",\"○\",\"\")","v":""},{"$f":"IF(基本データ!BG614<>\"\",\"○\",\"\")","v":""},{"$f":"基本データ!BN614","v":0},{"$f":"IF(基本データ!BH614<>\"\",\"○\",\"\")","v":""},{"$f":"IF(基本データ!BI614<>\"\",\"○\",\"\")","v":""},{"$f":"IF(基本データ!BJ614<>\"\",\"○\",\"\")","v":""},{"$f":"IF(基本データ!BK614<>\"\",\"○\",\"\")","v":""},{"$f":"IF(基本データ!BL614<>\"\",\"○\",\"\")","v":""},{"$f":"IF(基本データ!BM614<>\"\",\"○\",\"\")","v":""}]
[null,{"$f":"基本データ!J615","v":0},{"$f":"基本データ!B615","v":0},{"$f":"基本データ!I615","v":0},{"$f":"基本データ!AL615","v":0},{"$f":"IF(基本データ!AM615<>\"\",\"○\",\"\")","v":""},{"$f":"IF(基本データ!AN615<>\"\",\"○\",\"\")","v":""},{"$f":"IF(基本データ!AO615<>\"\",\"○\",\"\")","v":""},{"$f":"IF(基本データ!AP615<>\"\",\"○\",\"\")","v":""},{"$f":"IF(基本データ!AQ615<>\"\",\"○\",\"\")","v":""},{"$f":"IF(基本データ!AR615<>\"\",\"○\",\"\")","v":""},{"$f":"IF(基本データ!AS615<>\"\",\"○\",\"\")","v":""},{"$f":"IF(基本データ!AT615<>\"\",\"○\",\"\")","v":""},{"$f":"IF(基本データ!AU615<>\"\",\"○\",\"\")","v":""},{"$f":"IF(基本データ!AV615<>\"\",\"○\",\"\")","v":""},{"$f":"IF(基本データ!AW615<>\"\",\"○\",\"\")","v":""},{"$f":"IF(基本データ!AX615<>\"\",\"○\",\"\")","v":""},{"$f":"IF(基本データ!AY615<>\"\",\"○\",\"\")","v":""},{"$f":"IF(基本データ!AZ615<>\"\",\"○\",\"\")","v":""},{"$f":"IF(基本データ!BA615<>\"\",\"○\",\"\")","v":""},{"$f":"IF(基本データ!BB615<>\"\",\"○\",\"\")","v":""},{"$f":"IF(基本データ!BC615<>\"\",\"○\",\"\")","v":""},{"$f":"IF(基本データ!BD615<>\"\",\"○\",\"\")","v":""},{"$f":"IF(基本データ!BE615<>\"\",\"○\",\"\")","v":""},{"$f":"IF(基本データ!BF615<>\"\",\"○\",\"\")","v":""},{"$f":"IF(基本データ!BG615<>\"\",\"○\",\"\")","v":""},{"$f":"基本データ!BN615","v":0},{"$f":"IF(基本データ!BH615<>\"\",\"○\",\"\")","v":""},{"$f":"IF(基本データ!BI615<>\"\",\"○\",\"\")","v":""},{"$f":"IF(基本データ!BJ615<>\"\",\"○\",\"\")","v":""},{"$f":"IF(基本データ!BK615<>\"\",\"○\",\"\")","v":""},{"$f":"IF(基本データ!BL615<>\"\",\"○\",\"\")","v":""},{"$f":"IF(基本データ!BM615<>\"\",\"○\",\"\")","v":""}]
[null,{"$f":"基本データ!J616","v":0},{"$f":"基本データ!B616","v":0},{"$f":"基本データ!I616","v":0},{"$f":"基本データ!AL616","v":0},{"$f":"IF(基本データ!AM616<>\"\",\"○\",\"\")","v":""},{"$f":"IF(基本データ!AN616<>\"\",\"○\",\"\")","v":""},{"$f":"IF(基本データ!AO616<>\"\",\"○\",\"\")","v":""},{"$f":"IF(基本データ!AP616<>\"\",\"○\",\"\")","v":""},{"$f":"IF(基本データ!AQ616<>\"\",\"○\",\"\")","v":""},{"$f":"IF(基本データ!AR616<>\"\",\"○\",\"\")","v":""},{"$f":"IF(基本データ!AS616<>\"\",\"○\",\"\")","v":""},{"$f":"IF(基本データ!AT616<>\"\",\"○\",\"\")","v":""},{"$f":"IF(基本データ!AU616<>\"\",\"○\",\"\")","v":""},{"$f":"IF(基本データ!AV616<>\"\",\"○\",\"\")","v":""},{"$f":"IF(基本データ!AW616<>\"\",\"○\",\"\")","v":""},{"$f":"IF(基本データ!AX616<>\"\",\"○\",\"\")","v":""},{"$f":"IF(基本データ!AY616<>\"\",\"○\",\"\")","v":""},{"$f":"IF(基本データ!AZ616<>\"\",\"○\",\"\")","v":""},{"$f":"IF(基本データ!BA616<>\"\",\"○\",\"\")","v":""},{"$f":"IF(基本データ!BB616<>\"\",\"○\",\"\")","v":""},{"$f":"IF(基本データ!BC616<>\"\",\"○\",\"\")","v":""},{"$f":"IF(基本データ!BD616<>\"\",\"○\",\"\")","v":""},{"$f":"IF(基本データ!BE616<>\"\",\"○\",\"\")","v":""},{"$f":"IF(基本データ!BF616<>\"\",\"○\",\"\")","v":""},{"$f":"IF(基本データ!BG616<>\"\",\"○\",\"\")","v":""},{"$f":"基本データ!BN616","v":0},{"$f":"IF(基本データ!BH616<>\"\",\"○\",\"\")","v":""},{"$f":"IF(基本データ!BI616<>\"\",\"○\",\"\")","v":""},{"$f":"IF(基本データ!BJ616<>\"\",\"○\",\"\")","v":""},{"$f":"IF(基本データ!BK616<>\"\",\"○\",\"\")","v":""},{"$f":"IF(基本データ!BL616<>\"\",\"○\",\"\")","v":""},{"$f":"IF(基本データ!BM616<>\"\",\"○\",\"\")","v":""}]

{"sheet":"Sheet2","index":11,"n_rows":11,"n_cols":59,"rows_kept":11,"cut":false,"hidden":true,"merged":[]}
[]
[null,"指定研修機関名","都道府県","郵便番号","住所","属性","病床数","共通科目定員","年間募集回数","年間定員数","研修期間","研修期間","研修期間","修士課程","認定看護師B課程","JANPU-NP","JONPH-NP","外部生の受入（公開情報）","受講要件　経験年数","受講要件上司推薦","履修免除規定の有無","共通科目ｅラン","区分別科目ｅラン","共通科目\n旧基準","区分別科目\n旧基準","領域別コース、モデル","受講料（Min万円）","受講料（Max万円）","教育訓練給付金講座指定","人材開発支援助成金","取り扱い区分数","呼吸器（気道確保に係るもの）","呼吸器（人工呼吸療法に係るもの）","呼吸器（長期呼吸療法に係るもの）","循環器","心嚢ドレーン管理","胸腔ドレーン管理","腹腔ドレーン管理","ろう孔管理","栄養に係るカテーテル管理（中心静脈カテーテル管理）","栄養に係るカテーテル管理（末梢留置型中心静脈注射用カテーテル管理）","創傷管理","創部ドレーン管理","動脈血液ガス\n分析","透析管理","栄養及び水分管理に係る薬剤投与","感染に係る薬剤投与","血糖コントロールに係る薬剤投与","術後疼痛管理","循環動態に係る薬剤投与","精神及び神経症状に係る薬剤投与","皮膚損傷に係る薬剤投与","在宅","外科術後","麻酔","救急","外科基本","集中治療領域","実施するパッケージ領域数"]
[481,"市立千歳市民病院","北海道","066-8550","千歳市北光２丁目１番１号","病院",null,4,1,4,null,"4~9月、4~3月","6,12","×",null,null,null,null,null,null,null,"S-QUE",null,null,null,null,null,null,null,null,4,4,4,null,null,null,null,null,null,4,null,null,null,null,null,4,null,null,null,null,null,null,null,null,null,null,null,null,0]
[482,"独立行政法人国立病院機構宮城病院","宮城県","989-2202","宮城県亘理郡山元町高瀬字合戦原100","病院",null,5,1,5,null,"6～2月",9,"×",null,null,null,null,null,null,null,"学研",null,null,null,null,null,null,null,null,4,null,null,5,null,null,null,null,5,null,null,5,null,null,null,5,null,null,null,null,null,null,5,null,null,null,null,null,1]
[483,"社会福祉法人恩賜財団済生会支部 群馬県済生会前橋病院","群馬県","371-0821","前橋市上新田町564-1","病院",null,2,1,2,null,"4～3月",12,"×",null,null,null,null,null,null,null,"S-QUE",null,null,null,null,null,null,null,null,2,null,null,null,null,null,null,null,null,2,null,null,null,2,null,null,null,null,null,null,null,null,null,null,null,null,null,null,0]
[484,"順天堂大学医学部附属浦安病院","千葉県","279-0021","浦安市富岡2丁目1番1号","大学病院",null,3,1,3,null,"4～3月",12,"×",null,null,null,null,null,null,null,"学研",null,null,null,null,null,null,null,null,3,null,3,null,null,null,null,null,null,null,null,3,null,3,null,null,null,null,null,null,null,null,null,null,null,null,null,null,0]
[485,"医療法人社団　淳友会　わたクリニック","東京都","125-0062","葛飾区青戸5-14-9","診療所",null,"2",1,2,null,"4～9月",6,"×",null,null,null,null,null,null,null,"S-QUE",null,null,null,null,null,null,null,null,4,null,null,2,null,null,null,null,2,null,null,2,null,null,null,2,null,null,null,null,null,null,2,null,null,null,null,null,1]
[486,"医療法人社団　東京医心会　ニューハート・ワタナベ国際病院","東京都","168-0065","杉並区浜田山3丁目19-11","病院",null,"5",1,"5",null,null,"9","×",null,null,null,null,null,null,null,"S-QUE",null,null,null,null,null,null,null,null,9,3,3,null,3,null,5,null,null,3,5,null,5,3,null,null,null,null,null,3,null,null,null,null,null,null,null,3,1]
[487,"株式会社キュアメド","東京都","177-0054","練馬区立野町3番9号","病院",null,"15",1,"15",null,null,"12","×",null,null,null,null,null,null,null,"学研",null,null,null,null,null,null,null,null,14,9,9,3,3,null,null,null,3,6,null,6,3,12,null,12,3,null,6,6,3,null,3,null,3,3,3,3,5]
[488,"慶應義塾大学病院","東京都","160-8582","新宿区信濃町 35","病院",null,"10",1,"10",null,null,"11","×",null,null,null,null,null,null,null,"学研",null,null,null,null,null,null,null,null,8,10,10,null,5,null,null,null,null,5,null,null,null,10,null,5,null,null,5,10,null,null,null,null,5,null,null,5,2]
[489,"公益社団法人　地域医療振興協会　横須賀市立総合医療センター","神奈川県","239-8567","横須賀市神明町1番地8","病院",null,"8",1,"8",null,null,"12","×",null,null,null,null,null,null,null,"学研",null,null,null,null,null,null,null,null,13,8,8,4,4,null,4,4,null,8,4,null,4,8,null,4,null,null,4,8,null,null,null,4,null,null,null,4,2]